Workbook

Sheet 分組球員名單
A1: 球員名單 | B1: 背號
A2: A | B2: 豹擊隊 | D2: 投捕觀名單 | F2: 隊伍名稱
A3: 賴智傑 | B3: 26 | D3: 宋展宇 | F3: 豹擊隊
A4: 洪韶壕 | B4: 25 | D4: 江言鎧 | F4: 閃電隊
A5: 陳建閔 | B5: 29 | D5: 駱繼宗 | F5: 夜魔俠
A6: 張睿紘 | B6: 17 | D6: 李裕仁
A7: 邱文昇 | B7: 55 | D7: 陳相睿
A8: 陳韻婷 | B8: 66 | D8: 林春佑
A9: 劉家溫 | B9: 20 | D9: 王辰光
A10: 黃雅苓 | B10: 23
A11: 古奇哲 | B11: 0 | D11: 高芳伶
A12: 宋展宇 | B12: 19 | D12: 薛沅庭
A13: B | B13: 閃電隊 | D13: 賴君佩
A14: 陳璽帆 | B14: 8 | D14: 劉維璽
A15: 莊詠安 | B15: 23
A16: 張御欣 | B16: 32 | D16: 林宜宏
A17: 胡文秋 | B17: 33 | D17: 張凱傑
A18: 陳俊欽 | B18: 35
A19: 紀和成 | B19: 51
A20: 鄭傳逸 | B20: 88
A21: 林育良 | B21: 99 | G21: 對戰分數
A22: 林健彰 | B22: 111 | F22: 豹擊隊 | G22: =F37-G37 -> -8 | H22: 閃電隊 | I22: =H37-I37 -> -10 | J22: 夜魔俠 | K22: =J37-K37 -> 18
F23: 得分 | G23: 失分 | H23: 得分 | I23: 失分 | J23: 得分 | K23: 失分
A24: C | B24: 夜魔俠 | E24: G1 | F24: 2 | G24: 4 | H24: 4 | I24: 2
A25: 梁耿縉 | B25: 18
A26: 勞恩以達西拔 | B26: 11 | E26: G2 | H26: 6 | I26: 13 | J26: 13 | K26: 6
A27: 郭亦倫 | B27: 39
A28: 蔡存宥 | B28: 22 | E28: G3 | F28: 1 | G28: 3 | J28: 3 | K28: 1
A29: 古國偉 | B29: 37
A30: 余自成 | B30: 81 | E30: G4 | H30: 6 | I30: 11 | J30: 11 | K30: 6
A31: 蔡孟洵 | B31: 58
A32: 吳品逸 | B32: 0 | E32: G5 | F32: 7 | G32: 11 | J32: 11 | K32: 7
A33: 張雅恩 | B33: 36
A34: 李怡慧 | B34: 26 | E34: G6 | F34: X | H34: X
A35: 宋晴天 | B35: 10
A36: BIN | B36: E
F37: =SUM(F24:F36) -> 10 | G37: =SUM(G24:G36) -> 18 | H37: =SUM(H24:H36) -> 16 | I37: =SUM(I24:I36) -> 26 | J37: =SUM(J24:J36) -> 38 | K37: =SUM(K24:K36) -> 20
A38: D

Sheet G1
B1: 加計分數 | D1: 場次 | H1: G1 | J1: 日期 | L1: 115.08.15 | Q1: =AE21 -> 4 | T1: 閃電隊 | V1: VS | X1: 豹擊隊 | AA1: =AE41 -> 2 | AI1: 數據
A2: 撿球 | B2: 接殺 | C2: HR | D2: 先 | E2: 背號 | F2: 球員 | G2: 1 | J2: 投 | K2: 2 | N2: 投 | O2: 3 | R2: 投 | S2: 4 | V2: 投 | W2: 5 | Z2: 投 | AA2: 6 | AD2: 投 | AE2: 7 | AH2: 投 | AI2: AB | AJ2: R | AK2: K | AL2: P | AM2: 投/捕/觀
A3: =COUNTIF($G$23:$AG$40,E3) -> 0 | C3: =COUNTIF(G3:AG3,"HR") -> 0 | D3: 1 | E3: 88 | F3: 鄭傳逸 | G3: K | J3: 駱 | L3: K | T3: 25 | V3: 李 | AB3: K | AI3: =COUNTA(G3:I3,K3:M3,O3:Q3,S3:U3,W3:Y3,AA3:AC3,AE3:AG3) -> 4 | AJ3: =COUNTIF(G3:AG3,"R")+(COUNTIF(G3:AG3,"HR")*2) -> 0 | AK3: =COUNTIF(G3:AG3,"K") -> 3 | AL3: =$A3+$B3 -> 0 | AM3: 投手 | AO3: 背號 | AP3: 球員 | AQ3: AB | AR3: R | AS3: K | AT3: P | AV3: 投手成績統計 | AX3: (手動輸入)
A4: =COUNTIF($G$23:$AG$40,E4) -> 0 | C4: =COUNTIF(G4:AG4,"HR") -> 0 | AI4: =COUNTA(G4:I4,K4:M4,O4:Q4,S4:U4,W4:Y4,AA4:AC4,AE4:AG4) -> 0 | AJ4: =COUNTIF(G4:AG4,"R")+(COUNTIF(G4:AG4,"HR")*2) -> 0 | AK4: =COUNTIF(G4:AG4,"K") -> 0 | AL4: =$A4+$B4 -> 0 | AM4: 駱繼宗 | AO4: 88 | AP4: {=_xlfn.UNIQUE(F3:F20)} -> 鄭傳逸 | AQ4: =SUMIF($F$3:$F$20,AP4,$AI$3:$AI$20) -> 4 | AR4: =SUMIF($F$3:$F$20,AP4,$AJ$3:$AJ$20) -> 0 | AS4: =SUMIF($F$3:$F$20,AP4,$AK$3:$AK$20) -> 3 | AT4: =SUMIF($F$3:$F$20,AP4,$AL$3:$AL$20) -> 0 | AV4: 姓名 | AW4: AB | AX4: R | AY4: K
A5: =COUNTIF($G$23:$AG$40,E5) -> 0 | C5: =COUNTIF(G5:AG5,"HR") -> 0 | AI5: =COUNTA(G5:I5,K5:M5,O5:Q5,S5:U5,W5:Y5,AA5:AC5,AE5:AG5) -> 0 | AJ5: =COUNTIF(G5:AG5,"R")+(COUNTIF(G5:AG5,"HR")*2) -> 0 | AK5: =COUNTIF(G5:AG5,"K") -> 0 | AL5: =$A5+$B5 -> 0 | AM5: 李裕仁 | AP5: 0 | AQ5: =SUMIF($F$3:$F$20,AP5,$AI$3:$AI$20) -> 0 | AR5: =SUMIF($F$3:$F$20,AP5,$AJ$3:$AJ$20) -> 0 | AS5: =SUMIF($F$3:$F$20,AP5,$AK$3:$AK$20) -> 0 | AT5: =SUMIF($F$3:$F$20,AP5,$AL$3:$AL$20) -> 0 | AV5: {=_xlfn.UNIQUE(AM4:AM5)} -> 駱繼宗 | AW5: 10 | AX5: 1 | AY5: 9
A6: =COUNTIF($G$23:$AG$40,E6) -> 0 | C6: =COUNTIF(G6:AG6,"HR") -> 0 | D6: 2 | E6: 99 | F6: 林育良 | G6: K | O6: K | W6: R | AB6: 26 | AI6: =COUNTA(G6:I6,K6:M6,O6:Q6,S6:U6,W6:Y6,AA6:AC6,AE6:AG6) -> 4 | AJ6: =COUNTIF(G6:AG6,"R")+(COUNTIF(G6:AG6,"HR")*2) -> 1 | AK6: =COUNTIF(G6:AG6,"K") -> 2 | AL6: =$A6+$B6 -> 0 | AM6: 捕手 | AO6: 99 | AP6: 林育良 | AQ6: =SUMIF($F$3:$F$20,AP6,$AI$3:$AI$20) -> 4 | AR6: =SUMIF($F$3:$F$20,AP6,$AJ$3:$AJ$20) -> 1 | AS6: =SUMIF($F$3:$F$20,AP6,$AK$3:$AK$20) -> 2 | AT6: =SUMIF($F$3:$F$20,AP6,$AL$3:$AL$20) -> 0 | AV6: 李裕仁 | AW6: 12 | AX6: 3 | AY6: 6
A7: =COUNTIF($G$23:$AG$40,E7) -> 0 | C7: =COUNTIF(G7:AG7,"HR") -> 0 | AI7: =COUNTA(G7:I7,K7:M7,O7:Q7,S7:U7,W7:Y7,AA7:AC7,AE7:AG7) -> 0 | AJ7: =COUNTIF(G7:AG7,"R")+(COUNTIF(G7:AG7,"HR")*2) -> 0 | AK7: =COUNTIF(G7:AG7,"K") -> 0 | AL7: =$A7+$B7 -> 0 | AM7: 張凱傑 | AO7: 8 | AP7: 陳璽帆 | AQ7: =SUMIF($F$3:$F$20,AP7,$AI$3:$AI$20) -> 4 | AR7: =SUMIF($F$3:$F$20,AP7,$AJ$3:$AJ$20) -> 2 | AS7: =SUMIF($F$3:$F$20,AP7,$AK$3:$AK$20) -> 1 | AT7: =SUMIF($F$3:$F$20,AP7,$AL$3:$AL$20) -> 0
A8: =COUNTIF($G$23:$AG$40,E8) -> 0 | C8: =COUNTIF(G8:AG8,"HR") -> 0 | AI8: =COUNTA(G8:I8,K8:M8,O8:Q8,S8:U8,W8:Y8,AA8:AC8,AE8:AG8) -> 0 | AJ8: =COUNTIF(G8:AG8,"R")+(COUNTIF(G8:AG8,"HR")*2) -> 0 | AK8: =COUNTIF(G8:AG8,"K") -> 0 | AL8: =$A8+$B8 -> 0 | AO8: 33 | AP8: 胡文秋 | AQ8: =SUMIF($F$3:$F$20,AP8,$AI$3:$AI$20) -> 4 | AR8: =SUMIF($F$3:$F$20,AP8,$AJ$3:$AJ$20) -> 0 | AS8: =SUMIF($F$3:$F$20,AP8,$AK$3:$AK$20) -> 4 | AT8: =SUMIF($F$3:$F$20,AP8,$AL$3:$AL$20) -> 6 | AW8: =SUM(AW5:AW7) -> 22 | AX8: =SUM(AX5:AX7) -> 4 | AY8: =SUM(AY5:AY7) -> 15
A9: =COUNTIF($G$23:$AG$40,E9) -> 0 | C9: =COUNTIF(G9:AG9,"HR") -> 0 | D9: 3 | E9: 8 | F9: 陳璽帆 | G9: R | O9: K | W9: 17 | AB9: R | AI9: =COUNTA(G9:I9,K9:M9,O9:Q9,S9:U9,W9:Y9,AA9:AC9,AE9:AG9) -> 4 | AJ9: =COUNTIF(G9:AG9,"R")+(COUNTIF(G9:AG9,"HR")*2) -> 2 | AK9: =COUNTIF(G9:AG9,"K") -> 1 | AL9: =$A9+$B9 -> 0 | AO9: 35 | AP9: 陳俊欽 | AQ9: =SUMIF($F$3:$F$20,AP9,$AI$3:$AI$20) -> 3 | AR9: =SUMIF($F$3:$F$20,AP9,$AJ$3:$AJ$20) -> 0 | AS9: =SUMIF($F$3:$F$20,AP9,$AK$3:$AK$20) -> 3 | AT9: =SUMIF($F$3:$F$20,AP9,$AL$3:$AL$20) -> 0
A10: =COUNTIF($G$23:$AG$40,E10) -> 0 | C10: =COUNTIF(G10:AG10,"HR") -> 0 | AI10: =COUNTA(G10:I10,K10:M10,O10:Q10,S10:U10,W10:Y10,AA10:AC10,AE10:AG10) -> 0 | AJ10: =COUNTIF(G10:AG10,"R")+(COUNTIF(G10:AG10,"HR")*2) -> 0 | AK10: =COUNTIF(G10:AG10,"K") -> 0 | AL10: =$A10+$B10 -> 0 | AM10: 觀測員 | AO10: 23 | AP10: 莊詠安 | AQ10: =SUMIF($F$3:$F$20,AP10,$AI$3:$AI$20) -> 1 | AR10: =SUMIF($F$3:$F$20,AP10,$AJ$3:$AJ$20) -> 0 | AS10: =SUMIF($F$3:$F$20,AP10,$AK$3:$AK$20) -> 1 | AT10: =SUMIF($F$3:$F$20,AP10,$AL$3:$AL$20) -> 0
A11: =COUNTIF($G$23:$AG$40,E11) -> 0 | C11: =COUNTIF(G11:AG11,"HR") -> 0 | AI11: =COUNTA(G11:I11,K11:M11,O11:Q11,S11:U11,W11:Y11,AA11:AC11,AE11:AG11) -> 0 | AJ11: =COUNTIF(G11:AG11,"R")+(COUNTIF(G11:AG11,"HR")*2) -> 0 | AK11: =COUNTIF(G11:AG11,"K") -> 0 | AL11: =$A11+$B11 -> 0 | AM11: 薛沅庭 | AO11: 111 | AP11: 林健彰 | AQ11: =SUMIF($F$3:$F$20,AP11,$AI$3:$AI$20) -> 2 | AR11: =SUMIF($F$3:$F$20,AP11,$AJ$3:$AJ$20) -> 1 | AS11: =SUMIF($F$3:$F$20,AP11,$AK$3:$AK$20) -> 1 | AT11: =SUMIF($F$3:$F$20,AP11,$AL$3:$AL$20) -> 1
A12: =COUNTIF($G$23:$AG$40,E12) -> 6 | C12: =COUNTIF(G12:AG12,"HR") -> 0 | D12: 4 | E12: 33 | F12: 胡文秋 | G12: K | O12: K | W12: K | AB12: K | AI12: =COUNTA(G12:I12,K12:M12,O12:Q12,S12:U12,W12:Y12,AA12:AC12,AE12:AG12) -> 4 | AJ12: =COUNTIF(G12:AG12,"R")+(COUNTIF(G12:AG12,"HR")*2) -> 0 | AK12: =COUNTIF(G12:AG12,"K") -> 4 | AL12: =$A12+$B12 -> 6 | AQ12: =SUMIF($F$3:$F$20,AP12,$AI$3:$AI$20) -> 0 | AR12: =SUMIF($F$3:$F$20,AP12,$AJ$3:$AJ$20) -> 0 | AS12: =SUMIF($F$3:$F$20,AP12,$AK$3:$AK$20) -> 0 | AT12: =SUMIF($F$3:$F$20,AP12,$AL$3:$AL$20) -> 0
A13: =COUNTIF($G$23:$AG$40,E13) -> 0 | C13: =COUNTIF(G13:AG13,"HR") -> 0 | AI13: =COUNTA(G13:I13,K13:M13,O13:Q13,S13:U13,W13:Y13,AA13:AC13,AE13:AG13) -> 0 | AJ13: =COUNTIF(G13:AG13,"R")+(COUNTIF(G13:AG13,"HR")*2) -> 0 | AK13: =COUNTIF(G13:AG13,"K") -> 0 | AL13: =$A13+$B13 -> 0
A14: =COUNTIF($G$23:$AG$40,E14) -> 0 | C14: =COUNTIF(G14:AG14,"HR") -> 0 | AI14: =COUNTA(G14:I14,K14:M14,O14:Q14,S14:U14,W14:Y14,AA14:AC14,AE14:AG14) -> 0 | AJ14: =COUNTIF(G14:AG14,"R")+(COUNTIF(G14:AG14,"HR")*2) -> 0 | AK14: =COUNTIF(G14:AG14,"K") -> 0 | AL14: =$A14+$B14 -> 0 | AM14: 候補球員
A15: =COUNTIF($G$23:$AG$40,E15) -> 0 | C15: =COUNTIF(G15:AG15,"HR") -> 0 | D15: 5 | E15: 35 | F15: 陳俊欽 | K15: K | S15: K | W15: K | AI15: =COUNTA(G15:I15,K15:M15,O15:Q15,S15:U15,W15:Y15,AA15:AC15,AE15:AG15) -> 3 | AJ15: =COUNTIF(G15:AG15,"R")+(COUNTIF(G15:AG15,"HR")*2) -> 0 | AK15: =COUNTIF(G15:AG15,"K") -> 3 | AL15: =$A15+$B15 -> 0
A16: =COUNTIF($G$23:$AG$40,E16) -> 0 | C16: =COUNTIF(G16:AG16,"HR") -> 0 | AI16: =COUNTA(G16:I16,K16:M16,O16:Q16,S16:U16,W16:Y16,AA16:AC16,AE16:AG16) -> 0 | AJ16: =COUNTIF(G16:AG16,"R")+(COUNTIF(G16:AG16,"HR")*2) -> 0 | AK16: =COUNTIF(G16:AG16,"K") -> 0 | AL16: =$A16+$B16 -> 0 | AQ16: =SUM(AQ3:AQ15) -> 22 | AR16: =SUM(AR3:AR15) -> 4 | AS16: =SUM(AS3:AS15) -> 15 | AT16: =SUM(AT3:AT15) -> 7
A17: =COUNTIF($G$23:$AG$40,E17) -> 0 | C17: =COUNTIF(G17:AG17,"HR") -> 0 | AI17: =COUNTA(G17:I17,K17:M17,O17:Q17,S17:U17,W17:Y17,AA17:AC17,AE17:AG17) -> 0 | AJ17: =COUNTIF(G17:AG17,"R")+(COUNTIF(G17:AG17,"HR")*2) -> 0 | AK17: =COUNTIF(G17:AG17,"K") -> 0 | AL17: =$A17+$B17 -> 0
A18: =COUNTIF($G$23:$AG$40,E18) -> 0 | C18: =COUNTIF(G18:AG18,"HR") -> 0 | D18: 6 | E18: 23 | F18: 莊詠安 | K18: K | AI18: =COUNTA(G18:I18,K18:M18,O18:Q18,S18:U18,W18:Y18,AA18:AC18,AE18:AG18) -> 1 | AJ18: =COUNTIF(G18:AG18,"R")+(COUNTIF(G18:AG18,"HR")*2) -> 0 | AK18: =COUNTIF(G18:AG18,"K") -> 1 | AL18: =$A18+$B18 -> 0
A19: =COUNTIF($G$23:$AG$40,E19) -> 1 | C19: =COUNTIF(G19:AG19,"HR") -> 0 | E19: 111 | F19: 林健彰 | S19: K | AA19: R | AI19: =COUNTA(G19:I19,K19:M19,O19:Q19,S19:U19,W19:Y19,AA19:AC19,AE19:AG19) -> 2 | AJ19: =COUNTIF(G19:AG19,"R")+(COUNTIF(G19:AG19,"HR")*2) -> 1 | AK19: =COUNTIF(G19:AG19,"K") -> 1 | AL19: =$A19+$B19 -> 1
A20: =COUNTIF($G$23:$AG$40,E20) -> 0 | C20: =COUNTIF(G20:AG20,"HR") -> 0 | AI20: =COUNTA(G20:I20,K20:M20,O20:Q20,S20:U20,W20:Y20,AA20:AC20,AE20:AG20) -> 0 | AJ20: =COUNTIF(G20:AG20,"R")+(COUNTIF(G20:AG20,"HR")*2) -> 0 | AK20: =COUNTIF(G20:AG20,"K") -> 0 | AL20: =$A20+$B20 -> 0
A21: =SUM(A3:A20) -> 7 | B21: =SUM(B3:B20) -> 0 | C21: =SUM(C3:C20) -> 0 | D21: 得分加總 | G21: =COUNTIF(G3:I20,"R")+(COUNTIF(G3:I20,"HR")*2) -> 1 | K21: =COUNTIF(K3:M20,"R")+(COUNTIF(K3:M20,"HR")*2)+G21 -> 1 | O21: =COUNTIF(O3:Q20,"R")+(COUNTIF(O3:Q20,"HR")*2)+K21 -> 1 | S21: =COUNTIF(S3:U20,"R")+(COUNTIF(S3:U20,"HR")*2)+O21 -> 1 | W21: =COUNTIF(W3:Y20,"R")+(COUNTIF(W3:Y20,"HR")*2)+S21 -> 2 | AA21: =COUNTIF(AA3:AC20,"R")+(COUNTIF(AA3:AC20,"HR")*2)+W21 -> 4 | AE21: =COUNTIF(AE3:AG20,"R")+(COUNTIF(AE3:AG20,"HR")*2)+AA21 -> 4 | AI21: =SUM(AI3:AI20) -> 22 | AJ21: =SUM(AJ3:AJ20) -> 4 | AK21: =SUM(AK3:AK20) -> 15 | AL21: =SUM(AL3:AL20) -> 7
A22: 撿球 | B22: 接殺 | C22: HR | D22: 後 | E22: 背號 | F22: 球員 | G22: 1 | J22: 投 | K22: 2 | N22: 投 | O22: 3 | R22: 投 | S22: 4 | V22: 投 | W22: 5 | Z22: 投 | AA22: 6 | AD22: 投 | AE22: 7 | AH22: 投 | AI22: AB | AJ22: R | AK22: K | AL22: P | AM22: 投/捕/觀
A23: =COUNTIF($G$3:$AG$20,E23) -> 0 | C23: =COUNTIF(G23:AG23,"HR") -> 0 | D23: 1 | E23: 23 | F23: 黃雅苓 | G23: K | L23: 33 | T23: K | AB23: K | AI23: =COUNTA(G23:I23,K23:M23,O23:Q23,S23:U23,W23:Y23,AA23:AC23,AE23:AG23) -> 4 | AJ23: =COUNTIF(G23:AG23,"R")+(COUNTIF(G23:AG23,"HR")*2) -> 0 | AK23: =COUNTIF(G23:AG23,"K") -> 3 | AL23: =$A23+$B23 -> 0 | AM23: 投手 | AO23: 23 | AP23: {=_xlfn.UNIQUE(F23:F40)} -> 黃雅苓 | AQ23: =SUMIF($F$23:$F$40,AP23,$AI$23:$AI$40) -> 4 | AR23: =SUMIF($F$23:$F$40,AP23,$AJ$23:$AJ$40) -> 0 | AS23: =SUMIF($F$23:$F$40,AP23,$AK$23:$AK$40) -> 3 | AT23: =SUMIF($F$23:$F$40,AP23,$AL$23:$AL$40) -> 0
A24: =COUNTIF($G$3:$AG$20,E24) -> 0 | C24: =COUNTIF(G24:AG24,"HR") -> 0 | AI24: =COUNTA(G24:I24,K24:M24,O24:Q24,S24:U24,W24:Y24,AA24:AC24,AE24:AG24) -> 0 | AJ24: =COUNTIF(G24:AG24,"R")+(COUNTIF(G24:AG24,"HR")*2) -> 0 | AK24: =COUNTIF(G24:AG24,"K") -> 0 | AL24: =$A24+$B24 -> 0 | AM24: 宋展宇 | AP24: 0 | AQ24: =SUMIF($F$23:$F$40,AP24,$AI$23:$AI$40) -> 0 | AR24: =SUMIF($F$23:$F$40,AP24,$AJ$23:$AJ$40) -> 0 | AS24: =SUMIF($F$23:$F$40,AP24,$AK$23:$AK$40) -> 0 | AT24: =SUMIF($F$23:$F$40,AP24,$AL$23:$AL$40) -> 0
A25: =COUNTIF($G$3:$AG$20,E25) -> 0 | C25: =COUNTIF(G25:AG25,"HR") -> 0 | AI25: =COUNTA(G25:I25,K25:M25,O25:Q25,S25:U25,W25:Y25,AA25:AC25,AE25:AG25) -> 0 | AJ25: =COUNTIF(G25:AG25,"R")+(COUNTIF(G25:AG25,"HR")*2) -> 0 | AK25: =COUNTIF(G25:AG25,"K") -> 0 | AL25: =$A25+$B25 -> 0 | AO25: 20 | AP25: 劉家溫 | AQ25: =SUMIF($F$23:$F$40,AP25,$AI$23:$AI$40) -> 4 | AR25: =SUMIF($F$23:$F$40,AP25,$AJ$23:$AJ$40) -> 0 | AS25: =SUMIF($F$23:$F$40,AP25,$AK$23:$AK$40) -> 2 | AT25: =SUMIF($F$23:$F$40,AP25,$AL$23:$AL$40) -> 0 | AV25: {=_xlfn.UNIQUE(AM24:AM25)} -> 宋展宇 | AW25: 20 | AX25: 2 | AY25: 11
A26: =COUNTIF($G$3:$AG$20,E26) -> 0 | C26: =COUNTIF(G26:AG26,"HR") -> 0 | D26: 2 | E26: 20 | F26: 劉家溫 | G26: K | L26: 33 | T26: 111 | AB26: K | AI26: =COUNTA(G26:I26,K26:M26,O26:Q26,S26:U26,W26:Y26,AA26:AC26,AE26:AG26) -> 4 | AJ26: =COUNTIF(G26:AG26,"R")+(COUNTIF(G26:AG26,"HR")*2) -> 0 | AK26: =COUNTIF(G26:AG26,"K") -> 2 | AL26: =$A26+$B26 -> 0 | AM26: 捕手 | AO26: 26 | AP26: 賴智傑 | AQ26: =SUMIF($F$23:$F$40,AP26,$AI$23:$AI$40) -> 3 | AR26: =SUMIF($F$23:$F$40,AP26,$AJ$23:$AJ$40) -> 0 | AS26: =SUMIF($F$23:$F$40,AP26,$AK$23:$AK$40) -> 2 | AT26: =SUMIF($F$23:$F$40,AP26,$AL$23:$AL$40) -> 1 | AV26: 0
A27: =COUNTIF($G$3:$AG$20,E27) -> 0 | C27: =COUNTIF(G27:AG27,"HR") -> 0 | AI27: =COUNTA(G27:I27,K27:M27,O27:Q27,S27:U27,W27:Y27,AA27:AC27,AE27:AG27) -> 0 | AJ27: =COUNTIF(G27:AG27,"R")+(COUNTIF(G27:AG27,"HR")*2) -> 0 | AK27: =COUNTIF(G27:AG27,"K") -> 0 | AL27: =$A27+$B27 -> 0 | AM27: 林宜宏 | AO27: 25 | AP27: 洪韶壕 | AQ27: =SUMIF($F$23:$F$40,AP27,$AI$23:$AI$40) -> 3 | AR27: =SUMIF($F$23:$F$40,AP27,$AJ$23:$AJ$40) -> 1 | AS27: =SUMIF($F$23:$F$40,AP27,$AK$23:$AK$40) -> 1 | AT27: =SUMIF($F$23:$F$40,AP27,$AL$23:$AL$40) -> 1
A28: =COUNTIF($G$3:$AG$20,E28) -> 0 | C28: =COUNTIF(G28:AG28,"HR") -> 0 | AI28: =COUNTA(G28:I28,K28:M28,O28:Q28,S28:U28,W28:Y28,AA28:AC28,AE28:AG28) -> 0 | AJ28: =COUNTIF(G28:AG28,"R")+(COUNTIF(G28:AG28,"HR")*2) -> 0 | AK28: =COUNTIF(G28:AG28,"K") -> 0 | AL28: =$A28+$B28 -> 0 | AO28: 17 | AP28: 張睿紘 | AQ28: =SUMIF($F$23:$F$40,AP28,$AI$23:$AI$40) -> 3 | AR28: =SUMIF($F$23:$F$40,AP28,$AJ$23:$AJ$40) -> 1 | AS28: =SUMIF($F$23:$F$40,AP28,$AK$23:$AK$40) -> 2 | AT28: =SUMIF($F$23:$F$40,AP28,$AL$23:$AL$40) -> 1
A29: =COUNTIF($G$3:$AG$20,E29) -> 1 | C29: =COUNTIF(G29:AG29,"HR") -> 0 | D29: 3 | E29: 26 | F29: 賴智傑 | G29: K | O29: 33 | W29: K | AI29: =COUNTA(G29:I29,K29:M29,O29:Q29,S29:U29,W29:Y29,AA29:AC29,AE29:AG29) -> 3 | AJ29: =COUNTIF(G29:AG29,"R")+(COUNTIF(G29:AG29,"HR")*2) -> 0 | AK29: =COUNTIF(G29:AG29,"K") -> 2 | AL29: =$A29+$B29 -> 1 | AO29: 66 | AP29: 陳韻婷 | AQ29: =SUMIF($F$23:$F$40,AP29,$AI$23:$AI$40) -> 3 | AR29: =SUMIF($F$23:$F$40,AP29,$AJ$23:$AJ$40) -> 0 | AS29: =SUMIF($F$23:$F$40,AP29,$AK$23:$AK$40) -> 1 | AT29: =SUMIF($F$23:$F$40,AP29,$AL$23:$AL$40) -> 0
A30: =COUNTIF($G$3:$AG$20,E30) -> 0 | C30: =COUNTIF(G30:AG30,"HR") -> 0 | AI30: =COUNTA(G30:I30,K30:M30,O30:Q30,S30:U30,W30:Y30,AA30:AC30,AE30:AG30) -> 0 | AJ30: =COUNTIF(G30:AG30,"R")+(COUNTIF(G30:AG30,"HR")*2) -> 0 | AK30: =COUNTIF(G30:AG30,"K") -> 0 | AL30: =$A30+$B30 -> 0 | AM30: 觀測員 | AQ30: =SUMIF($F$23:$F$40,AP30,$AI$23:$AI$40) -> 0 | AR30: =SUMIF($F$23:$F$40,AP30,$AJ$23:$AJ$40) -> 0 | AS30: =SUMIF($F$23:$F$40,AP30,$AK$23:$AK$40) -> 0 | AT30: =SUMIF($F$23:$F$40,AP30,$AL$23:$AL$40) -> 0
A31: =COUNTIF($G$3:$AG$20,E31) -> 0 | C31: =COUNTIF(G31:AG31,"HR") -> 0 | AI31: =COUNTA(G31:I31,K31:M31,O31:Q31,S31:U31,W31:Y31,AA31:AC31,AE31:AG31) -> 0 | AJ31: =COUNTIF(G31:AG31,"R")+(COUNTIF(G31:AG31,"HR")*2) -> 0 | AK31: =COUNTIF(G31:AG31,"K") -> 0 | AL31: =$A31+$B31 -> 0 | AM31: 高芳伶
A32: =COUNTIF($G$3:$AG$20,E32) -> 1 | C32: =COUNTIF(G32:AG32,"HR") -> 0 | D32: 4 | E32: 25 | F32: 洪韶壕 | K32: R | O32: 33 | W32: K | AI32: =COUNTA(G32:I32,K32:M32,O32:Q32,S32:U32,W32:Y32,AA32:AC32,AE32:AG32) -> 3 | AJ32: =COUNTIF(G32:AG32,"R")+(COUNTIF(G32:AG32,"HR")*2) -> 1 | AK32: =COUNTIF(G32:AG32,"K") -> 1 | AL32: =$A32+$B32 -> 1
A33: =COUNTIF($G$3:$AG$20,E33) -> 0 | C33: =COUNTIF(G33:AG33,"HR") -> 0 | AI33: =COUNTA(G33:I33,K33:M33,O33:Q33,S33:U33,W33:Y33,AA33:AC33,AE33:AG33) -> 0 | AJ33: =COUNTIF(G33:AG33,"R")+(COUNTIF(G33:AG33,"HR")*2) -> 0 | AK33: =COUNTIF(G33:AG33,"K") -> 0 | AL33: =$A33+$B33 -> 0
A34: =COUNTIF($G$3:$AG$20,E34) -> 0 | C34: =COUNTIF(G34:AG34,"HR") -> 0 | AI34: =COUNTA(G34:I34,K34:M34,O34:Q34,S34:U34,W34:Y34,AA34:AC34,AE34:AG34) -> 0 | AJ34: =COUNTIF(G34:AG34,"R")+(COUNTIF(G34:AG34,"HR")*2) -> 0 | AK34: =COUNTIF(G34:AG34,"K") -> 0 | AL34: =$A34+$B34 -> 0 | AM34: 候補球員
A35: =COUNTIF($G$3:$AG$20,E35) -> 1 | C35: =COUNTIF(G35:AG35,"HR") -> 0 | D35: 5 | E35: 17 | F35: 張睿紘 | K35: R | O35: K | W35: K | AI35: =COUNTA(G35:I35,K35:M35,O35:Q35,S35:U35,W35:Y35,AA35:AC35,AE35:AG35) -> 3 | AJ35: =COUNTIF(G35:AG35,"R")+(COUNTIF(G35:AG35,"HR")*2) -> 1 | AK35: =COUNTIF(G35:AG35,"K") -> 2 | AL35: =$A35+$B35 -> 1 | AQ35: =SUM(AQ23:AQ34) -> 20 | AR35: =SUM(AR23:AR34) -> 2 | AS35: =SUM(AS23:AS34) -> 11 | AT35: =SUM(AT23:AT34) -> 3
A36: =COUNTIF($G$3:$AG$20,E36) -> 0 | C36: =COUNTIF(G36:AG36,"HR") -> 0 | AI36: =COUNTA(G36:I36,K36:M36,O36:Q36,S36:U36,W36:Y36,AA36:AC36,AE36:AG36) -> 0 | AJ36: =COUNTIF(G36:AG36,"R")+(COUNTIF(G36:AG36,"HR")*2) -> 0 | AK36: =COUNTIF(G36:AG36,"K") -> 0 | AL36: =$A36+$B36 -> 0
A37: =COUNTIF($G$3:$AG$20,E37) -> 0 | C37: =COUNTIF(G37:AG37,"HR") -> 0 | AI37: =COUNTA(G37:I37,K37:M37,O37:Q37,S37:U37,W37:Y37,AA37:AC37,AE37:AG37) -> 0 | AJ37: =COUNTIF(G37:AG37,"R")+(COUNTIF(G37:AG37,"HR")*2) -> 0 | AK37: =COUNTIF(G37:AG37,"K") -> 0 | AL37: =$A37+$B37 -> 0
A38: =COUNTIF($G$3:$AG$20,E38) -> 0 | C38: =COUNTIF(G38:AG38,"HR") -> 0 | D38: 6 | E38: 66 | F38: 陳韻婷 | K38: K | S38: 33 | AA38: 33 | AI38: =COUNTA(G38:I38,K38:M38,O38:Q38,S38:U38,W38:Y38,AA38:AC38,AE38:AG38) -> 3 | AJ38: =COUNTIF(G38:AG38,"R")+(COUNTIF(G38:AG38,"HR")*2) -> 0 | AK38: =COUNTIF(G38:AG38,"K") -> 1 | AL38: =$A38+$B38 -> 0
A39: =COUNTIF($G$3:$AG$20,E39) -> 0 | C39: =COUNTIF(G39:AG39,"HR") -> 0 | AI39: =COUNTA(G39:I39,K39:M39,O39:Q39,S39:U39,W39:Y39,AA39:AC39,AE39:AG39) -> 0 | AJ39: =COUNTIF(G39:AG39,"R")+(COUNTIF(G39:AG39,"HR")*2) -> 0 | AK39: =COUNTIF(G39:AG39,"K") -> 0 | AL39: =$A39+$B39 -> 0
A40: =COUNTIF($G$3:$AG$20,E40) -> 0 | C40: =COUNTIF(G40:AG40,"HR") -> 0 | AI40: =COUNTA(G40:I40,K40:M40,O40:Q40,S40:U40,W40:Y40,AA40:AC40,AE40:AG40) -> 0 | AJ40: =COUNTIF(G40:AG40,"R")+(COUNTIF(G40:AG40,"HR")*2) -> 0 | AK40: =COUNTIF(G40:AG40,"K") -> 0 | AL40: =$A40+$B40 -> 0
A41: =SUM(A23:A40) -> 3 | B41: =SUM(B23:B40) -> 0 | C41: =SUM(C23:C40) -> 0 | D41: 得分加總 | G41: =COUNTIF(G23:I40,"R")+(COUNTIF(G23:I40,"HR")*2) -> 0 | K41: =COUNTIF(K23:M40,"R")+(COUNTIF(K23:M40,"HR")*2)+G41 -> 2 | O41: =COUNTIF(O23:Q40,"R")+(COUNTIF(O23:Q40,"HR")*2)+K41 -> 2 | S41: =COUNTIF(S23:U40,"R")+(COUNTIF(S23:U40,"HR")*2)+O41 -> 2 | W41: =COUNTIF(W23:Y40,"R")+(COUNTIF(W23:Y40,"HR")*2)+S41 -> 2 | AA41: =COUNTIF(AA23:AC40,"R")+(COUNTIF(AA23:AC40,"HR")*2)+W41 -> 2 | AE41: =COUNTIF(AE23:AG40,"R")+(COUNTIF(AE23:AG40,"HR")*2)+AA41 -> 2 | AI41: =SUM(AI23:AI40) -> 20 | AJ41: =SUM(AJ23:AJ40) -> 2 | AK41: =SUM(AK23:AK40) -> 11 | AL41: =SUM(AL23:AL40) -> 3

Sheet G2
B1: 加計分數 | D1: 場次 | H1: G2 | J1: 日期 | L1: 115.08.15 | Q1: =AE21 -> 13 | T1: 夜魔俠 | V1: VS | X1: 閃電隊 | AA1: =AE41 -> 6 | AI1: 數據
A2: 撿球 | B2: 接殺 | C2: HR | D2: 先 | E2: 背號 | F2: 球員 | G2: 1 | J2: 投 | K2: 2 | N2: 投 | O2: 3 | R2: 投 | S2: 4 | V2: 投 | W2: 5 | Z2: 投 | AA2: 6 | AD2: 投 | AE2: 7 | AH2: 投 | AI2: AB | AJ2: R | AK2: K | AL2: P | AM2: 投/捕/觀
A3: =COUNTIF($G$23:$AG$40,E3) -> 0 | C3: =COUNTIF(G3:AG3,"HR") -> 0 | D3: 1 | E3: 18 | F3: 梁耿縉 | G3: K | L3: R | P3: R | S3: 35 | AI3: =COUNTA(G3:I3,K3:M3,O3:Q3,S3:U3,W3:Y3,AA3:AC3,AE3:AG3) -> 4 | AJ3: =COUNTIF(G3:AG3,"R")+(COUNTIF(G3:AG3,"HR")*2) -> 2 | AK3: =COUNTIF(G3:AG3,"K") -> 1 | AL3: =$A3+$B3 -> 0 | AM3: 投手 | AO3: 背號 | AP3: 球員 | AQ3: AB | AR3: R | AS3: K | AT3: P | AV3: 投手成績統計 | AX3: (手動輸入)
A4: =COUNTIF($G$23:$AG$40,E4) -> 2 | C4: =COUNTIF(G4:AG4,"HR") -> 0 | E4: 26 | F4: 李怡慧 | X4: R | AB4: 35 | AI4: =COUNTA(G4:I4,K4:M4,O4:Q4,S4:U4,W4:Y4,AA4:AC4,AE4:AG4) -> 2 | AJ4: =COUNTIF(G4:AG4,"R")+(COUNTIF(G4:AG4,"HR")*2) -> 1 | AK4: =COUNTIF(G4:AG4,"K") -> 0 | AL4: =$A4+$B4 -> 2 | AM4: 陳相睿 | AO4: 18 | AP4: {=_xlfn.UNIQUE(F3:F20)} -> 梁耿縉 | AQ4: =SUMIF($F$3:$F$20,AP4,$AI$3:$AI$20) -> 4 | AR4: =SUMIF($F$3:$F$20,AP4,$AJ$3:$AJ$20) -> 2 | AS4: =SUMIF($F$3:$F$20,AP4,$AK$3:$AK$20) -> 1 | AT4: =SUMIF($F$3:$F$20,AP4,$AL$3:$AL$20) -> 0 | AV4: 姓名 | AW4: AB | AX4: R | AY4: K
A5: =COUNTIF($G$23:$AG$40,E5) -> 0 | C5: =COUNTIF(G5:AG5,"HR") -> 0 | AI5: =COUNTA(G5:I5,K5:M5,O5:Q5,S5:U5,W5:Y5,AA5:AC5,AE5:AG5) -> 0 | AJ5: =COUNTIF(G5:AG5,"R")+(COUNTIF(G5:AG5,"HR")*2) -> 0 | AK5: =COUNTIF(G5:AG5,"K") -> 0 | AL5: =$A5+$B5 -> 0 | AO5: 26 | AP5: 李怡慧 | AQ5: =SUMIF($F$3:$F$20,AP5,$AI$3:$AI$20) -> 2 | AR5: =SUMIF($F$3:$F$20,AP5,$AJ$3:$AJ$20) -> 1 | AS5: =SUMIF($F$3:$F$20,AP5,$AK$3:$AK$20) -> 0 | AT5: =SUMIF($F$3:$F$20,AP5,$AL$3:$AL$20) -> 2 | AV5: {=_xlfn.UNIQUE(AM4:AM5)} -> 陳相睿 | AW5: 31 | AX5: 13 | AY5: 8
A6: =COUNTIF($G$23:$AG$40,E6) -> 0 | C6: =COUNTIF(G6:AG6,"HR") -> 0 | D6: 2 | E6: 39 | F6: 郭亦倫 | G6: 111 | L6: 8 | P6: R | S6: K | X6: 8 | AI6: =COUNTA(G6:I6,K6:M6,O6:Q6,S6:U6,W6:Y6,AA6:AC6,AE6:AG6) -> 5 | AJ6: =COUNTIF(G6:AG6,"R")+(COUNTIF(G6:AG6,"HR")*2) -> 1 | AK6: =COUNTIF(G6:AG6,"K") -> 1 | AL6: =$A6+$B6 -> 0 | AM6: 捕手 | AP6: 0 | AQ6: =SUMIF($F$3:$F$20,AP6,$AI$3:$AI$20) -> 0 | AR6: =SUMIF($F$3:$F$20,AP6,$AJ$3:$AJ$20) -> 0 | AS6: =SUMIF($F$3:$F$20,AP6,$AK$3:$AK$20) -> 0 | AT6: =SUMIF($F$3:$F$20,AP6,$AL$3:$AL$20) -> 0 | AV6: 0
A7: =COUNTIF($G$23:$AG$40,E7) -> 0 | C7: =COUNTIF(G7:AG7,"HR") -> 0 | AI7: =COUNTA(G7:I7,K7:M7,O7:Q7,S7:U7,W7:Y7,AA7:AC7,AE7:AG7) -> 0 | AJ7: =COUNTIF(G7:AG7,"R")+(COUNTIF(G7:AG7,"HR")*2) -> 0 | AK7: =COUNTIF(G7:AG7,"K") -> 0 | AL7: =$A7+$B7 -> 0 | AM7: 王辰光 | AO7: 39 | AP7: 郭亦倫 | AQ7: =SUMIF($F$3:$F$20,AP7,$AI$3:$AI$20) -> 5 | AR7: =SUMIF($F$3:$F$20,AP7,$AJ$3:$AJ$20) -> 1 | AS7: =SUMIF($F$3:$F$20,AP7,$AK$3:$AK$20) -> 1 | AT7: =SUMIF($F$3:$F$20,AP7,$AL$3:$AL$20) -> 0
A8: =COUNTIF($G$23:$AG$40,E8) -> 0 | C8: =COUNTIF(G8:AG8,"HR") -> 0 | AI8: =COUNTA(G8:I8,K8:M8,O8:Q8,S8:U8,W8:Y8,AA8:AC8,AE8:AG8) -> 0 | AJ8: =COUNTIF(G8:AG8,"R")+(COUNTIF(G8:AG8,"HR")*2) -> 0 | AK8: =COUNTIF(G8:AG8,"K") -> 0 | AL8: =$A8+$B8 -> 0 | AO8: 22 | AP8: 蔡存宥 | AQ8: =SUMIF($F$3:$F$20,AP8,$AI$3:$AI$20) -> 5 | AR8: =SUMIF($F$3:$F$20,AP8,$AJ$3:$AJ$20) -> 3 | AS8: =SUMIF($F$3:$F$20,AP8,$AK$3:$AK$20) -> 2 | AT8: =SUMIF($F$3:$F$20,AP8,$AL$3:$AL$20) -> 2
A9: =COUNTIF($G$23:$AG$40,E9) -> 2 | C9: =COUNTIF(G9:AG9,"HR") -> 0 | D9: 3 | E9: 22 | F9: 蔡存宥 | G9: R | L9: R | P9: R | S9: K | X9: K | AI9: =COUNTA(G9:I9,K9:M9,O9:Q9,S9:U9,W9:Y9,AA9:AC9,AE9:AG9) -> 5 | AJ9: =COUNTIF(G9:AG9,"R")+(COUNTIF(G9:AG9,"HR")*2) -> 3 | AK9: =COUNTIF(G9:AG9,"K") -> 2 | AL9: =$A9+$B9 -> 2 | AO9: 81 | AP9: 余自成 | AQ9: =SUMIF($F$3:$F$20,AP9,$AI$3:$AI$20) -> 2 | AR9: =SUMIF($F$3:$F$20,AP9,$AJ$3:$AJ$20) -> 0 | AS9: =SUMIF($F$3:$F$20,AP9,$AK$3:$AK$20) -> 0 | AT9: =SUMIF($F$3:$F$20,AP9,$AL$3:$AL$20) -> 0
A10: =COUNTIF($G$23:$AG$40,E10) -> 0 | C10: =COUNTIF(G10:AG10,"HR") -> 0 | AI10: =COUNTA(G10:I10,K10:M10,O10:Q10,S10:U10,W10:Y10,AA10:AC10,AE10:AG10) -> 0 | AJ10: =COUNTIF(G10:AG10,"R")+(COUNTIF(G10:AG10,"HR")*2) -> 0 | AK10: =COUNTIF(G10:AG10,"K") -> 0 | AL10: =$A10+$B10 -> 0 | AM10: 觀測員 | AO10: 37 | AP10: 古國偉 | AQ10: =SUMIF($F$3:$F$20,AP10,$AI$3:$AI$20) -> 3 | AR10: =SUMIF($F$3:$F$20,AP10,$AJ$3:$AJ$20) -> 1 | AS10: =SUMIF($F$3:$F$20,AP10,$AK$3:$AK$20) -> 2 | AT10: =SUMIF($F$3:$F$20,AP10,$AL$3:$AL$20) -> 0
A11: =COUNTIF($G$23:$AG$40,E11) -> 0 | C11: =COUNTIF(G11:AG11,"HR") -> 0 | AI11: =COUNTA(G11:I11,K11:M11,O11:Q11,S11:U11,W11:Y11,AA11:AC11,AE11:AG11) -> 0 | AJ11: =COUNTIF(G11:AG11,"R")+(COUNTIF(G11:AG11,"HR")*2) -> 0 | AK11: =COUNTIF(G11:AG11,"K") -> 0 | AL11: =$A11+$B11 -> 0 | AM11: 劉維璽 | AO11: 11 | AP11: 勞恩以達西拔 | AQ11: =SUMIF($F$3:$F$20,AP11,$AI$3:$AI$20) -> 5 | AR11: =SUMIF($F$3:$F$20,AP11,$AJ$3:$AJ$20) -> 2 | AS11: =SUMIF($F$3:$F$20,AP11,$AK$3:$AK$20) -> 2 | AT11: =SUMIF($F$3:$F$20,AP11,$AL$3:$AL$20) -> 0
A12: =COUNTIF($G$23:$AG$40,E12) -> 0 | C12: =COUNTIF(G12:AG12,"HR") -> 0 | D12: 4 | E12: 81 | F12: 余自成 | G12: 33 | L12: 35 | AI12: =COUNTA(G12:I12,K12:M12,O12:Q12,S12:U12,W12:Y12,AA12:AC12,AE12:AG12) -> 2 | AJ12: =COUNTIF(G12:AG12,"R")+(COUNTIF(G12:AG12,"HR")*2) -> 0 | AK12: =COUNTIF(G12:AG12,"K") -> 0 | AL12: =$A12+$B12 -> 0 | AO12: o | AP12: 吳品逸 | AQ12: =SUMIF($F$3:$F$20,AP12,$AI$3:$AI$20) -> 5 | AR12: =SUMIF($F$3:$F$20,AP12,$AJ$3:$AJ$20) -> 3 | AS12: =SUMIF($F$3:$F$20,AP12,$AK$3:$AK$20) -> 0 | AT12: =SUMIF($F$3:$F$20,AP12,$AL$3:$AL$20) -> 0
A13: =COUNTIF($G$23:$AG$40,E13) -> 0 | C13: =COUNTIF(G13:AG13,"HR") -> 0 | E13: 37 | F13: 古國偉 | P13: K | W13: R | AA13: K | AI13: =COUNTA(G13:I13,K13:M13,O13:Q13,S13:U13,W13:Y13,AA13:AC13,AE13:AG13) -> 3 | AJ13: =COUNTIF(G13:AG13,"R")+(COUNTIF(G13:AG13,"HR")*2) -> 1 | AK13: =COUNTIF(G13:AG13,"K") -> 2 | AL13: =$A13+$B13 -> 0 | AO13: 10 | AP13: 宋晴天 | AQ13: =SUMIF($F$3:$F$20,AP13,$AI$3:$AI$20) -> 0 | AR13: =SUMIF($F$3:$F$20,AP13,$AJ$3:$AJ$20) -> 0 | AS13: =SUMIF($F$3:$F$20,AP13,$AK$3:$AK$20) -> 0 | AT13: =SUMIF($F$3:$F$20,AP13,$AL$3:$AL$20) -> 0
A14: =COUNTIF($G$23:$AG$40,E14) -> 0 | C14: =COUNTIF(G14:AG14,"HR") -> 0 | AI14: =COUNTA(G14:I14,K14:M14,O14:Q14,S14:U14,W14:Y14,AA14:AC14,AE14:AG14) -> 0 | AJ14: =COUNTIF(G14:AG14,"R")+(COUNTIF(G14:AG14,"HR")*2) -> 0 | AK14: =COUNTIF(G14:AG14,"K") -> 0 | AL14: =$A14+$B14 -> 0 | AM14: 候補球員 | AQ14: =SUMIF($F$3:$F$20,AP14,$AI$3:$AI$20) -> 0 | AR14: =SUMIF($F$3:$F$20,AP14,$AJ$3:$AJ$20) -> 0 | AS14: =SUMIF($F$3:$F$20,AP14,$AK$3:$AK$20) -> 0 | AT14: =SUMIF($F$3:$F$20,AP14,$AL$3:$AL$20) -> 0
A15: =COUNTIF($G$23:$AG$40,E15) -> 0 | C15: =COUNTIF(G15:AG15,"HR") -> 0 | D15: 5 | E15: 11 | F15: 勞恩以達西拔 | K15: K | O15: R | P15: 8 | W15: K | AA15: R | AI15: =COUNTA(G15:I15,K15:M15,O15:Q15,S15:U15,W15:Y15,AA15:AC15,AE15:AG15) -> 5 | AJ15: =COUNTIF(G15:AG15,"R")+(COUNTIF(G15:AG15,"HR")*2) -> 2 | AK15: =COUNTIF(G15:AG15,"K") -> 2 | AL15: =$A15+$B15 -> 0
A16: =COUNTIF($G$23:$AG$40,E16) -> 0 | C16: =COUNTIF(G16:AG16,"HR") -> 0 | AI16: =COUNTA(G16:I16,K16:M16,O16:Q16,S16:U16,W16:Y16,AA16:AC16,AE16:AG16) -> 0 | AJ16: =COUNTIF(G16:AG16,"R")+(COUNTIF(G16:AG16,"HR")*2) -> 0 | AK16: =COUNTIF(G16:AG16,"K") -> 0 | AL16: =$A16+$B16 -> 0 | AQ16: =SUM(AQ3:AQ15) -> 31 | AR16: =SUM(AR3:AR15) -> 13 | AS16: =SUM(AS3:AS15) -> 8 | AT16: =SUM(AT3:AT15) -> 4
A17: =COUNTIF($G$23:$AG$40,E17) -> 0 | C17: =COUNTIF(G17:AG17,"HR") -> 0 | AI17: =COUNTA(G17:I17,K17:M17,O17:Q17,S17:U17,W17:Y17,AA17:AC17,AE17:AG17) -> 0 | AJ17: =COUNTIF(G17:AG17,"R")+(COUNTIF(G17:AG17,"HR")*2) -> 0 | AK17: =COUNTIF(G17:AG17,"K") -> 0 | AL17: =$A17+$B17 -> 0
A18: =COUNTIF($G$23:$AG$40,E18) -> 0 | C18: =COUNTIF(G18:AG18,"HR") -> 0 | D18: 6 | E18: O | F18: 吳品逸 | K18: R | O18: R | P18: 111 | W18: R | AA18: 33 | AI18: =COUNTA(G18:I18,K18:M18,O18:Q18,S18:U18,W18:Y18,AA18:AC18,AE18:AG18) -> 5 | AJ18: =COUNTIF(G18:AG18,"R")+(COUNTIF(G18:AG18,"HR")*2) -> 3 | AK18: =COUNTIF(G18:AG18,"K") -> 0 | AL18: =$A18+$B18 -> 0
A19: =COUNTIF($G$23:$AG$40,E19) -> 0 | C19: =COUNTIF(G19:AG19,"HR") -> 0 | E19: 10 | F19: 宋晴天 | AI19: =COUNTA(G19:I19,K19:M19,O19:Q19,S19:U19,W19:Y19,AA19:AC19,AE19:AG19) -> 0 | AJ19: =COUNTIF(G19:AG19,"R")+(COUNTIF(G19:AG19,"HR")*2) -> 0 | AK19: =COUNTIF(G19:AG19,"K") -> 0 | AL19: =$A19+$B19 -> 0
A20: =COUNTIF($G$23:$AG$40,E20) -> 0 | C20: =COUNTIF(G20:AG20,"HR") -> 0 | AI20: =COUNTA(G20:I20,K20:M20,O20:Q20,S20:U20,W20:Y20,AA20:AC20,AE20:AG20) -> 0 | AJ20: =COUNTIF(G20:AG20,"R")+(COUNTIF(G20:AG20,"HR")*2) -> 0 | AK20: =COUNTIF(G20:AG20,"K") -> 0 | AL20: =$A20+$B20 -> 0
A21: =SUM(A3:A20) -> 4 | B21: =SUM(B3:B20) -> 0 | C21: =SUM(C3:C20) -> 0 | D21: 得分加總 | G21: =COUNTIF(G3:I20,"R")+(COUNTIF(G3:I20,"HR")*2) -> 1 | K21: =COUNTIF(K3:M20,"R")+(COUNTIF(K3:M20,"HR")*2)+G21 -> 4 | O21: =COUNTIF(O3:Q20,"R")+(COUNTIF(O3:Q20,"HR")*2)+K21 -> 9 | S21: =COUNTIF(S3:U20,"R")+(COUNTIF(S3:U20,"HR")*2)+O21 -> 9 | W21: =COUNTIF(W3:Y20,"R")+(COUNTIF(W3:Y20,"HR")*2)+S21 -> 12 | AA21: =COUNTIF(AA3:AC20,"R")+(COUNTIF(AA3:AC20,"HR")*2)+W21 -> 13 | AE21: =COUNTIF(AE3:AG20,"R")+(COUNTIF(AE3:AG20,"HR")*2)+AA21 -> 13 | AI21: =SUM(AI3:AI20) -> 31 | AJ21: =SUM(AJ3:AJ20) -> 13 | AK21: =SUM(AK3:AK20) -> 8 | AL21: =SUM(AL3:AL20) -> 4
A22: 撿球 | B22: 接殺 | C22: HR | D22: 後 | E22: 背號 | F22: 球員 | G22: 1 | J22: 投 | K22: 2 | N22: 投 | O22: 3 | R22: 投 | S22: 4 | V22: 投 | W22: 5 | Z22: 投 | AA22: 6 | AD22: 投 | AE22: 7 | AH22: 投 | AI22: AB | AJ22: R | AK22: K | AL22: P | AM22: 投/捕/觀
A23: =COUNTIF($G$3:$AG$20,E23) -> 0 | C23: =COUNTIF(G23:AG23,"HR") -> 0 | D23: 1 | E23: 88 | F23: 鄭傳逸 | G23: K | L23: K | T23: R | AA23: R | AI23: =COUNTA(G23:I23,K23:M23,O23:Q23,S23:U23,W23:Y23,AA23:AC23,AE23:AG23) -> 4 | AJ23: =COUNTIF(G23:AG23,"R")+(COUNTIF(G23:AG23,"HR")*2) -> 2 | AK23: =COUNTIF(G23:AG23,"K") -> 2 | AL23: =$A23+$B23 -> 0 | AM23: 投手 | AO23: 88 | AP23: {=_xlfn.UNIQUE(F23:F40)} -> 鄭傳逸 | AQ23: =SUMIF($F$23:$F$40,AP23,$AI$23:$AI$40) -> 4 | AR23: =SUMIF($F$23:$F$40,AP23,$AJ$23:$AJ$40) -> 2 | AS23: =SUMIF($F$23:$F$40,AP23,$AK$23:$AK$40) -> 2 | AT23: =SUMIF($F$23:$F$40,AP23,$AL$23:$AL$40) -> 0
A24: =COUNTIF($G$3:$AG$20,E24) -> 0 | C24: =COUNTIF(G24:AG24,"HR") -> 0 | AI24: =COUNTA(G24:I24,K24:M24,O24:Q24,S24:U24,W24:Y24,AA24:AC24,AE24:AG24) -> 0 | AJ24: =COUNTIF(G24:AG24,"R")+(COUNTIF(G24:AG24,"HR")*2) -> 0 | AK24: =COUNTIF(G24:AG24,"K") -> 0 | AL24: =$A24+$B24 -> 0 | AM24: 李裕仁 | AP24: 0 | AQ24: =SUMIF($F$23:$F$40,AP24,$AI$23:$AI$40) -> 0 | AR24: =SUMIF($F$23:$F$40,AP24,$AJ$23:$AJ$40) -> 0 | AS24: =SUMIF($F$23:$F$40,AP24,$AK$23:$AK$40) -> 0 | AT24: =SUMIF($F$23:$F$40,AP24,$AL$23:$AL$40) -> 0
A25: =COUNTIF($G$3:$AG$20,E25) -> 0 | C25: =COUNTIF(G25:AG25,"HR") -> 0 | AI25: =COUNTA(G25:I25,K25:M25,O25:Q25,S25:U25,W25:Y25,AA25:AC25,AE25:AG25) -> 0 | AJ25: =COUNTIF(G25:AG25,"R")+(COUNTIF(G25:AG25,"HR")*2) -> 0 | AK25: =COUNTIF(G25:AG25,"K") -> 0 | AL25: =$A25+$B25 -> 0 | AO25: 99 | AP25: 林育良 | AQ25: =SUMIF($F$23:$F$40,AP25,$AI$23:$AI$40) -> 4 | AR25: =SUMIF($F$23:$F$40,AP25,$AJ$23:$AJ$40) -> 1 | AS25: =SUMIF($F$23:$F$40,AP25,$AK$23:$AK$40) -> 3 | AT25: =SUMIF($F$23:$F$40,AP25,$AL$23:$AL$40) -> 0 | AV25: {=_xlfn.UNIQUE(AM24:AM25)} -> 李裕仁 | AW25: 24 | AX25: 6 | AY25: 14
A26: =COUNTIF($G$3:$AG$20,E26) -> 0 | C26: =COUNTIF(G26:AG26,"HR") -> 0 | D26: 2 | E26: 99 | F26: 林育良 | G26: K | L26: K | T26: K | AA26: R | AI26: =COUNTA(G26:I26,K26:M26,O26:Q26,S26:U26,W26:Y26,AA26:AC26,AE26:AG26) -> 4 | AJ26: =COUNTIF(G26:AG26,"R")+(COUNTIF(G26:AG26,"HR")*2) -> 1 | AK26: =COUNTIF(G26:AG26,"K") -> 3 | AL26: =$A26+$B26 -> 0 | AM26: 捕手 | AO26: 8 | AP26: 陳璽帆 | AQ26: =SUMIF($F$23:$F$40,AP26,$AI$23:$AI$40) -> 3 | AR26: =SUMIF($F$23:$F$40,AP26,$AJ$23:$AJ$40) -> 0 | AS26: =SUMIF($F$23:$F$40,AP26,$AK$23:$AK$40) -> 2 | AT26: =SUMIF($F$23:$F$40,AP26,$AL$23:$AL$40) -> 3 | AV26: 0
A27: =COUNTIF($G$3:$AG$20,E27) -> 0 | C27: =COUNTIF(G27:AG27,"HR") -> 0 | AI27: =COUNTA(G27:I27,K27:M27,O27:Q27,S27:U27,W27:Y27,AA27:AC27,AE27:AG27) -> 0 | AJ27: =COUNTIF(G27:AG27,"R")+(COUNTIF(G27:AG27,"HR")*2) -> 0 | AK27: =COUNTIF(G27:AG27,"K") -> 0 | AL27: =$A27+$B27 -> 0 | AM27: 張凱傑 | AO27: 111 | AP27: 林健彰 | AQ27: =SUMIF($F$23:$F$40,AP27,$AI$23:$AI$40) -> 3 | AR27: =SUMIF($F$23:$F$40,AP27,$AJ$23:$AJ$40) -> 1 | AS27: =SUMIF($F$23:$F$40,AP27,$AK$23:$AK$40) -> 2 | AT27: =SUMIF($F$23:$F$40,AP27,$AL$23:$AL$40) -> 4
A28: =COUNTIF($G$3:$AG$20,E28) -> 0 | C28: =COUNTIF(G28:AG28,"HR") -> 0 | AI28: =COUNTA(G28:I28,K28:M28,O28:Q28,S28:U28,W28:Y28,AA28:AC28,AE28:AG28) -> 0 | AJ28: =COUNTIF(G28:AG28,"R")+(COUNTIF(G28:AG28,"HR")*2) -> 0 | AK28: =COUNTIF(G28:AG28,"K") -> 0 | AL28: =$A28+$B28 -> 0 | AO28: 33 | AP28: 胡文秋 | AQ28: =SUMIF($F$23:$F$40,AP28,$AI$23:$AI$40) -> 4 | AR28: =SUMIF($F$23:$F$40,AP28,$AJ$23:$AJ$40) -> 1 | AS28: =SUMIF($F$23:$F$40,AP28,$AK$23:$AK$40) -> 2 | AT28: =SUMIF($F$23:$F$40,AP28,$AL$23:$AL$40) -> 2
A29: =COUNTIF($G$3:$AG$20,E29) -> 3 | C29: =COUNTIF(G29:AG29,"HR") -> 0 | D29: 3 | E29: 8 | F29: 陳璽帆 | G29: 22 | O29: K | T29: K | AI29: =COUNTA(G29:I29,K29:M29,O29:Q29,S29:U29,W29:Y29,AA29:AC29,AE29:AG29) -> 3 | AJ29: =COUNTIF(G29:AG29,"R")+(COUNTIF(G29:AG29,"HR")*2) -> 0 | AK29: =COUNTIF(G29:AG29,"K") -> 2 | AL29: =$A29+$B29 -> 3 | AO29: 35 | AP29: 陳俊欽 | AQ29: =SUMIF($F$23:$F$40,AP29,$AI$23:$AI$40) -> 4 | AR29: =SUMIF($F$23:$F$40,AP29,$AJ$23:$AJ$40) -> 1 | AS29: =SUMIF($F$23:$F$40,AP29,$AK$23:$AK$40) -> 2 | AT29: =SUMIF($F$23:$F$40,AP29,$AL$23:$AL$40) -> 3
A30: =COUNTIF($G$3:$AG$20,E30) -> 2 | C30: =COUNTIF(G30:AG30,"HR") -> 0 | E30: 111 | F30: 林健彰 | AA30: K | AI30: =COUNTA(G30:I30,K30:M30,O30:Q30,S30:U30,W30:Y30,AA30:AC30,AE30:AG30) -> 1 | AJ30: =COUNTIF(G30:AG30,"R")+(COUNTIF(G30:AG30,"HR")*2) -> 0 | AK30: =COUNTIF(G30:AG30,"K") -> 1 | AL30: =$A30+$B30 -> 2 | AM30: 觀測員 | AO30: 23 | AP30: 莊詠安 | AQ30: =SUMIF($F$23:$F$40,AP30,$AI$23:$AI$40) -> 2 | AR30: =SUMIF($F$23:$F$40,AP30,$AJ$23:$AJ$40) -> 0 | AS30: =SUMIF($F$23:$F$40,AP30,$AK$23:$AK$40) -> 1 | AT30: =SUMIF($F$23:$F$40,AP30,$AL$23:$AL$40) -> 0
A31: =COUNTIF($G$3:$AG$20,E31) -> 0 | C31: =COUNTIF(G31:AG31,"HR") -> 0 | AI31: =COUNTA(G31:I31,K31:M31,O31:Q31,S31:U31,W31:Y31,AA31:AC31,AE31:AG31) -> 0 | AJ31: =COUNTIF(G31:AG31,"R")+(COUNTIF(G31:AG31,"HR")*2) -> 0 | AK31: =COUNTIF(G31:AG31,"K") -> 0 | AL31: =$A31+$B31 -> 0 | AM31: 薛沅庭 | AQ31: =SUMIF($F$23:$F$40,AP31,$AI$23:$AI$40) -> 0 | AR31: =SUMIF($F$23:$F$40,AP31,$AJ$23:$AJ$40) -> 0 | AS31: =SUMIF($F$23:$F$40,AP31,$AK$23:$AK$40) -> 0 | AT31: =SUMIF($F$23:$F$40,AP31,$AL$23:$AL$40) -> 0
A32: =COUNTIF($G$3:$AG$20,E32) -> 2 | C32: =COUNTIF(G32:AG32,"HR") -> 0 | D32: 4 | E32: 33 | F32: 胡文秋 | K32: R | O32: K | W32: 26 | AA32: K | AI32: =COUNTA(G32:I32,K32:M32,O32:Q32,S32:U32,W32:Y32,AA32:AC32,AE32:AG32) -> 4 | AJ32: =COUNTIF(G32:AG32,"R")+(COUNTIF(G32:AG32,"HR")*2) -> 1 | AK32: =COUNTIF(G32:AG32,"K") -> 2 | AL32: =$A32+$B32 -> 2
A33: =COUNTIF($G$3:$AG$20,E33) -> 0 | C33: =COUNTIF(G33:AG33,"HR") -> 0 | AI33: =COUNTA(G33:I33,K33:M33,O33:Q33,S33:U33,W33:Y33,AA33:AC33,AE33:AG33) -> 0 | AJ33: =COUNTIF(G33:AG33,"R")+(COUNTIF(G33:AG33,"HR")*2) -> 0 | AK33: =COUNTIF(G33:AG33,"K") -> 0 | AL33: =$A33+$B33 -> 0
A34: =COUNTIF($G$3:$AG$20,E34) -> 0 | C34: =COUNTIF(G34:AG34,"HR") -> 0 | AI34: =COUNTA(G34:I34,K34:M34,O34:Q34,S34:U34,W34:Y34,AA34:AC34,AE34:AG34) -> 0 | AJ34: =COUNTIF(G34:AG34,"R")+(COUNTIF(G34:AG34,"HR")*2) -> 0 | AK34: =COUNTIF(G34:AG34,"K") -> 0 | AL34: =$A34+$B34 -> 0 | AM34: 候補球員
A35: =COUNTIF($G$3:$AG$20,E35) -> 3 | C35: =COUNTIF(G35:AG35,"HR") -> 0 | D35: 5 | E35: 35 | F35: 陳俊欽 | K35: K | O35: 22 | W35: K | AA35: R | AI35: =COUNTA(G35:I35,K35:M35,O35:Q35,S35:U35,W35:Y35,AA35:AC35,AE35:AG35) -> 4 | AJ35: =COUNTIF(G35:AG35,"R")+(COUNTIF(G35:AG35,"HR")*2) -> 1 | AK35: =COUNTIF(G35:AG35,"K") -> 2 | AL35: =$A35+$B35 -> 3 | AQ35: =SUM(AQ23:AQ34) -> 24 | AR35: =SUM(AR23:AR34) -> 6 | AS35: =SUM(AS23:AS34) -> 14 | AT35: =SUM(AT23:AT34) -> 12
A36: =COUNTIF($G$3:$AG$20,E36) -> 0 | C36: =COUNTIF(G36:AG36,"HR") -> 0 | AI36: =COUNTA(G36:I36,K36:M36,O36:Q36,S36:U36,W36:Y36,AA36:AC36,AE36:AG36) -> 0 | AJ36: =COUNTIF(G36:AG36,"R")+(COUNTIF(G36:AG36,"HR")*2) -> 0 | AK36: =COUNTIF(G36:AG36,"K") -> 0 | AL36: =$A36+$B36 -> 0
A37: =COUNTIF($G$3:$AG$20,E37) -> 0 | C37: =COUNTIF(G37:AG37,"HR") -> 0 | AI37: =COUNTA(G37:I37,K37:M37,O37:Q37,S37:U37,W37:Y37,AA37:AC37,AE37:AG37) -> 0 | AJ37: =COUNTIF(G37:AG37,"R")+(COUNTIF(G37:AG37,"HR")*2) -> 0 | AK37: =COUNTIF(G37:AG37,"K") -> 0 | AL37: =$A37+$B37 -> 0
A38: =COUNTIF($G$3:$AG$20,E38) -> 2 | C38: =COUNTIF(G38:AG38,"HR") -> 0 | D38: 6 | E38: 111 | F38: 林健彰 | K38: R | S38: K | AI38: =COUNTA(G38:I38,K38:M38,O38:Q38,S38:U38,W38:Y38,AA38:AC38,AE38:AG38) -> 2 | AJ38: =COUNTIF(G38:AG38,"R")+(COUNTIF(G38:AG38,"HR")*2) -> 1 | AK38: =COUNTIF(G38:AG38,"K") -> 1 | AL38: =$A38+$B38 -> 2
A39: =COUNTIF($G$3:$AG$20,E39) -> 0 | C39: =COUNTIF(G39:AG39,"HR") -> 0 | E39: 23 | F39: 莊詠安 | W39: K | AA39: 26 | AI39: =COUNTA(G39:I39,K39:M39,O39:Q39,S39:U39,W39:Y39,AA39:AC39,AE39:AG39) -> 2 | AJ39: =COUNTIF(G39:AG39,"R")+(COUNTIF(G39:AG39,"HR")*2) -> 0 | AK39: =COUNTIF(G39:AG39,"K") -> 1 | AL39: =$A39+$B39 -> 0
A40: =COUNTIF($G$3:$AG$20,E40) -> 0 | C40: =COUNTIF(G40:AG40,"HR") -> 0 | AI40: =COUNTA(G40:I40,K40:M40,O40:Q40,S40:U40,W40:Y40,AA40:AC40,AE40:AG40) -> 0 | AJ40: =COUNTIF(G40:AG40,"R")+(COUNTIF(G40:AG40,"HR")*2) -> 0 | AK40: =COUNTIF(G40:AG40,"K") -> 0 | AL40: =$A40+$B40 -> 0
A41: =SUM(A23:A40) -> 12 | B41: =SUM(B23:B40) -> 0 | C41: =SUM(C23:C40) -> 0 | D41: 得分加總 | G41: =COUNTIF(G23:I40,"R")+(COUNTIF(G23:I40,"HR")*2) -> 0 | K41: =COUNTIF(K23:M40,"R")+(COUNTIF(K23:M40,"HR")*2)+G41 -> 2 | O41: =COUNTIF(O23:Q40,"R")+(COUNTIF(O23:Q40,"HR")*2)+K41 -> 2 | S41: =COUNTIF(S23:U40,"R")+(COUNTIF(S23:U40,"HR")*2)+O41 -> 3 | W41: =COUNTIF(W23:Y40,"R")+(COUNTIF(W23:Y40,"HR")*2)+S41 -> 3 | AA41: =COUNTIF(AA23:AC40,"R")+(COUNTIF(AA23:AC40,"HR")*2)+W41 -> 6 | AE41: =COUNTIF(AE23:AG40,"R")+(COUNTIF(AE23:AG40,"HR")*2)+AA41 -> 6 | AI41: =SUM(AI23:AI40) -> 24 | AJ41: =SUM(AJ23:AJ40) -> 6 | AK41: =SUM(AK23:AK40) -> 14 | AL41: =SUM(AL23:AL40) -> 12

Sheet G3
B1: 加計分數 | D1: 場次 | H1: G3 | J1: 日期 | L1: 115.08.15 | Q1: =AE21 -> 1 | T1: 豹擊隊 | V1: VS | X1: 夜魔俠 | AA1: =AE41 -> 3 | AI1: 數據
A2: 撿球 | B2: 接殺 | C2: HR | D2: 先 | E2: 背號 | F2: 球員 | G2: 1 | J2: 投 | K2: 2 | N2: 投 | O2: 3 | R2: 投 | S2: 4 | V2: 投 | W2: 5 | Z2: 投 | AA2: 6 | AD2: 投 | AE2: 7 | AH2: 投 | AI2: AB | AJ2: R | AK2: K | AL2: P | AM2: 投/捕/觀
A3: =COUNTIF($G$23:$AG$40,E3) -> 1 | C3: =COUNTIF(G3:AG3,"HR") -> 0 | D3: 1 | E3: 23 | F3: 黃雅苓 | G3: K | L3: 37 | AI3: =COUNTA(G3:I3,K3:M3,O3:Q3,S3:U3,W3:Y3,AA3:AC3,AE3:AG3) -> 2 | AJ3: =COUNTIF(G3:AG3,"R")+(COUNTIF(G3:AG3,"HR")*2) -> 0 | AK3: =COUNTIF(G3:AG3,"K") -> 1 | AL3: =$A3+$B3 -> 1 | AM3: 投手 | AO3: 背號 | AP3: 球員 | AQ3: AB | AR3: R | AS3: K | AT3: P | AV3: 投手成績統計 | AX3: (手動輸入)
A4: =COUNTIF($G$23:$AG$40,E4) -> 0 | C4: =COUNTIF(G4:AG4,"HR") -> 0 | E4: 25 | F4: 洪韶壕 | AI4: =COUNTA(G4:I4,K4:M4,O4:Q4,S4:U4,W4:Y4,AA4:AC4,AE4:AG4) -> 0 | AJ4: =COUNTIF(G4:AG4,"R")+(COUNTIF(G4:AG4,"HR")*2) -> 0 | AK4: =COUNTIF(G4:AG4,"K") -> 0 | AL4: =$A4+$B4 -> 0 | AM4: 江言鎧 | AO4: 23 | AP4: {=_xlfn.UNIQUE(F3:F20)} -> 黃雅苓 | AQ4: =SUMIF($F$3:$F$20,AP4,$AI$3:$AI$20) -> 2 | AR4: =SUMIF($F$3:$F$20,AP4,$AJ$3:$AJ$20) -> 0 | AS4: =SUMIF($F$3:$F$20,AP4,$AK$3:$AK$20) -> 1 | AT4: =SUMIF($F$3:$F$20,AP4,$AL$3:$AL$20) -> 1 | AV4: 姓名 | AW4: AB | AX4: R | AY4: K
A5: =COUNTIF($G$23:$AG$40,E5) -> 0 | C5: =COUNTIF(G5:AG5,"HR") -> 0 | AI5: =COUNTA(G5:I5,K5:M5,O5:Q5,S5:U5,W5:Y5,AA5:AC5,AE5:AG5) -> 0 | AJ5: =COUNTIF(G5:AG5,"R")+(COUNTIF(G5:AG5,"HR")*2) -> 0 | AK5: =COUNTIF(G5:AG5,"K") -> 0 | AL5: =$A5+$B5 -> 0 | AO5: 25 | AP5: 洪韶壕 | AQ5: =SUMIF($F$3:$F$20,AP5,$AI$3:$AI$20) -> 0 | AR5: =SUMIF($F$3:$F$20,AP5,$AJ$3:$AJ$20) -> 0 | AS5: =SUMIF($F$3:$F$20,AP5,$AK$3:$AK$20) -> 0 | AT5: =SUMIF($F$3:$F$20,AP5,$AL$3:$AL$20) -> 0 | AV5: {=_xlfn.UNIQUE(AM4:AM5)} -> 江言鎧 | AW5: 10 | AX5: 1 | AY5: 7
A6: =COUNTIF($G$23:$AG$40,E6) -> 0 | C6: =COUNTIF(G6:AG6,"HR") -> 0 | D6: 2 | E6: 26 | F6: 賴智傑 | G6: K | O6: K | AI6: =COUNTA(G6:I6,K6:M6,O6:Q6,S6:U6,W6:Y6,AA6:AC6,AE6:AG6) -> 2 | AJ6: =COUNTIF(G6:AG6,"R")+(COUNTIF(G6:AG6,"HR")*2) -> 0 | AK6: =COUNTIF(G6:AG6,"K") -> 2 | AL6: =$A6+$B6 -> 0 | AM6: 捕手 | AP6: 0 | AQ6: =SUMIF($F$3:$F$20,AP6,$AI$3:$AI$20) -> 0 | AR6: =SUMIF($F$3:$F$20,AP6,$AJ$3:$AJ$20) -> 0 | AS6: =SUMIF($F$3:$F$20,AP6,$AK$3:$AK$20) -> 0 | AT6: =SUMIF($F$3:$F$20,AP6,$AL$3:$AL$20) -> 0 | AV6: 0
A7: =COUNTIF($G$23:$AG$40,E7) -> 0 | C7: =COUNTIF(G7:AG7,"HR") -> 0 | AI7: =COUNTA(G7:I7,K7:M7,O7:Q7,S7:U7,W7:Y7,AA7:AC7,AE7:AG7) -> 0 | AJ7: =COUNTIF(G7:AG7,"R")+(COUNTIF(G7:AG7,"HR")*2) -> 0 | AK7: =COUNTIF(G7:AG7,"K") -> 0 | AL7: =$A7+$B7 -> 0 | AM7: 林宜宏 | AO7: 26 | AP7: 賴智傑 | AQ7: =SUMIF($F$3:$F$20,AP7,$AI$3:$AI$20) -> 2 | AR7: =SUMIF($F$3:$F$20,AP7,$AJ$3:$AJ$20) -> 0 | AS7: =SUMIF($F$3:$F$20,AP7,$AK$3:$AK$20) -> 2 | AT7: =SUMIF($F$3:$F$20,AP7,$AL$3:$AL$20) -> 0
A8: =COUNTIF($G$23:$AG$40,E8) -> 0 | C8: =COUNTIF(G8:AG8,"HR") -> 0 | AI8: =COUNTA(G8:I8,K8:M8,O8:Q8,S8:U8,W8:Y8,AA8:AC8,AE8:AG8) -> 0 | AJ8: =COUNTIF(G8:AG8,"R")+(COUNTIF(G8:AG8,"HR")*2) -> 0 | AK8: =COUNTIF(G8:AG8,"K") -> 0 | AL8: =$A8+$B8 -> 0 | AO8: 66 | AP8: 陳韻婷 | AQ8: =SUMIF($F$3:$F$20,AP8,$AI$3:$AI$20) -> 2 | AR8: =SUMIF($F$3:$F$20,AP8,$AJ$3:$AJ$20) -> 0 | AS8: =SUMIF($F$3:$F$20,AP8,$AK$3:$AK$20) -> 2 | AT8: =SUMIF($F$3:$F$20,AP8,$AL$3:$AL$20) -> 1
A9: =COUNTIF($G$23:$AG$40,E9) -> 1 | C9: =COUNTIF(G9:AG9,"HR") -> 0 | D9: 3 | E9: 66 | F9: 陳韻婷 | G9: K | O9: K | AI9: =COUNTA(G9:I9,K9:M9,O9:Q9,S9:U9,W9:Y9,AA9:AC9,AE9:AG9) -> 2 | AJ9: =COUNTIF(G9:AG9,"R")+(COUNTIF(G9:AG9,"HR")*2) -> 0 | AK9: =COUNTIF(G9:AG9,"K") -> 2 | AL9: =$A9+$B9 -> 1 | AO9: 19 | AP9: 宋展宇 | AQ9: =SUMIF($F$3:$F$20,AP9,$AI$3:$AI$20) -> 2 | AR9: =SUMIF($F$3:$F$20,AP9,$AJ$3:$AJ$20) -> 0 | AS9: =SUMIF($F$3:$F$20,AP9,$AK$3:$AK$20) -> 1 | AT9: =SUMIF($F$3:$F$20,AP9,$AL$3:$AL$20) -> 0
A10: =COUNTIF($G$23:$AG$40,E10) -> 0 | C10: =COUNTIF(G10:AG10,"HR") -> 0 | AI10: =COUNTA(G10:I10,K10:M10,O10:Q10,S10:U10,W10:Y10,AA10:AC10,AE10:AG10) -> 0 | AJ10: =COUNTIF(G10:AG10,"R")+(COUNTIF(G10:AG10,"HR")*2) -> 0 | AK10: =COUNTIF(G10:AG10,"K") -> 0 | AL10: =$A10+$B10 -> 0 | AM10: 觀測員 | AO10: 17 | AP10: 張睿紘 | AQ10: =SUMIF($F$3:$F$20,AP10,$AI$3:$AI$20) -> 1 | AR10: =SUMIF($F$3:$F$20,AP10,$AJ$3:$AJ$20) -> 1 | AS10: =SUMIF($F$3:$F$20,AP10,$AK$3:$AK$20) -> 0 | AT10: =SUMIF($F$3:$F$20,AP10,$AL$3:$AL$20) -> 1
A11: =COUNTIF($G$23:$AG$40,E11) -> 0 | C11: =COUNTIF(G11:AG11,"HR") -> 0 | AI11: =COUNTA(G11:I11,K11:M11,O11:Q11,S11:U11,W11:Y11,AA11:AC11,AE11:AG11) -> 0 | AJ11: =COUNTIF(G11:AG11,"R")+(COUNTIF(G11:AG11,"HR")*2) -> 0 | AK11: =COUNTIF(G11:AG11,"K") -> 0 | AL11: =$A11+$B11 -> 0 | AM11: 高芳伶 | AO11: 20 | AP11: 劉家溫 | AQ11: =SUMIF($F$3:$F$20,AP11,$AI$3:$AI$20) -> 1 | AR11: =SUMIF($F$3:$F$20,AP11,$AJ$3:$AJ$20) -> 0 | AS11: =SUMIF($F$3:$F$20,AP11,$AK$3:$AK$20) -> 1 | AT11: =SUMIF($F$3:$F$20,AP11,$AL$3:$AL$20) -> 0
A12: =COUNTIF($G$23:$AG$40,E12) -> 0 | C12: =COUNTIF(G12:AG12,"HR") -> 0 | D12: 4 | E12: 19 | F12: 宋展宇 | K12: int | O12: K | AI12: =COUNTA(G12:I12,K12:M12,O12:Q12,S12:U12,W12:Y12,AA12:AC12,AE12:AG12) -> 2 | AJ12: =COUNTIF(G12:AG12,"R")+(COUNTIF(G12:AG12,"HR")*2) -> 0 | AK12: =COUNTIF(G12:AG12,"K") -> 1 | AL12: =$A12+$B12 -> 0 | AQ12: =SUMIF($F$3:$F$20,AP12,$AI$3:$AI$20) -> 0 | AR12: =SUMIF($F$3:$F$20,AP12,$AJ$3:$AJ$20) -> 0 | AS12: =SUMIF($F$3:$F$20,AP12,$AK$3:$AK$20) -> 0 | AT12: =SUMIF($F$3:$F$20,AP12,$AL$3:$AL$20) -> 0
A13: =COUNTIF($G$23:$AG$40,E13) -> 0 | C13: =COUNTIF(G13:AG13,"HR") -> 0 | AI13: =COUNTA(G13:I13,K13:M13,O13:Q13,S13:U13,W13:Y13,AA13:AC13,AE13:AG13) -> 0 | AJ13: =COUNTIF(G13:AG13,"R")+(COUNTIF(G13:AG13,"HR")*2) -> 0 | AK13: =COUNTIF(G13:AG13,"K") -> 0 | AL13: =$A13+$B13 -> 0
A14: =COUNTIF($G$23:$AG$40,E14) -> 0 | C14: =COUNTIF(G14:AG14,"HR") -> 0 | AI14: =COUNTA(G14:I14,K14:M14,O14:Q14,S14:U14,W14:Y14,AA14:AC14,AE14:AG14) -> 0 | AJ14: =COUNTIF(G14:AG14,"R")+(COUNTIF(G14:AG14,"HR")*2) -> 0 | AK14: =COUNTIF(G14:AG14,"K") -> 0 | AL14: =$A14+$B14 -> 0 | AM14: 候補球員
A15: =COUNTIF($G$23:$AG$40,E15) -> 1 | C15: =COUNTIF(G15:AG15,"HR") -> 0 | D15: 5 | E15: 17 | F15: 張睿紘 | K15: R | AI15: =COUNTA(G15:I15,K15:M15,O15:Q15,S15:U15,W15:Y15,AA15:AC15,AE15:AG15) -> 1 | AJ15: =COUNTIF(G15:AG15,"R")+(COUNTIF(G15:AG15,"HR")*2) -> 1 | AK15: =COUNTIF(G15:AG15,"K") -> 0 | AL15: =$A15+$B15 -> 1
A16: =COUNTIF($G$23:$AG$40,E16) -> 0 | C16: =COUNTIF(G16:AG16,"HR") -> 0 | AI16: =COUNTA(G16:I16,K16:M16,O16:Q16,S16:U16,W16:Y16,AA16:AC16,AE16:AG16) -> 0 | AJ16: =COUNTIF(G16:AG16,"R")+(COUNTIF(G16:AG16,"HR")*2) -> 0 | AK16: =COUNTIF(G16:AG16,"K") -> 0 | AL16: =$A16+$B16 -> 0 | AQ16: =SUM(AQ3:AQ15) -> 10 | AR16: =SUM(AR3:AR15) -> 1 | AS16: =SUM(AS3:AS15) -> 7 | AT16: =SUM(AT3:AT15) -> 3
A17: =COUNTIF($G$23:$AG$40,E17) -> 0 | C17: =COUNTIF(G17:AG17,"HR") -> 0 | AI17: =COUNTA(G17:I17,K17:M17,O17:Q17,S17:U17,W17:Y17,AA17:AC17,AE17:AG17) -> 0 | AJ17: =COUNTIF(G17:AG17,"R")+(COUNTIF(G17:AG17,"HR")*2) -> 0 | AK17: =COUNTIF(G17:AG17,"K") -> 0 | AL17: =$A17+$B17 -> 0
A18: =COUNTIF($G$23:$AG$40,E18) -> 0 | C18: =COUNTIF(G18:AG18,"HR") -> 0 | D18: 6 | E18: 20 | F18: 劉家溫 | K18: K | AI18: =COUNTA(G18:I18,K18:M18,O18:Q18,S18:U18,W18:Y18,AA18:AC18,AE18:AG18) -> 1 | AJ18: =COUNTIF(G18:AG18,"R")+(COUNTIF(G18:AG18,"HR")*2) -> 0 | AK18: =COUNTIF(G18:AG18,"K") -> 1 | AL18: =$A18+$B18 -> 0
A19: =COUNTIF($G$23:$AG$40,E19) -> 0 | C19: =COUNTIF(G19:AG19,"HR") -> 0 | AI19: =COUNTA(G19:I19,K19:M19,O19:Q19,S19:U19,W19:Y19,AA19:AC19,AE19:AG19) -> 0 | AJ19: =COUNTIF(G19:AG19,"R")+(COUNTIF(G19:AG19,"HR")*2) -> 0 | AK19: =COUNTIF(G19:AG19,"K") -> 0 | AL19: =$A19+$B19 -> 0
A20: =COUNTIF($G$23:$AG$40,E20) -> 0 | C20: =COUNTIF(G20:AG20,"HR") -> 0 | AI20: =COUNTA(G20:I20,K20:M20,O20:Q20,S20:U20,W20:Y20,AA20:AC20,AE20:AG20) -> 0 | AJ20: =COUNTIF(G20:AG20,"R")+(COUNTIF(G20:AG20,"HR")*2) -> 0 | AK20: =COUNTIF(G20:AG20,"K") -> 0 | AL20: =$A20+$B20 -> 0
A21: =SUM(A3:A20) -> 3 | B21: =SUM(B3:B20) -> 0 | C21: =SUM(C3:C20) -> 0 | D21: 得分加總 | G21: =COUNTIF(G3:I20,"R")+(COUNTIF(G3:I20,"HR")*2) -> 0 | K21: =COUNTIF(K3:M20,"R")+(COUNTIF(K3:M20,"HR")*2)+G21 -> 1 | O21: =COUNTIF(O3:Q20,"R")+(COUNTIF(O3:Q20,"HR")*2)+K21 -> 1 | S21: =COUNTIF(S3:U20,"R")+(COUNTIF(S3:U20,"HR")*2)+O21 -> 1 | W21: =COUNTIF(W3:Y20,"R")+(COUNTIF(W3:Y20,"HR")*2)+S21 -> 1 | AA21: =COUNTIF(AA3:AC20,"R")+(COUNTIF(AA3:AC20,"HR")*2)+W21 -> 1 | AE21: =COUNTIF(AE3:AG20,"R")+(COUNTIF(AE3:AG20,"HR")*2)+AA21 -> 1 | AI21: =SUM(AI3:AI20) -> 10 | AJ21: =SUM(AJ3:AJ20) -> 1 | AK21: =SUM(AK3:AK20) -> 7 | AL21: =SUM(AL3:AL20) -> 3
A22: 撿球 | B22: 接殺 | C22: HR | D22: 後 | E22: 背號 | F22: 球員 | G22: 1 | J22: 投 | K22: 2 | N22: 投 | O22: 3 | R22: 投 | S22: 4 | V22: 投 | W22: 5 | Z22: 投 | AA22: 6 | AD22: 投 | AE22: 7 | AH22: 投 | AI22: AB | AJ22: R | AK22: K | AL22: P | AM22: 投/捕/觀
A23: =COUNTIF($G$3:$AG$20,E23) -> 0 | C23: =COUNTIF(G23:AG23,"HR") -> 0 | D23: 1 | E23: 39 | F23: 郭亦倫 | G23: R | L23: R | AI23: =COUNTA(G23:I23,K23:M23,O23:Q23,S23:U23,W23:Y23,AA23:AC23,AE23:AG23) -> 2 | AJ23: =COUNTIF(G23:AG23,"R")+(COUNTIF(G23:AG23,"HR")*2) -> 2 | AK23: =COUNTIF(G23:AG23,"K") -> 0 | AL23: =$A23+$B23 -> 0 | AM23: 投手 | AO23: 39 | AP23: {=_xlfn.UNIQUE(F23:F40)} -> 郭亦倫 | AQ23: =SUMIF($F$23:$F$40,AP23,$AI$23:$AI$40) -> 2 | AR23: =SUMIF($F$23:$F$40,AP23,$AJ$23:$AJ$40) -> 2 | AS23: =SUMIF($F$23:$F$40,AP23,$AK$23:$AK$40) -> 0 | AT23: =SUMIF($F$23:$F$40,AP23,$AL$23:$AL$40) -> 0
A24: =COUNTIF($G$3:$AG$20,E24) -> 0 | C24: =COUNTIF(G24:AG24,"HR") -> 0 | E24: 22 | F24: 蔡存宥 | AI24: =COUNTA(G24:I24,K24:M24,O24:Q24,S24:U24,W24:Y24,AA24:AC24,AE24:AG24) -> 0 | AJ24: =COUNTIF(G24:AG24,"R")+(COUNTIF(G24:AG24,"HR")*2) -> 0 | AK24: =COUNTIF(G24:AG24,"K") -> 0 | AL24: =$A24+$B24 -> 0 | AM24: 王辰光 | AO24: 22 | AP24: 蔡存宥 | AQ24: =SUMIF($F$23:$F$40,AP24,$AI$23:$AI$40) -> 0 | AR24: =SUMIF($F$23:$F$40,AP24,$AJ$23:$AJ$40) -> 0 | AS24: =SUMIF($F$23:$F$40,AP24,$AK$23:$AK$40) -> 0 | AT24: =SUMIF($F$23:$F$40,AP24,$AL$23:$AL$40) -> 0
A25: =COUNTIF($G$3:$AG$20,E25) -> 0 | C25: =COUNTIF(G25:AG25,"HR") -> 0 | AI25: =COUNTA(G25:I25,K25:M25,O25:Q25,S25:U25,W25:Y25,AA25:AC25,AE25:AG25) -> 0 | AJ25: =COUNTIF(G25:AG25,"R")+(COUNTIF(G25:AG25,"HR")*2) -> 0 | AK25: =COUNTIF(G25:AG25,"K") -> 0 | AL25: =$A25+$B25 -> 0 | AP25: 0 | AQ25: =SUMIF($F$23:$F$40,AP25,$AI$23:$AI$40) -> 0 | AR25: =SUMIF($F$23:$F$40,AP25,$AJ$23:$AJ$40) -> 0 | AS25: =SUMIF($F$23:$F$40,AP25,$AK$23:$AK$40) -> 0 | AT25: =SUMIF($F$23:$F$40,AP25,$AL$23:$AL$40) -> 0 | AV25: {=_xlfn.UNIQUE(AM24:AM25)} -> 王辰光 | AW25: 9 | AX25: 3 | AY25: 3
A26: =COUNTIF($G$3:$AG$20,E26) -> 1 | C26: =COUNTIF(G26:AG26,"HR") -> 0 | D26: 2 | E26: 37 | F26: 古國偉 | G26: R | L26: K | AI26: =COUNTA(G26:I26,K26:M26,O26:Q26,S26:U26,W26:Y26,AA26:AC26,AE26:AG26) -> 2 | AJ26: =COUNTIF(G26:AG26,"R")+(COUNTIF(G26:AG26,"HR")*2) -> 1 | AK26: =COUNTIF(G26:AG26,"K") -> 1 | AL26: =$A26+$B26 -> 1 | AM26: 捕手 | AO26: 37 | AP26: 古國偉 | AQ26: =SUMIF($F$23:$F$40,AP26,$AI$23:$AI$40) -> 2 | AR26: =SUMIF($F$23:$F$40,AP26,$AJ$23:$AJ$40) -> 1 | AS26: =SUMIF($F$23:$F$40,AP26,$AK$23:$AK$40) -> 1 | AT26: =SUMIF($F$23:$F$40,AP26,$AL$23:$AL$40) -> 1 | AV26: 0
A27: =COUNTIF($G$3:$AG$20,E27) -> 0 | C27: =COUNTIF(G27:AG27,"HR") -> 0 | E27: 81 | F27: 余自成 | AI27: =COUNTA(G27:I27,K27:M27,O27:Q27,S27:U27,W27:Y27,AA27:AC27,AE27:AG27) -> 0 | AJ27: =COUNTIF(G27:AG27,"R")+(COUNTIF(G27:AG27,"HR")*2) -> 0 | AK27: =COUNTIF(G27:AG27,"K") -> 0 | AL27: =$A27+$B27 -> 0 | AM27: 陳相睿 | AO27: 81 | AP27: 余自成 | AQ27: =SUMIF($F$23:$F$40,AP27,$AI$23:$AI$40) -> 0 | AR27: =SUMIF($F$23:$F$40,AP27,$AJ$23:$AJ$40) -> 0 | AS27: =SUMIF($F$23:$F$40,AP27,$AK$23:$AK$40) -> 0 | AT27: =SUMIF($F$23:$F$40,AP27,$AL$23:$AL$40) -> 0
A28: =COUNTIF($G$3:$AG$20,E28) -> 0 | C28: =COUNTIF(G28:AG28,"HR") -> 0 | AI28: =COUNTA(G28:I28,K28:M28,O28:Q28,S28:U28,W28:Y28,AA28:AC28,AE28:AG28) -> 0 | AJ28: =COUNTIF(G28:AG28,"R")+(COUNTIF(G28:AG28,"HR")*2) -> 0 | AK28: =COUNTIF(G28:AG28,"K") -> 0 | AL28: =$A28+$B28 -> 0 | AO28: 58 | AP28: 蔡孟洵 | AQ28: =SUMIF($F$23:$F$40,AP28,$AI$23:$AI$40) -> 2 | AR28: =SUMIF($F$23:$F$40,AP28,$AJ$23:$AJ$40) -> 0 | AS28: =SUMIF($F$23:$F$40,AP28,$AK$23:$AK$40) -> 1 | AT28: =SUMIF($F$23:$F$40,AP28,$AL$23:$AL$40) -> 0
A29: =COUNTIF($G$3:$AG$20,E29) -> 0 | C29: =COUNTIF(G29:AG29,"HR") -> 0 | D29: 3 | E29: 58 | F29: 蔡孟洵 | G29: 66 | L29: K | AI29: =COUNTA(G29:I29,K29:M29,O29:Q29,S29:U29,W29:Y29,AA29:AC29,AE29:AG29) -> 2 | AJ29: =COUNTIF(G29:AG29,"R")+(COUNTIF(G29:AG29,"HR")*2) -> 0 | AK29: =COUNTIF(G29:AG29,"K") -> 1 | AL29: =$A29+$B29 -> 0 | AO29: 11 | AP29: 勞恩以達西拔 | AQ29: =SUMIF($F$23:$F$40,AP29,$AI$23:$AI$40) -> 1 | AR29: =SUMIF($F$23:$F$40,AP29,$AJ$23:$AJ$40) -> 0 | AS29: =SUMIF($F$23:$F$40,AP29,$AK$23:$AK$40) -> 0 | AT29: =SUMIF($F$23:$F$40,AP29,$AL$23:$AL$40) -> 0
A30: =COUNTIF($G$3:$AG$20,E30) -> 0 | C30: =COUNTIF(G30:AG30,"HR") -> 0 | AI30: =COUNTA(G30:I30,K30:M30,O30:Q30,S30:U30,W30:Y30,AA30:AC30,AE30:AG30) -> 0 | AJ30: =COUNTIF(G30:AG30,"R")+(COUNTIF(G30:AG30,"HR")*2) -> 0 | AK30: =COUNTIF(G30:AG30,"K") -> 0 | AL30: =$A30+$B30 -> 0 | AM30: 觀測員 | AO30: o | AP30: 吳品逸 | AQ30: =SUMIF($F$23:$F$40,AP30,$AI$23:$AI$40) -> 1 | AR30: =SUMIF($F$23:$F$40,AP30,$AJ$23:$AJ$40) -> 0 | AS30: =SUMIF($F$23:$F$40,AP30,$AK$23:$AK$40) -> 0 | AT30: =SUMIF($F$23:$F$40,AP30,$AL$23:$AL$40) -> 0
A31: =COUNTIF($G$3:$AG$20,E31) -> 0 | C31: =COUNTIF(G31:AG31,"HR") -> 0 | AI31: =COUNTA(G31:I31,K31:M31,O31:Q31,S31:U31,W31:Y31,AA31:AC31,AE31:AG31) -> 0 | AJ31: =COUNTIF(G31:AG31,"R")+(COUNTIF(G31:AG31,"HR")*2) -> 0 | AK31: =COUNTIF(G31:AG31,"K") -> 0 | AL31: =$A31+$B31 -> 0 | AM31: 劉維璽 | AO31: 36 | AP31: 張雅恩 | AQ31: =SUMIF($F$23:$F$40,AP31,$AI$23:$AI$40) -> 1 | AR31: =SUMIF($F$23:$F$40,AP31,$AJ$23:$AJ$40) -> 0 | AS31: =SUMIF($F$23:$F$40,AP31,$AK$23:$AK$40) -> 1 | AT31: =SUMIF($F$23:$F$40,AP31,$AL$23:$AL$40) -> 0
A32: =COUNTIF($G$3:$AG$20,E32) -> 0 | C32: =COUNTIF(G32:AG32,"HR") -> 0 | D32: 4 | E32: 11 | F32: 勞恩以達西拔 | G32: 23 | AI32: =COUNTA(G32:I32,K32:M32,O32:Q32,S32:U32,W32:Y32,AA32:AC32,AE32:AG32) -> 1 | AJ32: =COUNTIF(G32:AG32,"R")+(COUNTIF(G32:AG32,"HR")*2) -> 0 | AK32: =COUNTIF(G32:AG32,"K") -> 0 | AL32: =$A32+$B32 -> 0
A33: =COUNTIF($G$3:$AG$20,E33) -> 0 | C33: =COUNTIF(G33:AG33,"HR") -> 0 | AI33: =COUNTA(G33:I33,K33:M33,O33:Q33,S33:U33,W33:Y33,AA33:AC33,AE33:AG33) -> 0 | AJ33: =COUNTIF(G33:AG33,"R")+(COUNTIF(G33:AG33,"HR")*2) -> 0 | AK33: =COUNTIF(G33:AG33,"K") -> 0 | AL33: =$A33+$B33 -> 0
A34: =COUNTIF($G$3:$AG$20,E34) -> 0 | C34: =COUNTIF(G34:AG34,"HR") -> 0 | AI34: =COUNTA(G34:I34,K34:M34,O34:Q34,S34:U34,W34:Y34,AA34:AC34,AE34:AG34) -> 0 | AJ34: =COUNTIF(G34:AG34,"R")+(COUNTIF(G34:AG34,"HR")*2) -> 0 | AK34: =COUNTIF(G34:AG34,"K") -> 0 | AL34: =$A34+$B34 -> 0 | AM34: 候補球員
A35: =COUNTIF($G$3:$AG$20,E35) -> 0 | C35: =COUNTIF(G35:AG35,"HR") -> 0 | D35: 5 | E35: O | F35: 吳品逸 | G35: 17 | AI35: =COUNTA(G35:I35,K35:M35,O35:Q35,S35:U35,W35:Y35,AA35:AC35,AE35:AG35) -> 1 | AJ35: =COUNTIF(G35:AG35,"R")+(COUNTIF(G35:AG35,"HR")*2) -> 0 | AK35: =COUNTIF(G35:AG35,"K") -> 0 | AL35: =$A35+$B35 -> 0 | AQ35: =SUM(AQ23:AQ34) -> 9 | AR35: =SUM(AR23:AR34) -> 3 | AS35: =SUM(AS23:AS34) -> 3 | AT35: =SUM(AT23:AT34) -> 1
A36: =COUNTIF($G$3:$AG$20,E36) -> 0 | C36: =COUNTIF(G36:AG36,"HR") -> 0 | AI36: =COUNTA(G36:I36,K36:M36,O36:Q36,S36:U36,W36:Y36,AA36:AC36,AE36:AG36) -> 0 | AJ36: =COUNTIF(G36:AG36,"R")+(COUNTIF(G36:AG36,"HR")*2) -> 0 | AK36: =COUNTIF(G36:AG36,"K") -> 0 | AL36: =$A36+$B36 -> 0
A37: =COUNTIF($G$3:$AG$20,E37) -> 0 | C37: =COUNTIF(G37:AG37,"HR") -> 0 | AI37: =COUNTA(G37:I37,K37:M37,O37:Q37,S37:U37,W37:Y37,AA37:AC37,AE37:AG37) -> 0 | AJ37: =COUNTIF(G37:AG37,"R")+(COUNTIF(G37:AG37,"HR")*2) -> 0 | AK37: =COUNTIF(G37:AG37,"K") -> 0 | AL37: =$A37+$B37 -> 0
A38: =COUNTIF($G$3:$AG$20,E38) -> 0 | C38: =COUNTIF(G38:AG38,"HR") -> 0 | D38: 6 | E38: 36 | F38: 張雅恩 | K38: K | AI38: =COUNTA(G38:I38,K38:M38,O38:Q38,S38:U38,W38:Y38,AA38:AC38,AE38:AG38) -> 1 | AJ38: =COUNTIF(G38:AG38,"R")+(COUNTIF(G38:AG38,"HR")*2) -> 0 | AK38: =COUNTIF(G38:AG38,"K") -> 1 | AL38: =$A38+$B38 -> 0
A39: =COUNTIF($G$3:$AG$20,E39) -> 0 | C39: =COUNTIF(G39:AG39,"HR") -> 0 | AI39: =COUNTA(G39:I39,K39:M39,O39:Q39,S39:U39,W39:Y39,AA39:AC39,AE39:AG39) -> 0 | AJ39: =COUNTIF(G39:AG39,"R")+(COUNTIF(G39:AG39,"HR")*2) -> 0 | AK39: =COUNTIF(G39:AG39,"K") -> 0 | AL39: =$A39+$B39 -> 0
A40: =COUNTIF($G$3:$AG$20,E40) -> 0 | C40: =COUNTIF(G40:AG40,"HR") -> 0 | AI40: =COUNTA(G40:I40,K40:M40,O40:Q40,S40:U40,W40:Y40,AA40:AC40,AE40:AG40) -> 0 | AJ40: =COUNTIF(G40:AG40,"R")+(COUNTIF(G40:AG40,"HR")*2) -> 0 | AK40: =COUNTIF(G40:AG40,"K") -> 0 | AL40: =$A40+$B40 -> 0
A41: =SUM(A23:A40) -> 1 | B41: =SUM(B23:B40) -> 0 | C41: =SUM(C23:C40) -> 0 | D41: 得分加總 | G41: =COUNTIF(G23:I40,"R")+(COUNTIF(G23:I40,"HR")*2) -> 2 | K41: =COUNTIF(K23:M40,"R")+(COUNTIF(K23:M40,"HR")*2)+G41 -> 3 | O41: =COUNTIF(O23:Q40,"R")+(COUNTIF(O23:Q40,"HR")*2)+K41 -> 3 | S41: =COUNTIF(S23:U40,"R")+(COUNTIF(S23:U40,"HR")*2)+O41 -> 3 | W41: =COUNTIF(W23:Y40,"R")+(COUNTIF(W23:Y40,"HR")*2)+S41 -> 3 | AA41: =COUNTIF(AA23:AC40,"R")+(COUNTIF(AA23:AC40,"HR")*2)+W41 -> 3 | AE41: =COUNTIF(AE23:AG40,"R")+(COUNTIF(AE23:AG40,"HR")*2)+AA41 -> 3 | AI41: =SUM(AI23:AI40) -> 9 | AJ41: =SUM(AJ23:AJ40) -> 3 | AK41: =SUM(AK23:AK40) -> 3 | AL41: =SUM(AL23:AL40) -> 1

Sheet G4
B1: 加計分數 | D1: 場次 | H1: G4 | J1: 日期 | L1: 115.08.16 | Q1: =AE21 -> 11 | T1: 夜魔俠 | V1: VS | X1: 閃電隊 | AA1: =AE41 -> 6 | AI1: 數據
A2: 撿球 | B2: 接殺 | C2: HR | D2: 先 | E2: 背號 | F2: 球員 | G2: 1 | J2: 投 | K2: 2 | N2: 投 | O2: 3 | R2: 投 | S2: 4 | V2: 投 | W2: 5 | Z2: 投 | AA2: 6 | AD2: 投 | AE2: 7 | AH2: 投 | AI2: AB | AJ2: R | AK2: K | AL2: P | AM2: 投/捕/觀
A3: =COUNTIF($G$23:$AG$40,E3) -> 2 | C3: =COUNTIF(G3:AG3,"HR") -> 1 | D3: 1 | E3: 18 | F3: 梁耿縉 | G3: HR | L3: R | S3: R | W3: R | AB3: R | AI3: =COUNTA(G3:I3,K3:M3,O3:Q3,S3:U3,W3:Y3,AA3:AC3,AE3:AG3) -> 5 | AJ3: =COUNTIF(G3:AG3,"R")+(COUNTIF(G3:AG3,"HR")*2) -> 6 | AK3: =COUNTIF(G3:AG3,"K") -> 0 | AL3: =$A3+$B3 -> 2 | AM3: 投手 | AO3: 背號 | AP3: 球員 | AQ3: AB | AR3: R | AS3: K | AT3: P | AV3: 投手成績統計 | AX3: (手動輸入)
A4: =COUNTIF($G$23:$AG$40,E4) -> 0 | C4: =COUNTIF(G4:AG4,"HR") -> 0 | AI4: =COUNTA(G4:I4,K4:M4,O4:Q4,S4:U4,W4:Y4,AA4:AC4,AE4:AG4) -> 0 | AJ4: =COUNTIF(G4:AG4,"R")+(COUNTIF(G4:AG4,"HR")*2) -> 0 | AK4: =COUNTIF(G4:AG4,"K") -> 0 | AL4: =$A4+$B4 -> 0 | AM4: 林春佑 | AO4: 18 | AP4: {=_xlfn.UNIQUE(F3:F20)} -> 梁耿縉 | AQ4: =SUMIF($F$3:$F$20,AP4,$AI$3:$AI$20) -> 5 | AR4: =SUMIF($F$3:$F$20,AP4,$AJ$3:$AJ$20) -> 6 | AS4: =SUMIF($F$3:$F$20,AP4,$AK$3:$AK$20) -> 0 | AT4: =SUMIF($F$3:$F$20,AP4,$AL$3:$AL$20) -> 2 | AV4: 姓名 | AW4: AB | AX4: R | AY4: K
A5: =COUNTIF($G$23:$AG$40,E5) -> 0 | C5: =COUNTIF(G5:AG5,"HR") -> 0 | AI5: =COUNTA(G5:I5,K5:M5,O5:Q5,S5:U5,W5:Y5,AA5:AC5,AE5:AG5) -> 0 | AJ5: =COUNTIF(G5:AG5,"R")+(COUNTIF(G5:AG5,"HR")*2) -> 0 | AK5: =COUNTIF(G5:AG5,"K") -> 0 | AL5: =$A5+$B5 -> 0 | AP5: 0 | AQ5: =SUMIF($F$3:$F$20,AP5,$AI$3:$AI$20) -> 0 | AR5: =SUMIF($F$3:$F$20,AP5,$AJ$3:$AJ$20) -> 0 | AS5: =SUMIF($F$3:$F$20,AP5,$AK$3:$AK$20) -> 0 | AT5: =SUMIF($F$3:$F$20,AP5,$AL$3:$AL$20) -> 0 | AV5: {=_xlfn.UNIQUE(AM4:AM5)} -> 林春佑 | AW5: 28 | AX5: 11 | AY5: 11
A6: =COUNTIF($G$23:$AG$40,E6) -> 0 | C6: =COUNTIF(G6:AG6,"HR") -> 0 | D6: 2 | E6: 22 | F6: 蔡存宥 | G6: K | L6: K | S6: R | W6: R | AB6: R | AI6: =COUNTA(G6:I6,K6:M6,O6:Q6,S6:U6,W6:Y6,AA6:AC6,AE6:AG6) -> 5 | AJ6: =COUNTIF(G6:AG6,"R")+(COUNTIF(G6:AG6,"HR")*2) -> 3 | AK6: =COUNTIF(G6:AG6,"K") -> 2 | AL6: =$A6+$B6 -> 0 | AM6: 捕手 | AO6: 22 | AP6: 蔡存宥 | AQ6: =SUMIF($F$3:$F$20,AP6,$AI$3:$AI$20) -> 5 | AR6: =SUMIF($F$3:$F$20,AP6,$AJ$3:$AJ$20) -> 3 | AS6: =SUMIF($F$3:$F$20,AP6,$AK$3:$AK$20) -> 2 | AT6: =SUMIF($F$3:$F$20,AP6,$AL$3:$AL$20) -> 0 | AV6: 0
A7: =COUNTIF($G$23:$AG$40,E7) -> 0 | C7: =COUNTIF(G7:AG7,"HR") -> 0 | AI7: =COUNTA(G7:I7,K7:M7,O7:Q7,S7:U7,W7:Y7,AA7:AC7,AE7:AG7) -> 0 | AJ7: =COUNTIF(G7:AG7,"R")+(COUNTIF(G7:AG7,"HR")*2) -> 0 | AK7: =COUNTIF(G7:AG7,"K") -> 0 | AL7: =$A7+$B7 -> 0 | AM7: 王辰光 | AO7: O | AP7: 吳品逸 | AQ7: =SUMIF($F$3:$F$20,AP7,$AI$3:$AI$20) -> 3 | AR7: =SUMIF($F$3:$F$20,AP7,$AJ$3:$AJ$20) -> 1 | AS7: =SUMIF($F$3:$F$20,AP7,$AK$3:$AK$20) -> 0 | AT7: =SUMIF($F$3:$F$20,AP7,$AL$3:$AL$20) -> 0
A8: =COUNTIF($G$23:$AG$40,E8) -> 0 | C8: =COUNTIF(G8:AG8,"HR") -> 0 | AI8: =COUNTA(G8:I8,K8:M8,O8:Q8,S8:U8,W8:Y8,AA8:AC8,AE8:AG8) -> 0 | AJ8: =COUNTIF(G8:AG8,"R")+(COUNTIF(G8:AG8,"HR")*2) -> 0 | AK8: =COUNTIF(G8:AG8,"K") -> 0 | AL8: =$A8+$B8 -> 0 | AO8: 58 | AP8: 蔡孟洵 | AQ8: =SUMIF($F$3:$F$20,AP8,$AI$3:$AI$20) -> 2 | AR8: =SUMIF($F$3:$F$20,AP8,$AJ$3:$AJ$20) -> 0 | AS8: =SUMIF($F$3:$F$20,AP8,$AK$3:$AK$20) -> 1 | AT8: =SUMIF($F$3:$F$20,AP8,$AL$3:$AL$20) -> 0
A9: =COUNTIF($G$23:$AG$40,E9) -> 0 | C9: =COUNTIF(G9:AG9,"HR") -> 0 | D9: 3 | E9: o | F9: 吳品逸 | G9: 35 | L9: 51 | S9: R | AI9: =COUNTA(G9:I9,K9:M9,O9:Q9,S9:U9,W9:Y9,AA9:AC9,AE9:AG9) -> 3 | AJ9: =COUNTIF(G9:AG9,"R")+(COUNTIF(G9:AG9,"HR")*2) -> 1 | AK9: =COUNTIF(G9:AG9,"K") -> 0 | AL9: =$A9+$B9 -> 0 | AO9: 39 | AP9: 郭亦倫 | AQ9: =SUMIF($F$3:$F$20,AP9,$AI$3:$AI$20) -> 4 | AR9: =SUMIF($F$3:$F$20,AP9,$AJ$3:$AJ$20) -> 0 | AS9: =SUMIF($F$3:$F$20,AP9,$AK$3:$AK$20) -> 0 | AT9: =SUMIF($F$3:$F$20,AP9,$AL$3:$AL$20) -> 1
A10: =COUNTIF($G$23:$AG$40,E10) -> 0 | C10: =COUNTIF(G10:AG10,"HR") -> 0 | E10: 58 | F10: 蔡孟洵 | W10: K | AB10: 33 | AI10: =COUNTA(G10:I10,K10:M10,O10:Q10,S10:U10,W10:Y10,AA10:AC10,AE10:AG10) -> 2 | AJ10: =COUNTIF(G10:AG10,"R")+(COUNTIF(G10:AG10,"HR")*2) -> 0 | AK10: =COUNTIF(G10:AG10,"K") -> 1 | AL10: =$A10+$B10 -> 0 | AM10: 觀測員 | AO10: 11 | AP10: 勞恩以達西拔 | AQ10: =SUMIF($F$3:$F$20,AP10,$AI$3:$AI$20) -> 3 | AR10: =SUMIF($F$3:$F$20,AP10,$AJ$3:$AJ$20) -> 1 | AS10: =SUMIF($F$3:$F$20,AP10,$AK$3:$AK$20) -> 2 | AT10: =SUMIF($F$3:$F$20,AP10,$AL$3:$AL$20) -> 0
A11: =COUNTIF($G$23:$AG$40,E11) -> 0 | C11: =COUNTIF(G11:AG11,"HR") -> 0 | AI11: =COUNTA(G11:I11,K11:M11,O11:Q11,S11:U11,W11:Y11,AA11:AC11,AE11:AG11) -> 0 | AJ11: =COUNTIF(G11:AG11,"R")+(COUNTIF(G11:AG11,"HR")*2) -> 0 | AK11: =COUNTIF(G11:AG11,"K") -> 0 | AL11: =$A11+$B11 -> 0 | AM11: 劉維璽 | AO11: 37 | AP11: 古國偉 | AQ11: =SUMIF($F$3:$F$20,AP11,$AI$3:$AI$20) -> 2 | AR11: =SUMIF($F$3:$F$20,AP11,$AJ$3:$AJ$20) -> 0 | AS11: =SUMIF($F$3:$F$20,AP11,$AK$3:$AK$20) -> 2 | AT11: =SUMIF($F$3:$F$20,AP11,$AL$3:$AL$20) -> 3
A12: =COUNTIF($G$23:$AG$40,E12) -> 1 | C12: =COUNTIF(G12:AG12,"HR") -> 0 | D12: 4 | E12: 39 | F12: 郭亦倫 | G12: 33 | O12: 35 | S12: 35 | W12: 35 | AI12: =COUNTA(G12:I12,K12:M12,O12:Q12,S12:U12,W12:Y12,AA12:AC12,AE12:AG12) -> 4 | AJ12: =COUNTIF(G12:AG12,"R")+(COUNTIF(G12:AG12,"HR")*2) -> 0 | AK12: =COUNTIF(G12:AG12,"K") -> 0 | AL12: =$A12+$B12 -> 1 | AO12: 36 | AP12: 張雅恩 | AQ12: =SUMIF($F$3:$F$20,AP12,$AI$3:$AI$20) -> 4 | AR12: =SUMIF($F$3:$F$20,AP12,$AJ$3:$AJ$20) -> 0 | AS12: =SUMIF($F$3:$F$20,AP12,$AK$3:$AK$20) -> 4 | AT12: =SUMIF($F$3:$F$20,AP12,$AL$3:$AL$20) -> 0
A13: =COUNTIF($G$23:$AG$40,E13) -> 0 | C13: =COUNTIF(G13:AG13,"HR") -> 0 | E13: 11 | F13: 勞恩以達西拔 | AB13: K | AI13: =COUNTA(G13:I13,K13:M13,O13:Q13,S13:U13,W13:Y13,AA13:AC13,AE13:AG13) -> 1 | AJ13: =COUNTIF(G13:AG13,"R")+(COUNTIF(G13:AG13,"HR")*2) -> 0 | AK13: =COUNTIF(G13:AG13,"K") -> 1 | AL13: =$A13+$B13 -> 0 | AQ13: =SUMIF($F$3:$F$20,AP13,$AI$3:$AI$20) -> 0 | AR13: =SUMIF($F$3:$F$20,AP13,$AJ$3:$AJ$20) -> 0 | AS13: =SUMIF($F$3:$F$20,AP13,$AK$3:$AK$20) -> 0 | AT13: =SUMIF($F$3:$F$20,AP13,$AL$3:$AL$20) -> 0
A14: =COUNTIF($G$23:$AG$40,E14) -> 0 | C14: =COUNTIF(G14:AG14,"HR") -> 0 | AI14: =COUNTA(G14:I14,K14:M14,O14:Q14,S14:U14,W14:Y14,AA14:AC14,AE14:AG14) -> 0 | AJ14: =COUNTIF(G14:AG14,"R")+(COUNTIF(G14:AG14,"HR")*2) -> 0 | AK14: =COUNTIF(G14:AG14,"K") -> 0 | AL14: =$A14+$B14 -> 0 | AM14: 候補球員
A15: =COUNTIF($G$23:$AG$40,E15) -> 0 | C15: =COUNTIF(G15:AG15,"HR") -> 0 | D15: 5 | E15: 11 | F15: 勞恩以達西拔 | K15: R | O15: K | AI15: =COUNTA(G15:I15,K15:M15,O15:Q15,S15:U15,W15:Y15,AA15:AC15,AE15:AG15) -> 2 | AJ15: =COUNTIF(G15:AG15,"R")+(COUNTIF(G15:AG15,"HR")*2) -> 1 | AK15: =COUNTIF(G15:AG15,"K") -> 1 | AL15: =$A15+$B15 -> 0
A16: =COUNTIF($G$23:$AG$40,E16) -> 3 | C16: =COUNTIF(G16:AG16,"HR") -> 0 | E16: 37 | F16: 古國偉 | S16: K | W16: K | AI16: =COUNTA(G16:I16,K16:M16,O16:Q16,S16:U16,W16:Y16,AA16:AC16,AE16:AG16) -> 2 | AJ16: =COUNTIF(G16:AG16,"R")+(COUNTIF(G16:AG16,"HR")*2) -> 0 | AK16: =COUNTIF(G16:AG16,"K") -> 2 | AL16: =$A16+$B16 -> 3 | AQ16: =SUM(AQ3:AQ15) -> 28 | AR16: =SUM(AR3:AR15) -> 11 | AS16: =SUM(AS3:AS15) -> 11 | AT16: =SUM(AT3:AT15) -> 6
A17: =COUNTIF($G$23:$AG$40,E17) -> 0 | C17: =COUNTIF(G17:AG17,"HR") -> 0 | AI17: =COUNTA(G17:I17,K17:M17,O17:Q17,S17:U17,W17:Y17,AA17:AC17,AE17:AG17) -> 0 | AJ17: =COUNTIF(G17:AG17,"R")+(COUNTIF(G17:AG17,"HR")*2) -> 0 | AK17: =COUNTIF(G17:AG17,"K") -> 0 | AL17: =$A17+$B17 -> 0
A18: =COUNTIF($G$23:$AG$40,E18) -> 0 | C18: =COUNTIF(G18:AG18,"HR") -> 0 | D18: 6 | E18: 36 | F18: 張雅恩 | K18: K | O18: K | S18: K | AA18: K | AI18: =COUNTA(G18:I18,K18:M18,O18:Q18,S18:U18,W18:Y18,AA18:AC18,AE18:AG18) -> 4 | AJ18: =COUNTIF(G18:AG18,"R")+(COUNTIF(G18:AG18,"HR")*2) -> 0 | AK18: =COUNTIF(G18:AG18,"K") -> 4 | AL18: =$A18+$B18 -> 0
A19: =COUNTIF($G$23:$AG$40,E19) -> 0 | C19: =COUNTIF(G19:AG19,"HR") -> 0 | AI19: =COUNTA(G19:I19,K19:M19,O19:Q19,S19:U19,W19:Y19,AA19:AC19,AE19:AG19) -> 0 | AJ19: =COUNTIF(G19:AG19,"R")+(COUNTIF(G19:AG19,"HR")*2) -> 0 | AK19: =COUNTIF(G19:AG19,"K") -> 0 | AL19: =$A19+$B19 -> 0
A20: =COUNTIF($G$23:$AG$40,E20) -> 0 | C20: =COUNTIF(G20:AG20,"HR") -> 0 | AI20: =COUNTA(G20:I20,K20:M20,O20:Q20,S20:U20,W20:Y20,AA20:AC20,AE20:AG20) -> 0 | AJ20: =COUNTIF(G20:AG20,"R")+(COUNTIF(G20:AG20,"HR")*2) -> 0 | AK20: =COUNTIF(G20:AG20,"K") -> 0 | AL20: =$A20+$B20 -> 0
A21: =SUM(A3:A20) -> 6 | B21: =SUM(B3:B20) -> 0 | C21: =SUM(C3:C20) -> 1 | D21: 得分加總 | G21: =COUNTIF(G3:I20,"R")+(COUNTIF(G3:I20,"HR")*2) -> 2 | K21: =COUNTIF(K3:M20,"R")+(COUNTIF(K3:M20,"HR")*2)+G21 -> 4 | O21: =COUNTIF(O3:Q20,"R")+(COUNTIF(O3:Q20,"HR")*2)+K21 -> 4 | S21: =COUNTIF(S3:U20,"R")+(COUNTIF(S3:U20,"HR")*2)+O21 -> 7 | W21: =COUNTIF(W3:Y20,"R")+(COUNTIF(W3:Y20,"HR")*2)+S21 -> 9 | AA21: =COUNTIF(AA3:AC20,"R")+(COUNTIF(AA3:AC20,"HR")*2)+W21 -> 11 | AE21: =COUNTIF(AE3:AG20,"R")+(COUNTIF(AE3:AG20,"HR")*2)+AA21 -> 11 | AI21: =SUM(AI3:AI20) -> 28 | AJ21: =SUM(AJ3:AJ20) -> 11 | AK21: =SUM(AK3:AK20) -> 11 | AL21: =SUM(AL3:AL20) -> 6
A22: 撿球 | B22: 接殺 | C22: HR | D22: 後 | E22: 背號 | F22: 球員 | G22: 1 | J22: 投 | K22: 2 | N22: 投 | O22: 3 | R22: 投 | S22: 4 | V22: 投 | W22: 5 | Z22: 投 | AA22: 6 | AD22: 投 | AE22: 7 | AH22: 投 | AI22: AB | AJ22: R | AK22: K | AL22: P | AM22: 投/捕/觀
A23: =COUNTIF($G$3:$AG$20,E23) -> 0 | C23: =COUNTIF(G23:AG23,"HR") -> 0 | D23: 1 | E23: 88 | F23: 鄭傳逸 | G23: K | L23: int | AI23: =COUNTA(G23:I23,K23:M23,O23:Q23,S23:U23,W23:Y23,AA23:AC23,AE23:AG23) -> 2 | AJ23: =COUNTIF(G23:AG23,"R")+(COUNTIF(G23:AG23,"HR")*2) -> 0 | AK23: =COUNTIF(G23:AG23,"K") -> 1 | AL23: =$A23+$B23 -> 0 | AM23: 投手 | AO23: 88 | AP23: {=_xlfn.UNIQUE(F23:F40)} -> 鄭傳逸 | AQ23: =SUMIF($F$23:$F$40,AP23,$AI$23:$AI$40) -> 2 | AR23: =SUMIF($F$23:$F$40,AP23,$AJ$23:$AJ$40) -> 0 | AS23: =SUMIF($F$23:$F$40,AP23,$AK$23:$AK$40) -> 1 | AT23: =SUMIF($F$23:$F$40,AP23,$AL$23:$AL$40) -> 0
A24: =COUNTIF($G$3:$AG$20,E24) -> 0 | C24: =COUNTIF(G24:AG24,"HR") -> 0 | E24: 23 | F24: 莊詠安 | T24: K | X24: 37 | AI24: =COUNTA(G24:I24,K24:M24,O24:Q24,S24:U24,W24:Y24,AA24:AC24,AE24:AG24) -> 2 | AJ24: =COUNTIF(G24:AG24,"R")+(COUNTIF(G24:AG24,"HR")*2) -> 0 | AK24: =COUNTIF(G24:AG24,"K") -> 1 | AL24: =$A24+$B24 -> 0 | AM24: 駱繼宗 | AO24: 23 | AP24: 莊詠安 | AQ24: =SUMIF($F$23:$F$40,AP24,$AI$23:$AI$40) -> 2 | AR24: =SUMIF($F$23:$F$40,AP24,$AJ$23:$AJ$40) -> 0 | AS24: =SUMIF($F$23:$F$40,AP24,$AK$23:$AK$40) -> 1 | AT24: =SUMIF($F$23:$F$40,AP24,$AL$23:$AL$40) -> 0
A25: =COUNTIF($G$3:$AG$20,E25) -> 0 | C25: =COUNTIF(G25:AG25,"HR") -> 0 | AI25: =COUNTA(G25:I25,K25:M25,O25:Q25,S25:U25,W25:Y25,AA25:AC25,AE25:AG25) -> 0 | AJ25: =COUNTIF(G25:AG25,"R")+(COUNTIF(G25:AG25,"HR")*2) -> 0 | AK25: =COUNTIF(G25:AG25,"K") -> 0 | AL25: =$A25+$B25 -> 0 | AP25: 0 | AQ25: =SUMIF($F$23:$F$40,AP25,$AI$23:$AI$40) -> 0 | AR25: =SUMIF($F$23:$F$40,AP25,$AJ$23:$AJ$40) -> 0 | AS25: =SUMIF($F$23:$F$40,AP25,$AK$23:$AK$40) -> 0 | AT25: =SUMIF($F$23:$F$40,AP25,$AL$23:$AL$40) -> 0 | AV25: {=_xlfn.UNIQUE(AM24:AM25)} -> 駱繼宗 | AW25: 24 | AX25: 6 | AY25: 11
A26: =COUNTIF($G$3:$AG$20,E26) -> 0 | C26: =COUNTIF(G26:AG26,"HR") -> 0 | D26: 2 | E26: 99 | F26: 林育良 | G26: 39 | O26: K | T26: 18 | AA26: R | AI26: =COUNTA(G26:I26,K26:M26,O26:Q26,S26:U26,W26:Y26,AA26:AC26,AE26:AG26) -> 4 | AJ26: =COUNTIF(G26:AG26,"R")+(COUNTIF(G26:AG26,"HR")*2) -> 1 | AK26: =COUNTIF(G26:AG26,"K") -> 1 | AL26: =$A26+$B26 -> 0 | AM26: 捕手 | AO26: 99 | AP26: 林育良 | AQ26: =SUMIF($F$23:$F$40,AP26,$AI$23:$AI$40) -> 4 | AR26: =SUMIF($F$23:$F$40,AP26,$AJ$23:$AJ$40) -> 1 | AS26: =SUMIF($F$23:$F$40,AP26,$AK$23:$AK$40) -> 1 | AT26: =SUMIF($F$23:$F$40,AP26,$AL$23:$AL$40) -> 0 | AV26: 0
A27: =COUNTIF($G$3:$AG$20,E27) -> 0 | C27: =COUNTIF(G27:AG27,"HR") -> 0 | AI27: =COUNTA(G27:I27,K27:M27,O27:Q27,S27:U27,W27:Y27,AA27:AC27,AE27:AG27) -> 0 | AJ27: =COUNTIF(G27:AG27,"R")+(COUNTIF(G27:AG27,"HR")*2) -> 0 | AK27: =COUNTIF(G27:AG27,"K") -> 0 | AL27: =$A27+$B27 -> 0 | AM27: 張凱傑 | AO27: 51 | AP27: 紀和成 | AQ27: =SUMIF($F$23:$F$40,AP27,$AI$23:$AI$40) -> 4 | AR27: =SUMIF($F$23:$F$40,AP27,$AJ$23:$AJ$40) -> 2 | AS27: =SUMIF($F$23:$F$40,AP27,$AK$23:$AK$40) -> 1 | AT27: =SUMIF($F$23:$F$40,AP27,$AL$23:$AL$40) -> 1
A28: =COUNTIF($G$3:$AG$20,E28) -> 0 | C28: =COUNTIF(G28:AG28,"HR") -> 0 | AI28: =COUNTA(G28:I28,K28:M28,O28:Q28,S28:U28,W28:Y28,AA28:AC28,AE28:AG28) -> 0 | AJ28: =COUNTIF(G28:AG28,"R")+(COUNTIF(G28:AG28,"HR")*2) -> 0 | AK28: =COUNTIF(G28:AG28,"K") -> 0 | AL28: =$A28+$B28 -> 0 | AO28: 33 | AP28: 胡文秋 | AQ28: =SUMIF($F$23:$F$40,AP28,$AI$23:$AI$40) -> 4 | AR28: =SUMIF($F$23:$F$40,AP28,$AJ$23:$AJ$40) -> 1 | AS28: =SUMIF($F$23:$F$40,AP28,$AK$23:$AK$40) -> 2 | AT28: =SUMIF($F$23:$F$40,AP28,$AL$23:$AL$40) -> 2
A29: =COUNTIF($G$3:$AG$20,E29) -> 1 | C29: =COUNTIF(G29:AG29,"HR") -> 0 | D29: 3 | E29: 51 | F29: 紀和成 | G29: K | O29: 18 | W29: R | AA29: R | AI29: =COUNTA(G29:I29,K29:M29,O29:Q29,S29:U29,W29:Y29,AA29:AC29,AE29:AG29) -> 4 | AJ29: =COUNTIF(G29:AG29,"R")+(COUNTIF(G29:AG29,"HR")*2) -> 2 | AK29: =COUNTIF(G29:AG29,"K") -> 1 | AL29: =$A29+$B29 -> 1 | AO29: 35 | AP29: 陳俊欽 | AQ29: =SUMIF($F$23:$F$40,AP29,$AI$23:$AI$40) -> 4 | AR29: =SUMIF($F$23:$F$40,AP29,$AJ$23:$AJ$40) -> 1 | AS29: =SUMIF($F$23:$F$40,AP29,$AK$23:$AK$40) -> 2 | AT29: =SUMIF($F$23:$F$40,AP29,$AL$23:$AL$40) -> 4
A30: =COUNTIF($G$3:$AG$20,E30) -> 0 | C30: =COUNTIF(G30:AG30,"HR") -> 0 | AI30: =COUNTA(G30:I30,K30:M30,O30:Q30,S30:U30,W30:Y30,AA30:AC30,AE30:AG30) -> 0 | AJ30: =COUNTIF(G30:AG30,"R")+(COUNTIF(G30:AG30,"HR")*2) -> 0 | AK30: =COUNTIF(G30:AG30,"K") -> 0 | AL30: =$A30+$B30 -> 0 | AM30: 觀測員 | AO30: 111 | AP30: 林健彰 | AQ30: =SUMIF($F$23:$F$40,AP30,$AI$23:$AI$40) -> 4 | AR30: =SUMIF($F$23:$F$40,AP30,$AJ$23:$AJ$40) -> 1 | AS30: =SUMIF($F$23:$F$40,AP30,$AK$23:$AK$40) -> 3 | AT30: =SUMIF($F$23:$F$40,AP30,$AL$23:$AL$40) -> 0
A31: =COUNTIF($G$3:$AG$20,E31) -> 0 | C31: =COUNTIF(G31:AG31,"HR") -> 0 | AI31: =COUNTA(G31:I31,K31:M31,O31:Q31,S31:U31,W31:Y31,AA31:AC31,AE31:AG31) -> 0 | AJ31: =COUNTIF(G31:AG31,"R")+(COUNTIF(G31:AG31,"HR")*2) -> 0 | AK31: =COUNTIF(G31:AG31,"K") -> 0 | AL31: =$A31+$B31 -> 0 | AM31: 薛沅庭 | AQ31: =SUMIF($F$23:$F$40,AP31,$AI$23:$AI$40) -> 0 | AR31: =SUMIF($F$23:$F$40,AP31,$AJ$23:$AJ$40) -> 0 | AS31: =SUMIF($F$23:$F$40,AP31,$AK$23:$AK$40) -> 0 | AT31: =SUMIF($F$23:$F$40,AP31,$AL$23:$AL$40) -> 0
A32: =COUNTIF($G$3:$AG$20,E32) -> 2 | C32: =COUNTIF(G32:AG32,"HR") -> 0 | D32: 4 | E32: 33 | F32: 胡文秋 | K32: R | O32: K | W32: K | AA32: 37 | AI32: =COUNTA(G32:I32,K32:M32,O32:Q32,S32:U32,W32:Y32,AA32:AC32,AE32:AG32) -> 4 | AJ32: =COUNTIF(G32:AG32,"R")+(COUNTIF(G32:AG32,"HR")*2) -> 1 | AK32: =COUNTIF(G32:AG32,"K") -> 2 | AL32: =$A32+$B32 -> 2
A33: =COUNTIF($G$3:$AG$20,E33) -> 0 | C33: =COUNTIF(G33:AG33,"HR") -> 0 | AI33: =COUNTA(G33:I33,K33:M33,O33:Q33,S33:U33,W33:Y33,AA33:AC33,AE33:AG33) -> 0 | AJ33: =COUNTIF(G33:AG33,"R")+(COUNTIF(G33:AG33,"HR")*2) -> 0 | AK33: =COUNTIF(G33:AG33,"K") -> 0 | AL33: =$A33+$B33 -> 0
A34: =COUNTIF($G$3:$AG$20,E34) -> 0 | C34: =COUNTIF(G34:AG34,"HR") -> 0 | AI34: =COUNTA(G34:I34,K34:M34,O34:Q34,S34:U34,W34:Y34,AA34:AC34,AE34:AG34) -> 0 | AJ34: =COUNTIF(G34:AG34,"R")+(COUNTIF(G34:AG34,"HR")*2) -> 0 | AK34: =COUNTIF(G34:AG34,"K") -> 0 | AL34: =$A34+$B34 -> 0 | AM34: 候補球員
A35: =COUNTIF($G$3:$AG$20,E35) -> 4 | C35: =COUNTIF(G35:AG35,"HR") -> 0 | D35: 5 | E35: 35 | F35: 陳俊欽 | K35: K | S35: R | W35: K | AA35: 37 | AI35: =COUNTA(G35:I35,K35:M35,O35:Q35,S35:U35,W35:Y35,AA35:AC35,AE35:AG35) -> 4 | AJ35: =COUNTIF(G35:AG35,"R")+(COUNTIF(G35:AG35,"HR")*2) -> 1 | AK35: =COUNTIF(G35:AG35,"K") -> 2 | AL35: =$A35+$B35 -> 4 | AQ35: =SUM(AQ23:AQ34) -> 24 | AR35: =SUM(AR23:AR34) -> 6 | AS35: =SUM(AS23:AS34) -> 11 | AT35: =SUM(AT23:AT34) -> 7
A36: =COUNTIF($G$3:$AG$20,E36) -> 0 | C36: =COUNTIF(G36:AG36,"HR") -> 0 | AI36: =COUNTA(G36:I36,K36:M36,O36:Q36,S36:U36,W36:Y36,AA36:AC36,AE36:AG36) -> 0 | AJ36: =COUNTIF(G36:AG36,"R")+(COUNTIF(G36:AG36,"HR")*2) -> 0 | AK36: =COUNTIF(G36:AG36,"K") -> 0 | AL36: =$A36+$B36 -> 0
A37: =COUNTIF($G$3:$AG$20,E37) -> 0 | C37: =COUNTIF(G37:AG37,"HR") -> 0 | AI37: =COUNTA(G37:I37,K37:M37,O37:Q37,S37:U37,W37:Y37,AA37:AC37,AE37:AG37) -> 0 | AJ37: =COUNTIF(G37:AG37,"R")+(COUNTIF(G37:AG37,"HR")*2) -> 0 | AK37: =COUNTIF(G37:AG37,"K") -> 0 | AL37: =$A37+$B37 -> 0
A38: =COUNTIF($G$3:$AG$20,E38) -> 0 | C38: =COUNTIF(G38:AG38,"HR") -> 0 | D38: 6 | E38: 111 | F38: 林健彰 | K38: K | S38: K | W38: R | AA38: K | AI38: =COUNTA(G38:I38,K38:M38,O38:Q38,S38:U38,W38:Y38,AA38:AC38,AE38:AG38) -> 4 | AJ38: =COUNTIF(G38:AG38,"R")+(COUNTIF(G38:AG38,"HR")*2) -> 1 | AK38: =COUNTIF(G38:AG38,"K") -> 3 | AL38: =$A38+$B38 -> 0
A39: =COUNTIF($G$3:$AG$20,E39) -> 0 | C39: =COUNTIF(G39:AG39,"HR") -> 0 | AI39: =COUNTA(G39:I39,K39:M39,O39:Q39,S39:U39,W39:Y39,AA39:AC39,AE39:AG39) -> 0 | AJ39: =COUNTIF(G39:AG39,"R")+(COUNTIF(G39:AG39,"HR")*2) -> 0 | AK39: =COUNTIF(G39:AG39,"K") -> 0 | AL39: =$A39+$B39 -> 0
A40: =COUNTIF($G$3:$AG$20,E40) -> 0 | C40: =COUNTIF(G40:AG40,"HR") -> 0 | AI40: =COUNTA(G40:I40,K40:M40,O40:Q40,S40:U40,W40:Y40,AA40:AC40,AE40:AG40) -> 0 | AJ40: =COUNTIF(G40:AG40,"R")+(COUNTIF(G40:AG40,"HR")*2) -> 0 | AK40: =COUNTIF(G40:AG40,"K") -> 0 | AL40: =$A40+$B40 -> 0
A41: =SUM(A23:A40) -> 7 | B41: =SUM(B23:B40) -> 0 | C41: =SUM(C23:C40) -> 0 | D41: 得分加總 | G41: =COUNTIF(G23:I40,"R")+(COUNTIF(G23:I40,"HR")*2) -> 0 | K41: =COUNTIF(K23:M40,"R")+(COUNTIF(K23:M40,"HR")*2)+G41 -> 1 | O41: =COUNTIF(O23:Q40,"R")+(COUNTIF(O23:Q40,"HR")*2)+K41 -> 1 | S41: =COUNTIF(S23:U40,"R")+(COUNTIF(S23:U40,"HR")*2)+O41 -> 2 | W41: =COUNTIF(W23:Y40,"R")+(COUNTIF(W23:Y40,"HR")*2)+S41 -> 4 | AA41: =COUNTIF(AA23:AC40,"R")+(COUNTIF(AA23:AC40,"HR")*2)+W41 -> 6 | AE41: =COUNTIF(AE23:AG40,"R")+(COUNTIF(AE23:AG40,"HR")*2)+AA41 -> 6 | AI41: =SUM(AI23:AI40) -> 24 | AJ41: =SUM(AJ23:AJ40) -> 6 | AK41: =SUM(AK23:AK40) -> 11 | AL41: =SUM(AL23:AL40) -> 7

Sheet G5
B1: 加計分數 | D1: 場次 | H1: G5 | J1: 日期 | L1: 115.08.16 | Q1: =AE21 -> 7 | T1: 豹擊隊 | V1: VS | X1: 夜魔俠 | AA1: =AE41 -> 11 | AI1: 數據
A2: 撿球 | B2: 接殺 | C2: HR | D2: 先 | E2: 背號 | F2: 球員 | G2: 1 | J2: 投 | K2: 2 | N2: 投 | O2: 3 | R2: 投 | S2: 4 | V2: 投 | W2: 5 | Z2: 投 | AA2: 6 | AD2: 投 | AE2: 7 | AH2: 投 | AI2: AB | AJ2: R | AK2: K | AL2: P | AM2: 投/捕/觀
A3: =COUNTIF($G$23:$AG$40,E3) -> 0 | C3: =COUNTIF(G3:AG3,"HR") -> 0 | D3: 1 | E3: OO | F3: 古奇哲 | G3: K | O3: K | S3: K | X3: K | AI3: =COUNTA(G3:I3,K3:M3,O3:Q3,S3:U3,W3:Y3,AA3:AC3,AE3:AG3) -> 4 | AJ3: =COUNTIF(G3:AG3,"R")+(COUNTIF(G3:AG3,"HR")*2) -> 0 | AK3: =COUNTIF(G3:AG3,"K") -> 4 | AL3: =$A3+$B3 -> 0 | AM3: 投手 | AO3: 背號 | AP3: 球員 | AQ3: AB | AR3: R | AS3: K | AT3: P | AV3: 投手成績統計 | AX3: (手動輸入)
A4: =COUNTIF($G$23:$AG$40,E4) -> 0 | C4: =COUNTIF(G4:AG4,"HR") -> 0 | AI4: =COUNTA(G4:I4,K4:M4,O4:Q4,S4:U4,W4:Y4,AA4:AC4,AE4:AG4) -> 0 | AJ4: =COUNTIF(G4:AG4,"R")+(COUNTIF(G4:AG4,"HR")*2) -> 0 | AK4: =COUNTIF(G4:AG4,"K") -> 0 | AL4: =$A4+$B4 -> 0 | AM4: 宋展宇 | AP4: {=_xlfn.UNIQUE(F3:F20)} -> 古奇哲 | AQ4: =SUMIF($F$3:$F$20,AP4,$AI$3:$AI$20) -> 4 | AR4: =SUMIF($F$3:$F$20,AP4,$AJ$3:$AJ$20) -> 0 | AS4: =SUMIF($F$3:$F$20,AP4,$AK$3:$AK$20) -> 4 | AT4: =SUMIF($F$3:$F$20,AP4,$AL$3:$AL$20) -> 0 | AV4: 姓名 | AW4: AB | AX4: R | AY4: K
A5: =COUNTIF($G$23:$AG$40,E5) -> 0 | C5: =COUNTIF(G5:AG5,"HR") -> 0 | AI5: =COUNTA(G5:I5,K5:M5,O5:Q5,S5:U5,W5:Y5,AA5:AC5,AE5:AG5) -> 0 | AJ5: =COUNTIF(G5:AG5,"R")+(COUNTIF(G5:AG5,"HR")*2) -> 0 | AK5: =COUNTIF(G5:AG5,"K") -> 0 | AL5: =$A5+$B5 -> 0 | AP5: 0 | AQ5: =SUMIF($F$3:$F$20,AP5,$AI$3:$AI$20) -> 0 | AR5: =SUMIF($F$3:$F$20,AP5,$AJ$3:$AJ$20) -> 0 | AS5: =SUMIF($F$3:$F$20,AP5,$AK$3:$AK$20) -> 0 | AT5: =SUMIF($F$3:$F$20,AP5,$AL$3:$AL$20) -> 0 | AV5: {=_xlfn.UNIQUE(AM4:AM5)} -> 宋展宇 | AW5: 22 | AX5: 7 | AY5: 12
A6: =COUNTIF($G$23:$AG$40,E6) -> 0 | C6: =COUNTIF(G6:AG6,"HR") -> 0 | D6: 2 | E6: 29 | F6: 陳建閔 | G6: 39 | O6: R | S6: R | X6: R | AI6: =COUNTA(G6:I6,K6:M6,O6:Q6,S6:U6,W6:Y6,AA6:AC6,AE6:AG6) -> 4 | AJ6: =COUNTIF(G6:AG6,"R")+(COUNTIF(G6:AG6,"HR")*2) -> 3 | AK6: =COUNTIF(G6:AG6,"K") -> 0 | AL6: =$A6+$B6 -> 0 | AM6: 捕手 | AP6: 陳建閔 | AQ6: =SUMIF($F$3:$F$20,AP6,$AI$3:$AI$20) -> 4 | AR6: =SUMIF($F$3:$F$20,AP6,$AJ$3:$AJ$20) -> 3 | AS6: =SUMIF($F$3:$F$20,AP6,$AK$3:$AK$20) -> 0 | AT6: =SUMIF($F$3:$F$20,AP6,$AL$3:$AL$20) -> 0 | AV6: 0
A7: =COUNTIF($G$23:$AG$40,E7) -> 0 | C7: =COUNTIF(G7:AG7,"HR") -> 0 | AI7: =COUNTA(G7:I7,K7:M7,O7:Q7,S7:U7,W7:Y7,AA7:AC7,AE7:AG7) -> 0 | AJ7: =COUNTIF(G7:AG7,"R")+(COUNTIF(G7:AG7,"HR")*2) -> 0 | AK7: =COUNTIF(G7:AG7,"K") -> 0 | AL7: =$A7+$B7 -> 0 | AM7: 林宜宏 | AP7: 陳韻婷 | AQ7: =SUMIF($F$3:$F$20,AP7,$AI$3:$AI$20) -> 1 | AR7: =SUMIF($F$3:$F$20,AP7,$AJ$3:$AJ$20) -> 0 | AS7: =SUMIF($F$3:$F$20,AP7,$AK$3:$AK$20) -> 1 | AT7: =SUMIF($F$3:$F$20,AP7,$AL$3:$AL$20) -> 0
A8: =COUNTIF($G$23:$AG$40,E8) -> 0 | C8: =COUNTIF(G8:AG8,"HR") -> 0 | AI8: =COUNTA(G8:I8,K8:M8,O8:Q8,S8:U8,W8:Y8,AA8:AC8,AE8:AG8) -> 0 | AJ8: =COUNTIF(G8:AG8,"R")+(COUNTIF(G8:AG8,"HR")*2) -> 0 | AK8: =COUNTIF(G8:AG8,"K") -> 0 | AL8: =$A8+$B8 -> 0 | AP8: 黃雅苓 | AQ8: =SUMIF($F$3:$F$20,AP8,$AI$3:$AI$20) -> 3 | AR8: =SUMIF($F$3:$F$20,AP8,$AJ$3:$AJ$20) -> 0 | AS8: =SUMIF($F$3:$F$20,AP8,$AK$3:$AK$20) -> 3 | AT8: =SUMIF($F$3:$F$20,AP8,$AL$3:$AL$20) -> 1
A9: =COUNTIF($G$23:$AG$40,E9) -> 0 | C9: =COUNTIF(G9:AG9,"HR") -> 0 | D9: 3 | E9: 66 | F9: 陳韻婷 | G9: K | AI9: =COUNTA(G9:I9,K9:M9,O9:Q9,S9:U9,W9:Y9,AA9:AC9,AE9:AG9) -> 1 | AJ9: =COUNTIF(G9:AG9,"R")+(COUNTIF(G9:AG9,"HR")*2) -> 0 | AK9: =COUNTIF(G9:AG9,"K") -> 1 | AL9: =$A9+$B9 -> 0 | AP9: 洪韶壕 | AQ9: =SUMIF($F$3:$F$20,AP9,$AI$3:$AI$20) -> 4 | AR9: =SUMIF($F$3:$F$20,AP9,$AJ$3:$AJ$20) -> 2 | AS9: =SUMIF($F$3:$F$20,AP9,$AK$3:$AK$20) -> 1 | AT9: =SUMIF($F$3:$F$20,AP9,$AL$3:$AL$20) -> 2
A10: =COUNTIF($G$23:$AG$40,E10) -> 1 | C10: =COUNTIF(G10:AG10,"HR") -> 0 | E10: 23 | F10: 黃雅苓 | O10: K | S10: K | X10: K | AI10: =COUNTA(G10:I10,K10:M10,O10:Q10,S10:U10,W10:Y10,AA10:AC10,AE10:AG10) -> 3 | AJ10: =COUNTIF(G10:AG10,"R")+(COUNTIF(G10:AG10,"HR")*2) -> 0 | AK10: =COUNTIF(G10:AG10,"K") -> 3 | AL10: =$A10+$B10 -> 1 | AM10: 觀測員 | AP10: 張睿紘 | AQ10: =SUMIF($F$3:$F$20,AP10,$AI$3:$AI$20) -> 3 | AR10: =SUMIF($F$3:$F$20,AP10,$AJ$3:$AJ$20) -> 1 | AS10: =SUMIF($F$3:$F$20,AP10,$AK$3:$AK$20) -> 2 | AT10: =SUMIF($F$3:$F$20,AP10,$AL$3:$AL$20) -> 4
A11: =COUNTIF($G$23:$AG$40,E11) -> 0 | C11: =COUNTIF(G11:AG11,"HR") -> 0 | AI11: =COUNTA(G11:I11,K11:M11,O11:Q11,S11:U11,W11:Y11,AA11:AC11,AE11:AG11) -> 0 | AJ11: =COUNTIF(G11:AG11,"R")+(COUNTIF(G11:AG11,"HR")*2) -> 0 | AK11: =COUNTIF(G11:AG11,"K") -> 0 | AL11: =$A11+$B11 -> 0 | AM11: 高芳伶 | AP11: 賴智傑 | AQ11: =SUMIF($F$3:$F$20,AP11,$AI$3:$AI$20) -> 3 | AR11: =SUMIF($F$3:$F$20,AP11,$AJ$3:$AJ$20) -> 1 | AS11: =SUMIF($F$3:$F$20,AP11,$AK$3:$AK$20) -> 1 | AT11: =SUMIF($F$3:$F$20,AP11,$AL$3:$AL$20) -> 0
A12: =COUNTIF($G$23:$AG$40,E12) -> 2 | C12: =COUNTIF(G12:AG12,"HR") -> 0 | D12: 4 | E12: 25 | F12: 洪韶壕 | K12: 37 | O12: R | S12: R | X12: K | AI12: =COUNTA(G12:I12,K12:M12,O12:Q12,S12:U12,W12:Y12,AA12:AC12,AE12:AG12) -> 4 | AJ12: =COUNTIF(G12:AG12,"R")+(COUNTIF(G12:AG12,"HR")*2) -> 2 | AK12: =COUNTIF(G12:AG12,"K") -> 1 | AL12: =$A12+$B12 -> 2 | AQ12: =SUMIF($F$3:$F$20,AP12,$AI$3:$AI$20) -> 0 | AR12: =SUMIF($F$3:$F$20,AP12,$AJ$3:$AJ$20) -> 0 | AS12: =SUMIF($F$3:$F$20,AP12,$AK$3:$AK$20) -> 0 | AT12: =SUMIF($F$3:$F$20,AP12,$AL$3:$AL$20) -> 0
A13: =COUNTIF($G$23:$AG$40,E13) -> 0 | C13: =COUNTIF(G13:AG13,"HR") -> 0 | AI13: =COUNTA(G13:I13,K13:M13,O13:Q13,S13:U13,W13:Y13,AA13:AC13,AE13:AG13) -> 0 | AJ13: =COUNTIF(G13:AG13,"R")+(COUNTIF(G13:AG13,"HR")*2) -> 0 | AK13: =COUNTIF(G13:AG13,"K") -> 0 | AL13: =$A13+$B13 -> 0 | AQ13: =SUMIF($F$3:$F$20,AP13,$AI$3:$AI$20) -> 0 | AR13: =SUMIF($F$3:$F$20,AP13,$AJ$3:$AJ$20) -> 0 | AS13: =SUMIF($F$3:$F$20,AP13,$AK$3:$AK$20) -> 0 | AT13: =SUMIF($F$3:$F$20,AP13,$AL$3:$AL$20) -> 0
A14: =COUNTIF($G$23:$AG$40,E14) -> 0 | C14: =COUNTIF(G14:AG14,"HR") -> 0 | AI14: =COUNTA(G14:I14,K14:M14,O14:Q14,S14:U14,W14:Y14,AA14:AC14,AE14:AG14) -> 0 | AJ14: =COUNTIF(G14:AG14,"R")+(COUNTIF(G14:AG14,"HR")*2) -> 0 | AK14: =COUNTIF(G14:AG14,"K") -> 0 | AL14: =$A14+$B14 -> 0 | AM14: 候補球員
A15: =COUNTIF($G$23:$AG$40,E15) -> 4 | C15: =COUNTIF(G15:AG15,"HR") -> 0 | D15: 5 | E15: 17 | F15: 張睿紘 | K15: K | O15: R | S15: K | AI15: =COUNTA(G15:I15,K15:M15,O15:Q15,S15:U15,W15:Y15,AA15:AC15,AE15:AG15) -> 3 | AJ15: =COUNTIF(G15:AG15,"R")+(COUNTIF(G15:AG15,"HR")*2) -> 1 | AK15: =COUNTIF(G15:AG15,"K") -> 2 | AL15: =$A15+$B15 -> 4
A16: =COUNTIF($G$23:$AG$40,E16) -> 0 | C16: =COUNTIF(G16:AG16,"HR") -> 0 | AI16: =COUNTA(G16:I16,K16:M16,O16:Q16,S16:U16,W16:Y16,AA16:AC16,AE16:AG16) -> 0 | AJ16: =COUNTIF(G16:AG16,"R")+(COUNTIF(G16:AG16,"HR")*2) -> 0 | AK16: =COUNTIF(G16:AG16,"K") -> 0 | AL16: =$A16+$B16 -> 0 | AQ16: =SUM(AQ3:AQ15) -> 22 | AR16: =SUM(AR3:AR15) -> 7 | AS16: =SUM(AS3:AS15) -> 12 | AT16: =SUM(AT3:AT15) -> 7
A17: =COUNTIF($G$23:$AG$40,E17) -> 0 | C17: =COUNTIF(G17:AG17,"HR") -> 0 | AI17: =COUNTA(G17:I17,K17:M17,O17:Q17,S17:U17,W17:Y17,AA17:AC17,AE17:AG17) -> 0 | AJ17: =COUNTIF(G17:AG17,"R")+(COUNTIF(G17:AG17,"HR")*2) -> 0 | AK17: =COUNTIF(G17:AG17,"K") -> 0 | AL17: =$A17+$B17 -> 0
A18: =COUNTIF($G$23:$AG$40,E18) -> 0 | C18: =COUNTIF(G18:AG18,"HR") -> 0 | D18: 6 | E18: 26 | F18: 賴智傑 | K18: 37 | O18: K | W18: R | AI18: =COUNTA(G18:I18,K18:M18,O18:Q18,S18:U18,W18:Y18,AA18:AC18,AE18:AG18) -> 3 | AJ18: =COUNTIF(G18:AG18,"R")+(COUNTIF(G18:AG18,"HR")*2) -> 1 | AK18: =COUNTIF(G18:AG18,"K") -> 1 | AL18: =$A18+$B18 -> 0
A19: =COUNTIF($G$23:$AG$40,E19) -> 0 | C19: =COUNTIF(G19:AG19,"HR") -> 0 | AI19: =COUNTA(G19:I19,K19:M19,O19:Q19,S19:U19,W19:Y19,AA19:AC19,AE19:AG19) -> 0 | AJ19: =COUNTIF(G19:AG19,"R")+(COUNTIF(G19:AG19,"HR")*2) -> 0 | AK19: =COUNTIF(G19:AG19,"K") -> 0 | AL19: =$A19+$B19 -> 0
A20: =COUNTIF($G$23:$AG$40,E20) -> 0 | C20: =COUNTIF(G20:AG20,"HR") -> 0 | AI20: =COUNTA(G20:I20,K20:M20,O20:Q20,S20:U20,W20:Y20,AA20:AC20,AE20:AG20) -> 0 | AJ20: =COUNTIF(G20:AG20,"R")+(COUNTIF(G20:AG20,"HR")*2) -> 0 | AK20: =COUNTIF(G20:AG20,"K") -> 0 | AL20: =$A20+$B20 -> 0
A21: =SUM(A3:A20) -> 7 | B21: =SUM(B3:B20) -> 0 | C21: =SUM(C3:C20) -> 0 | D21: 得分加總 | G21: =COUNTIF(G3:I20,"R")+(COUNTIF(G3:I20,"HR")*2) -> 0 | K21: =COUNTIF(K3:M20,"R")+(COUNTIF(K3:M20,"HR")*2)+G21 -> 0 | O21: =COUNTIF(O3:Q20,"R")+(COUNTIF(O3:Q20,"HR")*2)+K21 -> 3 | S21: =COUNTIF(S3:U20,"R")+(COUNTIF(S3:U20,"HR")*2)+O21 -> 5 | W21: =COUNTIF(W3:Y20,"R")+(COUNTIF(W3:Y20,"HR")*2)+S21 -> 7 | AA21: =COUNTIF(AA3:AC20,"R")+(COUNTIF(AA3:AC20,"HR")*2)+W21 -> 7 | AE21: =COUNTIF(AE3:AG20,"R")+(COUNTIF(AE3:AG20,"HR")*2)+AA21 -> 7 | AI21: =SUM(AI3:AI20) -> 22 | AJ21: =SUM(AJ3:AJ20) -> 7 | AK21: =SUM(AK3:AK20) -> 12 | AL21: =SUM(AL3:AL20) -> 7
A22: 撿球 | B22: 接殺 | C22: HR | D22: 後 | E22: 背號 | F22: 球員 | G22: 1 | J22: 投 | K22: 2 | N22: 投 | O22: 3 | R22: 投 | S22: 4 | V22: 投 | W22: 5 | Z22: 投 | AA22: 6 | AD22: 投 | AE22: 7 | AH22: 投 | AI22: AB | AJ22: R | AK22: K | AL22: P | AM22: 投/捕/觀
A23: =COUNTIF($G$3:$AG$20,E23) -> 0 | C23: =COUNTIF(G23:AG23,"HR") -> 0 | D23: 1 | E23: 18 | F23: 梁耿縉 | G23: R | L23: R | M23: R | AI23: =COUNTA(G23:I23,K23:M23,O23:Q23,S23:U23,W23:Y23,AA23:AC23,AE23:AG23) -> 3 | AJ23: =COUNTIF(G23:AG23,"R")+(COUNTIF(G23:AG23,"HR")*2) -> 3 | AK23: =COUNTIF(G23:AG23,"K") -> 0 | AL23: =$A23+$B23 -> 0 | AM23: 投手 | AP23: {=_xlfn.UNIQUE(F23:F40)} -> 梁耿縉 | AQ23: =SUMIF($F$23:$F$40,AP23,$AI$23:$AI$40) -> 3 | AR23: =SUMIF($F$23:$F$40,AP23,$AJ$23:$AJ$40) -> 3 | AS23: =SUMIF($F$23:$F$40,AP23,$AK$23:$AK$40) -> 0 | AT23: =SUMIF($F$23:$F$40,AP23,$AL$23:$AL$40) -> 0
A24: =COUNTIF($G$3:$AG$20,E24) -> 0 | C24: =COUNTIF(G24:AG24,"HR") -> 0 | E24: O | F24: 吳品逸 | P24: K | AI24: =COUNTA(G24:I24,K24:M24,O24:Q24,S24:U24,W24:Y24,AA24:AC24,AE24:AG24) -> 1 | AJ24: =COUNTIF(G24:AG24,"R")+(COUNTIF(G24:AG24,"HR")*2) -> 0 | AK24: =COUNTIF(G24:AG24,"K") -> 1 | AL24: =$A24+$B24 -> 0 | AM24: 林春佑 | AP24: 吳品逸 | AQ24: =SUMIF($F$23:$F$40,AP24,$AI$23:$AI$40) -> 1 | AR24: =SUMIF($F$23:$F$40,AP24,$AJ$23:$AJ$40) -> 0 | AS24: =SUMIF($F$23:$F$40,AP24,$AK$23:$AK$40) -> 1 | AT24: =SUMIF($F$23:$F$40,AP24,$AL$23:$AL$40) -> 0
A25: =COUNTIF($G$3:$AG$20,E25) -> 0 | C25: =COUNTIF(G25:AG25,"HR") -> 0 | AI25: =COUNTA(G25:I25,K25:M25,O25:Q25,S25:U25,W25:Y25,AA25:AC25,AE25:AG25) -> 0 | AJ25: =COUNTIF(G25:AG25,"R")+(COUNTIF(G25:AG25,"HR")*2) -> 0 | AK25: =COUNTIF(G25:AG25,"K") -> 0 | AL25: =$A25+$B25 -> 0 | AP25: 0 | AQ25: =SUMIF($F$23:$F$40,AP25,$AI$23:$AI$40) -> 0 | AR25: =SUMIF($F$23:$F$40,AP25,$AJ$23:$AJ$40) -> 0 | AS25: =SUMIF($F$23:$F$40,AP25,$AK$23:$AK$40) -> 0 | AT25: =SUMIF($F$23:$F$40,AP25,$AL$23:$AL$40) -> 0 | AV25: {=_xlfn.UNIQUE(AM24:AM25)} -> 林春佑 | AW25: 23 | AX25: 11 | AY25: 4
A26: =COUNTIF($G$3:$AG$20,E26) -> 0 | C26: =COUNTIF(G26:AG26,"HR") -> 0 | D26: 2 | E26: 22 | F26: 蔡存宥 | G26: 25 | L26: R | M26: R | S26: R | AI26: =COUNTA(G26:I26,K26:M26,O26:Q26,S26:U26,W26:Y26,AA26:AC26,AE26:AG26) -> 4 | AJ26: =COUNTIF(G26:AG26,"R")+(COUNTIF(G26:AG26,"HR")*2) -> 3 | AK26: =COUNTIF(G26:AG26,"K") -> 0 | AL26: =$A26+$B26 -> 0 | AM26: 捕手 | AP26: 蔡存宥 | AQ26: =SUMIF($F$23:$F$40,AP26,$AI$23:$AI$40) -> 4 | AR26: =SUMIF($F$23:$F$40,AP26,$AJ$23:$AJ$40) -> 3 | AS26: =SUMIF($F$23:$F$40,AP26,$AK$23:$AK$40) -> 0 | AT26: =SUMIF($F$23:$F$40,AP26,$AL$23:$AL$40) -> 0 | AV26: 0
A27: =COUNTIF($G$3:$AG$20,E27) -> 0 | C27: =COUNTIF(G27:AG27,"HR") -> 0 | AI27: =COUNTA(G27:I27,K27:M27,O27:Q27,S27:U27,W27:Y27,AA27:AC27,AE27:AG27) -> 0 | AJ27: =COUNTIF(G27:AG27,"R")+(COUNTIF(G27:AG27,"HR")*2) -> 0 | AK27: =COUNTIF(G27:AG27,"K") -> 0 | AL27: =$A27+$B27 -> 0 | AM27: 王辰光 | AP27: 蔡孟洵 | AQ27: =SUMIF($F$23:$F$40,AP27,$AI$23:$AI$40) -> 4 | AR27: =SUMIF($F$23:$F$40,AP27,$AJ$23:$AJ$40) -> 1 | AS27: =SUMIF($F$23:$F$40,AP27,$AK$23:$AK$40) -> 0 | AT27: =SUMIF($F$23:$F$40,AP27,$AL$23:$AL$40) -> 0
A28: =COUNTIF($G$3:$AG$20,E28) -> 0 | C28: =COUNTIF(G28:AG28,"HR") -> 0 | AI28: =COUNTA(G28:I28,K28:M28,O28:Q28,S28:U28,W28:Y28,AA28:AC28,AE28:AG28) -> 0 | AJ28: =COUNTIF(G28:AG28,"R")+(COUNTIF(G28:AG28,"HR")*2) -> 0 | AK28: =COUNTIF(G28:AG28,"K") -> 0 | AL28: =$A28+$B28 -> 0 | AP28: 勞恩以達西拔 | AQ28: =SUMIF($F$23:$F$40,AP28,$AI$23:$AI$40) -> 4 | AR28: =SUMIF($F$23:$F$40,AP28,$AJ$23:$AJ$40) -> 1 | AS28: =SUMIF($F$23:$F$40,AP28,$AK$23:$AK$40) -> 1 | AT28: =SUMIF($F$23:$F$40,AP28,$AL$23:$AL$40) -> 0
A29: =COUNTIF($G$3:$AG$20,E29) -> 0 | C29: =COUNTIF(G29:AG29,"HR") -> 0 | D29: 3 | E29: 58 | F29: 蔡孟洵 | G29: 17 | L29: R | M29: 17 | S29: 17 | AI29: =COUNTA(G29:I29,K29:M29,O29:Q29,S29:U29,W29:Y29,AA29:AC29,AE29:AG29) -> 4 | AJ29: =COUNTIF(G29:AG29,"R")+(COUNTIF(G29:AG29,"HR")*2) -> 1 | AK29: =COUNTIF(G29:AG29,"K") -> 0 | AL29: =$A29+$B29 -> 0 | AP29: 古國偉 | AQ29: =SUMIF($F$23:$F$40,AP29,$AI$23:$AI$40) -> 2 | AR29: =SUMIF($F$23:$F$40,AP29,$AJ$23:$AJ$40) -> 1 | AS29: =SUMIF($F$23:$F$40,AP29,$AK$23:$AK$40) -> 0 | AT29: =SUMIF($F$23:$F$40,AP29,$AL$23:$AL$40) -> 2
A30: =COUNTIF($G$3:$AG$20,E30) -> 0 | C30: =COUNTIF(G30:AG30,"HR") -> 0 | AI30: =COUNTA(G30:I30,K30:M30,O30:Q30,S30:U30,W30:Y30,AA30:AC30,AE30:AG30) -> 0 | AJ30: =COUNTIF(G30:AG30,"R")+(COUNTIF(G30:AG30,"HR")*2) -> 0 | AK30: =COUNTIF(G30:AG30,"K") -> 0 | AL30: =$A30+$B30 -> 0 | AM30: 觀測員 | AP30: 張雅恩 | AQ30: =SUMIF($F$23:$F$40,AP30,$AI$23:$AI$40) -> 2 | AR30: =SUMIF($F$23:$F$40,AP30,$AJ$23:$AJ$40) -> 0 | AS30: =SUMIF($F$23:$F$40,AP30,$AK$23:$AK$40) -> 1 | AT30: =SUMIF($F$23:$F$40,AP30,$AL$23:$AL$40) -> 0
A31: =COUNTIF($G$3:$AG$20,E31) -> 0 | C31: =COUNTIF(G31:AG31,"HR") -> 0 | AI31: =COUNTA(G31:I31,K31:M31,O31:Q31,S31:U31,W31:Y31,AA31:AC31,AE31:AG31) -> 0 | AJ31: =COUNTIF(G31:AG31,"R")+(COUNTIF(G31:AG31,"HR")*2) -> 0 | AK31: =COUNTIF(G31:AG31,"K") -> 0 | AL31: =$A31+$B31 -> 0 | AM31: 劉維璽 | AP31: 郭亦倫 | AQ31: =SUMIF($F$23:$F$40,AP31,$AI$23:$AI$40) -> 3 | AR31: =SUMIF($F$23:$F$40,AP31,$AJ$23:$AJ$40) -> 2 | AS31: =SUMIF($F$23:$F$40,AP31,$AK$23:$AK$40) -> 1 | AT31: =SUMIF($F$23:$F$40,AP31,$AL$23:$AL$40) -> 1
A32: =COUNTIF($G$3:$AG$20,E32) -> 0 | C32: =COUNTIF(G32:AG32,"HR") -> 0 | D32: 4 | E32: 11 | F32: 勞恩以達西拔 | G32: R | L32: 17 | O32: K | S32: 23 | AI32: =COUNTA(G32:I32,K32:M32,O32:Q32,S32:U32,W32:Y32,AA32:AC32,AE32:AG32) -> 4 | AJ32: =COUNTIF(G32:AG32,"R")+(COUNTIF(G32:AG32,"HR")*2) -> 1 | AK32: =COUNTIF(G32:AG32,"K") -> 1 | AL32: =$A32+$B32 -> 0 | AQ32: =SUMIF($F$23:$F$40,AP32,$AI$23:$AI$40) -> 0 | AR32: =SUMIF($F$23:$F$40,AP32,$AJ$23:$AJ$40) -> 0 | AS32: =SUMIF($F$23:$F$40,AP32,$AK$23:$AK$40) -> 0 | AT32: =SUMIF($F$23:$F$40,AP32,$AL$23:$AL$40) -> 0
A33: =COUNTIF($G$3:$AG$20,E33) -> 0 | C33: =COUNTIF(G33:AG33,"HR") -> 0 | AI33: =COUNTA(G33:I33,K33:M33,O33:Q33,S33:U33,W33:Y33,AA33:AC33,AE33:AG33) -> 0 | AJ33: =COUNTIF(G33:AG33,"R")+(COUNTIF(G33:AG33,"HR")*2) -> 0 | AK33: =COUNTIF(G33:AG33,"K") -> 0 | AL33: =$A33+$B33 -> 0 | AQ33: =SUMIF($F$23:$F$40,AP33,$AI$23:$AI$40) -> 0 | AR33: =SUMIF($F$23:$F$40,AP33,$AJ$23:$AJ$40) -> 0 | AS33: =SUMIF($F$23:$F$40,AP33,$AK$23:$AK$40) -> 0 | AT33: =SUMIF($F$23:$F$40,AP33,$AL$23:$AL$40) -> 0
A34: =COUNTIF($G$3:$AG$20,E34) -> 0 | C34: =COUNTIF(G34:AG34,"HR") -> 0 | AI34: =COUNTA(G34:I34,K34:M34,O34:Q34,S34:U34,W34:Y34,AA34:AC34,AE34:AG34) -> 0 | AJ34: =COUNTIF(G34:AG34,"R")+(COUNTIF(G34:AG34,"HR")*2) -> 0 | AK34: =COUNTIF(G34:AG34,"K") -> 0 | AL34: =$A34+$B34 -> 0 | AM34: 候補球員
A35: =COUNTIF($G$3:$AG$20,E35) -> 2 | C35: =COUNTIF(G35:AG35,"HR") -> 0 | D35: 5 | E35: 37 | F35: 古國偉 | G35: 25 | L35: R | AI35: =COUNTA(G35:I35,K35:M35,O35:Q35,S35:U35,W35:Y35,AA35:AC35,AE35:AG35) -> 2 | AJ35: =COUNTIF(G35:AG35,"R")+(COUNTIF(G35:AG35,"HR")*2) -> 1 | AK35: =COUNTIF(G35:AG35,"K") -> 0 | AL35: =$A35+$B35 -> 2 | AQ35: =SUM(AQ23:AQ34) -> 23 | AR35: =SUM(AR23:AR34) -> 11 | AS35: =SUM(AS23:AS34) -> 4 | AT35: =SUM(AT23:AT34) -> 3
A36: =COUNTIF($G$3:$AG$20,E36) -> 0 | C36: =COUNTIF(G36:AG36,"HR") -> 0 | E36: 36 | F36: 張雅恩 | O36: K | S36: int | AI36: =COUNTA(G36:I36,K36:M36,O36:Q36,S36:U36,W36:Y36,AA36:AC36,AE36:AG36) -> 2 | AJ36: =COUNTIF(G36:AG36,"R")+(COUNTIF(G36:AG36,"HR")*2) -> 0 | AK36: =COUNTIF(G36:AG36,"K") -> 1 | AL36: =$A36+$B36 -> 0
A37: =COUNTIF($G$3:$AG$20,E37) -> 0 | C37: =COUNTIF(G37:AG37,"HR") -> 0 | E37: 18 | F37: 勞恩以達西拔 | AI37: =COUNTA(G37:I37,K37:M37,O37:Q37,S37:U37,W37:Y37,AA37:AC37,AE37:AG37) -> 0 | AJ37: =COUNTIF(G37:AG37,"R")+(COUNTIF(G37:AG37,"HR")*2) -> 0 | AK37: =COUNTIF(G37:AG37,"K") -> 0 | AL37: =$A37+$B37 -> 0
A38: =COUNTIF($G$3:$AG$20,E38) -> 1 | C38: =COUNTIF(G38:AG38,"HR") -> 0 | D38: 6 | E38: 39 | F38: 郭亦倫 | K38: K | L38: R | O38: R | AI38: =COUNTA(G38:I38,K38:M38,O38:Q38,S38:U38,W38:Y38,AA38:AC38,AE38:AG38) -> 3 | AJ38: =COUNTIF(G38:AG38,"R")+(COUNTIF(G38:AG38,"HR")*2) -> 2 | AK38: =COUNTIF(G38:AG38,"K") -> 1 | AL38: =$A38+$B38 -> 1
A39: =COUNTIF($G$3:$AG$20,E39) -> 0 | C39: =COUNTIF(G39:AG39,"HR") -> 0 | AI39: =COUNTA(G39:I39,K39:M39,O39:Q39,S39:U39,W39:Y39,AA39:AC39,AE39:AG39) -> 0 | AJ39: =COUNTIF(G39:AG39,"R")+(COUNTIF(G39:AG39,"HR")*2) -> 0 | AK39: =COUNTIF(G39:AG39,"K") -> 0 | AL39: =$A39+$B39 -> 0
A40: =COUNTIF($G$3:$AG$20,E40) -> 0 | C40: =COUNTIF(G40:AG40,"HR") -> 0 | E40: E | AI40: =COUNTA(G40:I40,K40:M40,O40:Q40,S40:U40,W40:Y40,AA40:AC40,AE40:AG40) -> 0 | AJ40: =COUNTIF(G40:AG40,"R")+(COUNTIF(G40:AG40,"HR")*2) -> 0 | AK40: =COUNTIF(G40:AG40,"K") -> 0 | AL40: =$A40+$B40 -> 0
A41: =SUM(A23:A40) -> 3 | B41: =SUM(B23:B40) -> 0 | C41: =SUM(C23:C40) -> 0 | D41: 得分加總 | G41: =COUNTIF(G23:I40,"R")+(COUNTIF(G23:I40,"HR")*2) -> 2 | K41: =COUNTIF(K23:M40,"R")+(COUNTIF(K23:M40,"HR")*2)+G41 -> 9 | O41: =COUNTIF(O23:Q40,"R")+(COUNTIF(O23:Q40,"HR")*2)+K41 -> 10 | S41: =COUNTIF(S23:U40,"R")+(COUNTIF(S23:U40,"HR")*2)+O41 -> 11 | W41: =COUNTIF(W23:Y40,"R")+(COUNTIF(W23:Y40,"HR")*2)+S41 -> 11 | AA41: =COUNTIF(AA23:AC40,"R")+(COUNTIF(AA23:AC40,"HR")*2)+W41 -> 11 | AE41: =COUNTIF(AE23:AG40,"R")+(COUNTIF(AE23:AG40,"HR")*2)+AA41 -> 11 | AI41: =SUM(AI23:AI40) -> 23 | AJ41: =SUM(AJ23:AJ40) -> 11 | AK41: =SUM(AK23:AK40) -> 4 | AL41: =SUM(AL23:AL40) -> 3

Sheet G6
B1: 加計分數 | D1: 場次 | H1: G6 | J1: 日期 | L1: 115.08.16 | Q1: =AE21 -> 0 | T1: 閃電隊 | V1: VS | X1: 豹擊隊 | AA1: =AE41 -> 0 | AI1: 數據
A2: 撿球 | B2: 接殺 | C2: HR | D2: 先 | E2: 背號 | F2: 球員 | G2: 1 | J2: 投 | K2: 2 | N2: 投 | O2: 3 | R2: 投 | S2: 4 | V2: 投 | W2: 5 | Z2: 投 | AA2: 6 | AD2: 投 | AE2: 7 | AH2: 投 | AI2: AB | AJ2: R | AK2: K | AL2: P | AM2: 投/捕/觀
A3: =COUNTIF($G$23:$AG$40,E3) -> 0 | C3: =COUNTIF(G3:AG3,"HR") -> 0 | D3: 1 | AI3: =COUNTA(G3:I3,K3:M3,O3:Q3,S3:U3,W3:Y3,AA3:AC3,AE3:AG3) -> 0 | AJ3: =COUNTIF(G3:AG3,"R")+(COUNTIF(G3:AG3,"HR")*2) -> 0 | AK3: =COUNTIF(G3:AG3,"K") -> 0 | AL3: =$A3+$B3 -> 0 | AM3: 投手 | AO3: 背號 | AP3: 球員 | AQ3: AB | AR3: R | AS3: K | AT3: P | AV3: 投手成績統計 | AX3: (手動輸入)
A4: =COUNTIF($G$23:$AG$40,E4) -> 0 | C4: =COUNTIF(G4:AG4,"HR") -> 0 | AI4: =COUNTA(G4:I4,K4:M4,O4:Q4,S4:U4,W4:Y4,AA4:AC4,AE4:AG4) -> 0 | AJ4: =COUNTIF(G4:AG4,"R")+(COUNTIF(G4:AG4,"HR")*2) -> 0 | AK4: =COUNTIF(G4:AG4,"K") -> 0 | AL4: =$A4+$B4 -> 0 | AP4: {=_xlfn.UNIQUE(F3:F20)} -> 0 | AQ4: =SUMIF($F$3:$F$20,AP4,$AI$3:$AI$20) -> 0 | AR4: =SUMIF($F$3:$F$20,AP4,$AJ$3:$AJ$20) -> 0 | AS4: =SUMIF($F$3:$F$20,AP4,$AK$3:$AK$20) -> 0 | AT4: =SUMIF($F$3:$F$20,AP4,$AL$3:$AL$20) -> 0 | AV4: 姓名 | AW4: AB | AX4: R | AY4: K
A5: =COUNTIF($G$23:$AG$40,E5) -> 0 | C5: =COUNTIF(G5:AG5,"HR") -> 0 | AI5: =COUNTA(G5:I5,K5:M5,O5:Q5,S5:U5,W5:Y5,AA5:AC5,AE5:AG5) -> 0 | AJ5: =COUNTIF(G5:AG5,"R")+(COUNTIF(G5:AG5,"HR")*2) -> 0 | AK5: =COUNTIF(G5:AG5,"K") -> 0 | AL5: =$A5+$B5 -> 0 | AQ5: =SUMIF($F$3:$F$20,AP5,$AI$3:$AI$20) -> 0 | AR5: =SUMIF($F$3:$F$20,AP5,$AJ$3:$AJ$20) -> 0 | AS5: =SUMIF($F$3:$F$20,AP5,$AK$3:$AK$20) -> 0 | AT5: =SUMIF($F$3:$F$20,AP5,$AL$3:$AL$20) -> 0 | AV5: {=_xlfn.UNIQUE(AM4:AM5)} -> 0
A6: =COUNTIF($G$23:$AG$40,E6) -> 0 | C6: =COUNTIF(G6:AG6,"HR") -> 0 | D6: 2 | AI6: =COUNTA(G6:I6,K6:M6,O6:Q6,S6:U6,W6:Y6,AA6:AC6,AE6:AG6) -> 0 | AJ6: =COUNTIF(G6:AG6,"R")+(COUNTIF(G6:AG6,"HR")*2) -> 0 | AK6: =COUNTIF(G6:AG6,"K") -> 0 | AL6: =$A6+$B6 -> 0 | AM6: 捕手 | AQ6: =SUMIF($F$3:$F$20,AP6,$AI$3:$AI$20) -> 0 | AR6: =SUMIF($F$3:$F$20,AP6,$AJ$3:$AJ$20) -> 0 | AS6: =SUMIF($F$3:$F$20,AP6,$AK$3:$AK$20) -> 0 | AT6: =SUMIF($F$3:$F$20,AP6,$AL$3:$AL$20) -> 0
A7: =COUNTIF($G$23:$AG$40,E7) -> 0 | C7: =COUNTIF(G7:AG7,"HR") -> 0 | AI7: =COUNTA(G7:I7,K7:M7,O7:Q7,S7:U7,W7:Y7,AA7:AC7,AE7:AG7) -> 0 | AJ7: =COUNTIF(G7:AG7,"R")+(COUNTIF(G7:AG7,"HR")*2) -> 0 | AK7: =COUNTIF(G7:AG7,"K") -> 0 | AL7: =$A7+$B7 -> 0 | AQ7: =SUMIF($F$3:$F$20,AP7,$AI$3:$AI$20) -> 0 | AR7: =SUMIF($F$3:$F$20,AP7,$AJ$3:$AJ$20) -> 0 | AS7: =SUMIF($F$3:$F$20,AP7,$AK$3:$AK$20) -> 0 | AT7: =SUMIF($F$3:$F$20,AP7,$AL$3:$AL$20) -> 0
A8: =COUNTIF($G$23:$AG$40,E8) -> 0 | C8: =COUNTIF(G8:AG8,"HR") -> 0 | AI8: =COUNTA(G8:I8,K8:M8,O8:Q8,S8:U8,W8:Y8,AA8:AC8,AE8:AG8) -> 0 | AJ8: =COUNTIF(G8:AG8,"R")+(COUNTIF(G8:AG8,"HR")*2) -> 0 | AK8: =COUNTIF(G8:AG8,"K") -> 0 | AL8: =$A8+$B8 -> 0 | AQ8: =SUMIF($F$3:$F$20,AP8,$AI$3:$AI$20) -> 0 | AR8: =SUMIF($F$3:$F$20,AP8,$AJ$3:$AJ$20) -> 0 | AS8: =SUMIF($F$3:$F$20,AP8,$AK$3:$AK$20) -> 0 | AT8: =SUMIF($F$3:$F$20,AP8,$AL$3:$AL$20) -> 0
A9: =COUNTIF($G$23:$AG$40,E9) -> 0 | C9: =COUNTIF(G9:AG9,"HR") -> 0 | D9: 3 | AI9: =COUNTA(G9:I9,K9:M9,O9:Q9,S9:U9,W9:Y9,AA9:AC9,AE9:AG9) -> 0 | AJ9: =COUNTIF(G9:AG9,"R")+(COUNTIF(G9:AG9,"HR")*2) -> 0 | AK9: =COUNTIF(G9:AG9,"K") -> 0 | AL9: =$A9+$B9 -> 0 | AQ9: =SUMIF($F$3:$F$20,AP9,$AI$3:$AI$20) -> 0 | AR9: =SUMIF($F$3:$F$20,AP9,$AJ$3:$AJ$20) -> 0 | AS9: =SUMIF($F$3:$F$20,AP9,$AK$3:$AK$20) -> 0 | AT9: =SUMIF($F$3:$F$20,AP9,$AL$3:$AL$20) -> 0
A10: =COUNTIF($G$23:$AG$40,E10) -> 0 | C10: =COUNTIF(G10:AG10,"HR") -> 0 | AI10: =COUNTA(G10:I10,K10:M10,O10:Q10,S10:U10,W10:Y10,AA10:AC10,AE10:AG10) -> 0 | AJ10: =COUNTIF(G10:AG10,"R")+(COUNTIF(G10:AG10,"HR")*2) -> 0 | AK10: =COUNTIF(G10:AG10,"K") -> 0 | AL10: =$A10+$B10 -> 0 | AM10: 觀測員 | AQ10: =SUMIF($F$3:$F$20,AP10,$AI$3:$AI$20) -> 0 | AR10: =SUMIF($F$3:$F$20,AP10,$AJ$3:$AJ$20) -> 0 | AS10: =SUMIF($F$3:$F$20,AP10,$AK$3:$AK$20) -> 0 | AT10: =SUMIF($F$3:$F$20,AP10,$AL$3:$AL$20) -> 0
A11: =COUNTIF($G$23:$AG$40,E11) -> 0 | C11: =COUNTIF(G11:AG11,"HR") -> 0 | AI11: =COUNTA(G11:I11,K11:M11,O11:Q11,S11:U11,W11:Y11,AA11:AC11,AE11:AG11) -> 0 | AJ11: =COUNTIF(G11:AG11,"R")+(COUNTIF(G11:AG11,"HR")*2) -> 0 | AK11: =COUNTIF(G11:AG11,"K") -> 0 | AL11: =$A11+$B11 -> 0
A12: =COUNTIF($G$23:$AG$40,E12) -> 0 | C12: =COUNTIF(G12:AG12,"HR") -> 0 | D12: 4 | AI12: =COUNTA(G12:I12,K12:M12,O12:Q12,S12:U12,W12:Y12,AA12:AC12,AE12:AG12) -> 0 | AJ12: =COUNTIF(G12:AG12,"R")+(COUNTIF(G12:AG12,"HR")*2) -> 0 | AK12: =COUNTIF(G12:AG12,"K") -> 0 | AL12: =$A12+$B12 -> 0
A13: =COUNTIF($G$23:$AG$40,E13) -> 0 | C13: =COUNTIF(G13:AG13,"HR") -> 0 | AI13: =COUNTA(G13:I13,K13:M13,O13:Q13,S13:U13,W13:Y13,AA13:AC13,AE13:AG13) -> 0 | AJ13: =COUNTIF(G13:AG13,"R")+(COUNTIF(G13:AG13,"HR")*2) -> 0 | AK13: =COUNTIF(G13:AG13,"K") -> 0 | AL13: =$A13+$B13 -> 0
A14: =COUNTIF($G$23:$AG$40,E14) -> 0 | C14: =COUNTIF(G14:AG14,"HR") -> 0 | AI14: =COUNTA(G14:I14,K14:M14,O14:Q14,S14:U14,W14:Y14,AA14:AC14,AE14:AG14) -> 0 | AJ14: =COUNTIF(G14:AG14,"R")+(COUNTIF(G14:AG14,"HR")*2) -> 0 | AK14: =COUNTIF(G14:AG14,"K") -> 0 | AL14: =$A14+$B14 -> 0 | AM14: 候補球員
A15: =COUNTIF($G$23:$AG$40,E15) -> 0 | C15: =COUNTIF(G15:AG15,"HR") -> 0 | D15: 5 | AI15: =COUNTA(G15:I15,K15:M15,O15:Q15,S15:U15,W15:Y15,AA15:AC15,AE15:AG15) -> 0 | AJ15: =COUNTIF(G15:AG15,"R")+(COUNTIF(G15:AG15,"HR")*2) -> 0 | AK15: =COUNTIF(G15:AG15,"K") -> 0 | AL15: =$A15+$B15 -> 0
A16: =COUNTIF($G$23:$AG$40,E16) -> 0 | C16: =COUNTIF(G16:AG16,"HR") -> 0 | AI16: =COUNTA(G16:I16,K16:M16,O16:Q16,S16:U16,W16:Y16,AA16:AC16,AE16:AG16) -> 0 | AJ16: =COUNTIF(G16:AG16,"R")+(COUNTIF(G16:AG16,"HR")*2) -> 0 | AK16: =COUNTIF(G16:AG16,"K") -> 0 | AL16: =$A16+$B16 -> 0 | AQ16: =SUM(AQ3:AQ15) -> 0 | AR16: =SUM(AR3:AR15) -> 0 | AS16: =SUM(AS3:AS15) -> 0 | AT16: =SUM(AT3:AT15) -> 0
A17: =COUNTIF($G$23:$AG$40,E17) -> 0 | C17: =COUNTIF(G17:AG17,"HR") -> 0 | AI17: =COUNTA(G17:I17,K17:M17,O17:Q17,S17:U17,W17:Y17,AA17:AC17,AE17:AG17) -> 0 | AJ17: =COUNTIF(G17:AG17,"R")+(COUNTIF(G17:AG17,"HR")*2) -> 0 | AK17: =COUNTIF(G17:AG17,"K") -> 0 | AL17: =$A17+$B17 -> 0
A18: =COUNTIF($G$23:$AG$40,E18) -> 0 | C18: =COUNTIF(G18:AG18,"HR") -> 0 | D18: 6 | AI18: =COUNTA(G18:I18,K18:M18,O18:Q18,S18:U18,W18:Y18,AA18:AC18,AE18:AG18) -> 0 | AJ18: =COUNTIF(G18:AG18,"R")+(COUNTIF(G18:AG18,"HR")*2) -> 0 | AK18: =COUNTIF(G18:AG18,"K") -> 0 | AL18: =$A18+$B18 -> 0
A19: =COUNTIF($G$23:$AG$40,E19) -> 0 | C19: =COUNTIF(G19:AG19,"HR") -> 0 | AI19: =COUNTA(G19:I19,K19:M19,O19:Q19,S19:U19,W19:Y19,AA19:AC19,AE19:AG19) -> 0 | AJ19: =COUNTIF(G19:AG19,"R")+(COUNTIF(G19:AG19,"HR")*2) -> 0 | AK19: =COUNTIF(G19:AG19,"K") -> 0 | AL19: =$A19+$B19 -> 0
A20: =COUNTIF($G$23:$AG$40,E20) -> 0 | C20: =COUNTIF(G20:AG20,"HR") -> 0 | AI20: =COUNTA(G20:I20,K20:M20,O20:Q20,S20:U20,W20:Y20,AA20:AC20,AE20:AG20) -> 0 | AJ20: =COUNTIF(G20:AG20,"R")+(COUNTIF(G20:AG20,"HR")*2) -> 0 | AK20: =COUNTIF(G20:AG20,"K") -> 0 | AL20: =$A20+$B20 -> 0
A21: =SUM(A3:A20) -> 0 | B21: =SUM(B3:B20) -> 0 | C21: =SUM(C3:C20) -> 0 | D21: 得分加總 | G21: =COUNTIF(G3:I20,"R")+(COUNTIF(G3:I20,"HR")*2) -> 0 | K21: =COUNTIF(K3:M20,"R")+(COUNTIF(K3:M20,"HR")*2)+G21 -> 0 | O21: =COUNTIF(O3:Q20,"R")+(COUNTIF(O3:Q20,"HR")*2)+K21 -> 0 | S21: =COUNTIF(S3:U20,"R")+(COUNTIF(S3:U20,"HR")*2)+O21 -> 0 | W21: =COUNTIF(W3:Y20,"R")+(COUNTIF(W3:Y20,"HR")*2)+S21 -> 0 | AA21: =COUNTIF(AA3:AC20,"R")+(COUNTIF(AA3:AC20,"HR")*2)+W21 -> 0 | AE21: =COUNTIF(AE3:AG20,"R")+(COUNTIF(AE3:AG20,"HR")*2)+AA21 -> 0 | AI21: =SUM(AI3:AI20) -> 0 | AJ21: =SUM(AJ3:AJ20) -> 0 | AK21: =SUM(AK3:AK20) -> 0 | AL21: =SUM(AL3:AL20) -> 0
A22: 撿球 | B22: 接殺 | C22: HR | D22: 後 | E22: 背號 | F22: 球員 | G22: 1 | J22: 投 | K22: 2 | N22: 投 | O22: 3 | R22: 投 | S22: 4 | V22: 投 | W22: 5 | Z22: 投 | AA22: 6 | AD22: 投 | AE22: 7 | AH22: 投 | AI22: AB | AJ22: R | AK22: K | AL22: P | AM22: 投/捕/觀
A23: =COUNTIF($G$3:$AG$20,E23) -> 0 | C23: =COUNTIF(G23:AG23,"HR") -> 0 | D23: 1 | AI23: =COUNTA(G23:I23,K23:M23,O23:Q23,S23:U23,W23:Y23,AA23:AC23,AE23:AG23) -> 0 | AJ23: =COUNTIF(G23:AG23,"R")+(COUNTIF(G23:AG23,"HR")*2) -> 0 | AK23: =COUNTIF(G23:AG23,"K") -> 0 | AL23: =$A23+$B23 -> 0 | AM23: 投手 | AP23: {=_xlfn.UNIQUE(F23:F40)} -> 0 | AQ23: =SUMIF($F$23:$F$40,AP23,$AI$23:$AI$40) -> 0 | AR23: =SUMIF($F$23:$F$40,AP23,$AJ$23:$AJ$40) -> 0 | AS23: =SUMIF($F$23:$F$40,AP23,$AK$23:$AK$40) -> 0 | AT23: =SUMIF($F$23:$F$40,AP23,$AL$23:$AL$40) -> 0
A24: =COUNTIF($G$3:$AG$20,E24) -> 0 | C24: =COUNTIF(G24:AG24,"HR") -> 0 | AI24: =COUNTA(G24:I24,K24:M24,O24:Q24,S24:U24,W24:Y24,AA24:AC24,AE24:AG24) -> 0 | AJ24: =COUNTIF(G24:AG24,"R")+(COUNTIF(G24:AG24,"HR")*2) -> 0 | AK24: =COUNTIF(G24:AG24,"K") -> 0 | AL24: =$A24+$B24 -> 0 | AQ24: =SUMIF($F$23:$F$40,AP24,$AI$23:$AI$40) -> 0 | AR24: =SUMIF($F$23:$F$40,AP24,$AJ$23:$AJ$40) -> 0 | AS24: =SUMIF($F$23:$F$40,AP24,$AK$23:$AK$40) -> 0 | AT24: =SUMIF($F$23:$F$40,AP24,$AL$23:$AL$40) -> 0
A25: =COUNTIF($G$3:$AG$20,E25) -> 0 | C25: =COUNTIF(G25:AG25,"HR") -> 0 | AI25: =COUNTA(G25:I25,K25:M25,O25:Q25,S25:U25,W25:Y25,AA25:AC25,AE25:AG25) -> 0 | AJ25: =COUNTIF(G25:AG25,"R")+(COUNTIF(G25:AG25,"HR")*2) -> 0 | AK25: =COUNTIF(G25:AG25,"K") -> 0 | AL25: =$A25+$B25 -> 0 | AQ25: =SUMIF($F$23:$F$40,AP25,$AI$23:$AI$40) -> 0 | AR25: =SUMIF($F$23:$F$40,AP25,$AJ$23:$AJ$40) -> 0 | AS25: =SUMIF($F$23:$F$40,AP25,$AK$23:$AK$40) -> 0 | AT25: =SUMIF($F$23:$F$40,AP25,$AL$23:$AL$40) -> 0 | AV25: {=_xlfn.UNIQUE(AM24:AM25)} -> 0
A26: =COUNTIF($G$3:$AG$20,E26) -> 0 | C26: =COUNTIF(G26:AG26,"HR") -> 0 | D26: 2 | AI26: =COUNTA(G26:I26,K26:M26,O26:Q26,S26:U26,W26:Y26,AA26:AC26,AE26:AG26) -> 0 | AJ26: =COUNTIF(G26:AG26,"R")+(COUNTIF(G26:AG26,"HR")*2) -> 0 | AK26: =COUNTIF(G26:AG26,"K") -> 0 | AL26: =$A26+$B26 -> 0 | AM26: 捕手 | AQ26: =SUMIF($F$23:$F$40,AP26,$AI$23:$AI$40) -> 0 | AR26: =SUMIF($F$23:$F$40,AP26,$AJ$23:$AJ$40) -> 0 | AS26: =SUMIF($F$23:$F$40,AP26,$AK$23:$AK$40) -> 0 | AT26: =SUMIF($F$23:$F$40,AP26,$AL$23:$AL$40) -> 0
A27: =COUNTIF($G$3:$AG$20,E27) -> 0 | C27: =COUNTIF(G27:AG27,"HR") -> 0 | AI27: =COUNTA(G27:I27,K27:M27,O27:Q27,S27:U27,W27:Y27,AA27:AC27,AE27:AG27) -> 0 | AJ27: =COUNTIF(G27:AG27,"R")+(COUNTIF(G27:AG27,"HR")*2) -> 0 | AK27: =COUNTIF(G27:AG27,"K") -> 0 | AL27: =$A27+$B27 -> 0 | AQ27: =SUMIF($F$23:$F$40,AP27,$AI$23:$AI$40) -> 0 | AR27: =SUMIF($F$23:$F$40,AP27,$AJ$23:$AJ$40) -> 0 | AS27: =SUMIF($F$23:$F$40,AP27,$AK$23:$AK$40) -> 0 | AT27: =SUMIF($F$23:$F$40,AP27,$AL$23:$AL$40) -> 0
A28: =COUNTIF($G$3:$AG$20,E28) -> 0 | C28: =COUNTIF(G28:AG28,"HR") -> 0 | AI28: =COUNTA(G28:I28,K28:M28,O28:Q28,S28:U28,W28:Y28,AA28:AC28,AE28:AG28) -> 0 | AJ28: =COUNTIF(G28:AG28,"R")+(COUNTIF(G28:AG28,"HR")*2) -> 0 | AK28: =COUNTIF(G28:AG28,"K") -> 0 | AL28: =$A28+$B28 -> 0 | AQ28: =SUMIF($F$23:$F$40,AP28,$AI$23:$AI$40) -> 0 | AR28: =SUMIF($F$23:$F$40,AP28,$AJ$23:$AJ$40) -> 0 | AS28: =SUMIF($F$23:$F$40,AP28,$AK$23:$AK$40) -> 0 | AT28: =SUMIF($F$23:$F$40,AP28,$AL$23:$AL$40) -> 0
A29: =COUNTIF($G$3:$AG$20,E29) -> 0 | C29: =COUNTIF(G29:AG29,"HR") -> 0 | D29: 3 | AI29: =COUNTA(G29:I29,K29:M29,O29:Q29,S29:U29,W29:Y29,AA29:AC29,AE29:AG29) -> 0 | AJ29: =COUNTIF(G29:AG29,"R")+(COUNTIF(G29:AG29,"HR")*2) -> 0 | AK29: =COUNTIF(G29:AG29,"K") -> 0 | AL29: =$A29+$B29 -> 0 | AQ29: =SUMIF($F$23:$F$40,AP29,$AI$23:$AI$40) -> 0 | AR29: =SUMIF($F$23:$F$40,AP29,$AJ$23:$AJ$40) -> 0 | AS29: =SUMIF($F$23:$F$40,AP29,$AK$23:$AK$40) -> 0 | AT29: =SUMIF($F$23:$F$40,AP29,$AL$23:$AL$40) -> 0
A30: =COUNTIF($G$3:$AG$20,E30) -> 0 | C30: =COUNTIF(G30:AG30,"HR") -> 0 | AI30: =COUNTA(G30:I30,K30:M30,O30:Q30,S30:U30,W30:Y30,AA30:AC30,AE30:AG30) -> 0 | AJ30: =COUNTIF(G30:AG30,"R")+(COUNTIF(G30:AG30,"HR")*2) -> 0 | AK30: =COUNTIF(G30:AG30,"K") -> 0 | AL30: =$A30+$B30 -> 0 | AM30: 觀測員 | AQ30: =SUMIF($F$23:$F$40,AP30,$AI$23:$AI$40) -> 0 | AR30: =SUMIF($F$23:$F$40,AP30,$AJ$23:$AJ$40) -> 0 | AS30: =SUMIF($F$23:$F$40,AP30,$AK$23:$AK$40) -> 0 | AT30: =SUMIF($F$23:$F$40,AP30,$AL$23:$AL$40) -> 0
A31: =COUNTIF($G$3:$AG$20,E31) -> 0 | C31: =COUNTIF(G31:AG31,"HR") -> 0 | AI31: =COUNTA(G31:I31,K31:M31,O31:Q31,S31:U31,W31:Y31,AA31:AC31,AE31:AG31) -> 0 | AJ31: =COUNTIF(G31:AG31,"R")+(COUNTIF(G31:AG31,"HR")*2) -> 0 | AK31: =COUNTIF(G31:AG31,"K") -> 0 | AL31: =$A31+$B31 -> 0
A32: =COUNTIF($G$3:$AG$20,E32) -> 0 | C32: =COUNTIF(G32:AG32,"HR") -> 0 | D32: 4 | AI32: =COUNTA(G32:I32,K32:M32,O32:Q32,S32:U32,W32:Y32,AA32:AC32,AE32:AG32) -> 0 | AJ32: =COUNTIF(G32:AG32,"R")+(COUNTIF(G32:AG32,"HR")*2) -> 0 | AK32: =COUNTIF(G32:AG32,"K") -> 0 | AL32: =$A32+$B32 -> 0
A33: =COUNTIF($G$3:$AG$20,E33) -> 0 | C33: =COUNTIF(G33:AG33,"HR") -> 0 | AI33: =COUNTA(G33:I33,K33:M33,O33:Q33,S33:U33,W33:Y33,AA33:AC33,AE33:AG33) -> 0 | AJ33: =COUNTIF(G33:AG33,"R")+(COUNTIF(G33:AG33,"HR")*2) -> 0 | AK33: =COUNTIF(G33:AG33,"K") -> 0 | AL33: =$A33+$B33 -> 0
A34: =COUNTIF($G$3:$AG$20,E34) -> 0 | C34: =COUNTIF(G34:AG34,"HR") -> 0 | AI34: =COUNTA(G34:I34,K34:M34,O34:Q34,S34:U34,W34:Y34,AA34:AC34,AE34:AG34) -> 0 | AJ34: =COUNTIF(G34:AG34,"R")+(COUNTIF(G34:AG34,"HR")*2) -> 0 | AK34: =COUNTIF(G34:AG34,"K") -> 0 | AL34: =$A34+$B34 -> 0 | AM34: 候補球員
A35: =COUNTIF($G$3:$AG$20,E35) -> 0 | C35: =COUNTIF(G35:AG35,"HR") -> 0 | D35: 5 | AI35: =COUNTA(G35:I35,K35:M35,O35:Q35,S35:U35,W35:Y35,AA35:AC35,AE35:AG35) -> 0 | AJ35: =COUNTIF(G35:AG35,"R")+(COUNTIF(G35:AG35,"HR")*2) -> 0 | AK35: =COUNTIF(G35:AG35,"K") -> 0 | AL35: =$A35+$B35 -> 0 | AQ35: =SUM(AQ23:AQ34) -> 0 | AR35: =SUM(AR23:AR34) -> 0 | AS35: =SUM(AS23:AS34) -> 0 | AT35: =SUM(AT23:AT34) -> 0
A36: =COUNTIF($G$3:$AG$20,E36) -> 0 | C36: =COUNTIF(G36:AG36,"HR") -> 0 | AI36: =COUNTA(G36:I36,K36:M36,O36:Q36,S36:U36,W36:Y36,AA36:AC36,AE36:AG36) -> 0 | AJ36: =COUNTIF(G36:AG36,"R")+(COUNTIF(G36:AG36,"HR")*2) -> 0 | AK36: =COUNTIF(G36:AG36,"K") -> 0 | AL36: =$A36+$B36 -> 0
A37: =COUNTIF($G$3:$AG$20,E37) -> 0 | C37: =COUNTIF(G37:AG37,"HR") -> 0 | AI37: =COUNTA(G37:I37,K37:M37,O37:Q37,S37:U37,W37:Y37,AA37:AC37,AE37:AG37) -> 0 | AJ37: =COUNTIF(G37:AG37,"R")+(COUNTIF(G37:AG37,"HR")*2) -> 0 | AK37: =COUNTIF(G37:AG37,"K") -> 0 | AL37: =$A37+$B37 -> 0
A38: =COUNTIF($G$3:$AG$20,E38) -> 0 | C38: =COUNTIF(G38:AG38,"HR") -> 0 | D38: 6 | AI38: =COUNTA(G38:I38,K38:M38,O38:Q38,S38:U38,W38:Y38,AA38:AC38,AE38:AG38) -> 0 | AJ38: =COUNTIF(G38:AG38,"R")+(COUNTIF(G38:AG38,"HR")*2) -> 0 | AK38: =COUNTIF(G38:AG38,"K") -> 0 | AL38: =$A38+$B38 -> 0
A39: =COUNTIF($G$3:$AG$20,E39) -> 0 | C39: =COUNTIF(G39:AG39,"HR") -> 0 | AI39: =COUNTA(G39:I39,K39:M39,O39:Q39,S39:U39,W39:Y39,AA39:AC39,AE39:AG39) -> 0 | AJ39: =COUNTIF(G39:AG39,"R")+(COUNTIF(G39:AG39,"HR")*2) -> 0 | AK39: =COUNTIF(G39:AG39,"K") -> 0 | AL39: =$A39+$B39 -> 0
A40: =COUNTIF($G$3:$AG$20,E40) -> 0 | C40: =COUNTIF(G40:AG40,"HR") -> 0 | AI40: =COUNTA(G40:I40,K40:M40,O40:Q40,S40:U40,W40:Y40,AA40:AC40,AE40:AG40) -> 0 | AJ40: =COUNTIF(G40:AG40,"R")+(COUNTIF(G40:AG40,"HR")*2) -> 0 | AK40: =COUNTIF(G40:AG40,"K") -> 0 | AL40: =$A40+$B40 -> 0
A41: =SUM(A23:A40) -> 0 | B41: =SUM(B23:B40) -> 0 | C41: =SUM(C23:C40) -> 0 | D41: 得分加總 | G41: =COUNTIF(G23:I40,"R")+(COUNTIF(G23:I40,"HR")*2) -> 0 | K41: =COUNTIF(K23:M40,"R")+(COUNTIF(K23:M40,"HR")*2)+G41 -> 0 | O41: =COUNTIF(O23:Q40,"R")+(COUNTIF(O23:Q40,"HR")*2)+K41 -> 0 | S41: =COUNTIF(S23:U40,"R")+(COUNTIF(S23:U40,"HR")*2)+O41 -> 0 | W41: =COUNTIF(W23:Y40,"R")+(COUNTIF(W23:Y40,"HR")*2)+S41 -> 0 | AA41: =COUNTIF(AA23:AC40,"R")+(COUNTIF(AA23:AC40,"HR")*2)+W41 -> 0 | AE41: =COUNTIF(AE23:AG40,"R")+(COUNTIF(AE23:AG40,"HR")*2)+AA41 -> 0 | AI41: =SUM(AI23:AI40) -> 0 | AJ41: =SUM(AJ23:AJ40) -> 0 | AK41: =SUM(AK23:AK40) -> 0 | AL41: =SUM(AL23:AL40) -> 0

Sheet 成績匯總 (函數)
A3: A | B3: 豹擊隊 | C3: G1 | G3: G2 | K3: G3 | O3: G4 | S3: G5 | W3: G6 | AA3: 數據
A4: 背號 | B4: 姓名 | C4: AB | D4: R | E4: K | F4: P | G4: AB | H4: R | I4: K | J4: P | K4: AB | L4: R | M4: K | N4: P | O4: AB | P4: R | Q4: K | R4: P | S4: AB | T4: R | U4: K | V4: P | W4: AB | X4: R | Y4: K | Z4: P | AA4: AB | AB4: R | AC4: K | AD4: P | AE4: 打擊率 (R/AB)
A5: 26 | B5: 賴智傑 | C5: {=IFERROR(_xlfn.XLOOKUP(B5,'G1'!$AP$4:$AP$34,'G1'!$AQ$4:$AT$34),0)} -> 3 | D5: 0 | E5: 2 | F5: 1 | G5: {=IFERROR(_xlfn.XLOOKUP(B5,'G2'!$AP$4:$AP$34,'G2'!$AQ$4:$AT$34),0)} -> 0 | K5: {=IFERROR(_xlfn.XLOOKUP(B5,'G3'!$AP$4:$AP$34,'G3'!$AQ$4:$AT$34),0)} -> 0 | L5: 0 | M5: 0 | N5: 0 | O5: {=IFERROR(_xlfn.XLOOKUP(B5,'G4'!$AP$4:$AP$34,'G4'!$AQ$4:$AT$34),0)} -> 0 | S5: {=IFERROR(_xlfn.XLOOKUP(B5,'G5'!$AP$4:$AP$34,'G5'!$AQ$4:$AT$34),0)} -> 0 | T5: 0 | U5: 0 | V5: 0 | W5: {=IFERROR(_xlfn.XLOOKUP(B5,'G6'!$AP$4:$AP$34,'G6'!$AQ$4:$AT$34),0)} -> 0 | AA5: =+C5+G5+K5+O5+S5+W5 -> 3 | AB5: =+D5+H5+L5+P5+T5+X5 -> 0 | AC5: =+E5+I5+M5+Q5+U5+Y5 -> 2 | AD5: =+F5+J5+N5+R5+V5+Z5 -> 1 | AE5: =+AB5/AA5 -> 0
A6: 25 | B6: 洪韶壕 | C6: {=IFERROR(_xlfn.XLOOKUP(B6,'G1'!$AP$4:$AP$34,'G1'!$AQ$4:$AT$34),0)} -> 3 | D6: 1 | E6: 1 | F6: 1 | G6: {=IFERROR(_xlfn.XLOOKUP(B6,'G2'!$AP$4:$AP$34,'G2'!$AQ$4:$AT$34),0)} -> 0 | K6: {=IFERROR(_xlfn.XLOOKUP(B6,'G3'!$AP$4:$AP$34,'G3'!$AQ$4:$AT$34),0)} -> 0 | L6: 0 | M6: 0 | N6: 0 | O6: {=IFERROR(_xlfn.XLOOKUP(B6,'G4'!$AP$4:$AP$34,'G4'!$AQ$4:$AT$34),0)} -> 0 | S6: {=IFERROR(_xlfn.XLOOKUP(B6,'G5'!$AP$4:$AP$34,'G5'!$AQ$4:$AT$34),0)} -> 0 | T6: 0 | U6: 0 | V6: 0 | W6: {=IFERROR(_xlfn.XLOOKUP(B6,'G6'!$AP$4:$AP$34,'G6'!$AQ$4:$AT$34),0)} -> 0 | AA6: =+C6+G6+K6+O6+S6+W6 -> 3 | AB6: =+D6+H6+L6+P6+T6+X6 -> 1 | AC6: =+E6+I6+M6+Q6+U6+Y6 -> 1 | AD6: =+F6+J6+N6+R6+V6+Z6 -> 1 | AE6: =+AB6/AA6 -> 0.33333333
A7: 29 | B7: 陳建閔 | C7: {=IFERROR(_xlfn.XLOOKUP(B7,'G1'!$AP$4:$AP$34,'G1'!$AQ$4:$AT$34),0)} -> 0 | G7: {=IFERROR(_xlfn.XLOOKUP(B7,'G2'!$AP$4:$AP$34,'G2'!$AQ$4:$AT$34),0)} -> 0 | K7: {=IFERROR(_xlfn.XLOOKUP(B7,'G3'!$AP$4:$AP$34,'G3'!$AQ$4:$AT$34),0)} -> 0 | O7: {=IFERROR(_xlfn.XLOOKUP(B7,'G4'!$AP$4:$AP$34,'G4'!$AQ$4:$AT$34),0)} -> 0 | S7: {=IFERROR(_xlfn.XLOOKUP(B7,'G5'!$AP$4:$AP$34,'G5'!$AQ$4:$AT$34),0)} -> 0 | T7: 0 | U7: 0 | V7: 0 | W7: {=IFERROR(_xlfn.XLOOKUP(B7,'G6'!$AP$4:$AP$34,'G6'!$AQ$4:$AT$34),0)} -> 0 | AA7: =+C7+G7+K7+O7+S7+W7 -> 0 | AB7: =+D7+H7+L7+P7+T7+X7 -> 0 | AC7: =+E7+I7+M7+Q7+U7+Y7 -> 0 | AD7: =+F7+J7+N7+R7+V7+Z7 -> 0 | AE7: =+AB7/AA7 -> #DIV/0!
A8: 17 | B8: 張睿紘 | C8: {=IFERROR(_xlfn.XLOOKUP(B8,'G1'!$AP$4:$AP$34,'G1'!$AQ$4:$AT$34),0)} -> 3 | D8: 1 | E8: 2 | F8: 1 | G8: {=IFERROR(_xlfn.XLOOKUP(B8,'G2'!$AP$4:$AP$34,'G2'!$AQ$4:$AT$34),0)} -> 0 | K8: {=IFERROR(_xlfn.XLOOKUP(B8,'G3'!$AP$4:$AP$34,'G3'!$AQ$4:$AT$34),0)} -> 0 | L8: 0 | M8: 0 | N8: 0 | O8: {=IFERROR(_xlfn.XLOOKUP(B8,'G4'!$AP$4:$AP$34,'G4'!$AQ$4:$AT$34),0)} -> 0 | S8: {=IFERROR(_xlfn.XLOOKUP(B8,'G5'!$AP$4:$AP$34,'G5'!$AQ$4:$AT$34),0)} -> 0 | T8: 0 | U8: 0 | V8: 0 | W8: {=IFERROR(_xlfn.XLOOKUP(B8,'G6'!$AP$4:$AP$34,'G6'!$AQ$4:$AT$34),0)} -> 0 | AA8: =+C8+G8+K8+O8+S8+W8 -> 3 | AB8: =+D8+H8+L8+P8+T8+X8 -> 1 | AC8: =+E8+I8+M8+Q8+U8+Y8 -> 2 | AD8: =+F8+J8+N8+R8+V8+Z8 -> 1 | AE8: =+AB8/AA8 -> 0.33333333
A9: 55 | C9: {=IFERROR(_xlfn.XLOOKUP(B9,'G1'!$AP$4:$AP$34,'G1'!$AQ$4:$AT$34),0)} -> 0 | D9: 0 | E9: 0 | F9: 0 | G9: {=IFERROR(_xlfn.XLOOKUP(B9,'G2'!$AP$4:$AP$34,'G2'!$AQ$4:$AT$34),0)} -> 0 | H9: 0 | I9: 0 | J9: 0 | K9: {=IFERROR(_xlfn.XLOOKUP(B9,'G3'!$AP$4:$AP$34,'G3'!$AQ$4:$AT$34),0)} -> 0 | L9: 0 | M9: 0 | N9: 0 | O9: {=IFERROR(_xlfn.XLOOKUP(B9,'G4'!$AP$4:$AP$34,'G4'!$AQ$4:$AT$34),0)} -> 0 | P9: 0 | Q9: 0 | R9: 0 | S9: {=IFERROR(_xlfn.XLOOKUP(B9,'G5'!$AP$4:$AP$34,'G5'!$AQ$4:$AT$34),0)} -> 0 | T9: 0 | U9: 0 | V9: 0 | W9: {=IFERROR(_xlfn.XLOOKUP(B9,'G6'!$AP$4:$AP$34,'G6'!$AQ$4:$AT$34),0)} -> 0 | X9: 0 | Y9: 0 | Z9: 0 | AA9: =+C9+G9+K9+O9+S9+W9 -> 0 | AB9: =+D9+H9+L9+P9+T9+X9 -> 0 | AC9: =+E9+I9+M9+Q9+U9+Y9 -> 0 | AD9: =+F9+J9+N9+R9+V9+Z9 -> 0 | AE9: =+AB9/AA9 -> #DIV/0!
A10: 66 | B10: 陳韻婷 | C10: {=IFERROR(_xlfn.XLOOKUP(B10,'G1'!$AP$4:$AP$34,'G1'!$AQ$4:$AT$34),0)} -> 3 | D10: 0 | E10: 1 | F10: 0 | G10: {=IFERROR(_xlfn.XLOOKUP(B10,'G2'!$AP$4:$AP$34,'G2'!$AQ$4:$AT$34),0)} -> 0 | K10: {=IFERROR(_xlfn.XLOOKUP(B10,'G3'!$AP$4:$AP$34,'G3'!$AQ$4:$AT$34),0)} -> 0 | L10: 0 | M10: 0 | N10: 0 | O10: {=IFERROR(_xlfn.XLOOKUP(B10,'G4'!$AP$4:$AP$34,'G4'!$AQ$4:$AT$34),0)} -> 0 | S10: {=IFERROR(_xlfn.XLOOKUP(B10,'G5'!$AP$4:$AP$34,'G5'!$AQ$4:$AT$34),0)} -> 0 | T10: 0 | U10: 0 | V10: 0 | W10: {=IFERROR(_xlfn.XLOOKUP(B10,'G6'!$AP$4:$AP$34,'G6'!$AQ$4:$AT$34),0)} -> 0 | AA10: =+C10+G10+K10+O10+S10+W10 -> 3 | AB10: =+D10+H10+L10+P10+T10+X10 -> 0 | AC10: =+E10+I10+M10+Q10+U10+Y10 -> 1 | AD10: =+F10+J10+N10+R10+V10+Z10 -> 0 | AE10: =+AB10/AA10 -> 0
A11: 20 | B11: 劉家溫 | C11: {=IFERROR(_xlfn.XLOOKUP(B11,'G1'!$AP$4:$AP$34,'G1'!$AQ$4:$AT$34),0)} -> 4 | D11: 0 | E11: 2 | F11: 0 | G11: {=IFERROR(_xlfn.XLOOKUP(B11,'G2'!$AP$4:$AP$34,'G2'!$AQ$4:$AT$34),0)} -> 0 | K11: {=IFERROR(_xlfn.XLOOKUP(B11,'G3'!$AP$4:$AP$34,'G3'!$AQ$4:$AT$34),0)} -> 0 | L11: 0 | M11: 0 | N11: 0 | O11: {=IFERROR(_xlfn.XLOOKUP(B11,'G4'!$AP$4:$AP$34,'G4'!$AQ$4:$AT$34),0)} -> 0 | S11: {=IFERROR(_xlfn.XLOOKUP(B11,'G5'!$AP$4:$AP$34,'G5'!$AQ$4:$AT$34),0)} -> 0 | W11: {=IFERROR(_xlfn.XLOOKUP(B11,'G6'!$AP$4:$AP$34,'G6'!$AQ$4:$AT$34),0)} -> 0 | AA11: =+C11+G11+K11+O11+S11+W11 -> 4 | AB11: =+D11+H11+L11+P11+T11+X11 -> 0 | AC11: =+E11+I11+M11+Q11+U11+Y11 -> 2 | AD11: =+F11+J11+N11+R11+V11+Z11 -> 0 | AE11: =+AB11/AA11 -> 0
A12: 23 | B12: 黃雅苓 | C12: {=IFERROR(_xlfn.XLOOKUP(B12,'G1'!$AP$4:$AP$34,'G1'!$AQ$4:$AT$34),0)} -> 4 | D12: 0 | E12: 3 | F12: 0 | G12: {=IFERROR(_xlfn.XLOOKUP(B12,'G2'!$AP$4:$AP$34,'G2'!$AQ$4:$AT$34),0)} -> 0 | K12: {=IFERROR(_xlfn.XLOOKUP(B12,'G3'!$AP$4:$AP$34,'G3'!$AQ$4:$AT$34),0)} -> 0 | L12: 0 | M12: 0 | N12: 0 | O12: {=IFERROR(_xlfn.XLOOKUP(B12,'G4'!$AP$4:$AP$34,'G4'!$AQ$4:$AT$34),0)} -> 0 | S12: {=IFERROR(_xlfn.XLOOKUP(B12,'G5'!$AP$4:$AP$34,'G5'!$AQ$4:$AT$34),0)} -> 0 | T12: 0 | U12: 0 | V12: 0 | W12: {=IFERROR(_xlfn.XLOOKUP(B12,'G6'!$AP$4:$AP$34,'G6'!$AQ$4:$AT$34),0)} -> 0 | AA12: =+C12+G12+K12+O12+S12+W12 -> 4 | AB12: =+D12+H12+L12+P12+T12+X12 -> 0 | AC12: =+E12+I12+M12+Q12+U12+Y12 -> 3 | AD12: =+F12+J12+N12+R12+V12+Z12 -> 0 | AE12: =+AB12/AA12 -> 0
A13: 0 | B13: 古奇哲 | C13: {=IFERROR(_xlfn.XLOOKUP(B13,'G1'!$AP$4:$AP$34,'G1'!$AQ$4:$AT$34),0)} -> 0 | G13: {=IFERROR(_xlfn.XLOOKUP(B13,'G2'!$AP$4:$AP$34,'G2'!$AQ$4:$AT$34),0)} -> 0 | K13: {=IFERROR(_xlfn.XLOOKUP(B13,'G3'!$AP$4:$AP$34,'G3'!$AQ$4:$AT$34),0)} -> 0 | O13: {=IFERROR(_xlfn.XLOOKUP(B13,'G4'!$AP$4:$AP$34,'G4'!$AQ$4:$AT$34),0)} -> 0 | S13: {=IFERROR(_xlfn.XLOOKUP(B13,'G5'!$AP$4:$AP$34,'G5'!$AQ$4:$AT$34),0)} -> 0 | T13: 0 | U13: 0 | V13: 0 | W13: {=IFERROR(_xlfn.XLOOKUP(B13,'G6'!$AP$4:$AP$34,'G6'!$AQ$4:$AT$34),0)} -> 0 | AA13: =+C13+G13+K13+O13+S13+W13 -> 0 | AB13: =+D13+H13+L13+P13+T13+X13 -> 0 | AC13: =+E13+I13+M13+Q13+U13+Y13 -> 0 | AD13: =+F13+J13+N13+R13+V13+Z13 -> 0 | AE13: =+AB13/AA13 -> #DIV/0!
A14: 19 | B14: 宋展宇 | C14: {=IFERROR(_xlfn.XLOOKUP(B14,'G1'!$AP$4:$AP$34,'G1'!$AQ$4:$AT$34),0)} -> 0 | G14: {=IFERROR(_xlfn.XLOOKUP(B14,'G2'!$AP$4:$AP$34,'G2'!$AQ$4:$AT$34),0)} -> 0 | K14: {=IFERROR(_xlfn.XLOOKUP(B14,'G3'!$AP$4:$AP$34,'G3'!$AQ$4:$AT$34),0)} -> 0 | L14: 0 | M14: 0 | N14: 0 | O14: {=IFERROR(_xlfn.XLOOKUP(B14,'G4'!$AP$4:$AP$34,'G4'!$AQ$4:$AT$34),0)} -> 0 | S14: {=IFERROR(_xlfn.XLOOKUP(B14,'G5'!$AP$4:$AP$34,'G5'!$AQ$4:$AT$34),0)} -> 0 | W14: {=IFERROR(_xlfn.XLOOKUP(B14,'G6'!$AP$4:$AP$34,'G6'!$AQ$4:$AT$34),0)} -> 0 | AA14: =+C14+G14+K14+O14+S14+W14 -> 0 | AB14: =+D14+H14+L14+P14+T14+X14 -> 0 | AC14: =+E14+I14+M14+Q14+U14+Y14 -> 0 | AD14: =+F14+J14+N14+R14+V14+Z14 -> 0 | AE14: =+AB14/AA14 -> #DIV/0!
C15: =SUM(C5:C14) -> 20 | D15: =SUM(D5:D14) -> 2 | E15: =SUM(E5:E14) -> 11 | F15: =SUM(F5:F14) -> 3 | G15: =SUM(G5:G14) -> 0 | H15: =SUM(H5:H14) -> 0 | I15: =SUM(I5:I14) -> 0 | J15: =SUM(J5:J14) -> 0 | ... AD15: =SUM(AD5:AD14) -> 3 | AE15: =+AB15/AA15 -> 0.1
A17: B | B17: 閃電隊 | C17: G1 | G17: G2 | K17: G3 | O17: G4 | S17: G5 | W17: G6 | AA17: 數據
A18: 背號 | B18: 姓名 | C18: AB | D18: R | E18: K | F18: P | G18: AB | H18: R | I18: K | J18: P | K18: AB | L18: R | M18: K | N18: P | O18: AB | P18: R | Q18: K | R18: P | S18: AB | T18: R | U18: K | V18: P | W18: AB | X18: R | Y18: K | Z18: P | AA18: AB | AB18: R | AC18: K | AD18: P | AE18: 打擊率 (R/AB)
A19: 8 | B19: 陳璽帆 | C19: {=IFERROR(_xlfn.XLOOKUP(B19,'G1'!$AP$4:$AP$34,'G1'!$AQ$4:$AT$34),0)} -> 4 | D19: 2 | E19: 1 | F19: 0 | G19: {=IFERROR(_xlfn.XLOOKUP(B19,'G2'!$AP$4:$AP$34,'G2'!$AQ$4:$AT$34),0)} -> 3 | H19: 0 | I19: 2 | J19: 3 | K19: {=IFERROR(_xlfn.XLOOKUP(B19,'G3'!$AP$4:$AP$34,'G3'!$AQ$4:$AT$34),0)} -> 0 | O19: {=IFERROR(_xlfn.XLOOKUP(B19,'G4'!$AP$4:$AP$34,'G4'!$AQ$4:$AT$34),0)} -> 0 | S19: {=IFERROR(_xlfn.XLOOKUP(B19,'G5'!$AP$4:$AP$34,'G5'!$AQ$4:$AT$34),0)} -> 0 | W19: {=IFERROR(_xlfn.XLOOKUP(B19,'G6'!$AP$4:$AP$34,'G6'!$AQ$4:$AT$34),0)} -> 0 | AA19: =+C19+G19+K19+O19+S19+W19 -> 7 | AB19: =+D19+H19+L19+P19+T19+X19 -> 2 | AC19: =+E19+I19+M19+Q19+U19+Y19 -> 3 | AD19: =+F19+J19+N19+R19+V19+Z19 -> 3 | AE19: =+AB19/AA19 -> 0.28571429
A20: 23 | B20: 莊詠安 | C20: {=IFERROR(_xlfn.XLOOKUP(B20,'G1'!$AP$4:$AP$34,'G1'!$AQ$4:$AT$34),0)} -> 1 | D20: 0 | E20: 1 | F20: 0 | G20: {=IFERROR(_xlfn.XLOOKUP(B20,'G2'!$AP$4:$AP$34,'G2'!$AQ$4:$AT$34),0)} -> 2 | H20: 0 | I20: 1 | J20: 0 | K20: {=IFERROR(_xlfn.XLOOKUP(B20,'G3'!$AP$4:$AP$34,'G3'!$AQ$4:$AT$34),0)} -> 0 | O20: {=IFERROR(_xlfn.XLOOKUP(B20,'G4'!$AP$4:$AP$34,'G4'!$AQ$4:$AT$34),0)} -> 0 | P20: 0 | Q20: 0 | R20: 0 | S20: {=IFERROR(_xlfn.XLOOKUP(B20,'G5'!$AP$4:$AP$34,'G5'!$AQ$4:$AT$34),0)} -> 0 | W20: {=IFERROR(_xlfn.XLOOKUP(B20,'G6'!$AP$4:$AP$34,'G6'!$AQ$4:$AT$34),0)} -> 0 | AA20: =+C20+G20+K20+O20+S20+W20 -> 3 | AB20: =+D20+H20+L20+P20+T20+X20 -> 0 | AC20: =+E20+I20+M20+Q20+U20+Y20 -> 2 | AD20: =+F20+J20+N20+R20+V20+Z20 -> 0 | AE20: =+AB20/AA20 -> 0
C21: {=IFERROR(_xlfn.XLOOKUP(B21,'G1'!$AP$4:$AP$34,'G1'!$AQ$4:$AT$34),0)} -> 0 | D21: 0 | E21: 0 | F21: 0 | G21: {=IFERROR(_xlfn.XLOOKUP(B21,'G2'!$AP$4:$AP$34,'G2'!$AQ$4:$AT$34),0)} -> 0 | H21: 0 | I21: 0 | J21: 0 | K21: {=IFERROR(_xlfn.XLOOKUP(B21,'G3'!$AP$4:$AP$34,'G3'!$AQ$4:$AT$34),0)} -> 0 | L21: 0 | M21: 0 | N21: 0 | O21: {=IFERROR(_xlfn.XLOOKUP(B21,'G4'!$AP$4:$AP$34,'G4'!$AQ$4:$AT$34),0)} -> 0 | P21: 0 | Q21: 0 | R21: 0 | S21: {=IFERROR(_xlfn.XLOOKUP(B21,'G5'!$AP$4:$AP$34,'G5'!$AQ$4:$AT$34),0)} -> 0 | T21: 0 | U21: 0 | V21: 0 | W21: {=IFERROR(_xlfn.XLOOKUP(B21,'G6'!$AP$4:$AP$34,'G6'!$AQ$4:$AT$34),0)} -> 0 | X21: 0 | Y21: 0 | Z21: 0 | AA21: =+C21+G21+K21+O21+S21+W21 -> 0 | AB21: =+D21+H21+L21+P21+T21+X21 -> 0 | AC21: =+E21+I21+M21+Q21+U21+Y21 -> 0 | AD21: =+F21+J21+N21+R21+V21+Z21 -> 0 | AE21: =+AB21/AA21 -> #DIV/0!
A22: 33 | B22: 胡文秋 | C22: {=IFERROR(_xlfn.XLOOKUP(B22,'G1'!$AP$4:$AP$34,'G1'!$AQ$4:$AT$34),0)} -> 4 | D22: 0 | E22: 4 | F22: 6 | G22: {=IFERROR(_xlfn.XLOOKUP(B22,'G2'!$AP$4:$AP$34,'G2'!$AQ$4:$AT$34),0)} -> 4 | H22: 1 | I22: 2 | J22: 2 | K22: {=IFERROR(_xlfn.XLOOKUP(B22,'G3'!$AP$4:$AP$34,'G3'!$AQ$4:$AT$34),0)} -> 0 | O22: {=IFERROR(_xlfn.XLOOKUP(B22,'G4'!$AP$4:$AP$34,'G4'!$AQ$4:$AT$34),0)} -> 0 | P22: 0 | Q22: 0 | R22: 0 | S22: {=IFERROR(_xlfn.XLOOKUP(B22,'G5'!$AP$4:$AP$34,'G5'!$AQ$4:$AT$34),0)} -> 0 | W22: {=IFERROR(_xlfn.XLOOKUP(B22,'G6'!$AP$4:$AP$34,'G6'!$AQ$4:$AT$34),0)} -> 0 | AA22: =+C22+G22+K22+O22+S22+W22 -> 8 | AB22: =+D22+H22+L22+P22+T22+X22 -> 1 | AC22: =+E22+I22+M22+Q22+U22+Y22 -> 6 | AD22: =+F22+J22+N22+R22+V22+Z22 -> 8 | AE22: =+AB22/AA22 -> 0.125
A23: 35 | B23: 陳俊欽 | C23: {=IFERROR(_xlfn.XLOOKUP(B23,'G1'!$AP$4:$AP$34,'G1'!$AQ$4:$AT$34),0)} -> 3 | D23: 0 | E23: 3 | F23: 0 | G23: {=IFERROR(_xlfn.XLOOKUP(B23,'G2'!$AP$4:$AP$34,'G2'!$AQ$4:$AT$34),0)} -> 4 | H23: 1 | I23: 2 | J23: 3 | K23: {=IFERROR(_xlfn.XLOOKUP(B23,'G3'!$AP$4:$AP$34,'G3'!$AQ$4:$AT$34),0)} -> 0 | O23: {=IFERROR(_xlfn.XLOOKUP(B23,'G4'!$AP$4:$AP$34,'G4'!$AQ$4:$AT$34),0)} -> 0 | P23: 0 | Q23: 0 | R23: 0 | S23: {=IFERROR(_xlfn.XLOOKUP(B23,'G5'!$AP$4:$AP$34,'G5'!$AQ$4:$AT$34),0)} -> 0 | W23: {=IFERROR(_xlfn.XLOOKUP(B23,'G6'!$AP$4:$AP$34,'G6'!$AQ$4:$AT$34),0)} -> 0 | AA23: =+C23+G23+K23+O23+S23+W23 -> 7 | AB23: =+D23+H23+L23+P23+T23+X23 -> 1 | AC23: =+E23+I23+M23+Q23+U23+Y23 -> 5 | AD23: =+F23+J23+N23+R23+V23+Z23 -> 3 | AE23: =+AB23/AA23 -> 0.14285714
A24: 51 | B24: 紀和成 | C24: {=IFERROR(_xlfn.XLOOKUP(B24,'G1'!$AP$4:$AP$34,'G1'!$AQ$4:$AT$34),0)} -> 0 | G24: {=IFERROR(_xlfn.XLOOKUP(B24,'G2'!$AP$4:$AP$34,'G2'!$AQ$4:$AT$34),0)} -> 0 | K24: {=IFERROR(_xlfn.XLOOKUP(B24,'G3'!$AP$4:$AP$34,'G3'!$AQ$4:$AT$34),0)} -> 0 | O24: {=IFERROR(_xlfn.XLOOKUP(B24,'G4'!$AP$4:$AP$34,'G4'!$AQ$4:$AT$34),0)} -> 0 | P24: 0 | Q24: 0 | R24: 0 | S24: {=IFERROR(_xlfn.XLOOKUP(B24,'G5'!$AP$4:$AP$34,'G5'!$AQ$4:$AT$34),0)} -> 0 | W24: {=IFERROR(_xlfn.XLOOKUP(B24,'G6'!$AP$4:$AP$34,'G6'!$AQ$4:$AT$34),0)} -> 0 | AA24: =+C24+G24+K24+O24+S24+W24 -> 0 | AB24: =+D24+H24+L24+P24+T24+X24 -> 0 | AC24: =+E24+I24+M24+Q24+U24+Y24 -> 0 | AD24: =+F24+J24+N24+R24+V24+Z24 -> 0 | AE24: =+AB24/AA24 -> #DIV/0!
A25: 88 | B25: 鄭傳逸 | C25: {=IFERROR(_xlfn.XLOOKUP(B25,'G1'!$AP$4:$AP$34,'G1'!$AQ$4:$AT$34),0)} -> 4 | D25: 0 | E25: 3 | F25: 0 | G25: {=IFERROR(_xlfn.XLOOKUP(B25,'G2'!$AP$4:$AP$34,'G2'!$AQ$4:$AT$34),0)} -> 4 | H25: 2 | I25: 2 | J25: 0 | K25: {=IFERROR(_xlfn.XLOOKUP(B25,'G3'!$AP$4:$AP$34,'G3'!$AQ$4:$AT$34),0)} -> 0 | O25: {=IFERROR(_xlfn.XLOOKUP(B25,'G4'!$AP$4:$AP$34,'G4'!$AQ$4:$AT$34),0)} -> 0 | P25: 0 | Q25: 0 | R25: 0 | S25: {=IFERROR(_xlfn.XLOOKUP(B25,'G5'!$AP$4:$AP$34,'G5'!$AQ$4:$AT$34),0)} -> 0 | W25: {=IFERROR(_xlfn.XLOOKUP(B25,'G6'!$AP$4:$AP$34,'G6'!$AQ$4:$AT$34),0)} -> 0 | AA25: =+C25+G25+K25+O25+S25+W25 -> 8 | AB25: =+D25+H25+L25+P25+T25+X25 -> 2 | AC25: =+E25+I25+M25+Q25+U25+Y25 -> 5 | AD25: =+F25+J25+N25+R25+V25+Z25 -> 0 | AE25: =+AB25/AA25 -> 0.25
A26: 99 | B26: 林育良 | C26: {=IFERROR(_xlfn.XLOOKUP(B26,'G1'!$AP$4:$AP$34,'G1'!$AQ$4:$AT$34),0)} -> 4 | D26: 1 | E26: 2 | F26: 0 | G26: {=IFERROR(_xlfn.XLOOKUP(B26,'G2'!$AP$4:$AP$34,'G2'!$AQ$4:$AT$34),0)} -> 4 | H26: 1 | I26: 3 | J26: 0 | K26: {=IFERROR(_xlfn.XLOOKUP(B26,'G3'!$AP$4:$AP$34,'G3'!$AQ$4:$AT$34),0)} -> 0 | O26: {=IFERROR(_xlfn.XLOOKUP(B26,'G4'!$AP$4:$AP$34,'G4'!$AQ$4:$AT$34),0)} -> 0 | P26: 0 | Q26: 0 | R26: 0 | S26: {=IFERROR(_xlfn.XLOOKUP(B26,'G5'!$AP$4:$AP$34,'G5'!$AQ$4:$AT$34),0)} -> 0 | W26: {=IFERROR(_xlfn.XLOOKUP(B26,'G6'!$AP$4:$AP$34,'G6'!$AQ$4:$AT$34),0)} -> 0 | AA26: =+C26+G26+K26+O26+S26+W26 -> 8 | AB26: =+D26+H26+L26+P26+T26+X26 -> 2 | AC26: =+E26+I26+M26+Q26+U26+Y26 -> 5 | AD26: =+F26+J26+N26+R26+V26+Z26 -> 0 | AE26: =+AB26/AA26 -> 0.25
A27: 111 | B27: 林健彰 | C27: {=IFERROR(_xlfn.XLOOKUP(B27,'G1'!$AP$4:$AP$34,'G1'!$AQ$4:$AT$34),0)} -> 2 | D27: 1 | E27: 1 | F27: 1 | G27: {=IFERROR(_xlfn.XLOOKUP(B27,'G2'!$AP$4:$AP$34,'G2'!$AQ$4:$AT$34),0)} -> 3 | H27: 1 | I27: 2 | J27: 4 | K27: {=IFERROR(_xlfn.XLOOKUP(B27,'G3'!$AP$4:$AP$34,'G3'!$AQ$4:$AT$34),0)} -> 0 | O27: {=IFERROR(_xlfn.XLOOKUP(B27,'G4'!$AP$4:$AP$34,'G4'!$AQ$4:$AT$34),0)} -> 0 | P27: 0 | Q27: 0 | R27: 0 | S27: {=IFERROR(_xlfn.XLOOKUP(B27,'G5'!$AP$4:$AP$34,'G5'!$AQ$4:$AT$34),0)} -> 0 | W27: {=IFERROR(_xlfn.XLOOKUP(B27,'G6'!$AP$4:$AP$34,'G6'!$AQ$4:$AT$34),0)} -> 0 | AA27: =+C27+G27+K27+O27+S27+W27 -> 5 | AB27: =+D27+H27+L27+P27+T27+X27 -> 2 | AC27: =+E27+I27+M27+Q27+U27+Y27 -> 3 | AD27: =+F27+J27+N27+R27+V27+Z27 -> 5 | AE27: =+AB27/AA27 -> 0.4
C28: {=IFERROR(_xlfn.XLOOKUP(B28,'G1'!$AP$4:$AP$34,'G1'!$AQ$4:$AT$34),0)} -> 0 | D28: 0 | E28: 0 | F28: 0 | G28: {=IFERROR(_xlfn.XLOOKUP(B28,'G2'!$AP$4:$AP$34,'G2'!$AQ$4:$AT$34),0)} -> 0 | H28: 0 | I28: 0 | J28: 0 | K28: {=IFERROR(_xlfn.XLOOKUP(B28,'G3'!$AP$4:$AP$34,'G3'!$AQ$4:$AT$34),0)} -> 0 | L28: 0 | M28: 0 | N28: 0 | O28: {=IFERROR(_xlfn.XLOOKUP(B28,'G4'!$AP$4:$AP$34,'G4'!$AQ$4:$AT$34),0)} -> 0 | P28: 0 | Q28: 0 | R28: 0 | S28: {=IFERROR(_xlfn.XLOOKUP(B28,'G5'!$AP$4:$AP$34,'G5'!$AQ$4:$AT$34),0)} -> 0 | T28: 0 | U28: 0 | V28: 0 | W28: {=IFERROR(_xlfn.XLOOKUP(B28,'G6'!$AP$4:$AP$34,'G6'!$AQ$4:$AT$34),0)} -> 0 | X28: 0 | Y28: 0 | Z28: 0 | AA28: =+C28+G28+K28+O28+S28+W28 -> 0 | AB28: =+D28+H28+L28+P28+T28+X28 -> 0 | AC28: =+E28+I28+M28+Q28+U28+Y28 -> 0 | AD28: =+F28+J28+N28+R28+V28+Z28 -> 0 | AE28: =+AB28/AA28 -> #DIV/0!
C29: {=IFERROR(_xlfn.XLOOKUP(B29,'G1'!$AP$4:$AP$34,'G1'!$AQ$4:$AT$34),0)} -> 0 | D29: 0 | E29: 0 | F29: 0 | G29: {=IFERROR(_xlfn.XLOOKUP(B29,'G2'!$AP$4:$AP$34,'G2'!$AQ$4:$AT$34),0)} -> 0 | H29: 0 | I29: 0 | J29: 0 | K29: {=IFERROR(_xlfn.XLOOKUP(B29,'G3'!$AP$4:$AP$34,'G3'!$AQ$4:$AT$34),0)} -> 0 | L29: 0 | M29: 0 | N29: 0 | O29: {=IFERROR(_xlfn.XLOOKUP(B29,'G4'!$AP$4:$AP$34,'G4'!$AQ$4:$AT$34),0)} -> 0 | P29: 0 | Q29: 0 | R29: 0 | S29: {=IFERROR(_xlfn.XLOOKUP(B29,'G5'!$AP$4:$AP$34,'G5'!$AQ$4:$AT$34),0)} -> 0 | T29: 0 | U29: 0 | V29: 0 | W29: {=IFERROR(_xlfn.XLOOKUP(B29,'G6'!$AP$4:$AP$34,'G6'!$AQ$4:$AT$34),0)} -> 0 | X29: 0 | Y29: 0 | Z29: 0 | AA29: =+C29+G29+K29+O29+S29+W29 -> 0 | AB29: =+D29+H29+L29+P29+T29+X29 -> 0 | AC29: =+E29+I29+M29+Q29+U29+Y29 -> 0 | AD29: =+F29+J29+N29+R29+V29+Z29 -> 0 | AE29: =+AB29/AA29 -> #DIV/0!
C30: =SUM(C19:C29) -> 22 | D30: =SUM(D19:D29) -> 4 | E30: =SUM(E19:E29) -> 15 | F30: =SUM(F19:F29) -> 7 | G30: =SUM(G19:G29) -> 24 | H30: =SUM(H19:H29) -> 6 | I30: =SUM(I19:I29) -> 14 | J30: =SUM(J19:J29) -> 12 | ... AD30: =SUM(AD19:AD29) -> 19 | AE30: =+AB30/AA30 -> 0.2173913
A32: C | B32: 夜魔俠 | C32: G1 | G32: G2 | K32: G3 | O32: G4 | S32: G5 | W32: G6 | AA32: 數據
A33: 背號 | B33: 姓名 | C33: AB | D33: R | E33: K | F33: P | G33: AB | H33: R | I33: K | J33: P | K33: AB | L33: R | M33: K | N33: P | O33: AB | P33: R | Q33: K | R33: P | S33: AB | T33: R | U33: K | V33: P | W33: AB | X33: R | Y33: K | Z33: P | AA33: AB | AB33: R | AC33: K | AD33: P | AE33: 打擊率 (R/AB)
A34: 18 | B34: 梁耿縉 | C34: {=IFERROR(_xlfn.XLOOKUP(B34,'G1'!$AP$4:$AP$34,'G1'!$AQ$4:$AT$34),0)} -> 0 | G34: {=IFERROR(_xlfn.XLOOKUP(B34,'G2'!$AP$4:$AP$34,'G2'!$AQ$4:$AT$34),0)} -> 4 | H34: 2 | I34: 1 | J34: 0 | K34: {=IFERROR(_xlfn.XLOOKUP(B34,'G3'!$AP$4:$AP$34,'G3'!$AQ$4:$AT$34),0)} -> 0 | O34: {=IFERROR(_xlfn.XLOOKUP(B34,'G4'!$AP$4:$AP$34,'G4'!$AQ$4:$AT$34),0)} -> 0 | P34: 0 | Q34: 0 | R34: 0 | S34: {=IFERROR(_xlfn.XLOOKUP(B34,'G5'!$AP$4:$AP$34,'G5'!$AQ$4:$AT$34),0)} -> 0 | T34: 0 | U34: 0 | V34: 0 | W34: {=IFERROR(_xlfn.XLOOKUP(B34,'G6'!$AP$4:$AP$34,'G6'!$AQ$4:$AT$34),0)} -> 0 | AA34: =+C34+G34+K34+O34+S34+W34 -> 4 | AB34: =+D34+H34+L34+P34+T34+X34 -> 2 | AC34: =+E34+I34+M34+Q34+U34+Y34 -> 1 | AD34: =+F34+J34+N34+R34+V34+Z34 -> 0 | AE34: =+AB34/AA34 -> 0.5
A35: 11 | B35: 勞恩以達西拔 | C35: {=IFERROR(_xlfn.XLOOKUP(B35,'G1'!$AP$4:$AP$34,'G1'!$AQ$4:$AT$34),0)} -> 0 | G35: {=IFERROR(_xlfn.XLOOKUP(B35,'G2'!$AP$4:$AP$34,'G2'!$AQ$4:$AT$34),0)} -> 5 | H35: 2 | I35: 2 | J35: 0 | K35: {=IFERROR(_xlfn.XLOOKUP(B35,'G3'!$AP$4:$AP$34,'G3'!$AQ$4:$AT$34),0)} -> 0 | L35: 0 | M35: 0 | N35: 0 | O35: {=IFERROR(_xlfn.XLOOKUP(B35,'G4'!$AP$4:$AP$34,'G4'!$AQ$4:$AT$34),0)} -> 0 | P35: 0 | Q35: 0 | R35: 0 | S35: {=IFERROR(_xlfn.XLOOKUP(B35,'G5'!$AP$4:$AP$34,'G5'!$AQ$4:$AT$34),0)} -> 0 | T35: 0 | U35: 0 | V35: 0 | W35: {=IFERROR(_xlfn.XLOOKUP(B35,'G6'!$AP$4:$AP$34,'G6'!$AQ$4:$AT$34),0)} -> 0 | AA35: =+C35+G35+K35+O35+S35+W35 -> 5 | AB35: =+D35+H35+L35+P35+T35+X35 -> 2 | AC35: =+E35+I35+M35+Q35+U35+Y35 -> 2 | AD35: =+F35+J35+N35+R35+V35+Z35 -> 0 | AE35: =+AB35/AA35 -> 0.4
A36: 39 | B36: 郭亦倫 | C36: {=IFERROR(_xlfn.XLOOKUP(B36,'G1'!$AP$4:$AP$34,'G1'!$AQ$4:$AT$34),0)} -> 0 | G36: {=IFERROR(_xlfn.XLOOKUP(B36,'G2'!$AP$4:$AP$34,'G2'!$AQ$4:$AT$34),0)} -> 5 | H36: 1 | I36: 1 | J36: 0 | K36: {=IFERROR(_xlfn.XLOOKUP(B36,'G3'!$AP$4:$AP$34,'G3'!$AQ$4:$AT$34),0)} -> 0 | L36: 0 | M36: 0 | N36: 0 | O36: {=IFERROR(_xlfn.XLOOKUP(B36,'G4'!$AP$4:$AP$34,'G4'!$AQ$4:$AT$34),0)} -> 0 | P36: 0 | Q36: 0 | R36: 0 | S36: {=IFERROR(_xlfn.XLOOKUP(B36,'G5'!$AP$4:$AP$34,'G5'!$AQ$4:$AT$34),0)} -> 0 | T36: 0 | U36: 0 | V36: 0 | W36: {=IFERROR(_xlfn.XLOOKUP(B36,'G6'!$AP$4:$AP$34,'G6'!$AQ$4:$AT$34),0)} -> 0 | AA36: =+C36+G36+K36+O36+S36+W36 -> 5 | AB36: =+D36+H36+L36+P36+T36+X36 -> 1 | AC36: =+E36+I36+M36+Q36+U36+Y36 -> 1 | AD36: =+F36+J36+N36+R36+V36+Z36 -> 0 | AE36: =+AB36/AA36 -> 0.2
A37: 22 | B37: 蔡存宥 | C37: {=IFERROR(_xlfn.XLOOKUP(B37,'G1'!$AP$4:$AP$34,'G1'!$AQ$4:$AT$34),0)} -> 0 | G37: {=IFERROR(_xlfn.XLOOKUP(B37,'G2'!$AP$4:$AP$34,'G2'!$AQ$4:$AT$34),0)} -> 5 | H37: 3 | I37: 2 | J37: 2 | K37: {=IFERROR(_xlfn.XLOOKUP(B37,'G3'!$AP$4:$AP$34,'G3'!$AQ$4:$AT$34),0)} -> 0 | L37: 0 | M37: 0 | N37: 0 | O37: {=IFERROR(_xlfn.XLOOKUP(B37,'G4'!$AP$4:$AP$34,'G4'!$AQ$4:$AT$34),0)} -> 0 | P37: 0 | Q37: 0 | R37: 0 | S37: {=IFERROR(_xlfn.XLOOKUP(B37,'G5'!$AP$4:$AP$34,'G5'!$AQ$4:$AT$34),0)} -> 0 | T37: 0 | U37: 0 | V37: 0 | W37: {=IFERROR(_xlfn.XLOOKUP(B37,'G6'!$AP$4:$AP$34,'G6'!$AQ$4:$AT$34),0)} -> 0 | AA37: =+C37+G37+K37+O37+S37+W37 -> 5 | AB37: =+D37+H37+L37+P37+T37+X37 -> 3 | AC37: =+E37+I37+M37+Q37+U37+Y37 -> 2 | AD37: =+F37+J37+N37+R37+V37+Z37 -> 2 | AE37: =+AB37/AA37 -> 0.6
A38: 37 | B38: 古國偉 | C38: {=IFERROR(_xlfn.XLOOKUP(B38,'G1'!$AP$4:$AP$34,'G1'!$AQ$4:$AT$34),0)} -> 0 | G38: {=IFERROR(_xlfn.XLOOKUP(B38,'G2'!$AP$4:$AP$34,'G2'!$AQ$4:$AT$34),0)} -> 3 | H38: 1 | I38: 2 | J38: 0 | K38: {=IFERROR(_xlfn.XLOOKUP(B38,'G3'!$AP$4:$AP$34,'G3'!$AQ$4:$AT$34),0)} -> 0 | L38: 0 | M38: 0 | N38: 0 | O38: {=IFERROR(_xlfn.XLOOKUP(B38,'G4'!$AP$4:$AP$34,'G4'!$AQ$4:$AT$34),0)} -> 0 | P38: 0 | Q38: 0 | R38: 0 | S38: {=IFERROR(_xlfn.XLOOKUP(B38,'G5'!$AP$4:$AP$34,'G5'!$AQ$4:$AT$34),0)} -> 0 | T38: 0 | U38: 0 | V38: 0 | W38: {=IFERROR(_xlfn.XLOOKUP(B38,'G6'!$AP$4:$AP$34,'G6'!$AQ$4:$AT$34),0)} -> 0 | AA38: =+C38+G38+K38+O38+S38+W38 -> 3 | AB38: =+D38+H38+L38+P38+T38+X38 -> 1 | AC38: =+E38+I38+M38+Q38+U38+Y38 -> 2 | AD38: =+F38+J38+N38+R38+V38+Z38 -> 0 | AE38: =+AB38/AA38 -> 0.33333333
A39: 81 | B39: 余自成 | C39: {=IFERROR(_xlfn.XLOOKUP(B39,'G1'!$AP$4:$AP$34,'G1'!$AQ$4:$AT$34),0)} -> 0 | G39: {=IFERROR(_xlfn.XLOOKUP(B39,'G2'!$AP$4:$AP$34,'G2'!$AQ$4:$AT$34),0)} -> 2 | H39: 0 | I39: 0 | J39: 0 | K39: {=IFERROR(_xlfn.XLOOKUP(B39,'G3'!$AP$4:$AP$34,'G3'!$AQ$4:$AT$34),0)} -> 0 | L39: 0 | M39: 0 | N39: 0 | O39: {=IFERROR(_xlfn.XLOOKUP(B39,'G4'!$AP$4:$AP$34,'G4'!$AQ$4:$AT$34),0)} -> 0 | S39: {=IFERROR(_xlfn.XLOOKUP(B39,'G5'!$AP$4:$AP$34,'G5'!$AQ$4:$AT$34),0)} -> 0 | W39: {=IFERROR(_xlfn.XLOOKUP(B39,'G6'!$AP$4:$AP$34,'G6'!$AQ$4:$AT$34),0)} -> 0 | AA39: =+C39+G39+K39+O39+S39+W39 -> 2 | AB39: =+D39+H39+L39+P39+T39+X39 -> 0 | AC39: =+E39+I39+M39+Q39+U39+Y39 -> 0 | AD39: =+F39+J39+N39+R39+V39+Z39 -> 0 | AE39: =+AB39/AA39 -> 0
A40: 58 | B40: 蔡孟洵 | C40: {=IFERROR(_xlfn.XLOOKUP(B40,'G1'!$AP$4:$AP$34,'G1'!$AQ$4:$AT$34),0)} -> 0 | G40: {=IFERROR(_xlfn.XLOOKUP(B40,'G2'!$AP$4:$AP$34,'G2'!$AQ$4:$AT$34),0)} -> 0 | K40: {=IFERROR(_xlfn.XLOOKUP(B40,'G3'!$AP$4:$AP$34,'G3'!$AQ$4:$AT$34),0)} -> 0 | L40: 0 | M40: 0 | N40: 0 | O40: {=IFERROR(_xlfn.XLOOKUP(B40,'G4'!$AP$4:$AP$34,'G4'!$AQ$4:$AT$34),0)} -> 0 | P40: 0 | Q40: 0 | R40: 0 | S40: {=IFERROR(_xlfn.XLOOKUP(B40,'G5'!$AP$4:$AP$34,'G5'!$AQ$4:$AT$34),0)} -> 0 | T40: 0 | U40: 0 | V40: 0 | W40: {=IFERROR(_xlfn.XLOOKUP(B40,'G6'!$AP$4:$AP$34,'G6'!$AQ$4:$AT$34),0)} -> 0 | AA40: =+C40+G40+K40+O40+S40+W40 -> 0 | AB40: =+D40+H40+L40+P40+T40+X40 -> 0 | AC40: =+E40+I40+M40+Q40+U40+Y40 -> 0 | AD40: =+F40+J40+N40+R40+V40+Z40 -> 0 | AE40: =+AB40/AA40 -> #DIV/0!
A41: 0 | B41: 吳品逸 | C41: {=IFERROR(_xlfn.XLOOKUP(B41,'G1'!$AP$4:$AP$34,'G1'!$AQ$4:$AT$34),0)} -> 0 | G41: {=IFERROR(_xlfn.XLOOKUP(B41,'G2'!$AP$4:$AP$34,'G2'!$AQ$4:$AT$34),0)} -> 5 | H41: 3 | I41: 0 | J41: 0 | K41: {=IFERROR(_xlfn.XLOOKUP(B41,'G3'!$AP$4:$AP$34,'G3'!$AQ$4:$AT$34),0)} -> 0 | L41: 0 | M41: 0 | N41: 0 | O41: {=IFERROR(_xlfn.XLOOKUP(B41,'G4'!$AP$4:$AP$34,'G4'!$AQ$4:$AT$34),0)} -> 0 | P41: 0 | Q41: 0 | R41: 0 | S41: {=IFERROR(_xlfn.XLOOKUP(B41,'G5'!$AP$4:$AP$34,'G5'!$AQ$4:$AT$34),0)} -> 0 | T41: 0 | U41: 0 | V41: 0 | W41: {=IFERROR(_xlfn.XLOOKUP(B41,'G6'!$AP$4:$AP$34,'G6'!$AQ$4:$AT$34),0)} -> 0 | AA41: =+C41+G41+K41+O41+S41+W41 -> 5 | AB41: =+D41+H41+L41+P41+T41+X41 -> 3 | AC41: =+E41+I41+M41+Q41+U41+Y41 -> 0 | AD41: =+F41+J41+N41+R41+V41+Z41 -> 0 | AE41: =+AB41/AA41 -> 0.6
A42: 36 | B42: 張雅恩 | C42: {=IFERROR(_xlfn.XLOOKUP(B42,'G1'!$AP$4:$AP$34,'G1'!$AQ$4:$AT$34),0)} -> 0 | G42: {=IFERROR(_xlfn.XLOOKUP(B42,'G2'!$AP$4:$AP$34,'G2'!$AQ$4:$AT$34),0)} -> 0 | K42: {=IFERROR(_xlfn.XLOOKUP(B42,'G3'!$AP$4:$AP$34,'G3'!$AQ$4:$AT$34),0)} -> 0 | L42: 0 | M42: 0 | N42: 0 | O42: {=IFERROR(_xlfn.XLOOKUP(B42,'G4'!$AP$4:$AP$34,'G4'!$AQ$4:$AT$34),0)} -> 0 | P42: 0 | Q42: 0 | R42: 0 | S42: {=IFERROR(_xlfn.XLOOKUP(B42,'G5'!$AP$4:$AP$34,'G5'!$AQ$4:$AT$34),0)} -> 0 | T42: 0 | U42: 0 | V42: 0 | W42: {=IFERROR(_xlfn.XLOOKUP(B42,'G6'!$AP$4:$AP$34,'G6'!$AQ$4:$AT$34),0)} -> 0 | AA42: =+C42+G42+K42+O42+S42+W42 -> 0 | AB42: =+D42+H42+L42+P42+T42+X42 -> 0 | AC42: =+E42+I42+M42+Q42+U42+Y42 -> 0 | AD42: =+F42+J42+N42+R42+V42+Z42 -> 0 | AE42: =+AB42/AA42 -> #DIV/0!
A43: 26 | B43: 李怡慧 | C43: {=IFERROR(_xlfn.XLOOKUP(B43,'G1'!$AP$4:$AP$34,'G1'!$AQ$4:$AT$34),0)} -> 0 | G43: {=IFERROR(_xlfn.XLOOKUP(B43,'G2'!$AP$4:$AP$34,'G2'!$AQ$4:$AT$34),0)} -> 2 | H43: 1 | I43: 0 | J43: 2 | K43: {=IFERROR(_xlfn.XLOOKUP(B43,'G3'!$AP$4:$AP$34,'G3'!$AQ$4:$AT$34),0)} -> 0 | O43: {=IFERROR(_xlfn.XLOOKUP(B43,'G4'!$AP$4:$AP$34,'G4'!$AQ$4:$AT$34),0)} -> 0 | S43: {=IFERROR(_xlfn.XLOOKUP(B43,'G5'!$AP$4:$AP$34,'G5'!$AQ$4:$AT$34),0)} -> 0 | W43: {=IFERROR(_xlfn.XLOOKUP(B43,'G6'!$AP$4:$AP$34,'G6'!$AQ$4:$AT$34),0)} -> 0 | AA43: =+C43+G43+K43+O43+S43+W43 -> 2 | AB43: =+D43+H43+L43+P43+T43+X43 -> 1 | AC43: =+E43+I43+M43+Q43+U43+Y43 -> 0 | AD43: =+F43+J43+N43+R43+V43+Z43 -> 2 | AE43: =+AB43/AA43 -> 0.5
A44: 10 | B44: 宋晴天 | C44: {=IFERROR(_xlfn.XLOOKUP(B44,'G1'!$AP$4:$AP$34,'G1'!$AQ$4:$AT$34),0)} -> 0 | G44: {=IFERROR(_xlfn.XLOOKUP(B44,'G2'!$AP$4:$AP$34,'G2'!$AQ$4:$AT$34),0)} -> 0 | H44: 0 | I44: 0 | J44: 0 | K44: {=IFERROR(_xlfn.XLOOKUP(B44,'G3'!$AP$4:$AP$34,'G3'!$AQ$4:$AT$34),0)} -> 0 | O44: {=IFERROR(_xlfn.XLOOKUP(B44,'G4'!$AP$4:$AP$34,'G4'!$AQ$4:$AT$34),0)} -> 0 | S44: {=IFERROR(_xlfn.XLOOKUP(B44,'G5'!$AP$4:$AP$34,'G5'!$AQ$4:$AT$34),0)} -> 0 | W44: {=IFERROR(_xlfn.XLOOKUP(B44,'G6'!$AP$4:$AP$34,'G6'!$AQ$4:$AT$34),0)} -> 0 | AA44: =+C44+G44+K44+O44+S44+W44 -> 0 | AB44: =+D44+H44+L44+P44+T44+X44 -> 0 | AC44: =+E44+I44+M44+Q44+U44+Y44 -> 0 | AD44: =+F44+J44+N44+R44+V44+Z44 -> 0 | AE44: =+AB44/AA44 -> #DIV/0!
C45: =SUM(C34:C44) -> 0 | D45: =SUM(D34:D44) -> 0 | E45: =SUM(E34:E44) -> 0 | F45: =SUM(F34:F44) -> 0 | G45: =SUM(G34:G44) -> 31 | H45: =SUM(H34:H44) -> 13 | I45: =SUM(I34:I44) -> 8 | J45: =SUM(J34:J44) -> 4 | ... AD45: =SUM(AD34:AD44) -> 4 | AE45: =+AB45/AA45 -> 0.41935484
A47: D | C47: G1 | G47: G2 | K47: G3 | O47: G4 | S47: G5 | W47: G6 | AA47: 數據
A48: 背號 | B48: 姓名 | C48: AB | D48: R | E48: K | F48: P | G48: AB | H48: R | I48: K | J48: P | K48: AB | L48: R | M48: K | N48: P | O48: AB | P48: R | Q48: K | R48: P | S48: AB | T48: R | U48: K | V48: P | W48: AB | X48: R | Y48: K | Z48: P | AA48: AB | AB48: R | AC48: K | AD48: P | AE48: 打擊率 (R/AB)
C49: {=IFERROR(_xlfn.XLOOKUP(B49,'G1'!$AP$4:$AP$34,'G1'!$AQ$4:$AT$34),0)} -> 0 | D49: 0 | E49: 0 | F49: 0 | G49: {=IFERROR(_xlfn.XLOOKUP(B49,'G2'!$AP$4:$AP$34,'G2'!$AQ$4:$AT$34),0)} -> 0 | H49: 0 | I49: 0 | J49: 0 | K49: {=IFERROR(_xlfn.XLOOKUP(B49,'G3'!$AP$4:$AP$34,'G3'!$AQ$4:$AT$34),0)} -> 0 | L49: 0 | M49: 0 | N49: 0 | O49: {=IFERROR(_xlfn.XLOOKUP(B49,'G4'!$AP$4:$AP$34,'G4'!$AQ$4:$AT$34),0)} -> 0 | P49: 0 | Q49: 0 | R49: 0 | S49: {=IFERROR(_xlfn.XLOOKUP(B49,'G5'!$AP$4:$AP$34,'G5'!$AQ$4:$AT$34),0)} -> 0 | T49: 0 | U49: 0 | V49: 0 | W49: {=IFERROR(_xlfn.XLOOKUP(B49,'G6'!$AP$4:$AP$34,'G6'!$AQ$4:$AT$34),0)} -> 0 | X49: 0 | Y49: 0 | Z49: 0 | AA49: =+C49+G49+K49+O49+S49+W49 -> 0 | AB49: =+D49+H49+L49+P49+T49+X49 -> 0 | AC49: =+E49+I49+M49+Q49+U49+Y49 -> 0 | AD49: =+F49+J49+N49+R49+V49+Z49 -> 0 | AE49: =+AB49/AA49 -> #DIV/0!
C50: {=IFERROR(_xlfn.XLOOKUP(B50,'G1'!$AP$4:$AP$34,'G1'!$AQ$4:$AT$34),0)} -> 0 | D50: 0 | E50: 0 | F50: 0 | G50: {=IFERROR(_xlfn.XLOOKUP(B50,'G2'!$AP$4:$AP$34,'G2'!$AQ$4:$AT$34),0)} -> 0 | H50: 0 | I50: 0 | J50: 0 | K50: {=IFERROR(_xlfn.XLOOKUP(B50,'G3'!$AP$4:$AP$34,'G3'!$AQ$4:$AT$34),0)} -> 0 | L50: 0 | M50: 0 | N50: 0 | O50: {=IFERROR(_xlfn.XLOOKUP(B50,'G4'!$AP$4:$AP$34,'G4'!$AQ$4:$AT$34),0)} -> 0 | P50: 0 | Q50: 0 | R50: 0 | S50: {=IFERROR(_xlfn.XLOOKUP(B50,'G5'!$AP$4:$AP$34,'G5'!$AQ$4:$AT$34),0)} -> 0 | T50: 0 | U50: 0 | V50: 0 | W50: {=IFERROR(_xlfn.XLOOKUP(B50,'G6'!$AP$4:$AP$34,'G6'!$AQ$4:$AT$34),0)} -> 0 | X50: 0 | Y50: 0 | Z50: 0 | AA50: =+C50+G50+K50+O50+S50+W50 -> 0 | AB50: =+D50+H50+L50+P50+T50+X50 -> 0 | AC50: =+E50+I50+M50+Q50+U50+Y50 -> 0 | AD50: =+F50+J50+N50+R50+V50+Z50 -> 0 | AE50: =+AB50/AA50 -> #DIV/0!
C51: {=IFERROR(_xlfn.XLOOKUP(B51,'G1'!$AP$4:$AP$34,'G1'!$AQ$4:$AT$34),0)} -> 0 | D51: 0 | E51: 0 | F51: 0 | G51: {=IFERROR(_xlfn.XLOOKUP(B51,'G2'!$AP$4:$AP$34,'G2'!$AQ$4:$AT$34),0)} -> 0 | H51: 0 | I51: 0 | J51: 0 | K51: {=IFERROR(_xlfn.XLOOKUP(B51,'G3'!$AP$4:$AP$34,'G3'!$AQ$4:$AT$34),0)} -> 0 | L51: 0 | M51: 0 | N51: 0 | O51: {=IFERROR(_xlfn.XLOOKUP(B51,'G4'!$AP$4:$AP$34,'G4'!$AQ$4:$AT$34),0)} -> 0 | P51: 0 | Q51: 0 | R51: 0 | S51: {=IFERROR(_xlfn.XLOOKUP(B51,'G5'!$AP$4:$AP$34,'G5'!$AQ$4:$AT$34),0)} -> 0 | T51: 0 | U51: 0 | V51: 0 | W51: {=IFERROR(_xlfn.XLOOKUP(B51,'G6'!$AP$4:$AP$34,'G6'!$AQ$4:$AT$34),0)} -> 0 | X51: 0 | Y51: 0 | Z51: 0 | AA51: =+C51+G51+K51+O51+S51+W51 -> 0 | AB51: =+D51+H51+L51+P51+T51+X51 -> 0 | AC51: =+E51+I51+M51+Q51+U51+Y51 -> 0 | AD51: =+F51+J51+N51+R51+V51+Z51 -> 0 | AE51: =+AB51/AA51 -> #DIV/0!
C52: {=IFERROR(_xlfn.XLOOKUP(B52,'G1'!$AP$4:$AP$34,'G1'!$AQ$4:$AT$34),0)} -> 0 | D52: 0 | E52: 0 | F52: 0 | G52: {=IFERROR(_xlfn.XLOOKUP(B52,'G2'!$AP$4:$AP$34,'G2'!$AQ$4:$AT$34),0)} -> 0 | H52: 0 | I52: 0 | J52: 0 | K52: {=IFERROR(_xlfn.XLOOKUP(B52,'G3'!$AP$4:$AP$34,'G3'!$AQ$4:$AT$34),0)} -> 0 | L52: 0 | M52: 0 | N52: 0 | O52: {=IFERROR(_xlfn.XLOOKUP(B52,'G4'!$AP$4:$AP$34,'G4'!$AQ$4:$AT$34),0)} -> 0 | P52: 0 | Q52: 0 | R52: 0 | S52: {=IFERROR(_xlfn.XLOOKUP(B52,'G5'!$AP$4:$AP$34,'G5'!$AQ$4:$AT$34),0)} -> 0 | T52: 0 | U52: 0 | V52: 0 | W52: {=IFERROR(_xlfn.XLOOKUP(B52,'G6'!$AP$4:$AP$34,'G6'!$AQ$4:$AT$34),0)} -> 0 | X52: 0 | Y52: 0 | Z52: 0 | AA52: =+C52+G52+K52+O52+S52+W52 -> 0 | AB52: =+D52+H52+L52+P52+T52+X52 -> 0 | AC52: =+E52+I52+M52+Q52+U52+Y52 -> 0 | AD52: =+F52+J52+N52+R52+V52+Z52 -> 0 | AE52: =+AB52/AA52 -> #DIV/0!
C53: {=IFERROR(_xlfn.XLOOKUP(B53,'G1'!$AP$4:$AP$34,'G1'!$AQ$4:$AT$34),0)} -> 0 | D53: 0 | E53: 0 | F53: 0 | G53: {=IFERROR(_xlfn.XLOOKUP(B53,'G2'!$AP$4:$AP$34,'G2'!$AQ$4:$AT$34),0)} -> 0 | H53: 0 | I53: 0 | J53: 0 | K53: {=IFERROR(_xlfn.XLOOKUP(B53,'G3'!$AP$4:$AP$34,'G3'!$AQ$4:$AT$34),0)} -> 0 | L53: 0 | M53: 0 | N53: 0 | O53: {=IFERROR(_xlfn.XLOOKUP(B53,'G4'!$AP$4:$AP$34,'G4'!$AQ$4:$AT$34),0)} -> 0 | P53: 0 | Q53: 0 | R53: 0 | S53: {=IFERROR(_xlfn.XLOOKUP(B53,'G5'!$AP$4:$AP$34,'G5'!$AQ$4:$AT$34),0)} -> 0 | T53: 0 | U53: 0 | V53: 0 | W53: {=IFERROR(_xlfn.XLOOKUP(B53,'G6'!$AP$4:$AP$34,'G6'!$AQ$4:$AT$34),0)} -> 0 | X53: 0 | Y53: 0 | Z53: 0 | AA53: =+C53+G53+K53+O53+S53+W53 -> 0 | AB53: =+D53+H53+L53+P53+T53+X53 -> 0 | AC53: =+E53+I53+M53+Q53+U53+Y53 -> 0 | AD53: =+F53+J53+N53+R53+V53+Z53 -> 0 | AE53: =+AB53/AA53 -> #DIV/0!
C54: {=IFERROR(_xlfn.XLOOKUP(B54,'G1'!$AP$4:$AP$34,'G1'!$AQ$4:$AT$34),0)} -> 0 | D54: 0 | E54: 0 | F54: 0 | G54: {=IFERROR(_xlfn.XLOOKUP(B54,'G2'!$AP$4:$AP$34,'G2'!$AQ$4:$AT$34),0)} -> 0 | H54: 0 | I54: 0 | J54: 0 | K54: {=IFERROR(_xlfn.XLOOKUP(B54,'G3'!$AP$4:$AP$34,'G3'!$AQ$4:$AT$34),0)} -> 0 | L54: 0 | M54: 0 | N54: 0 | O54: {=IFERROR(_xlfn.XLOOKUP(B54,'G4'!$AP$4:$AP$34,'G4'!$AQ$4:$AT$34),0)} -> 0 | P54: 0 | Q54: 0 | R54: 0 | S54: {=IFERROR(_xlfn.XLOOKUP(B54,'G5'!$AP$4:$AP$34,'G5'!$AQ$4:$AT$34),0)} -> 0 | T54: 0 | U54: 0 | V54: 0 | W54: {=IFERROR(_xlfn.XLOOKUP(B54,'G6'!$AP$4:$AP$34,'G6'!$AQ$4:$AT$34),0)} -> 0 | X54: 0 | Y54: 0 | Z54: 0 | AA54: =+C54+G54+K54+O54+S54+W54 -> 0 | AB54: =+D54+H54+L54+P54+T54+X54 -> 0 | AC54: =+E54+I54+M54+Q54+U54+Y54 -> 0 | AD54: =+F54+J54+N54+R54+V54+Z54 -> 0 | AE54: =+AB54/AA54 -> #DIV/0!
C55: {=IFERROR(_xlfn.XLOOKUP(B55,'G1'!$AP$4:$AP$34,'G1'!$AQ$4:$AT$34),0)} -> 0 | D55: 0 | E55: 0 | F55: 0 | G55: {=IFERROR(_xlfn.XLOOKUP(B55,'G2'!$AP$4:$AP$34,'G2'!$AQ$4:$AT$34),0)} -> 0 | H55: 0 | I55: 0 | J55: 0 | K55: {=IFERROR(_xlfn.XLOOKUP(B55,'G3'!$AP$4:$AP$34,'G3'!$AQ$4:$AT$34),0)} -> 0 | L55: 0 | M55: 0 | N55: 0 | O55: {=IFERROR(_xlfn.XLOOKUP(B55,'G4'!$AP$4:$AP$34,'G4'!$AQ$4:$AT$34),0)} -> 0 | P55: 0 | Q55: 0 | R55: 0 | S55: {=IFERROR(_xlfn.XLOOKUP(B55,'G5'!$AP$4:$AP$34,'G5'!$AQ$4:$AT$34),0)} -> 0 | T55: 0 | U55: 0 | V55: 0 | W55: {=IFERROR(_xlfn.XLOOKUP(B55,'G6'!$AP$4:$AP$34,'G6'!$AQ$4:$AT$34),0)} -> 0 | X55: 0 | Y55: 0 | Z55: 0 | AA55: =+C55+G55+K55+O55+S55+W55 -> 0 | AB55: =+D55+H55+L55+P55+T55+X55 -> 0 | AC55: =+E55+I55+M55+Q55+U55+Y55 -> 0 | AD55: =+F55+J55+N55+R55+V55+Z55 -> 0 | AE55: =+AB55/AA55 -> #DIV/0!
C56: {=IFERROR(_xlfn.XLOOKUP(B56,'G1'!$AP$4:$AP$34,'G1'!$AQ$4:$AT$34),0)} -> 0 | D56: 0 | E56: 0 | F56: 0 | G56: {=IFERROR(_xlfn.XLOOKUP(B56,'G2'!$AP$4:$AP$34,'G2'!$AQ$4:$AT$34),0)} -> 0 | H56: 0 | I56: 0 | J56: 0 | K56: {=IFERROR(_xlfn.XLOOKUP(B56,'G3'!$AP$4:$AP$34,'G3'!$AQ$4:$AT$34),0)} -> 0 | L56: 0 | M56: 0 | N56: 0 | O56: {=IFERROR(_xlfn.XLOOKUP(B56,'G4'!$AP$4:$AP$34,'G4'!$AQ$4:$AT$34),0)} -> 0 | P56: 0 | Q56: 0 | R56: 0 | S56: {=IFERROR(_xlfn.XLOOKUP(B56,'G5'!$AP$4:$AP$34,'G5'!$AQ$4:$AT$34),0)} -> 0 | T56: 0 | U56: 0 | V56: 0 | W56: {=IFERROR(_xlfn.XLOOKUP(B56,'G6'!$AP$4:$AP$34,'G6'!$AQ$4:$AT$34),0)} -> 0 | X56: 0 | Y56: 0 | Z56: 0 | AA56: =+C56+G56+K56+O56+S56+W56 -> 0 | AB56: =+D56+H56+L56+P56+T56+X56 -> 0 | AC56: =+E56+I56+M56+Q56+U56+Y56 -> 0 | AD56: =+F56+J56+N56+R56+V56+Z56 -> 0 | AE56: =+AB56/AA56 -> #DIV/0!
C57: {=IFERROR(_xlfn.XLOOKUP(B57,'G1'!$AP$4:$AP$34,'G1'!$AQ$4:$AT$34),0)} -> 0 | D57: 0 | E57: 0 | F57: 0 | G57: {=IFERROR(_xlfn.XLOOKUP(B57,'G2'!$AP$4:$AP$34,'G2'!$AQ$4:$AT$34),0)} -> 0 | H57: 0 | I57: 0 | J57: 0 | K57: {=IFERROR(_xlfn.XLOOKUP(B57,'G3'!$AP$4:$AP$34,'G3'!$AQ$4:$AT$34),0)} -> 0 | L57: 0 | M57: 0 | N57: 0 | O57: {=IFERROR(_xlfn.XLOOKUP(B57,'G4'!$AP$4:$AP$34,'G4'!$AQ$4:$AT$34),0)} -> 0 | P57: 0 | Q57: 0 | R57: 0 | S57: {=IFERROR(_xlfn.XLOOKUP(B57,'G5'!$AP$4:$AP$34,'G5'!$AQ$4:$AT$34),0)} -> 0 | T57: 0 | U57: 0 | V57: 0 | W57: {=IFERROR(_xlfn.XLOOKUP(B57,'G6'!$AP$4:$AP$34,'G6'!$AQ$4:$AT$34),0)} -> 0 | X57: 0 | Y57: 0 | Z57: 0 | AA57: =+C57+G57+K57+O57+S57+W57 -> 0 | AB57: =+D57+H57+L57+P57+T57+X57 -> 0 | AC57: =+E57+I57+M57+Q57+U57+Y57 -> 0 | AD57: =+F57+J57+N57+R57+V57+Z57 -> 0 | AE57: =+AB57/AA57 -> #DIV/0!
C58: {=IFERROR(_xlfn.XLOOKUP(B58,'G1'!$AP$4:$AP$34,'G1'!$AQ$4:$AT$34),0)} -> 0 | D58: 0 | E58: 0 | F58: 0 | G58: {=IFERROR(_xlfn.XLOOKUP(B58,'G2'!$AP$4:$AP$34,'G2'!$AQ$4:$AT$34),0)} -> 0 | H58: 0 | I58: 0 | J58: 0 | K58: {=IFERROR(_xlfn.XLOOKUP(B58,'G3'!$AP$4:$AP$34,'G3'!$AQ$4:$AT$34),0)} -> 0 | L58: 0 | M58: 0 | N58: 0 | O58: {=IFERROR(_xlfn.XLOOKUP(B58,'G4'!$AP$4:$AP$34,'G4'!$AQ$4:$AT$34),0)} -> 0 | P58: 0 | Q58: 0 | R58: 0 | S58: {=IFERROR(_xlfn.XLOOKUP(B58,'G5'!$AP$4:$AP$34,'G5'!$AQ$4:$AT$34),0)} -> 0 | T58: 0 | U58: 0 | V58: 0 | W58: {=IFERROR(_xlfn.XLOOKUP(B58,'G6'!$AP$4:$AP$34,'G6'!$AQ$4:$AT$34),0)} -> 0 | X58: 0 | Y58: 0 | Z58: 0 | AA58: =+C58+G58+K58+O58+S58+W58 -> 0 | AB58: =+D58+H58+L58+P58+T58+X58 -> 0 | AC58: =+E58+I58+M58+Q58+U58+Y58 -> 0 | AD58: =+F58+J58+N58+R58+V58+Z58 -> 0 | AE58: =+AB58/AA58 -> #DIV/0!
C59: {=IFERROR(_xlfn.XLOOKUP(B59,'G1'!$AP$4:$AP$34,'G1'!$AQ$4:$AT$34),0)} -> 0 | D59: 0 | E59: 0 | F59: 0 | G59: {=IFERROR(_xlfn.XLOOKUP(B59,'G2'!$AP$4:$AP$34,'G2'!$AQ$4:$AT$34),0)} -> 0 | H59: 0 | I59: 0 | J59: 0 | K59: {=IFERROR(_xlfn.XLOOKUP(B59,'G3'!$AP$4:$AP$34,'G3'!$AQ$4:$AT$34),0)} -> 0 | L59: 0 | M59: 0 | N59: 0 | O59: {=IFERROR(_xlfn.XLOOKUP(B59,'G4'!$AP$4:$AP$34,'G4'!$AQ$4:$AT$34),0)} -> 0 | P59: 0 | Q59: 0 | R59: 0 | S59: {=IFERROR(_xlfn.XLOOKUP(B59,'G5'!$AP$4:$AP$34,'G5'!$AQ$4:$AT$34),0)} -> 0 | T59: 0 | U59: 0 | V59: 0 | W59: {=IFERROR(_xlfn.XLOOKUP(B59,'G6'!$AP$4:$AP$34,'G6'!$AQ$4:$AT$34),0)} -> 0 | X59: 0 | Y59: 0 | Z59: 0 | AA59: =+C59+G59+K59+O59+S59+W59 -> 0 | AB59: =+D59+H59+L59+P59+T59+X59 -> 0 | AC59: =+E59+I59+M59+Q59+U59+Y59 -> 0 | AD59: =+F59+J59+N59+R59+V59+Z59 -> 0 | AE59: =+AB59/AA59 -> #DIV/0!
C60: {=IFERROR(_xlfn.XLOOKUP(B60,'G1'!$AP$4:$AP$34,'G1'!$AQ$4:$AT$34),0)} -> 0 | D60: 0 | E60: 0 | F60: 0 | G60: {=IFERROR(_xlfn.XLOOKUP(B60,'G2'!$AP$4:$AP$34,'G2'!$AQ$4:$AT$34),0)} -> 0 | H60: 0 | I60: 0 | J60: 0 | K60: {=IFERROR(_xlfn.XLOOKUP(B60,'G3'!$AP$4:$AP$34,'G3'!$AQ$4:$AT$34),0)} -> 0 | L60: 0 | M60: 0 | N60: 0 | O60: {=IFERROR(_xlfn.XLOOKUP(B60,'G4'!$AP$4:$AP$34,'G4'!$AQ$4:$AT$34),0)} -> 0 | P60: 0 | Q60: 0 | R60: 0 | S60: {=IFERROR(_xlfn.XLOOKUP(B60,'G5'!$AP$4:$AP$34,'G5'!$AQ$4:$AT$34),0)} -> 0 | T60: 0 | U60: 0 | V60: 0 | W60: {=IFERROR(_xlfn.XLOOKUP(B60,'G6'!$AP$4:$AP$34,'G6'!$AQ$4:$AT$34),0)} -> 0 | X60: 0 | Y60: 0 | Z60: 0 | AA60: =+C60+G60+K60+O60+S60+W60 -> 0 | AB60: =+D60+H60+L60+P60+T60+X60 -> 0 | AC60: =+E60+I60+M60+Q60+U60+Y60 -> 0 | AD60: =+F60+J60+N60+R60+V60+Z60 -> 0 | AE60: =+AB60/AA60 -> #DIV/0!
C61: {=IFERROR(_xlfn.XLOOKUP(B61,'G1'!$AP$4:$AP$34,'G1'!$AQ$4:$AT$34),0)} -> 0 | D61: 0 | E61: 0 | F61: 0 | G61: {=IFERROR(_xlfn.XLOOKUP(B61,'G2'!$AP$4:$AP$34,'G2'!$AQ$4:$AT$34),0)} -> 0 | H61: 0 | I61: 0 | J61: 0 | K61: {=IFERROR(_xlfn.XLOOKUP(B61,'G3'!$AP$4:$AP$34,'G3'!$AQ$4:$AT$34),0)} -> 0 | L61: 0 | M61: 0 | N61: 0 | O61: {=IFERROR(_xlfn.XLOOKUP(B61,'G4'!$AP$4:$AP$34,'G4'!$AQ$4:$AT$34),0)} -> 0 | P61: 0 | Q61: 0 | R61: 0 | S61: {=IFERROR(_xlfn.XLOOKUP(B61,'G5'!$AP$4:$AP$34,'G5'!$AQ$4:$AT$34),0)} -> 0 | T61: 0 | U61: 0 | V61: 0 | W61: {=IFERROR(_xlfn.XLOOKUP(B61,'G6'!$AP$4:$AP$34,'G6'!$AQ$4:$AT$34),0)} -> 0 | X61: 0 | Y61: 0 | Z61: 0 | AA61: =+C61+G61+K61+O61+S61+W61 -> 0 | AB61: =+D61+H61+L61+P61+T61+X61 -> 0 | AC61: =+E61+I61+M61+Q61+U61+Y61 -> 0 | AD61: =+F61+J61+N61+R61+V61+Z61 -> 0 | AE61: =+AB61/AA61 -> #DIV/0!
C62: =SUM(C49:C61) -> 0 | D62: =SUM(D49:D61) -> 0 | E62: =SUM(E49:E61) -> 0 | F62: =SUM(F49:F61) -> 0 | G62: =SUM(G49:G61) -> 0 | H62: =SUM(H49:H61) -> 0 | I62: =SUM(I49:I61) -> 0 | J62: =SUM(J49:J61) -> 0 | ... AD62: =SUM(AD49:AD61) -> 0 | AE62: =+AB62/AA62 -> #DIV/0!
B67: 投手成績 | C67: G1 | F67: G2 | I67: G3 | L67: G4 | O67: G5 | R67: G6 | U67: 數據
B68: 投手名單 | C68: AB | D68: R | E68: K | F68: AB | G68: R | H68: K | I68: AB | J68: R | K68: K | L68: AB | M68: R | N68: K | O68: AB | P68: R | Q68: K | R68: AB | S68: R | T68: K | U68: AB | V68: R | W68: K
B69: 宋展宇 | C69: {=IFERROR(_xlfn.XLOOKUP(B69,'G1'!$AV$5:$AV$27,'G1'!AW$5:AY$27),0)} -> 20 | D69: 2 | E69: 11 | F69: {=IFERROR(_xlfn.XLOOKUP(B69,'G2'!$AV$5:$AV$27,'G2'!AW$5:AY$27),0)} -> 0 | I69: {=IFERROR(_xlfn.XLOOKUP(B69,'G3'!$AV$5:$AV$27,'G3'!AW$5:AY$27),0)} -> 0 | L69: {=IFERROR(_xlfn.XLOOKUP(B69,'G4'!$AV$5:$AV$27,'G4'!AW$5:AY$27),0)} -> 0 | O69: {=IFERROR(_xlfn.XLOOKUP(B69,'G5'!$AV$5:$AV$27,'G5'!AW$5:AY$27),0)} -> 22 | P69: 7 | Q69: 12 | R69: {=IFERROR(_xlfn.XLOOKUP(B69,'G6'!$AV$5:$AV$27,'G6'!AW$5:AY$27),0)} -> 0 | U69: =C69+F69+I69+L69+O69+R69 -> 42 | V69: =D69+G69+J69+M69+P69+S69 -> 9 | W69: =E69+H69+K69+N69+Q69+T69 -> 23
B70: 江言鎧 | C70: {=IFERROR(_xlfn.XLOOKUP(B70,'G1'!$AV$5:$AV$27,'G1'!AW$5:AY$27),0)} -> 0 | F70: {=IFERROR(_xlfn.XLOOKUP(B70,'G2'!$AV$5:$AV$27,'G2'!AW$5:AY$27),0)} -> 0 | I70: {=IFERROR(_xlfn.XLOOKUP(B70,'G3'!$AV$5:$AV$27,'G3'!AW$5:AY$27),0)} -> 10 | J70: 1 | K70: 7 | L70: {=IFERROR(_xlfn.XLOOKUP(B70,'G4'!$AV$5:$AV$27,'G4'!AW$5:AY$27),0)} -> 0 | O70: {=IFERROR(_xlfn.XLOOKUP(B70,'G5'!$AV$5:$AV$27,'G5'!AW$5:AY$27),0)} -> 0 | R70: {=IFERROR(_xlfn.XLOOKUP(B70,'G6'!$AV$5:$AV$27,'G6'!AW$5:AY$27),0)} -> 0 | U70: =C70+F70+I70+L70+O70+R70 -> 10 | V70: =D70+G70+J70+M70+P70+S70 -> 1 | W70: =E70+H70+K70+N70+Q70+T70 -> 7
B71: 駱繼宗 | C71: {=IFERROR(_xlfn.XLOOKUP(B71,'G1'!$AV$5:$AV$27,'G1'!AW$5:AY$27),0)} -> 10 | D71: 1 | E71: 9 | F71: {=IFERROR(_xlfn.XLOOKUP(B71,'G2'!$AV$5:$AV$27,'G2'!AW$5:AY$27),0)} -> 0 | I71: {=IFERROR(_xlfn.XLOOKUP(B71,'G3'!$AV$5:$AV$27,'G3'!AW$5:AY$27),0)} -> 0 | L71: {=IFERROR(_xlfn.XLOOKUP(B71,'G4'!$AV$5:$AV$27,'G4'!AW$5:AY$27),0)} -> 24 | M71: 6 | N71: 11 | O71: {=IFERROR(_xlfn.XLOOKUP(B71,'G5'!$AV$5:$AV$27,'G5'!AW$5:AY$27),0)} -> 0 | R71: {=IFERROR(_xlfn.XLOOKUP(B71,'G6'!$AV$5:$AV$27,'G6'!AW$5:AY$27),0)} -> 0 | U71: =C71+F71+I71+L71+O71+R71 -> 34 | V71: =D71+G71+J71+M71+P71+S71 -> 7 | W71: =E71+H71+K71+N71+Q71+T71 -> 20
B72: 李裕仁 | C72: {=IFERROR(_xlfn.XLOOKUP(B72,'G1'!$AV$5:$AV$27,'G1'!AW$5:AY$27),0)} -> 12 | D72: 3 | E72: 6 | F72: {=IFERROR(_xlfn.XLOOKUP(B72,'G2'!$AV$5:$AV$27,'G2'!AW$5:AY$27),0)} -> 24 | G72: 6 | H72: 14 | I72: {=IFERROR(_xlfn.XLOOKUP(B72,'G3'!$AV$5:$AV$27,'G3'!AW$5:AY$27),0)} -> 0 | L72: {=IFERROR(_xlfn.XLOOKUP(B72,'G4'!$AV$5:$AV$27,'G4'!AW$5:AY$27),0)} -> 0 | O72: {=IFERROR(_xlfn.XLOOKUP(B72,'G5'!$AV$5:$AV$27,'G5'!AW$5:AY$27),0)} -> 0 | R72: {=IFERROR(_xlfn.XLOOKUP(B72,'G6'!$AV$5:$AV$27,'G6'!AW$5:AY$27),0)} -> 0 | U72: =C72+F72+I72+L72+O72+R72 -> 36 | V72: =D72+G72+J72+M72+P72+S72 -> 9 | W72: =E72+H72+K72+N72+Q72+T72 -> 20
B73: 陳相睿 | C73: {=IFERROR(_xlfn.XLOOKUP(B73,'G1'!$AV$5:$AV$27,'G1'!AW$5:AY$27),0)} -> 0 | F73: {=IFERROR(_xlfn.XLOOKUP(B73,'G2'!$AV$5:$AV$27,'G2'!AW$5:AY$27),0)} -> 31 | G73: 13 | H73: 8 | I73: {=IFERROR(_xlfn.XLOOKUP(B73,'G3'!$AV$5:$AV$27,'G3'!AW$5:AY$27),0)} -> 0 | L73: {=IFERROR(_xlfn.XLOOKUP(B73,'G4'!$AV$5:$AV$27,'G4'!AW$5:AY$27),0)} -> 0 | O73: {=IFERROR(_xlfn.XLOOKUP(B73,'G5'!$AV$5:$AV$27,'G5'!AW$5:AY$27),0)} -> 0 | R73: {=IFERROR(_xlfn.XLOOKUP(B73,'G6'!$AV$5:$AV$27,'G6'!AW$5:AY$27),0)} -> 0 | U73: =C73+F73+I73+L73+O73+R73 -> 31 | V73: =D73+G73+J73+M73+P73+S73 -> 13 | W73: =E73+H73+K73+N73+Q73+T73 -> 8
B74: 林春佑 | C74: {=IFERROR(_xlfn.XLOOKUP(B74,'G1'!$AV$5:$AV$27,'G1'!AW$5:AY$27),0)} -> 0 | F74: {=IFERROR(_xlfn.XLOOKUP(B74,'G2'!$AV$5:$AV$27,'G2'!AW$5:AY$27),0)} -> 0 | I74: {=IFERROR(_xlfn.XLOOKUP(B74,'G3'!$AV$5:$AV$27,'G3'!AW$5:AY$27),0)} -> 0 | L74: {=IFERROR(_xlfn.XLOOKUP(B74,'G4'!$AV$5:$AV$27,'G4'!AW$5:AY$27),0)} -> 28 | M74: 11 | N74: 11 | O74: {=IFERROR(_xlfn.XLOOKUP(B74,'G5'!$AV$5:$AV$27,'G5'!AW$5:AY$27),0)} -> 23 | P74: 11 | Q74: 4 | R74: {=IFERROR(_xlfn.XLOOKUP(B74,'G6'!$AV$5:$AV$27,'G6'!AW$5:AY$27),0)} -> 0 | U74: =C74+F74+I74+L74+O74+R74 -> 51 | V74: =D74+G74+J74+M74+P74+S74 -> 22 | W74: =E74+H74+K74+N74+Q74+T74 -> 15
B75: 王辰光 | C75: {=IFERROR(_xlfn.XLOOKUP(B75,'G1'!$AV$5:$AV$27,'G1'!AW$5:AY$27),0)} -> 0 | F75: {=IFERROR(_xlfn.XLOOKUP(B75,'G2'!$AV$5:$AV$27,'G2'!AW$5:AY$27),0)} -> 0 | I75: {=IFERROR(_xlfn.XLOOKUP(B75,'G3'!$AV$5:$AV$27,'G3'!AW$5:AY$27),0)} -> 9 | J75: 3 | K75: 3 | L75: {=IFERROR(_xlfn.XLOOKUP(B75,'G4'!$AV$5:$AV$27,'G4'!AW$5:AY$27),0)} -> 0 | O75: {=IFERROR(_xlfn.XLOOKUP(B75,'G5'!$AV$5:$AV$27,'G5'!AW$5:AY$27),0)} -> 0 | R75: {=IFERROR(_xlfn.XLOOKUP(B75,'G6'!$AV$5:$AV$27,'G6'!AW$5:AY$27),0)} -> 0 | U75: =C75+F75+I75+L75+O75+R75 -> 9 | V75: =D75+G75+J75+M75+P75+S75 -> 3 | W75: =E75+H75+K75+N75+Q75+T75 -> 3
C76: {=IFERROR(_xlfn.XLOOKUP(B76,'G1'!$AV$5:$AV$27,'G1'!AW$5:AY$27),0)} -> 0 | D76: 0 | E76: 0 | F76: {=IFERROR(_xlfn.XLOOKUP(B76,'G2'!$AV$5:$AV$27,'G2'!AW$5:AY$27),0)} -> 0 | G76: 0 | H76: 0 | I76: {=IFERROR(_xlfn.XLOOKUP(B76,'G3'!$AV$5:$AV$27,'G3'!AW$5:AY$27),0)} -> 0 | J76: 0 | K76: 0 | L76: {=IFERROR(_xlfn.XLOOKUP(B76,'G4'!$AV$5:$AV$27,'G4'!AW$5:AY$27),0)} -> 0 | M76: 0 | N76: 0 | O76: {=IFERROR(_xlfn.XLOOKUP(B76,'G5'!$AV$5:$AV$27,'G5'!AW$5:AY$27),0)} -> 0 | P76: 0 | Q76: 0 | R76: {=IFERROR(_xlfn.XLOOKUP(B76,'G6'!$AV$5:$AV$27,'G6'!AW$5:AY$27),0)} -> 0 | S76: 0 | T76: 0 | U76: =C76+F76+I76+L76+O76+R76 -> 0 | V76: =D76+G76+J76+M76+P76+S76 -> 0 | W76: =E76+H76+K76+N76+Q76+T76 -> 0

Sheet 總表排名
I2: IF(C4<6,"",D4/C4)
A3: 守備位置 | B3: 隊名 | C3: 姓名 | D3: AB | E3: R | F3: K | G3: P | H3: Def_G(場數) | I3: BA(打擊率) | J3: P/G(防守率) | K3: 打擊排行 | L3: 防守排行
A4: M | B4: 豹擊隊 | C4: {=_xlfn.CHOOSECOLS('成績匯總 (函數)'!$B$5:$AD$14,1,26,27,28,29)} -> #NAME? | D4: #NAME? | E4: #NAME? | F4: #NAME? | G4: #NAME? | H4: 3 | I4: =IF(D4<6,"",E4/D4) -> #NAME? | J4: =IF(H4<1,"",G4/H4) -> #NAME? | K4: =_xlfn.RANK.EQ(I4,$I$4:$I$53) -> #NAME? | L4: =_xlfn.RANK.EQ(J4,$J$4:$J$57) -> #NAME?
A5: M | B5: 豹擊隊 | C5: #NAME? | D5: #NAME? | E5: #NAME? | F5: #NAME? | G5: #NAME? | H5: 3 | I5: =IF(D5<6,"",E5/D5) -> #NAME? | J5: =IF(H5<1,"",G5/H5) -> #NAME? | K5: =_xlfn.RANK.EQ(I5,$I$4:$I$53) -> #NAME? | L5: =_xlfn.RANK.EQ(J5,$J$4:$J$57) -> #NAME?
A6: S | B6: 豹擊隊 | C6: #NAME? | D6: #NAME? | E6: #NAME? | F6: #NAME? | G6: #NAME? | H6: 1 | I6: =IF(D6<6,"",E6/D6) -> #NAME? | J6: =IF(H6<1,"",G6/H6) -> #NAME? | K6: =_xlfn.RANK.EQ(I6,$I$4:$I$53) -> #NAME? | L6: =_xlfn.RANK.EQ(J6,$J$4:$J$57) -> #NAME?
A7: S | B7: 豹擊隊 | C7: #NAME? | D7: #NAME? | E7: #NAME? | F7: #NAME? | G7: #NAME? | H7: 3 | I7: =IF(D7<6,"",E7/D7) -> #NAME? | J7: =IF(H7<1,"",G7/H7) -> #NAME? | K7: =_xlfn.RANK.EQ(I7,$I$4:$I$53) -> #NAME? | L7: =_xlfn.RANK.EQ(J7,$J$4:$J$57) -> #NAME?
C8: #NAME? | D8: #NAME? | E8: #NAME? | F8: #NAME? | G8: #NAME? | I8: =IF(D8<6,"",E8/D8) -> #NAME? | J8: =IF(H8<1,"",G8/H8) | K8: =_xlfn.RANK.EQ(I8,$I$4:$I$53) -> #NAME? | L8: =_xlfn.RANK.EQ(J8,$J$4:$J$57) -> #VALUE!
A9: M | B9: 豹擊隊 | C9: #NAME? | D9: #NAME? | E9: #NAME? | F9: #NAME? | G9: #NAME? | H9: 3 | I9: =IF(D9<6,"",E9/D9) -> #NAME? | J9: =IF(H9<1,"",G9/H9) -> #NAME? | K9: =_xlfn.RANK.EQ(I9,$I$4:$I$53) -> #NAME? | L9: =_xlfn.RANK.EQ(J9,$J$4:$J$57) -> #NAME?
A10: M | B10: 豹擊隊 | C10: #NAME? | D10: #NAME? | E10: #NAME? | F10: #NAME? | G10: #NAME? | H10: 2 | I10: =IF(D10<6,"",E10/D10) -> #NAME? | J10: =IF(H10<1,"",G10/H10) -> #NAME? | K10: =_xlfn.RANK.EQ(I10,$I$4:$I$53) -> #NAME? | L10: =_xlfn.RANK.EQ(J10,$J$4:$J$57) -> #NAME?
A11: S | B11: 豹擊隊 | C11: #NAME? | D11: #NAME? | E11: #NAME? | F11: #NAME? | G11: #NAME? | H11: 3 | I11: =IF(D11<6,"",E11/D11) -> #NAME? | J11: =IF(H11<1,"",G11/H11) -> #NAME? | K11: =_xlfn.RANK.EQ(I11,$I$4:$I$53) -> #NAME? | L11: =_xlfn.RANK.EQ(J11,$J$4:$J$57) -> #NAME?
A12: M | B12: 豹擊隊 | C12: #NAME? | D12: #NAME? | E12: #NAME? | F12: #NAME? | G12: #NAME? | H12: 1 | I12: =IF(D12<6,"",E12/D12) -> #NAME? | J12: =IF(H12<1,"",G12/H12) -> #NAME? | K12: =_xlfn.RANK.EQ(I12,$I$4:$I$53) -> #NAME? | L12: =_xlfn.RANK.EQ(J12,$J$4:$J$57) -> #NAME?
B13: 豹擊隊 | C13: #NAME? | D13: #NAME? | E13: #NAME? | F13: #NAME? | G13: #NAME? | H13: 1 | I13: =IF(D13<6,"",E13/D13) -> #NAME? | J13: =IF(H13<1,"",G13/H13) -> #NAME? | K13: =_xlfn.RANK.EQ(I13,$I$4:$I$53) -> #NAME? | L13: =_xlfn.RANK.EQ(J13,$J$4:$J$57) -> #NAME?
I14: =IF(D14<6,"",E14/D14) | J14: =IF(H14<1,"",G14/H14) | L14: =_xlfn.RANK.EQ(J14,$J$4:$J$57) -> #VALUE!
A15: M | B15: 閃電隊 | C15: {=_xlfn.CHOOSECOLS('成績匯總 (函數)'!$B$19:$AD$29,1,26,27,28,29)} -> #NAME? | D15: #NAME? | E15: #NAME? | F15: #NAME? | G15: #NAME? | H15: 2 | I15: =IF(D15<6,"",E15/D15) -> #NAME? | J15: =IF(H15<1,"",G15/H15) -> #NAME? | K15: =_xlfn.RANK.EQ(I15,$I$4:$I$53) -> #NAME? | L15: =_xlfn.RANK.EQ(J15,$J$4:$J$57) -> #NAME?
A16: S | B16: 閃電隊 | C16: #NAME? | D16: #NAME? | E16: #NAME? | F16: #NAME? | G16: #NAME? | H16: 3 | I16: =IF(D16<6,"",E16/D16) -> #NAME? | J16: =IF(H16<1,"",G16/H16) -> #NAME? | K16: =_xlfn.RANK.EQ(I16,$I$4:$I$53) -> #NAME? | L16: =_xlfn.RANK.EQ(J16,$J$4:$J$57) -> #NAME?
C17: #NAME? | D17: #NAME? | E17: #NAME? | F17: #NAME? | G17: #NAME? | H17: 0 | I17: =IF(D17<6,"",E17/D17) -> #NAME? | J17: =IF(H17<1,"",G17/H17) | K17: =_xlfn.RANK.EQ(I17,$I$4:$I$53) -> #NAME? | L17: =_xlfn.RANK.EQ(J17,$J$4:$J$57) -> #VALUE!
A18: S | B18: 閃電隊 | C18: #NAME? | D18: #NAME? | E18: #NAME? | F18: #NAME? | G18: #NAME? | H18: 3 | I18: =IF(D18<6,"",E18/D18) -> #NAME? | J18: =IF(H18<1,"",G18/H18) -> #NAME? | K18: =_xlfn.RANK.EQ(I18,$I$4:$I$53) -> #NAME? | L18: =_xlfn.RANK.EQ(J18,$J$4:$J$57) -> #NAME?
A19: M | B19: 閃電隊 | C19: #NAME? | D19: #NAME? | E19: #NAME? | F19: #NAME? | G19: #NAME? | H19: 3 | I19: =IF(D19<6,"",E19/D19) -> #NAME? | J19: =IF(H19<1,"",G19/H19) -> #NAME? | K19: =_xlfn.RANK.EQ(I19,$I$4:$I$53) -> #NAME? | L19: =_xlfn.RANK.EQ(J19,$J$4:$J$57) -> #NAME?
A20: D | B20: 閃電隊 | C20: #NAME? | D20: #NAME? | E20: #NAME? | F20: #NAME? | G20: #NAME? | H20: 2 | I20: =IF(D20<6,"",E20/D20) -> #NAME? | J20: =IF(H20<1,"",G20/H20) -> #NAME? | K20: =_xlfn.RANK.EQ(I20,$I$4:$I$53) -> #NAME? | L20: =_xlfn.RANK.EQ(J20,$J$4:$J$57) -> #NAME?
A21: M | B21: 閃電隊 | C21: #NAME? | D21: #NAME? | E21: #NAME? | F21: #NAME? | G21: #NAME? | H21: 3 | I21: =IF(D21<6,"",E21/D21) -> #NAME? | J21: =IF(H21<1,"",G21/H21) -> #NAME? | K21: =_xlfn.RANK.EQ(I21,$I$4:$I$53) -> #NAME? | L21: =_xlfn.RANK.EQ(J21,$J$4:$J$57) -> #NAME?
A22: D | B22: 閃電隊 | C22: #NAME? | D22: #NAME? | E22: #NAME? | F22: #NAME? | G22: #NAME? | H22: 3 | I22: =IF(D22<6,"",E22/D22) -> #NAME? | J22: =IF(H22<1,"",G22/H22) -> #NAME? | K22: =_xlfn.RANK.EQ(I22,$I$4:$I$53) -> #NAME? | L22: =_xlfn.RANK.EQ(J22,$J$4:$J$57) -> #NAME?
A23: S | B23: 閃電隊 | C23: #NAME? | D23: #NAME? | E23: #NAME? | F23: #NAME? | G23: #NAME? | H23: 3 | I23: =IF(D23<6,"",E23/D23) -> #NAME? | J23: =IF(H23<1,"",G23/H23) -> #NAME? | K23: =_xlfn.RANK.EQ(I23,$I$4:$I$53) -> #NAME? | L23: =_xlfn.RANK.EQ(J23,$J$4:$J$57) -> #NAME?
C24: #NAME? | D24: #NAME? | E24: #NAME? | F24: #NAME? | G24: #NAME? | I24: =IF(D24<6,"",E24/D24) -> #NAME? | J24: =IF(H24<1,"",G24/H24) | K24: =_xlfn.RANK.EQ(I24,$I$4:$I$53) -> #NAME? | L24: =_xlfn.RANK.EQ(J24,$J$4:$J$57) -> #VALUE!
C25: #NAME? | D25: #NAME? | E25: #NAME? | F25: #NAME? | G25: #NAME? | I25: =IF(D25<6,"",E25/D25) -> #NAME? | J25: =IF(H25<1,"",G25/H25) | K25: =_xlfn.RANK.EQ(I25,$I$4:$I$53) -> #NAME? | L25: =_xlfn.RANK.EQ(J25,$J$4:$J$57) -> #VALUE!
I26: =IF(D26<6,"",E26/D26) | J26: =IF(H26<1,"",G26/H26) | L26: =_xlfn.RANK.EQ(J26,$J$4:$J$57) -> #VALUE!
I27: =IF(D27<6,"",E27/D27) | J27: =IF(H27<1,"",G27/H27) | L27: =_xlfn.RANK.EQ(J27,$J$4:$J$57) -> #VALUE!
A28: M | B28: 夜魔俠 | C28: {=_xlfn.CHOOSECOLS('成績匯總 (函數)'!$B$34:$AD$44,1,26,27,28,29)} -> #NAME? | D28: #NAME? | E28: #NAME? | F28: #NAME? | G28: #NAME? | H28: 4 | I28: =IF(D28<6,"",E28/D28) -> #NAME? | J28: =IF(H28<1,"",G28/H28) -> #NAME? | K28: =_xlfn.RANK.EQ(I28,$I$4:$I$53) -> #NAME? | L28: =_xlfn.RANK.EQ(J28,$J$4:$J$57) -> #NAME?
A29: D | B29: 夜魔俠 | C29: #NAME? | D29: #NAME? | E29: #NAME? | F29: #NAME? | G29: #NAME? | H29: 4 | I29: =IF(D29<6,"",E29/D29) -> #NAME? | J29: =IF(H29<1,"",G29/H29) -> #NAME? | K29: =_xlfn.RANK.EQ(I29,$I$4:$I$53) -> #NAME? | L29: =_xlfn.RANK.EQ(J29,$J$4:$J$57) -> #NAME?
A30: M | B30: 夜魔俠 | C30: #NAME? | D30: #NAME? | E30: #NAME? | F30: #NAME? | G30: #NAME? | H30: 4 | I30: =IF(D30<6,"",E30/D30) -> #NAME? | J30: =IF(H30<1,"",G30/H30) -> #NAME? | K30: =_xlfn.RANK.EQ(I30,$I$4:$I$53) -> #NAME? | L30: =_xlfn.RANK.EQ(J30,$J$4:$J$57) -> #NAME?
A31: M | B31: 夜魔俠 | C31: #NAME? | D31: #NAME? | E31: #NAME? | F31: #NAME? | G31: #NAME? | H31: 4 | I31: =IF(D31<6,"",E31/D31) -> #NAME? | J31: =IF(H31<1,"",G31/H31) -> #NAME? | K31: =_xlfn.RANK.EQ(I31,$I$4:$I$53) -> #NAME? | L31: =_xlfn.RANK.EQ(J31,$J$4:$J$57) -> #NAME?
A32: S | B32: 夜魔俠 | C32: #NAME? | D32: #NAME? | E32: #NAME? | F32: #NAME? | G32: #NAME? | H32: 4 | I32: =IF(D32<6,"",E32/D32) -> #NAME? | J32: =IF(H32<1,"",G32/H32) -> #NAME? | K32: =_xlfn.RANK.EQ(I32,$I$4:$I$53) -> #NAME? | L32: =_xlfn.RANK.EQ(J32,$J$4:$J$57) -> #NAME?
A33: S | B33: 夜魔俠 | C33: #NAME? | D33: #NAME? | E33: #NAME? | F33: #NAME? | G33: #NAME? | H33: 2 | I33: =IF(D33<6,"",E33/D33) -> #NAME? | J33: =IF(H33<1,"",G33/H33) -> #NAME? | K33: =_xlfn.RANK.EQ(I33,$I$4:$I$53) -> #NAME? | L33: =_xlfn.RANK.EQ(J33,$J$4:$J$57) -> #NAME?
A34: D | B34: 夜魔俠 | C34: #NAME? | D34: #NAME? | E34: #NAME? | F34: #NAME? | G34: #NAME? | H34: 3 | I34: =IF(D34<6,"",E34/D34) -> #NAME? | J34: =IF(H34<1,"",G34/H34) -> #NAME? | K34: =_xlfn.RANK.EQ(I34,$I$4:$I$53) -> #NAME? | L34: =_xlfn.RANK.EQ(J34,$J$4:$J$57) -> #NAME?
A35: M | B35: 夜魔俠 | C35: #NAME? | D35: #NAME? | E35: #NAME? | F35: #NAME? | G35: #NAME? | H35: 4 | I35: =IF(D35<6,"",E35/D35) -> #NAME? | J35: =IF(H35<1,"",G35/H35) -> #NAME? | K35: =_xlfn.RANK.EQ(I35,$I$4:$I$53) -> #NAME? | L35: =_xlfn.RANK.EQ(J35,$J$4:$J$57) -> #NAME?
A36: S | B36: 夜魔俠 | C36: #NAME? | D36: #NAME? | E36: #NAME? | F36: #NAME? | G36: #NAME? | H36: 4 | I36: =IF(D36<6,"",E36/D36) -> #NAME? | J36: =IF(H36<1,"",G36/H36) -> #NAME? | K36: =_xlfn.RANK.EQ(I36,$I$4:$I$53) -> #NAME? | L36: =_xlfn.RANK.EQ(J36,$J$4:$J$57) -> #NAME?
A37: S | B37: 夜魔俠 | C37: #NAME? | D37: #NAME? | E37: #NAME? | F37: #NAME? | G37: #NAME? | H37: 4 | I37: =IF(D37<6,"",E37/D37) -> #NAME? | J37: =IF(H37<1,"",G37/H37) -> #NAME? | K37: =_xlfn.RANK.EQ(I37,$I$4:$I$53) -> #NAME? | L37: =_xlfn.RANK.EQ(J37,$J$4:$J$57) -> #NAME?
A38: S | B38: 夜魔俠 | C38: #NAME? | D38: #NAME? | E38: #NAME? | F38: #NAME? | G38: #NAME? | H38: 2 | I38: =IF(D38<6,"",E38/D38) -> #NAME? | J38: =IF(H38<1,"",G38/H38) -> #NAME? | K38: =_xlfn.RANK.EQ(I38,$I$4:$I$53) -> #NAME? | L38: =_xlfn.RANK.EQ(J38,$J$4:$J$57) -> #NAME?
I39: =IF(D39<=8,"",E39/D39) | J39: =IF(H39<=2,"",G39/H39)
I40: =IF(D40<=8,"",E40/D40) | J40: =IF(H40<=2,"",G40/H40)
B41: D組空缺 | C41: {=_xlfn.CHOOSECOLS('成績匯總 (函數)'!$B$49:$AD$61,1,26,27,28,29)} -> #NAME? | D41: #NAME? | E41: #NAME? | F41: #NAME? | G41: #NAME? | I41: =IF(D41<=8,"",E41/D41) -> #NAME? | J41: =IF(H41<=2,"",G41/H41)
C42: #NAME? | D42: #NAME? | E42: #NAME? | F42: #NAME? | G42: #NAME? | I42: =IF(D42<=8,"",E42/D42) -> #NAME? | J42: =IF(H42<=2,"",G42/H42)
C43: #NAME? | D43: #NAME? | E43: #NAME? | F43: #NAME? | G43: #NAME? | I43: =IF(D43<=8,"",E43/D43) -> #NAME? | J43: =IF(H43<=2,"",G43/H43)
C44: #NAME? | D44: #NAME? | E44: #NAME? | F44: #NAME? | G44: #NAME? | I44: =IF(D44<=8,"",E44/D44) -> #NAME? | J44: =IF(H44<=2,"",G44/H44)
C45: #NAME? | D45: #NAME? | E45: #NAME? | F45: #NAME? | G45: #NAME? | I45: =IF(D45<=8,"",E45/D45) -> #NAME? | J45: =IF(H45<=2,"",G45/H45)
C46: #NAME? | D46: #NAME? | E46: #NAME? | F46: #NAME? | G46: #NAME? | I46: =IF(D46<=8,"",E46/D46) -> #NAME? | J46: =IF(H46<=2,"",G46/H46)
C47: #NAME? | D47: #NAME? | E47: #NAME? | F47: #NAME? | G47: #NAME? | I47: =IF(D47<=8,"",E47/D47) -> #NAME? | J47: =IF(H47<=2,"",G47/H47)
C48: #NAME? | D48: #NAME? | E48: #NAME? | F48: #NAME? | G48: #NAME? | I48: =IF(D48<=8,"",E48/D48) -> #NAME? | J48: =IF(H48<=2,"",G48/H48)
C49: #NAME? | D49: #NAME? | E49: #NAME? | F49: #NAME? | G49: #NAME? | I49: =IF(D49<=8,"",E49/D49) -> #NAME? | J49: =IF(H49<=2,"",G49/H49)
C50: #NAME? | D50: #NAME? | E50: #NAME? | F50: #NAME? | G50: #NAME? | I50: =IF(D50<=8,"",E50/D50) -> #NAME? | J50: =IF(H50<=2,"",G50/H50)
C51: #NAME? | D51: #NAME? | E51: #NAME? | F51: #NAME? | G51: #NAME? | I51: =IF(D51<=8,"",E51/D51) -> #NAME? | J51: =IF(H51<=2,"",G51/H51)
C52: #NAME? | D52: #NAME? | E52: #NAME? | F52: #NAME? | G52: #NAME? | I52: =IF(D52<=8,"",E52/D52) -> #NAME? | J52: =IF(H52<=2,"",G52/H52)
C53: #NAME? | D53: #NAME? | E53: #NAME? | F53: #NAME? | G53: #NAME? | I53: =IF(D53<=8,"",E53/D53) -> #NAME? | J53: =IF(H53<=2,"",G53/H53)
C56: 團隊防守成績
B57: 積分(不含決賽) | C57: 隊伍名稱 | D57: AB | E57: R | F57: K | G57: P | H57: LOST | I57: Fielding | J57: 防守排行 | K57: 淨得分 | L57: 團隊打擊率
B58: 2 | C58: 豹擊隊 | D58: {='成績匯總 (函數)'!AA15:AD15} -> 20 | E58: 2 | F58: 11 | G58: 3 | H58: =分組球員名單!G37 -> 18 | I58: =+G58/(G58+H58) -> 0.14285714 | J58: =_xlfn.RANK.EQ(I58,$I$58:$I$60) -> 3 | K58: =+E58-H58 -> -16 | L58: =+E58/D58 -> 0.1
B59: 2 | C59: 閃電隊 | D59: {='成績匯總 (函數)'!AA30:AD30} -> 46 | E59: 10 | F59: 29 | G59: 19 | H59: =分組球員名單!I37 -> 26 | I59: =+G59/(G59+H59) -> 0.42222222 | J59: =_xlfn.RANK.EQ(I59,$I$58:$I$60) -> 1 | K59: =+E59-H59 -> -16 | L59: =+E59/D59 -> 0.2173913
B60: 8 | C60: 夜魔俠 | D60: {='成績匯總 (函數)'!AA45:AD45} -> 31 | E60: 13 | F60: 8 | G60: 4 | H60: =分組球員名單!K37 -> 20 | I60: =+G60/(G60+H60) -> 0.16666667 | J60: =_xlfn.RANK.EQ(I60,$I$58:$I$60) -> 2 | K60: =+E60-H60 -> -7 | L60: =+E60/D60 -> 0.41935484
D61: {='成績匯總 (函數)'!AA62:AD62} -> 0 | E61: 0 | F61: 0 | G61: 0 | I61: =+G61/(G61+H61) -> #DIV/0! | J61: =_xlfn.RANK.EQ(I61,$I$58:$I$61) -> #DIV/0! | K61: =+E61-H61 -> 0
B63: 投手成績
B64: 投手名單 | C64: AB | D64: R | E64: K | F64: K Pct. | G64: K率排行(小)
B65: {=_xlfn.CHOOSECOLS('成績匯總 (函數)'!B69:W76,1,20,21,22)} -> 宋展宇 | C65: 42 | D65: 9 | E65: 23 | F65: =IF(C65>=30,E65/C65,"N/A") -> 0.54761905 | G65: =_xlfn.RANK.EQ(F65,$F$65:$F$72,-1) -> 3
B66: 江言鎧 | C66: 10 | D66: 1 | E66: 7 | F66: =IF(C66>=30,E66/C66,"N/A") -> N/A | G66: =_xlfn.RANK.EQ(F66,$F$65:$F$72,-1) -> #VALUE!
B67: 駱繼宗 | C67: 34 | D67: 7 | E67: 20 | F67: =IF(C67>=30,E67/C67,"N/A") -> 0.58823529 | G67: =_xlfn.RANK.EQ(F67,$F$65:$F$72,-1) -> 5
B68: 李裕仁 | C68: 36 | D68: 9 | E68: 20 | F68: =IF(C68>=30,E68/C68,"N/A") -> 0.55555556 | G68: =_xlfn.RANK.EQ(F68,$F$65:$F$72,-1) -> 4
B69: 陳相睿 | C69: 31 | D69: 13 | E69: 8 | F69: =IF(C69>=30,E69/C69,"N/A") -> 0.25806452 | G69: =_xlfn.RANK.EQ(F69,$F$65:$F$72,-1) -> 1
B70: 林春佑 | C70: 51 | D70: 22 | E70: 15 | F70: =IF(C70>=30,E70/C70,"N/A") -> 0.29411765 | G70: =_xlfn.RANK.EQ(F70,$F$65:$F$72,-1) -> 2
B71: 王辰光 | C71: 9 | D71: 3 | E71: 3 | F71: =IF(C71>=30,E71/C71,"N/A") -> N/A | G71: =_xlfn.RANK.EQ(F71,$F$65:$F$72,-1) -> #VALUE!
B72: 0 | C72: 0 | D72: 0 | E72: 0 | F72: =IF(C72>=30,E72/C72,"N/A") -> N/A | G72: =_xlfn.RANK.EQ(F72,$F$65:$F$72,-1) -> #VALUE!
A75: S | B75: 前排守備 | F75: M | G75: 中排守備 | K75: D | L75: 後排守備
A76: 守備位置 | B76: 隊名 | C76: 姓名 | D76: P/G | E76: 排行 | F76: 守備位置 | G76: 隊名 | H76: 姓名 | I76: P/G | J76: 排行 | K76: 守備位置 | L76: 隊名 | M76: 姓名 | N76: P/G | O76: 排行
A77: {=_xlfn.CHOOSECOLS(_xlfn._xlws.FILTER($A$4:$J$54,$A$4:$A$54=A75,""),1,2,3,10)} -> #NAME? | B77: #NAME? | C77: #NAME? | D77: #NAME? | E77: =_xlfn.RANK.EQ(D77,$D$77:$D$86) -> #NAME? | F77: {=_xlfn.CHOOSECOLS(_xlfn._xlws.FILTER($A$4:$J$54,$A$4:$A$54=F75,""),1,2,3,10)} -> #NAME? | G77: #NAME? | H77: #NAME? | I77: #NAME? | J77: =_xlfn.RANK.EQ(I77,$I$77:$I$94) -> #NAME? | K77: {=_xlfn.CHOOSECOLS(_xlfn._xlws.FILTER($A$4:$J$54,$A$4:$A$54=K75,""),1,2,3,10)} -> #NAME? | L77: #NAME? | M77: #NAME? | N77: #NAME? | O77: =_xlfn.RANK.EQ(N77,$N$77:$N$83) -> #NAME?
A78: #NAME? | B78: #NAME? | C78: #NAME? | D78: #NAME? | E78: =_xlfn.RANK.EQ(D78,$D$77:$D$86) -> #NAME? | F78: #NAME? | G78: #NAME? | H78: #NAME? | I78: #NAME? | J78: =_xlfn.RANK.EQ(I78,$I$77:$I$94) -> #NAME? | K78: #NAME? | L78: #NAME? | M78: #NAME? | N78: #NAME? | O78: =_xlfn.RANK.EQ(N78,$N$77:$N$83) -> #NAME?
A79: #NAME? | B79: #NAME? | C79: #NAME? | D79: #NAME? | E79: =_xlfn.RANK.EQ(D79,$D$77:$D$86) -> #NAME? | F79: #NAME? | G79: #NAME? | H79: #NAME? | I79: #NAME? | J79: =_xlfn.RANK.EQ(I79,$I$77:$I$94) -> #NAME? | K79: #NAME? | L79: #NAME? | M79: #NAME? | N79: #NAME? | O79: =_xlfn.RANK.EQ(N79,$N$77:$N$83) -> #NAME?
A80: #NAME? | B80: #NAME? | C80: #NAME? | D80: #NAME? | E80: =_xlfn.RANK.EQ(D80,$D$77:$D$86) -> #NAME? | F80: #NAME? | G80: #NAME? | H80: #NAME? | I80: #NAME? | J80: =_xlfn.RANK.EQ(I80,$I$77:$I$94) -> #NAME? | K80: #NAME? | L80: #NAME? | M80: #NAME? | N80: #NAME? | O80: =_xlfn.RANK.EQ(N80,$N$77:$N$83) -> #NAME?
A81: #NAME? | B81: #NAME? | C81: #NAME? | D81: #NAME? | E81: =_xlfn.RANK.EQ(D81,$D$77:$D$86) -> #NAME? | F81: #NAME? | G81: #NAME? | H81: #NAME? | I81: #NAME? | J81: =_xlfn.RANK.EQ(I81,$I$77:$I$94) -> #NAME?
A82: #NAME? | B82: #NAME? | C82: #NAME? | D82: #NAME? | E82: =_xlfn.RANK.EQ(D82,$D$77:$D$86) -> #NAME? | F82: #NAME? | G82: #NAME? | H82: #NAME? | I82: #NAME? | J82: =_xlfn.RANK.EQ(I82,$I$77:$I$94) -> #NAME?
A83: #NAME? | B83: #NAME? | C83: #NAME? | D83: #NAME? | E83: =_xlfn.RANK.EQ(D83,$D$77:$D$86) -> #NAME? | F83: #NAME? | G83: #NAME? | H83: #NAME? | I83: #NAME? | J83: =_xlfn.RANK.EQ(I83,$I$77:$I$94) -> #NAME?
A84: #NAME? | B84: #NAME? | C84: #NAME? | D84: #NAME? | E84: =_xlfn.RANK.EQ(D84,$D$77:$D$86) -> #NAME? | F84: #NAME? | G84: #NAME? | H84: #NAME? | I84: #NAME? | J84: =_xlfn.RANK.EQ(I84,$I$77:$I$94) -> #NAME?
A85: #NAME? | B85: #NAME? | C85: #NAME? | D85: #NAME? | E85: =_xlfn.RANK.EQ(D85,$D$77:$D$86) -> #NAME? | F85: #NAME? | G85: #NAME? | H85: #NAME? | I85: #NAME? | J85: =_xlfn.RANK.EQ(I85,$I$77:$I$94) -> #NAME?
A86: #NAME? | B86: #NAME? | C86: #NAME? | D86: #NAME? | E86: =_xlfn.RANK.EQ(D86,$D$77:$D$86) -> #NAME? | F86: #NAME? | G86: #NAME? | H86: #NAME? | I86: #NAME? | J86: =_xlfn.RANK.EQ(I86,$I$77:$I$94) -> #NAME?
A87: #NAME? | B87: #NAME? | C87: #NAME? | D87: #NAME? | E87: =_xlfn.RANK.EQ(D87,$D$77:$D$86) -> #NAME? | F87: #NAME? | G87: #NAME? | H87: #NAME? | I87: #NAME? | J87: =_xlfn.RANK.EQ(I87,$I$77:$I$94) -> #NAME?
F88: #NAME? | G88: #NAME? | H88: #NAME? | I88: #NAME? | J88: =_xlfn.RANK.EQ(I88,$I$77:$I$94) -> #NAME?

Sheet 成績公告版
A2: 團隊成績
A3: 積分 | B3: 隊伍名稱 | C3: AB | D3: R | E3: K | F3: P | G3: 失分 | H3: 團隊打擊率 | I3: 團隊防守率
A4: 2 | B4: 豹擊隊 | C4: 52 | D4: 10 | E4: 30 | F4: 13 | G4: 18 | H4: 0.19230769 | I4: 0.41935484
A5: 2 | B5: 閃電隊 | C5: 70 | D5: 16 | E5: 40 | F5: 26 | G5: 26 | H5: 0.22857143 | I5: 0.5
A6: 8 | B6: 夜魔俠 | C6: 91 | D6: 38 | E6: 26 | F6: 16 | G6: 20 | H6: 0.41758242 | I6: 0.44444444
A8: 投手成績 | B8: (投滿30人次才予以計算排名)
A9: 投手名單 | B9: AB | C9: R | D9: K | E9: K Pct. | F9: 排行(小)
A10: 宋展宇 | B10: 42 | C10: 9 | D10: 23 | E10: 0.54761905 | F10: 3
A11: 江言鎧 | B11: 10 | C11: 1 | D11: 7 | E11: N/A | F11: #VALUE!
A12: 駱繼宗 | B12: 34 | C12: 7 | D12: 20 | E12: 0.58823529 | F12: 5
A13: 李裕仁 | B13: 36 | C13: 9 | D13: 20 | E13: 0.55555556 | F13: 4
A14: 陳相睿 | B14: 31 | C14: 13 | D14: 8 | E14: 0.25806452 | F14: 1
A15: 林春佑 | B15: 51 | C15: 22 | D15: 15 | E15: 0.29411765 | F15: 2
A16: 王辰光 | B16: 9 | C16: 3 | D16: 3 | E16: N/A | F16: #VALUE!
I18: 滿6打席計 | J18: 滿2場計
A19: 守備位置 | B19: 隊名 | C19: 姓名 | D19: AB | E19: R | F19: K | G19: P | H19: 場數 | I19: 打擊率 | J19: 防守率 | K19: 打擊排行 | L19: 防守排行
A20: M | B20: 豹擊隊 | C20: 賴智傑 | D20: 8 | E20: 1 | F20: 5 | G20: 1 | H20: 3 | I20: 0.125 | J20: 0.33333333 | K20: 15 | L20: 15
A21: M | B21: 豹擊隊 | C21: 洪韶壕 | D21: 7 | E21: 3 | F21: 2 | G21: 3 | H21: 3 | I21: 0.42857143 | J21: 1 | K21: 3 | L21: 7
A22: S | B22: 豹擊隊 | C22: 陳建閔 | D22: 4 | E22: 3 | F22: 0 | G22: 0 | H22: 1 | J22: 0 | K22: - | L22: 17
A23: S | B23: 豹擊隊 | C23: 張睿紘 | D23: 7 | E23: 3 | F23: 4 | G23: 6 | H23: 3 | I23: 0.42857143 | J23: 2 | K23: 3 | L23: 3
A24: M | B24: 豹擊隊 | C24: 陳韻婷 | D24: 6 | E24: 0 | F24: 4 | G24: 1 | H24: 3 | I24: 0 | J24: 0.33333333 | K24: 17 | L24: 15
A25: M | B25: 豹擊隊 | C25: 劉家溫 | D25: 5 | E25: 0 | F25: 3 | G25: 0 | H25: 2 | J25: 0 | K25: - | L25: 17
A26: S | B26: 豹擊隊 | C26: 黃雅苓 | D26: 9 | E26: 0 | F26: 7 | G26: 2 | H26: 3 | I26: 0 | J26: 0.66666667 | K26: 17 | L26: 8
A27: M | B27: 豹擊隊 | C27: 古奇哲 | D27: 4 | E27: 0 | F27: 4 | G27: 0 | H27: 1 | J27: 0 | K27: - | L27: 17
B28: 豹擊隊 | C28: 宋展宇 | D28: 2 | E28: 0 | F28: 1 | G28: 0 | H28: 1 | J28: 0 | K28: - | L28: 17
A29: M | B29: 閃電隊 | C29: 陳璽帆 | D29: 7 | E29: 2 | F29: 3 | G29: 3 | H29: 2 | I29: 0.28571429 | J29: 1.5 | K29: 10 | L29: 5
A30: S | B30: 閃電隊 | C30: 莊詠安 | D30: 5 | E30: 0 | F30: 3 | G30: 0 | H30: 3 | J30: 0 | K30: - | L30: 17
A31: S | B31: 閃電隊 | C31: 胡文秋 | D31: 12 | E31: 2 | F31: 8 | G31: 10 | H31: 3 | I31: 0.16666667 | J31: 3.3333333 | K31: 14 | L31: 1
A32: M | B32: 閃電隊 | C32: 陳俊欽 | D32: 11 | E32: 2 | F32: 7 | G32: 7 | H32: 3 | I32: 0.18181818 | J32: 2.3333333 | K32: 13 | L32: 2
A33: D | B33: 閃電隊 | C33: 紀和成 | D33: 4 | E33: 2 | F33: 1 | G33: 1 | H33: 2 | J33: 0.5 | K33: - | L33: 9
A34: M | B34: 閃電隊 | C34: 鄭傳逸 | D34: 10 | E34: 2 | F34: 6 | G34: 0 | H34: 3 | I34: 0.2 | J34: 0 | K34: 12 | L34: 17
A35: D | B35: 閃電隊 | C35: 林育良 | D35: 12 | E35: 3 | F35: 6 | G35: 0 | H35: 3 | I35: 0.25 | J35: 0 | K35: 11 | L35: 17
A36: S | B36: 閃電隊 | C36: 林健彰 | D36: 9 | E36: 3 | F36: 6 | G36: 5 | H36: 3 | I36: 0.33333333 | J36: 1.6666667 | K36: 7 | L36: 4
A37: M | B37: 夜魔俠 | C37: 梁耿縉 | D37: 12 | E37: 11 | F37: 1 | G37: 2 | H37: 4 | I37: 0.91666667 | J37: 0.5 | K37: 1 | L37: 9
A38: D | B38: 夜魔俠 | C38: 勞恩以達西拔 | D38: 13 | E38: 4 | F38: 5 | G38: 0 | H38: 4 | I38: 0.30769231 | J38: 0 | K38: 9 | L38: 17
A39: M | B39: 夜魔俠 | C39: 郭亦倫 | D39: 14 | E39: 5 | F39: 2 | G39: 2 | H39: 4 | I39: 0.35714286 | J39: 0.5 | K39: 6 | L39: 9
A40: M | B40: 夜魔俠 | C40: 蔡存宥 | D40: 14 | E40: 9 | F40: 4 | G40: 2 | H40: 4 | I40: 0.64285714 | J40: 0.5 | K40: 2 | L40: 9
A41: S | B41: 夜魔俠 | C41: 古國偉 | D41: 9 | E41: 3 | F41: 5 | G41: 6 | H41: 4 | I41: 0.33333333 | J41: 1.5 | K41: 7 | L41: 5
A42: S | B42: 夜魔俠 | C42: 余自成 | D42: 2 | E42: 0 | F42: 0 | G42: 0 | H42: 2 | J42: 0 | K42: - | L42: 17
A43: D | B43: 夜魔俠 | C43: 蔡孟洵 | D43: 8 | E43: 1 | F43: 2 | G43: 0 | H43: 3 | I43: 0.125 | J43: 0 | K43: 15 | L43: 17
A44: M | B44: 夜魔俠 | C44: 吳品逸 | D44: 10 | E44: 4 | F44: 1 | G44: 2 | H44: 4 | I44: 0.4 | J44: 0.5 | K44: 5 | L44: 9
A45: S | B45: 夜魔俠 | C45: 張雅恩 | D45: 7 | E45: 0 | F45: 6 | G45: 0 | H45: 4 | I45: 0 | J45: 0 | K45: 17 | L45: 17
A46: S | B46: 夜魔俠 | C46: 李怡慧 | D46: 2 | E46: 1 | F46: 0 | G46: 2 | H46: 4 | J46: 0.5 | K46: - | L46: 9
A47: S | B47: 夜魔俠 | C47: 宋晴天 | D47: 0 | E47: 0 | F47: 0 | G47: 0 | H47: 2 | J47: 0 | K47: - | L47: 17
A51: 分區守備MVP
A52: S前排 | B52: 閃電隊 | C52: 胡文秋 | D52: 3.3333333
A53: M中排 | B53: 閃電隊 | C53: 陳俊欽 | D53: 2.3333333
A54: D後排 | B54: 閃電隊 | C54: 紀和成 | D54: 0.5
