Workbook

Sheet 分組球員名單
A1: 球員名單 | B1: 背號
A2: A | B2: 豹擊隊 | D2: 投捕觀名單 | F2: 隊伍名稱
A3: 賴智傑 | B3: 26 | D3: 宋展宇 | F3: 豹擊隊
A4: 洪韶壕 | B4: 25 | D4: 江言鎧 | F4: 閃電隊
A5: 陳建閔 | B5: 29 | D5: 駱繼宗 | F5: 夜魔俠
A6: 張睿紘 | B6: 17 | D6: 李裕仁
A7: 邱文昇 | B7: 55 | D7: 陳相睿
A8: 陳韻婷 | B8: 66 | D8: 林春佑
A9: 劉家溫 | B9: 20 | D9: 王辰光
A10: 黃雅苓 | B10: 23
A11: 古奇哲 | B11: 0 | D11: 高芳伶
A12: 宋展宇 | B12: 19 | D12: 薛沅庭
A13: B | B13: 閃電隊 | D13: 賴君佩
A14: 陳璽帆 | B14: 8 | D14: 劉維璽
A15: 莊詠安 | B15: 23
A16: 張御欣 | B16: 32 | D16: 林宜宏
A17: 胡文秋 | B17: 33 | D17: 張凱傑
A18: 陳俊欽 | B18: 35
A19: 紀和成 | B19: 51
A20: 鄭傳逸 | B20: 88
A21: 林育良 | B21: 99 | G21: 對戰分數
A22: 林健彰 | B22: 111 | F22: 豹擊隊 | G22: =F37-G37 -> -8 | H22: 閃電隊 | I22: =H37-I37 -> -10 | J22: 夜魔俠 | K22: =J37-K37 -> 18
F23: 得分 | G23: 失分 | H23: 得分 | I23: 失分 | J23: 得分 | K23: 失分
A24: C | B24: 夜魔俠 | E24: G1 | F24: 2 | G24: 4 | H24: 4 | I24: 2
A25: 梁耿縉 | B25: 18
A26: 勞恩以達西拔 | B26: 11 | E26: G2 | H26: 6 | I26: 13 | J26: 13 | K26: 6
A27: 郭亦倫 | B27: 39
A28: 蔡存宥 | B28: 22 | E28: G3 | F28: 1 | G28: 3 | J28: 3 | K28: 1
A29: 古國偉 | B29: 37
A30: 余自成 | B30: 81 | E30: G4 | H30: 6 | I30: 11 | J30: 11 | K30: 6
A31: 蔡孟洵 | B31: 58
A32: 吳品逸 | B32: 0 | E32: G5 | F32: 7 | G32: 11 | J32: 11 | K32: 7
A33: 張雅恩 | B33: 36
A34: 李怡慧 | B34: 26 | E34: G6 | F34: X | H34: X
A35: 宋晴天 | B35: 10
A36: BIN | B36: E
F37: =SUM(F24:F36) -> 10 | G37: =SUM(G24:G36) -> 18 | H37: =SUM(H24:H36) -> 16 | I37: =SUM(I24:I36) -> 26 | J37: =SUM(J24:J36) -> 38 | K37: =SUM(K24:K36) -> 20
A38: D

Sheet G1
B1: 加計分數 | D1: 場次 | H1: G1 | J1: 日期 | L1: 115.08.15 | Q1: =AE21 -> 4 | T1: 閃電隊 | V1: VS | X1: 豹擊隊 | AA1: =AE41 -> 2 | AI1: 數據
A2: 撿球 | B2: 接殺 | C2: HR | D2: 先 | E2: 背號 | F2: 球員 | G2: 1 | J2: 投 | K2: 2 | N2: 投 | O2: 3 | R2: 投 | S2: 4 | V2: 投 | W2: 5 | Z2: 投 | AA2: 6 | AD2: 投 | AE2: 7 | AH2: 投 | AI2: AB | AJ2: R | AK2: K | AL2: P | AM2: 投/捕/觀
A3: =COUNTIF($G$23:$AG$40,E3) -> 0 | C3: =COUNTIF(G3:AG3,"HR") -> 0 | D3: 1 | E3: 88 | F3: 鄭傳逸 | G3: K | J3: 駱 | L3: K | T3: 25 | V3: 李 | AB3: K | AI3: =COUNTA(G3:I3,K3:M3,O3:Q3,S3:U3,W3:Y3,AA3:AC3,AE3:AG3) -> 4 | AJ3: =COUNTIF(G3:AG3,"R")+(COUNTIF(G3:AG3,"HR")*2) -> 0 | AK3: =COUNTIF(G3:AG3,"K") -> 3 | AL3: =$A3+$B3 -> 0 | AM3: 投手 | AO3: 背號 | AP3: 球員 | AQ3: AB | AR3: R | AS3: K | AT3: P | AV3: 投手成績統計 | AX3: (手動輸入)
A4: =COUNTIF($G$23:$AG$40,E4) -> 0 | C4: =COUNTIF(G4:AG4,"HR") -> 0 | AI4: =COUNTA(G4:I4,K4:M4,O4:Q4,S4:U4,W4:Y4,AA4:AC4,AE4:AG4) -> 0 | AJ4: =COUNTIF(G4:AG4,"R")+(COUNTIF(G4:AG4,"HR")*2) -> 0 | AK4: =COUNTIF(G4:AG4,"K") -> 0 | AL4: =$A4+$B4 -> 0 | AM4: 駱繼宗 | AO4: 88 | AP4: {=_xlfn.UNIQUE(F3:F20)} -> 鄭傳逸 | AQ4: =SUMIF($F$3:$F$20,AP4,$AI$3:$AI$20) -> 4 | AR4: =SUMIF($F$3:$F$20,AP4,$AJ$3:$AJ$20) -> 0 | AS4: =SUMIF($F$3:$F$20,AP4,$AK$3:$AK$20) -> 3 | AT4: =SUMIF($F$3:$F$20,AP4,$AL$3:$AL$20) -> 0 | AV4: 姓名 | AW4: AB | AX4: R | AY4: K
A5: =COUNTIF($G$23:$AG$40,E5) -> 0 | C5: =COUNTIF(G5:AG5,"HR") -> 0 | AI5: =COUNTA(G5:I5,K5:M5,O5:Q5,S5:U5,W5:Y5,AA5:AC5,AE5:AG5) -> 0 | AJ5: =COUNTIF(G5:AG5,"R")+(COUNTIF(G5:AG5,"HR")*2) -> 0 | AK5: =COUNTIF(G5:AG5,"K") -> 0 | AL5: =$A5+$B5 -> 0 | AM5: 李裕仁 | AP5: 0 | AQ5: =SUMIF($F$3:$F$20,AP5,$AI$3:$AI$20) -> 0 | AR5: =SUMIF($F$3:$F$20,AP5,$AJ$3:$AJ$20) -> 0 | AS5: =SUMIF($F$3:$F$20,AP5,$AK$3:$AK$20) -> 0 | AT5: =SUMIF($F$3:$F$20,AP5,$AL$3:$AL$20) -> 0 | AV5: {=_xlfn.UNIQUE(AM4:AM5)} -> 駱繼宗 | AW5: 10 | AX5: 1 | AY5: 9
A6: =COUNTIF($G$23:$AG$40,E6) -> 0 | C6: =COUNTIF(G6:AG6,"HR") -> 0 | D6: 2 | E6: 99 | F6: 林育良 | G6: K | O6: K | W6: R | AB6: 26 | AI6: =COUNTA(G6:I6,K6:M6,O6:Q6,S6:U6,W6:Y6,AA6:AC6,AE6:AG6) -> 4 | AJ6: =COUNTIF(G6:AG6,"R")+(COUNTIF(G6:AG6,"HR")*2) -> 1 | AK6: =COUNTIF(G6:AG6,"K") -> 2 | AL6: =$A6+$B6 -> 0 | AM6: 捕手 | AO6: 99 | AP6: 林育良 | AQ6: =SUMIF($F$3:$F$20,AP6,$AI$3:$AI$20) -> 4 | AR6: =SUMIF($F$3:$F$20,AP6,$AJ$3:$AJ$20) -> 1 | AS6: =SUMIF($F$3:$F$20,AP6,$AK$3:$AK$20) -> 2 | AT6: =SUMIF($F$3:$F$20,AP6,$AL$3:$AL$20) -> 0 | AV6: 李裕仁 | AW6: 12 | AX6: 3 | AY6: 6
A7: =COUNTIF($G$23:$AG$40,E7) -> 0 | C7: =COUNTIF(G7:AG7,"HR") -> 0 | AI7: =COUNTA(G7:I7,K7:M7,O7:Q7,S7:U7,W7:Y7,AA7:AC7,AE7:AG7) -> 0 | AJ7: =COUNTIF(G7:AG7,"R")+(COUNTIF(G7:AG7,"HR")*2) -> 0 | AK7: =COUNTIF(G7:AG7,"K") -> 0 | AL7: =$A7+$B7 -> 0 | AM7: 張凱傑 | AO7: 8 | AP7: 陳璽帆 | AQ7: =SUMIF($F$3:$F$20,AP7,$AI$3:$AI$20) -> 4 | AR7: =SUMIF($F$3:$F$20,AP7,$AJ$3:$AJ$20) -> 2 | AS7: =SUMIF($F$3:$F$20,AP7,$AK$3:$AK$20) -> 1 | AT7: =SUMIF($F$3:$F$20,AP7,$AL$3:$AL$20) -> 0
A8: =COUNTIF($G$23:$AG$40,E8) -> 0 | C8: =COUNTIF(G8:AG8,"HR") -> 0 | AI8: =COUNTA(G8:I8,K8:M8,O8:Q8,S8:U8,W8:Y8,AA8:AC8,AE8:AG8) -> 0 | AJ8: =COUNTIF(G8:AG8,"R")+(COUNTIF(G8:AG8,"HR")*2) -> 0 | AK8: =COUNTIF(G8:AG8,"K") -> 0 | AL8: =$A8+$B8 -> 0 | AO8: 33 | AP8: 胡文秋 | AQ8: =SUMIF($F$3:$F$20,AP8,$AI$3:$AI$20) -> 4 | AR8: =SUMIF($F$3:$F$20,AP8,$AJ$3:$AJ$20) -> 0 | AS8: =SUMIF($F$3:$F$20,AP8,$AK$3:$AK$20) -> 4 | AT8: =SUMIF($F$3:$F$20,AP8,$AL$3:$AL$20) -> 6 | AW8: =SUM(AW5:AW7) -> 22 | AX8: =SUM(AX5:AX7) -> 4 | AY8: =SUM(AY5:AY7) -> 15
A9: =COUNTIF($G$23:$AG$40,E9) -> 0 | C9: =COUNTIF(G9:AG9,"HR") -> 0 | D9: 3 | E9: 8 | F9: 陳璽帆 | G9: R | O9: K | W9: 17 | AB9: R | AI9: =COUNTA(G9:I9,K9:M9,O9:Q9,S9:U9,W9:Y9,AA9:AC9,AE9:AG9) -> 4 | AJ9: =COUNTIF(G9:AG9,"R")+(COUNTIF(G9:AG9,"HR")*2) -> 2 | AK9: =COUNTIF(G9:AG9,"K") -> 1 | AL9: =$A9+$B9 -> 0 | AO9: 35 | AP9: 陳俊欽 | AQ9: =SUMIF($F$3:$F$20,AP9,$AI$3:$AI$20) -> 3 | AR9: =SUMIF($F$3:$F$20,AP9,$AJ$3:$AJ$20) -> 0 | AS9: =SUMIF($F$3:$F$20,AP9,$AK$3:$AK$20) -> 3 | AT9: =SUMIF($F$3:$F$20,AP9,$AL$3:$AL$20) -> 0
A10: =COUNTIF($G$23:$AG$40,E10) -> 0 | C10: =COUNTIF(G10:AG10,"HR") -> 0 | AI10: =COUNTA(G10:I10,K10:M10,O10:Q10,S10:U10,W10:Y10,AA10:AC10,AE10:AG10) -> 0 | AJ10: =COUNTIF(G10:AG10,"R")+(COUNTIF(G10:AG10,"HR")*2) -> 0 | AK10: =COUNTIF(G10:AG10,"K") -> 0 | AL10: =$A10+$B10 -> 0 | AM10: 觀測員 | AO10: 23 | AP10: 莊詠安 | AQ10: =SUMIF($F$3:$F$20,AP10,$AI$3:$AI$20) -> 1 | AR10: =SUMIF($F$3:$F$20,AP10,$AJ$3:$AJ$20) -> 0 | AS10: =SUMIF($F$3:$F$20,AP10,$AK$3:$AK$20) -> 1 | AT10: =SUMIF($F$3:$F$20,AP10,$AL$3:$AL$20) -> 0
A11: =COUNTIF($G$23:$AG$40,E11) -> 0 | C11: =COUNTIF(G11:AG11,"HR") -> 0 | AI11: =COUNTA(G11:I11,K11:M11,O11:Q11,S11:U11,W11:Y11,AA11:AC11,AE11:AG11) -> 0 | AJ11: =COUNTIF(G11:AG11,"R")+(COUNTIF(G11:AG11,"HR")*2) -> 0 | AK11: =COUNTIF(G11:AG11,"K") -> 0 | AL11: =$A11+$B11 -> 0 | AM11: 薛沅庭 | AO11: 111 | AP11: 林健彰 | AQ11: =SUMIF($F$3:$F$20,AP11,$AI$3:$AI$20) -> 2 | AR11: =SUMIF($F$3:$F$20,AP11,$AJ$3:$AJ$20) -> 1 | AS11: =SUMIF($F$3:$F$20,AP11,$AK$3:$AK$20) -> 1 | AT11: =SUMIF($F$3:$F$20,AP11,$AL$3:$AL$20) -> 1
A12: =COUNTIF($G$23:$AG$40,E12) -> 6 | C12: =COUNTIF(G12:AG12,"HR") -> 0 | D12: 4 | E12: 33 | F12: 胡文秋 | G12: K | O12: K | W12: K | AB12: K | AI12: =COUNTA(G12:I12,K12:M12,O12:Q12,S12:U12,W12:Y12,AA12:AC12,AE12:AG12) -> 4 | AJ12: =COUNTIF(G12:AG12,"R")+(COUNTIF(G12:AG12,"HR")*2) -> 0 | AK12: =COUNTIF(G12:AG12,"K") -> 4 | AL12: =$A12+$B12 -> 6 | AQ12: =SUMIF($F$3:$F$20,AP12,$AI$3:$AI$20) -> 0 | AR12: =SUMIF($F$3:$F$20,AP12,$AJ$3:$AJ$20) -> 0 | AS12: =SUMIF($F$3:$F$20,AP12,$AK$3:$AK$20) -> 0 | AT12: =SUMIF($F$3:$F$20,AP12,$AL$3:$AL$20) -> 0
A13: =COUNTIF($G$23:$AG$40,E13) -> 0 | C13: =COUNTIF(G13:AG13,"HR") -> 0 | AI13: =COUNTA(G13:I13,K13:M13,O13:Q13,S13:U13,W13:Y13,AA13:AC13,AE13:AG13) -> 0 | AJ13: =COUNTIF(G13:AG13,"R")+(COUNTIF(G13:AG13,"HR")*2) -> 0 | AK13: =COUNTIF(G13:AG13,"K") -> 0 | AL13: =$A13+$B13 -> 0
A14: =COUNTIF($G$23:$AG$40,E14) -> 0 | C14: =COUNTIF(G14:AG14,"HR") -> 0 | AI14: =COUNTA(G14:I14,K14:M14,O14:Q14,S14:U14,W14:Y14,AA14:AC14,AE14:AG14) -> 0 | AJ14: =COUNTIF(G14:AG14,"R")+(COUNTIF(G14:AG14,"HR")*2) -> 0 | AK14: =COUNTIF(G14:AG14,"K") -> 0 | AL14: =$A14+$B14 -> 0 | AM14: 候補球員
A15: =COUNTIF($G$23:$AG$40,E15) -> 0 | C15: =COUNTIF(G15:AG15,"HR") -> 0 | D15: 5 | E15: 35 | F15: 陳俊欽 | K15: K | S15: K | W15: K | AI15: =COUNTA(G15:I15,K15:M15,O15:Q15,S15:U15,W15:Y15,AA15:AC15,AE15:AG15) -> 3 | AJ15: =COUNTIF(G15:AG15,"R")+(COUNTIF(G15:AG15,"HR")*2) -> 0 | AK15: =COUNTIF(G15:AG15,"K") -> 3 | AL15: =$A15+$B15 -> 0
A16: =COUNTIF($G$23:$AG$40,E16) -> 0 | C16: =COUNTIF(G16:AG16,"HR") -> 0 | AI16: =COUNTA(G16:I16,K16:M16,O16:Q16,S16:U16,W16:Y16,AA16:AC16,AE16:AG16) -> 0 | AJ16: =COUNTIF(G16:AG16,"R")+(COUNTIF(G16:AG16,"HR")*2) -> 0 | AK16: =COUNTIF(G16:AG16,"K") -> 0 | AL16: =$A16+$B16 -> 0 | AQ16: =SUM(AQ3:AQ15) -> 22 | AR16: =SUM(AR3:AR15) -> 4 | AS16: =SUM(AS3:AS15) -> 15 | AT16: =SUM(AT3:AT15) -> 7
A17: =COUNTIF($G$23:$AG$40,E17) -> 0 | C17: =COUNTIF(G17:AG17,"HR") -> 0 | AI17: =COUNTA(G17:I17,K17:M17,O17:Q17,S17:U17,W17:Y17,AA17:AC17,AE17:AG17) -> 0 | AJ17: =COUNTIF(G17:AG17,"R")+(COUNTIF(G17:AG17,"HR")*2) -> 0 | AK17: =COUNTIF(G17:AG17,"K") -> 0 | AL17: =$A17+$B17 -> 0
A18: =COUNTIF($G$23:$AG$40,E18) -> 0 | C18: =COUNTIF(G18:AG18,"HR") -> 0 | D18: 6 | E18: 23 | F18: 莊詠安 | K18: K | AI18: =COUNTA(G18:I18,K18:M18,O18:Q18,S18:U18,W18:Y18,AA18:AC18,AE18:AG18) -> 1 | AJ18: =COUNTIF(G18:AG18,"R")+(COUNTIF(G18:AG18,"HR")*2) -> 0 | AK18: =COUNTIF(G18:AG18,"K") -> 1 | AL18: =$A18+$B18 -> 0
A19: =COUNTIF($G$23:$AG$40,E19) -> 1 | C19: =COUNTIF(G19:AG19,"HR") -> 0 | E19: 111 | F19: 林健彰 | S19: K | AA19: R | AI19: =COUNTA(G19:I19,K19:M19,O19:Q19,S19:U19,W19:Y19,AA19:AC19,AE19:AG19) -> 2 | AJ19: =COUNTIF(G19:AG19,"R")+(COUNTIF(G19:AG19,"HR")*2) -> 1 | AK19: =COUNTIF(G19:AG19,"K") -> 1 | AL19: =$A19+$B19 -> 1
A20: =COUNTIF($G$23:$AG$40,E20) -> 0 | C20: =COUNTIF(G20:AG20,"HR") -> 0 | AI20: =COUNTA(G20:I20,K20:M20,O20:Q20,S20:U20,W20:Y20,AA20:AC20,AE20:AG20) -> 0 | AJ20: =COUNTIF(G20:AG20,"R")+(COUNTIF(G20:AG20,"HR")*2) -> 0 | AK20: =COUNTIF(G20:AG20,"K") -> 0 | AL20: =$A20+$B20 -> 0
A21: =SUM(A3:A20) -> 7 | B21: =SUM(B3:B20) -> 0 | C21: =SUM(C3:C20) -> 0 | D21: 得分加總 | G21: =COUNTIF(G3:I20,"R")+(COUNTIF(G3:I20,"HR")*2) -> 1 | K21: =COUNTIF(K3:M20,"R")+(COUNTIF(K3:M20,"HR")*2)+G21 -> 1 | O21: =COUNTIF(O3:Q20,"R")+(COUNTIF(O3:Q20,"HR")*2)+K21 -> 1 | S21: =COUNTIF(S3:U20,"R")+(COUNTIF(S3:U20,"HR")*2)+O21 -> 1 | W21: =COUNTIF(W3:Y20,"R")+(COUNTIF(W3:Y20,"HR")*2)+S21 -> 2 | AA21: =COUNTIF(AA3:AC20,"R")+(COUNTIF(AA3:AC20,"HR")*2)+W21 -> 4 | AE21: =COUNTIF(AE3:AG20,"R")+(COUNTIF(AE3:AG20,"HR")*2)+AA21 -> 4 | AI21: =SUM(AI3:AI20) -> 22 | AJ21: =SUM(AJ3:AJ20) -> 4 | AK21: =SUM(AK3:AK20) -> 15 | AL21: =SUM(AL3:AL20) -> 7
A22: 撿球 | B22: 接殺 | C22: HR | D22: 後 | E22: 背號 | F22: 球員 | G22: 1 | J22: 投 | K22: 2 | N22: 投 | O22: 3 | R22: 投 | S22: 4 | V22: 投 | W22: 5 | Z22: 投 | AA22: 6 | AD22: 投 | AE22: 7 | AH22: 投 | AI22: AB | AJ22: R | AK22: K | AL22: P | AM22: 投/捕/觀
A23: =COUNTIF($G$3:$AG$20,E23) -> 0 | C23: =COUNTIF(G23:AG23,"HR") -> 0 | D23: 1 | E23: 23 | F23: 黃雅苓 | G23: K | L23: 33 | T23: K | AB23: K | AI23: =COUNTA(G23:I23,K23:M23,O23:Q23,S23:U23,W23:Y23,AA23:AC23,AE23:AG23) -> 4 | AJ23: =COUNTIF(G23:AG23,"R")+(COUNTIF(G23:AG23,"HR")*2) -> 0 | AK23: =COUNTIF(G23:AG23,"K") -> 3 | AL23: =$A23+$B23 -> 0 | AM23: 投手 | AO23: 23 | AP23: {=_xlfn.UNIQUE(F23:F40)} -> 黃雅苓 | AQ23: =SUMIF($F$23:$F$40,AP23,$AI$23:$AI$40) -> 4 | AR23: =SUMIF($F$23:$F$40,AP23,$AJ$23:$AJ$40) -> 0 | AS23: =SUMIF($F$23:$F$40,AP23,$AK$23:$AK$40) -> 3 | AT23: =SUMIF($F$23:$F$40,AP23,$AL$23:$AL$40) -> 0
A24: =COUNTIF($G$3:$AG$20,E24) -> 0 | C24: =COUNTIF(G24:AG24,"HR") -> 0 | AI24: =COUNTA(G24:I24,K24:M24,O24:Q24,S24:U24,W24:Y24,AA24:AC24,AE24:AG24) -> 0 | AJ24: =COUNTIF(G24:AG24,"R")+(COUNTIF(G24:AG24,"HR")*2) -> 0 | AK24: =COUNTIF(G24:AG24,"K") -> 0 | AL24: =$A24+$B24 -> 0 | AM24: 宋展宇 | AP24: 0 | AQ24: =SUMIF($F$23:$F$40,AP24,$AI$23:$AI$40) -> 0 | AR24: =SUMIF($F$23:$F$40,AP24,$AJ$23:$AJ$40) -> 0 | AS24: =SUMIF($F$23:$F$40,AP24,$AK$23:$AK$40) -> 0 | AT24: =SUMIF($F$23:$F$40,AP24,$AL$23:$AL$40) -> 0
A25: =COUNTIF($G$3:$AG$20,E25) -> 0 | C25: =COUNTIF(G25:AG25,"HR") -> 0 | AI25: =COUNTA(G25:I25,K25:M25,O25:Q25,S25:U25,W25:Y25,AA25:AC25,AE25:AG25) -> 0 | AJ25: =COUNTIF(G25:AG25,"R")+(COUNTIF(G25:AG25,"HR")*2) -> 0 | AK25: =COUNTIF(G25:AG25,"K") -> 0 | AL25: =$A25+$B25 -> 0 | AO25: 20 | AP25: 劉家溫 | AQ25: =SUMIF($F$23:$F$40,AP25,$AI$23:$AI$40) -> 4 | AR25: =SUMIF($F$23:$F$40,AP25,$AJ$23:$AJ$40) -> 0 | AS25: =SUMIF($F$23:$F$40,AP25,$AK$23:$AK$40) -> 2 | AT25: =SUMIF($F$23:$F$40,AP25,$AL$23:$AL$40) -> 0 | AV25: {=_xlfn.UNIQUE(AM24:AM25)} -> 宋展宇 | AW25: 20 | AX25: 2 | AY25: 11
A26: =COUNTIF($G$3:$AG$20,E26) -> 0 | C26: =COUNTIF(G26:AG26,"HR") -> 0 | D26: 2 | E26: 20 | F26: 劉家溫 | G26: K | L26: 33 | T26: 111 | AB26: K | AI26: =COUNTA(G26:I26,K26:M26,O26:Q26,S26:U26,W26:Y26,AA26:AC26,AE26:AG26) -> 4 | AJ26: =COUNTIF(G26:AG26,"R")+(COUNTIF(G26:AG26,"HR")*2) -> 0 | AK26: =COUNTIF(G26:AG26,"K") -> 2 | AL26: =$A26+$B26 -> 0 | AM26: 捕手 | AO26: 26 | AP26: 賴智傑 | AQ26: =SUMIF($F$23:$F$40,AP26,$AI$23:$AI$40) -> 3 | AR26: =SUMIF($F$23:$F$40,AP26,$AJ$23:$AJ$40) -> 0 | AS26: =SUMIF($F$23:$F$40,AP26,$AK$23:$AK$40) -> 2 | AT26: =SUMIF($F$23:$F$40,AP26,$AL$23:$AL$40) -> 1 | AV26: 0
A27: =COUNTIF($G$3:$AG$20,E27) -> 0 | C27: =COUNTIF(G27:AG27,"HR") -> 0 | AI27: =COUNTA(G27:I27,K27:M27,O27:Q27,S27:U27,W27:Y27,AA27:AC27,AE27:AG27) -> 0 | AJ27: =COUNTIF(G27:AG27,"R")+(COUNTIF(G27:AG27,"HR")*2) -> 0 | AK27: =COUNTIF(G27:AG27,"K") -> 0 | AL27: =$A27+$B27 -> 0 | AM27: 林宜宏 | AO27: 25 | AP27: 洪韶壕 | AQ27: =SUMIF($F$23:$F$40,AP27,$AI$23:$AI$40) -> 3 | AR27: =SUMIF($F$23:$F$40,AP27,$AJ$23:$AJ$40) -> 1 | AS27: =SUMIF($F$23:$F$40,AP27,$AK$23:$AK$40) -> 1 | AT27: =SUMIF($F$23:$F$40,AP27,$AL$23:$AL$40) -> 1
A28: =COUNTIF($G$3:$AG$20,E28) -> 0 | C28: =COUNTIF(G28:AG28,"HR") -> 0 | AI28: =COUNTA(G28:I28,K28:M28,O28:Q28,S28:U28,W28:Y28,AA28:AC28,AE28:AG28) -> 0 | AJ28: =COUNTIF(G28:AG28,"R")+(COUNTIF(G28:AG28,"HR")*2) -> 0 | AK28: =COUNTIF(G28:AG28,"K") -> 0 | AL28: =$A28+$B28 -> 0 | AO28: 17 | AP28: 張睿紘 | AQ28: =SUMIF($F$23:$F$40,AP28,$AI$23:$AI$40) -> 3 | AR28: =SUMIF($F$23:$F$40,AP28,$AJ$23:$AJ$40) -> 1 | AS28: =SUMIF($F$23:$F$40,AP28,$AK$23:$AK$40) -> 2 | AT28: =SUMIF($F$23:$F$40,AP28,$AL$23:$AL$40) -> 1
A29: =COUNTIF($G$3:$AG$20,E29) -> 1 | C29: =COUNTIF(G29:AG29,"HR") -> 0 | D29: 3 | E29: 26 | F29: 賴智傑 | G29: K | O29: 33 | W29: K | AI29: =COUNTA(G29:I29,K29:M29,O29:Q29,S29:U29,W29:Y29,AA29:AC29,AE29:AG29) -> 3 | AJ29: =COUNTIF(G29:AG29,"R")+(COUNTIF(G29:AG29,"HR")*2) -> 0 | AK29: =COUNTIF(G29:AG29,"K") -> 2 | AL29: =$A29+$B29 -> 1 | AO29: 66 | AP29: 陳韻婷 | AQ29: =SUMIF($F$23:$F$40,AP29,$AI$23:$AI$40) -> 3 | AR29: =SUMIF($F$23:$F$40,AP29,$AJ$23:$AJ$40) -> 0 | AS29: =SUMIF($F$23:$F$40,AP29,$AK$23:$AK$40) -> 1 | AT29: =SUMIF($F$23:$F$40,AP29,$AL$23:$AL$40) -> 0
A30: =COUNTIF($G$3:$AG$20,E30) -> 0 | C30: =COUNTIF(G30:AG30,"HR") -> 0 | AI30: =COUNTA(G30:I30,K30:M30,O30:Q30,S30:U30,W30:Y30,AA30:AC30,AE30:AG30) -> 0 | AJ30: =COUNTIF(G30:AG30,"R")+(COUNTIF(G30:AG30,"HR")*2) -> 0 | AK30: =COUNTIF(G30:AG30,"K") -> 0 | AL30: =$A30+$B30 -> 0 | AM30: 觀測員 | AQ30: =SUMIF($F$23:$F$40,AP30,$AI$23:$AI$40) -> 0 | AR30: =SUMIF($F$23:$F$40,AP30,$AJ$23:$AJ$40) -> 0 | AS30: =SUMIF($F$23:$F$40,AP30,$AK$23:$AK$40) -> 0 | AT30: =SUMIF($F$23:$F$40,AP30,$AL$23:$AL$40) -> 0
A31: =COUNTIF($G$3:$AG$20,E31) -> 0 | C31: =COUNTIF(G31:AG31,"HR") -> 0 | AI31: =COUNTA(G31:I31,K31:M31,O31:Q31,S31:U31,W31:Y31,AA31:AC31,AE31:AG31) -> 0 | AJ31: =COUNTIF(G31:AG31,"R")+(COUNTIF(G31:AG31,"HR")*2) -> 0 | AK31: =COUNTIF(G31:AG31,"K") -> 0 | AL31: =$A31+$B31 -> 0 | AM31: 高芳伶
A32: =COUNTIF($G$3:$AG$20,E32) -> 1 | C32: =COUNTIF(G32:AG32,"HR") -> 0 | D32: 4 | E32: 25 | F32: 洪韶壕 | K32: R | O32: 33 | W32: K | AI32: =COUNTA(G32:I32,K32:M32,O32:Q32,S32:U32,W32:Y32,AA32:AC32,AE32:AG32) -> 3 | AJ32: =COUNTIF(G32:AG32,"R")+(COUNTIF(G32:AG32,"HR")*2) -> 1 | AK32: =COUNTIF(G32:AG32,"K") -> 1 | AL32: =$A32+$B32 -> 1
A33: =COUNTIF($G$3:$AG$20,E33) -> 0 | C33: =COUNTIF(G33:AG33,"HR") -> 0 | AI33: =COUNTA(G33:I33,K33:M33,O33:Q33,S33:U33,W33:Y33,AA33:AC33,AE33:AG33) -> 0 | AJ33: =COUNTIF(G33:AG33,"R")+(COUNTIF(G33:AG33,"HR")*2) -> 0 | AK33: =COUNTIF(G33:AG33,"K") -> 0 | AL33: =$A33+$B33 -> 0
A34: =COUNTIF($G$3:$AG$20,E34) -> 0 | C34: =COUNTIF(G34:AG34,"HR") -> 0 | AI34: =COUNTA(G34:I34,K34:M34,O34:Q34,S34:U34,W34:Y34,AA34:AC34,AE34:AG34) -> 0 | AJ34: =COUNTIF(G34:AG34,"R")+(COUNTIF(G34:AG34,"HR")*2) -> 0 | AK34: =COUNTIF(G34:AG34,"K") -> 0 | AL34: =$A34+$B34 -> 0 | AM34: 候補球員
A35: =COUNTIF($G$3:$AG$20,E35) -> 1 | C35: =COUNTIF(G35:AG35,"HR") -> 0 | D35: 5 | E35: 17 | F35: 張睿紘 | K35: R | O35: K | W35: K | AI35: =COUNTA(G35:I35,K35:M35,O35:Q35,S35:U35,W35:Y35,AA35:AC35,AE35:AG35) -> 3 | AJ35: =COUNTIF(G35:AG35,"R")+(COUNTIF(G35:AG35,"HR")*2) -> 1 | AK35: =COUNTIF(G35:AG35,"K") -> 2 | AL35: =$A35+$B35 -> 1 | AQ35: =SUM(AQ23:AQ34) -> 20 | AR35: =SUM(AR23:AR34) -> 2 | AS35: =SUM(AS23:AS34) -> 11 | AT35: =SUM(AT23:AT34) -> 3
A36: =COUNTIF($G$3:$AG$20,E36) -> 0 | C36: =COUNTIF(G36:AG36,"HR") -> 0 | AI36: =COUNTA(G36:I36,K36:M36,O36:Q36,S36:U36,W36:Y36,AA36:AC36,AE36:AG36) -> 0 | AJ36: =COUNTIF(G36:AG36,"R")+(COUNTIF(G36:AG36,"HR")*2) -> 0 | AK36: =COUNTIF(G36:AG36,"K") -> 0 | AL36: =$A36+$B36 -> 0
A37: =COUNTIF($G$3:$AG$20,E37) -> 0 | C37: =COUNTIF(G37:AG37,"HR") -> 0 | AI37: =COUNTA(G37:I37,K37:M37,O37:Q37,S37:U37,W37:Y37,AA37:AC37,AE37:AG37) -> 0 | AJ37: =COUNTIF(G37:AG37,"R")+(COUNTIF(G37:AG37,"HR")*2) -> 0 | AK37: =COUNTIF(G37:AG37,"K") -> 0 | AL37: =$A37+$B37 -> 0
A38: =COUNTIF($G$3:$AG$20,E38) -> 0 | C38: =COUNTIF(G38:AG38,"HR") -> 0 | D38: 6 | E38: 66 | F38: 陳韻婷 | K38: K | S38: 33 | AA38: 33 | AI38: =COUNTA(G38:I38,K38:M38,O38:Q38,S38:U38,W38:Y38,AA38:AC38,AE38:AG38) -> 3 | AJ38: =COUNTIF(G38:AG38,"R")+(COUNTIF(G38:AG38,"HR")*2) -> 0 | AK38: =COUNTIF(G38:AG38,"K") -> 1 | AL38: =$A38+$B38 -> 0
A39: =COUNTIF($G$3:$AG$20,E39) -> 0 | C39: =COUNTIF(G39:AG39,"HR") -> 0 | AI39: =COUNTA(G39:I39,K39:M39,O39:Q39,S39:U39,W39:Y39,AA39:AC39,AE39:AG39) -> 0 | AJ39: =COUNTIF(G39:AG39,"R")+(COUNTIF(G39:AG39,"HR")*2) -> 0 | AK39: =COUNTIF(G39:AG39,"K") -> 0 | AL39: =$A39+$B39 -> 0
A40: =COUNTIF($G$3:$AG$20,E40) -> 0 | C40: =COUNTIF(G40:AG40,"HR") -> 0 | AI40: =COUNTA(G40:I40,K40:M40,O40:Q40,S40:U40,W40:Y40,AA40:AC40,AE40:AG40) -> 0 | AJ40: =COUNTIF(G40:AG40,"R")+(COUNTIF(G40:AG40,"HR")*2) -> 0 | AK40: =COUNTIF(G40:AG40,"K") -> 0 | AL40: =$A40+$B40 -> 0
...

Sheet G2
B1: 加計分數 | D1: 場次 | H1: G2 | J1: 日期 | L1: 115.08.15 | Q1: =AE21 -> 13 | T1: 夜魔俠 | V1: VS | X1: 閃電隊 | AA1: =AE41 -> 6 | AI1: 數據
A2: 撿球 | B2: 接殺 | C2: HR | D2: 先 | E2: 背號 | F2: 球員 | G2: 1 | J2: 投 | K2: 2 | N2: 投 | O2: 3 | R2: 投 | S2: 4 | V2: 投 | W2: 5 | Z2: 投 | AA2: 6 | AD2: 投 | AE2: 7 | AH2: 投 | AI2: AB | AJ2: R | AK2: K | AL2: P | AM2: 投/捕/觀
A3: =COUNTIF($G$23:$AG$40,E3) -> 0 | C3: =COUNTIF(G3:AG3,"HR") -> 0 | D3: 1 | E3: 18 | F3: 梁耿縉 | G3: K | L3: R | P3: R | S3: 35 | AI3: =COUNTA(G3:I3,K3:M3,O3:Q3,S3:U3,W3:Y3,AA3:AC3,AE3:AG3) -> 4 | AJ3: =COUNTIF(G3:AG3,"R")+(COUNTIF(G3:AG3,"HR")*2) -> 2 | AK3: =COUNTIF(G3:AG3,"K") -> 1 | AL3: =$A3+$B3 -> 0 | AM3: 投手 | AO3: 背號 | AP3: 球員 | AQ3: AB | AR3: R | AS3: K | AT3: P | AV3: 投手成績統計 | AX3: (手動輸入)
A4: =COUNTIF($G$23:$AG$40,E4) -> 2 | C4: =COUNTIF(G4:AG4,"HR") -> 0 | E4: 26 | F4: 李怡慧 | X4: R | AB4: 35 | AI4: =COUNTA(G4:I4,K4:M4,O4:Q4,S4:U4,W4:Y4,AA4:AC4,AE4:AG4) -> 2 | AJ4: =COUNTIF(G4:AG4,"R")+(COUNTIF(G4:AG4,"HR")*2) -> 1 | AK4: =COUNTIF(G4:AG4,"K") -> 0 | AL4: =$A4+$B4 -> 2 | AM4: 陳相睿 | AO4: 18 | AP4: {=_xlfn.UNIQUE(F3:F20)} -> 梁耿縉 | AQ4: =SUMIF($F$3:$F$20,AP4,$AI$3:$AI$20) -> 4 | AR4: =SUMIF($F$3:$F$20,AP4,$AJ$3:$AJ$20) -> 2 | AS4: =SUMIF($F$3:$F$20,AP4,$AK$3:$AK$20) -> 1 | AT4: =SUMIF($F$3:$F$20,AP4,$AL$3:$AL$20) -> 0 | AV4: 姓名 | AW4: AB | AX4: R | AY4: K
A5: =COUNTIF($G$23:$AG$40,E5) -> 0 | C5: =COUNTIF(G5:AG5,"HR") -> 0 | AI5: =COUNTA(G5:I5,K5:M5,O5:Q5,S5:U5,W5:Y5,AA5:AC5,AE5:AG5) -> 0 | AJ5: =COUNTIF(G5:AG5,"R")+(COUNTIF(G5:AG5,"HR")*2) -> 0 | AK5: =COUNTIF(G5:AG5,"K") -> 0 | AL5: =$A5+$B5 -> 0 | AO5: 26 | AP5: 李怡慧 | AQ5: =SUMIF($F$3:$F$20,AP5,$AI$3:$AI$20) -> 2 | AR5: =SUMIF($F$3:$F$20,AP5,$AJ$3:$AJ$20) -> 1 | AS5: =SUMIF($F$3:$F$20,AP5,$AK$3:$AK$20) -> 0 | AT5: =SUMIF($F$3:$F$20,AP5,$AL$3:$AL$20) -> 2 | AV5: {=_xlfn.UNIQUE(AM4:AM5)} -> 陳相睿 | AW5: 31 | AX5: 13 | AY5: 8
A6: =COUNTIF($G$23:$AG$40,E6) -> 0 | C6: =COUNTIF(G6:AG6,"HR") -> 0 | D6: 2 | E6: 39 | F6: 郭亦倫 | G6: 111 | L6: 8 | P6: R | S6: K | X6: 8 | AI6: =COUNTA(G6:I6,K6:M6,O6:Q6,S6:U6,W6:Y6,AA6:AC6,AE6:AG6) -> 5 | AJ6: =COUNTIF(G6:AG6,"R")+(COUNTIF(G6:AG6,"HR")*2) -> 1 | AK6: =COUNTIF(G6:AG6,"K") -> 1 | AL6: =$A6+$B6 -> 0 | AM6: 捕手 | AP6: 0 | AQ6: =SUMIF($F$3:$F$20,AP6,$AI$3:$AI$20) -> 0 | AR6: =SUMIF($F$3:$F$20,AP6,$AJ$3:$AJ$20) -> 0 | AS6: =SUMIF($F$3:$F$20,AP6,$AK$3:$AK$20) -> 0 | AT6: =SUMIF($F$3:$F$20,AP6,$AL$3:$AL$20) -> 0 | AV6: 0
A7: =COUNTIF($G$23:$AG$40,E7) -> 0 | C7: =COUNTIF(G7:AG7,"HR") -> 0 | AI7: =COUNTA(G7:I7,K7:M7,O7:Q7,S7:U7,W7:Y7,AA7:AC7,AE7:AG7) -> 0 | AJ7: =COUNTIF(G7:AG7,"R")+(COUNTIF(G7:AG7,"HR")*2) -> 0 | AK7: =COUNTIF(G7:AG7,"K") -> 0 | AL7: =$A7+$B7 -> 0 | AM7: 王辰光 | AO7: 39 | AP7: 郭亦倫 | AQ7: =SUMIF($F$3:$F$20,AP7,$AI$3:$AI$20) -> 5 | AR7: =SUMIF($F$3:$F$20,AP7,$AJ$3:$AJ$20) -> 1 | AS7: =SUMIF($F$3:$F$20,AP7,$AK$3:$AK$20) -> 1 | AT7: =SUMIF($F$3:$F$20,AP7,$AL$3:$AL$20) -> 0
A8: =COUNTIF($G$23:$AG$40,E8) -> 0 | C8: =COUNTIF(G8:AG8,"HR") -> 0 | AI8: =COUNTA(G8:I8,K8:M8,O8:Q8,S8:U8,W8:Y8,AA8:AC8,AE8:AG8) -> 0 | AJ8: =COUNTIF(G8:AG8,"R")+(COUNTIF(G8:AG8,"HR")*2) -> 0 | AK8: =COUNTIF(G8:AG8,"K") -> 0 | AL8: =$A8+$B8 -> 0 | AO8: 22 | AP8: 蔡存宥 | AQ8: =SUMIF($F$3:$F$20,AP8,$AI$3:$AI$20) -> 5 | AR8: =SUMIF($F$3:$F$20,AP8,$AJ$3:$AJ$20) -> 3 | AS8: =SUMIF($F$3:$F$20,AP8,$AK$3:$AK$20) -> 2 | AT8: =SUMIF($F$3:$F$20,AP8,$AL$3:$AL$20) -> 2
A9: =COUNTIF($G$23:$AG$40,E9) -> 2 | C9: =COUNTIF(G9:AG9,"HR") -> 0 | D9: 3 | E9: 22 | F9: 蔡存宥 | G9: R | L9: R | P9: R | S9: K | X9: K | AI9: =COUNTA(G9:I9,K9:M9,O9:Q9,S9:U9,W9:Y9,AA9:AC9,AE9:AG9) -> 5 | AJ9: =COUNTIF(G9:AG9,"R")+(COUNTIF(G9:AG9,"HR")*2) -> 3 | AK9: =COUNTIF(G9:AG9,"K") -> 2 | AL9: =$A9+$B9 -> 2 | AO9: 81 | AP9: 余自成 | AQ9: =SUMIF($F$3:$F$20,AP9,$AI$3:$AI$20) -> 2 | AR9: =SUMIF($F$3:$F$20,AP9,$AJ$3:$AJ$20) -> 0 | AS9: =SUMIF($F$3:$F$20,AP9,$AK$3:$AK$20) -> 0 | AT9: =SUMIF($F$3:$F$20,AP9,$AL$3:$AL$20) -> 0
A10: =COUNTIF($G$23:$AG$40,E10) -> 0 | C10: =COUNTIF(G10:AG10,"HR") -> 0 | AI10: =COUNTA(G10:I10,K10:M10,O10:Q10,S10:U10,W10:Y10,AA10:AC10,AE10:AG10) -> 0 | AJ10: =COUNTIF(G10:AG10,"R")+(COUNTIF(G10:AG10,"HR")*2) -> 0 | AK10: =COUNTIF(G10:AG10,"K") -> 0 | AL10: =$A10+$B10 -> 0 | AM10: 觀測員 | AO10: 37 | AP10: 古國偉 | AQ10: =SUMIF($F$3:$F$20,AP10,$AI$3:$AI$20) -> 3 | AR10: =SUMIF($F$3:$F$20,AP10,$AJ$3:$AJ$20) -> 1 | AS10: =SUMIF($F$3:$F$20,AP10,$AK$3:$AK$20) -> 2 | AT10: =SUMIF($F$3:$F$20,AP10,$AL$3:$AL$20) -> 0
A11: =COUNTIF($G$23:$AG$40,E11) -> 0 | C11: =COUNTIF(G11:AG11,"HR") -> 0 | AI11: =COUNTA(G11:I11,K11:M11,O11:Q11,S11:U11,W11:Y11,AA11:AC11,AE11:AG11) -> 0 | AJ11: =COUNTIF(G11:AG11,"R")+(COUNTIF(G11:AG11,"HR")*2) -> 0 | AK11: =COUNTIF(G11:AG11,"K") -> 0 | AL11: =$A11+$B11 -> 0 | AM11: 劉維璽 | AO11: 11 | AP11: 勞恩以達西拔 | AQ11: =SUMIF($F$3:$F$20,AP11,$AI$3:$AI$20) -> 5 | AR11: =SUMIF($F$3:$F$20,AP11,$AJ$3:$AJ$20) -> 2 | AS11: =SUMIF($F$3:$F$20,AP11,$AK$3:$AK$20) -> 2 | AT11: =SUMIF($F$3:$F$20,AP11,$AL$3:$AL$20) -> 0
A12: =COUNTIF($G$23:$AG$40,E12) -> 0 | C12: =COUNTIF(G12:AG12,"HR") -> 0 | D12: 4 | E12: 81 | F12: 余自成 | G12: 33 | L12: 35 | AI12: =COUNTA(G12:I12,K12:M12,O12:Q12,S12:U12,W12:Y12,AA12:AC12,AE12:AG12) -> 2 | AJ12: =COUNTIF(G12:AG12,"R")+(COUNTIF(G12:AG12,"HR")*2) -> 0 | AK12: =COUNTIF(G12:AG12,"K") -> 0 | AL12: =$A12+$B12 -> 0 | AO12: o | AP12: 吳品逸 | AQ12: =SUMIF($F$3:$F$20,AP12,$AI$3:$AI$20) -> 5 | AR12: =SUMIF($F$3:$F$20,AP12,$AJ$3:$AJ$20) -> 3 | AS12: =SUMIF($F$3:$F$20,AP12,$AK$3:$AK$20) -> 0 | AT12: =SUMIF($F$3:$F$20,AP12,$AL$3:$AL$20) -> 0
A13: =COUNTIF($G$23:$AG$40,E13) -> 0 | C13: =COUNTIF(G13:AG13,"HR") -> 0 | E13: 37 | F13: 古國偉 | P13: K | W13: R | AA13: K | AI13: =COUNTA(G13:I13,K13:M13,O13:Q13,S13:U13,W13:Y13,AA13:AC13,AE13:AG13) -> 3 | AJ13: =COUNTIF(G13:AG13,"R")+(COUNTIF(G13:AG13,"HR")*2) -> 1 | AK13: =COUNTIF(G13:AG13,"K") -> 2 | AL13: =$A13+$B13 -> 0 | AO13: 10 | AP13: 宋晴天 | AQ13: =SUMIF($F$3:$F$20,AP13,$AI$3:$AI$20) -> 0 | AR13: =SUMIF($F$3:$F$20,AP13,$AJ$3:$AJ$20) -> 0 | AS13: =SUMIF($F$3:$F$20,AP13,$AK$3:$AK$20) -> 0 | AT13: =SUMIF($F$3:$F$20,AP13,$AL$3:$AL$20) -> 0
A14: =COUNTIF($G$23:$AG$40,E14) -> 0 | C14: =COUNTIF(G14:AG14,"HR") -> 0 | AI14: =COUNTA(G14:I14,K14:M14,O14:Q14,S14:U14,W14:Y14,AA14:AC14,AE14:AG14) -> 0 | AJ14: =COUNTIF(G14:AG14,"R")+(COUNTIF(G14:AG14,"HR")*2) -> 0 | AK14: =COUNTIF(G14:AG14,"K") -> 0 | AL14: =$A14+$B14 -> 0 | AM14: 候補球員 | AQ14: =SUMIF($F$3:$F$20,AP14,$AI$3:$AI$20) -> 0 | AR14: =SUMIF($F$3:$F$20,AP14,$AJ$3:$AJ$20) -> 0 | AS14: =SUMIF($F$3:$F$20,AP14,$AK$3:$AK$20) -> 0 | AT14: =SUMIF($F$3:$F$20,AP14,$AL$3:$AL$20) -> 0
A15: =COUNTIF($G$23:$AG$40,E15) -> 0 | C15: =COUNTIF(G15:AG15,"HR") -> 0 | D15: 5 | E15: 11 | F15: 勞恩以達西拔 | K15: K | O15: R | P15: 8 | W15: K | AA15: R | AI15: =COUNTA(G15:I15,K15:M15,O15:Q15,S15:U15,W15:Y15,AA15:AC15,AE15:AG15) -> 5 | AJ15: =COUNTIF(G15:AG15,"R")+(COUNTIF(G15:AG15,"HR")*2) -> 2 | AK15: =COUNTIF(G15:AG15,"K") -> 2 | AL15: =$A15+$B15 -> 0
A16: =COUNTIF($G$23:$AG$40,E16) -> 0 | C16: =COUNTIF(G16:AG16,"HR") -> 0 | AI16: =COUNTA(G16:I16,K16:M16,O16:Q16,S16:U16,W16:Y16,AA16:AC16,AE16:AG16) -> 0 | AJ16: =COUNTIF(G16:AG16,"R")+(COUNTIF(G16:AG16,"HR")*2) -> 0 | AK16: =COUNTIF(G16:AG16,"K") -> 0 | AL16: =$A16+$B16 -> 0 | AQ16: =SUM(AQ3:AQ15) -> 31 | AR16: =SUM(AR3:AR15) -> 13 | AS16: =SUM(AS3:AS15) -> 8 | AT16: =SUM(AT3:AT15) -> 4
A17: =COUNTIF($G$23:$AG$40,E17) -> 0 | C17: =COUNTIF(G17:AG17,"HR") -> 0 | AI17: =COUNTA(G17:I17,K17:M17,O17:Q17,S17:U17,W17:Y17,AA17:AC17,AE17:AG17) -> 0 | AJ17: =COUNTIF(G17:AG17,"R")+(COUNTIF(G17:AG17,"HR")*2) -> 0 | AK17: =COUNTIF(G17:AG17,"K") -> 0 | AL17: =$A17+$B17 -> 0
A18: =COUNTIF($G$23:$AG$40,E18) -> 0 | C18: =COUNTIF(G18:AG18,"HR") -> 0 | D18: 6 | E18: O | F18: 吳品逸 | K18: R | O18: R | P18: 111 | W18: R | AA18: 33 | AI18: =COUNTA(G18:I18,K18:M18,O18:Q18,S18:U18,W18:Y18,AA18:AC18,AE18:AG18) -> 5 | AJ18: =COUNTIF(G18:AG18,"R")+(COUNTIF(G18:AG18,"HR")*2) -> 3 | AK18: =COUNTIF(G18:AG18,"K") -> 0 | AL18: =$A18+$B18 -> 0
A19: =COUNTIF($G$23:$AG$40,E19) -> 0 | C19: =COUNTIF(G19:AG19,"HR") -> 0 | E19: 10 | F19: 宋晴天 | AI19: =COUNTA(G19:I19,K19:M19,O19:Q19,S19:U19,W19:Y19,AA19:AC19,AE19:AG19) -> 0 | AJ19: =COUNTIF(G19:AG19,"R")+(COUNTIF(G19:AG19,"HR")*2) -> 0 | AK19: =COUNTIF(G19:AG19,"K") -> 0 | AL19: =$A19+$B19 -> 0
A20: =COUNTIF($G$23:$AG$40,E20) -> 0 | C20: =COUNTIF(G20:AG20,"HR") -> 0 | AI20: =COUNTA(G20:I20,K20:M20,O20:Q20,S20:U20,W20:Y20,AA20:AC20,AE20:AG20) -> 0 | AJ20: =COUNTIF(G20:AG20,"R")+(COUNTIF(G20:AG20,"HR")*2) -> 0 | AK20: =COUNTIF(G20:AG20,"K") -> 0 | AL20: =$A20+$B20 -> 0
A21: =SUM(A3:A20) -> 4 | B21: =SUM(B3:B20) -> 0 | C21: =SUM(C3:C20) -> 0 | D21: 得分加總 | G21: =COUNTIF(G3:I20,"R")+(COUNTIF(G3:I20,"HR")*2) -> 1 | K21: =COUNTIF(K3:M20,"R")+(COUNTIF(K3:M20,"HR")*2)+G21 -> 4 | O21: =COUNTIF(O3:Q20,"R")+(COUNTIF(O3:Q20,"HR")*2)+K21 -> 9 | S21: =COUNTIF(S3:U20,"R")+(COUNTIF(S3:U20,"HR")*2)+O21 -> 9 | W21: =COUNTIF(W3:Y20,"R")+(COUNTIF(W3:Y20,"HR")*2)+S21 -> 12 | AA21: =COUNTIF(AA3:AC20,"R")+(COUNTIF(AA3:AC20,"HR")*2)+W21 -> 13 | AE21: =COUNTIF(AE3:AG20,"R")+(COUNTIF(AE3:AG20,"HR")*2)+AA21 -> 13 | AI21: =SUM(AI3:AI20) -> 31 | AJ21: =SUM(AJ3:AJ20) -> 13 | AK21: =SUM(AK3:AK20) -> 8 | AL21: =SUM(AL3:AL20) -> 4
A22: 撿球 | B22: 接殺 | C22: HR | D22: 後 | E22: 背號 | F22: 球員 | G22: 1 | J22: 投 | K22: 2 | N22: 投 | O22: 3 | R22: 投 | S22: 4 | V22: 投 | W22: 5 | Z22: 投 | AA22: 6 | AD22: 投 | AE22: 7 | AH22: 投 | AI22: AB | AJ22: R | AK22: K | AL22: P | AM22: 投/捕/觀
A23: =COUNTIF($G$3:$AG$20,E23) -> 0 | C23: =COUNTIF(G23:AG23,"HR") -> 0 | D23: 1 | E23: 88 | F23: 鄭傳逸 | G23: K | L23: K | T23: R | AA23: R | AI23: =COUNTA(G23:I23,K23:M23,O23:Q23,S23:U23,W23:Y23,AA23:AC23,AE23:AG23) -> 4 | AJ23: =COUNTIF(G23:AG23,"R")+(COUNTIF(G23:AG23,"HR")*2) -> 2 | AK23: =COUNTIF(G23:AG23,"K") -> 2 | AL23: =$A23+$B23 -> 0 | AM23: 投手 | AO23: 88 | AP23: {=_xlfn.UNIQUE(F23:F40)} -> 鄭傳逸 | AQ23: =SUMIF($F$23:$F$40,AP23,$AI$23:$AI$40) -> 4 | AR23: =SUMIF($F$23:$F$40,AP23,$AJ$23:$AJ$40) -> 2 | AS23: =SUMIF($F$23:$F$40,AP23,$AK$23:$AK$40) -> 2 | AT23: =SUMIF($F$23:$F$40,AP23,$AL$23:$AL$40) -> 0
A24: =COUNTIF($G$3:$AG$20,E24) -> 0 | C24: =COUNTIF(G24:AG24,"HR") -> 0 | AI24: =COUNTA(G24:I24,K24:M24,O24:Q24,S24:U24,W24:Y24,AA24:AC24,AE24:AG24) -> 0 | AJ24: =COUNTIF(G24:AG24,"R")+(COUNTIF(G24:AG24,"HR")*2) -> 0 | AK24: =COUNTIF(G24:AG24,"K") -> 0 | AL24: =$A24+$B24 -> 0 | AM24: 李裕仁 | AP24: 0 | AQ24: =SUMIF($F$23:$F$40,AP24,$AI$23:$AI$40) -> 0 | AR24: =SUMIF($F$23:$F$40,AP24,$AJ$23:$AJ$40) -> 0 | AS24: =SUMIF($F$23:$F$40,AP24,$AK$23:$AK$40) -> 0 | AT24: =SUMIF($F$23:$F$40,AP24,$AL$23:$AL$40) -> 0
A25: =COUNTIF($G$3:$AG$20,E25) -> 0 | C25: =COUNTIF(G25:AG25,"HR") -> 0 | AI25: =COUNTA(G25:I25,K25:M25,O25:Q25,S25:U25,W25:Y25,AA25:AC25,AE25:AG25) -> 0 | AJ25: =COUNTIF(G25:AG25,"R")+(COUNTIF(G25:AG25,"HR")*2) -> 0 | AK25: =COUNTIF(G25:AG25,"K") -> 0 | AL25: =$A25+$B25 -> 0 | AO25: 99 | AP25: 林育良 | AQ25: =SUMIF($F$23:$F$40,AP25,$AI$23:$AI$40) -> 4 | AR25: =SUMIF($F$23:$F$40,AP25,$AJ$23:$AJ$40) -> 1 | AS25: =SUMIF($F$23:$F$40,AP25,$AK$23:$AK$40) -> 3 | AT25: =SUMIF($F$23:$F$40,AP25,$AL$23:$AL$40) -> 0 | AV25: {=_xlfn.UNIQUE(AM24:AM25)} -> 李裕仁 | AW25: 24 | AX25: 6 | AY25: 14
A26: =COUNTIF($G$3:$AG$20,E26) -> 0 | C26: =COUNTIF(G26:AG26,"HR") -> 0 | D26: 2 | E26: 99 | F26: 林育良 | G26: K | L26: K | T26: K | AA26: R | AI26: =COUNTA(G26:I26,K26:M26,O26:Q26,S26:U26,W26:Y26,AA26:AC26,AE26:AG26) -> 4 | AJ26: =COUNTIF(G26:AG26,"R")+(COUNTIF(G26:AG26,"HR")*2) -> 1 | AK26: =COUNTIF(G26:AG26,"K") -> 3 | AL26: =$A26+$B26 -> 0 | AM26: 捕手 | AO26: 8 | AP26: 陳璽帆 | AQ26: =SUMIF($F$23:$F$40,AP26,$AI$23:$AI$40) -> 3 | AR26: =SUMIF($F$23:$F$40,AP26,$AJ$23:$AJ$40) -> 0 | AS26: =SUMIF($F$23:$F$40,AP26,$AK$23:$AK$40) -> 2 | AT26: =SUMIF($F$23:$F$40,AP26,$AL$23:$AL$40) -> 3 | AV26: 0
A27: =COUNTIF($G$3:$AG$20,E27) -> 0 | C27: =COUNTIF(G27:AG27,"HR") -> 0 | AI27: =COUNTA(G27:I27,K27:M27,O27:Q27,S27:U27,W27:Y27,AA27:AC27,AE27:AG27) -> 0 | AJ27: =COUNTIF(G27:AG27,"R")+(COUNTIF(G27:AG27,"HR")*2) -> 0 | AK27: =COUNTIF(G27:AG27,"K") -> 0 | AL27: =$A27+$B27 -> 0 | AM27: 張凱傑 | AO27: 111 | AP27: 林健彰 | AQ27: =SUMIF($F$23:$F$40,AP27,$AI$23:$AI$40) -> 3 | AR27: =SUMIF($F$23:$F$40,AP27,$AJ$23:$AJ$40) -> 1 | AS27: =SUMIF($F$23:$F$40,AP27,$AK$23:$AK$40) -> 2 | AT27: =SUMIF($F$23:$F$40,AP27,$AL$23:$AL$40) -> 4
A28: =COUNTIF($G$3:$AG$20,E28) -> 0 | C28: =COUNTIF(G28:AG28,"HR") -> 0 | AI28: =COUNTA(G28:I28,K28:M28,O28:Q28,S28:U28,W28:Y28,AA28:AC28,AE28:AG28) -> 0 | AJ28: =COUNTIF(G28:AG28,"R")+(COUNTIF(G28:AG28,"HR")*2) -> 0 | AK28: =COUNTIF(G28:AG28,"K") -> 0 | AL28: =$A28+$B28 -> 0 | AO28: 33 | AP28: 胡文秋 | AQ28: =SUMIF($F$23:$F$40,AP28,$AI$23:$AI$40) -> 4 | AR28: =SUMIF($F$23:$F$40,AP28,$AJ$23:$AJ$40) -> 1 | AS28: =SUMIF($F$23:$F$40,AP28,$AK$23:$AK$40) -> 2 | AT28: =SUMIF($F$23:$F$40,AP28,$AL$23:$AL$40) -> 2
A29: =COUNTIF($G$3:$AG$20,E29) -> 3 | C29: =COUNTIF(G29:AG29,"HR") -> 0 | D29: 3 | E29: 8 | F29: 陳璽帆 | G29: 22 | O29: K | T29: K | AI29: =COUNTA(G29:I29,K29:M29,O29:Q29,S29:U29,W29:Y29,AA29:AC29,AE29:AG29) -> 3 | AJ29: =COUNTIF(G29:AG29,"R")+(COUNTIF(G29:AG29,"HR")*2) -> 0 | AK29: =COUNTIF(G29:AG29,"K") -> 2 | AL29: =$A29+$B29 -> 3 | AO29: 35 | AP29: 陳俊欽 | AQ29: =SUMIF($F$23:$F$40,AP29,$AI$23:$AI$40) -> 4 | AR29: =SUMIF($F$23:$F$40,AP29,$AJ$23:$AJ$40) -> 1 | AS29: =SUMIF($F$23:$F$40,AP29,$AK$23:$AK$40) -> 2 | AT29: =SUMIF($F$23:$F$40,AP29,$AL$23:$AL$40) -> 3
A30: =COUNTIF($G$3:$AG$20,E30) -> 2 | C30: =COUNTIF(G30:AG30,"HR") -> 0 | E30: 111 | F30: 林健彰 | AA30: K | AI30: =COUNTA(G30:I30,K30:M30,O30:Q30,S30:U30,W30:Y30,AA30:AC30,AE30:AG30) -> 1 | AJ30: =COUNTIF(G30:AG30,"R")+(COUNTIF(G30:AG30,"HR")*2) -> 0 | AK30: =COUNTIF(G30:AG30,"K") -> 1 | AL30: =$A30+$B30 -> 2 | AM30: 觀測員 | AO30: 23 | AP30: 莊詠安 | AQ30: =SUMIF($F$23:$F$40,AP30,$AI$23:$AI$40) -> 2 | AR30: =SUMIF($F$23:$F$40,AP30,$AJ$23:$AJ$40) -> 0 | AS30: =SUMIF($F$23:$F$40,AP30,$AK$23:$AK$40) -> 1 | AT30: =SUMIF($F$23:$F$40,AP30,$AL$23:$AL$40) -> 0
A31: =COUNTIF($G$3:$AG$20,E31) -> 0 | C31: =COUNTIF(G31:AG31,"HR") -> 0 | AI31: =COUNTA(G31:I31,K31:M31,O31:Q31,S31:U31,W31:Y31,AA31:AC31,AE31:AG31) -> 0 | AJ31: =COUNTIF(G31:AG31,"R")+(COUNTIF(G31:AG31,"HR")*2) -> 0 | AK31: =COUNTIF(G31:AG31,"K") -> 0 | AL31: =$A31+$B31 -> 0 | AM31: 薛沅庭 | AQ31: =SUMIF($F$23:$F$40,AP31,$AI$23:$AI$40) -> 0 | AR31: =SUMIF($F$23:$F$40,AP31,$AJ$23:$AJ$40) -> 0 | AS31: =SUMIF($F$23:$F$40,AP31,$AK$23:$AK$40) -> 0 | AT31: =SUMIF($F$23:$F$40,AP31,$AL$23:$AL$40) -> 0
A32: =COUNTIF($G$3:$AG$20,E32) -> 2 | C32: =COUNTIF(G32:AG32,"HR") -> 0 | D32: 4 | E32: 33 | F32: 胡文秋 | K32: R | O32: K | W32: 26 | AA32: K | AI32: =COUNTA(G32:I32,K32:M32,O32:Q32,S32:U32,W32:Y32,AA32:AC32,AE32:AG32) -> 4 | AJ32: =COUNTIF(G32:AG32,"R")+(COUNTIF(G32:AG32,"HR")*2) -> 1 | AK32: =COUNTIF(G32:AG32,"K") -> 2 | AL32: =$A32+$B32 -> 2
A33: =COUNTIF($G$3:$AG$20,E33) -> 0 | C33: =COUNTIF(G33:AG33,"HR") -> 0 | AI33: =COUNTA(G33:I33,K33:M33,O33:Q33,S33:U33,W33:Y33,AA33:AC33,AE33:AG33) -> 0 | AJ33: =COUNTIF(G33:AG33,"R")+(COUNTIF(G33:AG33,"HR")*2) -> 0 | AK33: =COUNTIF(G33:AG33,"K") -> 0 | AL33: =$A33+$B33 -> 0
A34: =COUNTIF($G$3:$AG$20,E34) -> 0 | C34: =COUNTIF(G34:AG34,"HR") -> 0 | AI34: =COUNTA(G34:I34,K34:M34,O34:Q34,S34:U34,W34:Y34,AA34:AC34,AE34:AG34) -> 0 | AJ34: =COUNTIF(G34:AG34,"R")+(COUNTIF(G34:AG34,"HR")*2) -> 0 | AK34: =COUNTIF(G34:AG34,"K") -> 0 | AL34: =$A34+$B34 -> 0 | AM34: 候補球員
A35: =COUNTIF($G$3:$AG$20,E35) -> 3 | C35: =COUNTIF(G35:AG35,"HR") -> 0 | D35: 5 | E35: 35 | F35: 陳俊欽 | K35: K | O35: 22 | W35: K | AA35: R | AI35: =COUNTA(G35:I35,K35:M35,O35:Q35,S35:U35,W35:Y35,AA35:AC35,AE35:AG35) -> 4 | AJ35: =COUNTIF(G35:AG35,"R")+(COUNTIF(G35:AG35,"HR")*2) -> 1 | AK35: =COUNTIF(G35:AG35,"K") -> 2 | AL35: =$A35+$B35 -> 3 | AQ35: =SUM(AQ23:AQ34) -> 24 | AR35: =SUM(AR23:AR34) -> 6 | AS35: =SUM(AS23:AS34) -> 14 | AT35: =SUM(AT23:AT34) -> 12
A36: =COUNTIF($G$3:$AG$20,E36) -> 0 | C36: =COUNTIF(G36:AG36,"HR") -> 0 | AI36: =COUNTA(G36:I36,K36:M36,O36:Q36,S36:U36,W36:Y36,AA36:AC36,AE36:AG36) -> 0 | AJ36: =COUNTIF(G36:AG36,"R")+(COUNTIF(G36:AG36,"HR")*2) -> 0 | AK36: =COUNTIF(G36:AG36,"K") -> 0 | AL36: =$A36+$B36 -> 0
A37: =COUNTIF($G$3:$AG$20,E37) -> 0 | C37: =COUNTIF(G37:AG37,"HR") -> 0 | AI37: =COUNTA(G37:I37,K37:M37,O37:Q37,S37:U37,W37:Y37,AA37:AC37,AE37:AG37) -> 0 | AJ37: =COUNTIF(G37:AG37,"R")+(COUNTIF(G37:AG37,"HR")*2) -> 0 | AK37: =COUNTIF(G37:AG37,"K") -> 0 | AL37: =$A37+$B37 -> 0
A38: =COUNTIF($G$3:$AG$20,E38) -> 2 | C38: =COUNTIF(G38:AG38,"HR") -> 0 | D38: 6 | E38: 111 | F38: 林健彰 | K38: R | S38: K | AI38: =COUNTA(G38:I38,K38:M38,O38:Q38,S38:U38,W38:Y38,AA38:AC38,AE38:AG38) -> 2 | AJ38: =COUNTIF(G38:AG38,"R")+(COUNTIF(G38:AG38,"HR")*2) -> 1 | AK38: =COUNTIF(G38:AG38,"K") -> 1 | AL38: =$A38+$B38 -> 2
A39: =COUNTIF($G$3:$AG$20,E39) -> 0 | C39: =COUNTIF(G39:AG39,"HR") -> 0 | E39: 23 | F39: 莊詠安 | W39: K | AA39: 26 | AI39: =COUNTA(G39:I39,K39:M39,O39:Q39,S39:U39,W39:Y39,AA39:AC39,AE39:AG39) -> 2 | AJ39: =COUNTIF(G39:AG39,"R")+(COUNTIF(G39:AG39,"HR")*2) -> 0 | AK39: =COUNTIF(G39:AG39,"K") -> 1 | AL39: =$A39+$B39 -> 0
A40: =COUNTIF($G$3:$AG$20,E40) -> 0 | C40: =COUNTIF(G40:AG40,"HR") -> 0 | AI40: =COUNTA(G40:I40,K40:M40,O40:Q40,S40:U40,W40:Y40,AA40:AC40,AE40:AG40) -> 0 | AJ40: =COUNTIF(G40:AG40,"R")+(COUNTIF(G40:AG40,"HR")*2) -> 0 | AK40: =COUNTIF(G40:AG40,"K") -> 0 | AL40: =$A40+$B40 -> 0
...

Sheet G3
B1: 加計分數 | D1: 場次 | H1: G3 | J1: 日期 | L1: 115.08.15 | Q1: =AE21 -> 1 | T1: 豹擊隊 | V1: VS | X1: 夜魔俠 | AA1: =AE41 -> 3 | AI1: 數據
A2: 撿球 | B2: 接殺 | C2: HR | D2: 先 | E2: 背號 | F2: 球員 | G2: 1 | J2: 投 | K2: 2 | N2: 投 | O2: 3 | R2: 投 | S2: 4 | V2: 投 | W2: 5 | Z2: 投 | AA2: 6 | AD2: 投 | AE2: 7 | AH2: 投 | AI2: AB | AJ2: R | AK2: K | AL2: P | AM2: 投/捕/觀
A3: =COUNTIF($G$23:$AG$40,E3) -> 1 | C3: =COUNTIF(G3:AG3,"HR") -> 0 | D3: 1 | E3: 23 | F3: 黃雅苓 | G3: K | L3: 37 | AI3: =COUNTA(G3:I3,K3:M3,O3:Q3,S3:U3,W3:Y3,AA3:AC3,AE3:AG3) -> 2 | AJ3: =COUNTIF(G3:AG3,"R")+(COUNTIF(G3:AG3,"HR")*2) -> 0 | AK3: =COUNTIF(G3:AG3,"K") -> 1 | AL3: =$A3+$B3 -> 1 | AM3: 投手 | AO3: 背號 | AP3: 球員 | AQ3: AB | AR3: R | AS3: K | AT3: P | AV3: 投手成績統計 | AX3: (手動輸入)
A4: =COUNTIF($G$23:$AG$40,E4) -> 0 | C4: =COUNTIF(G4:AG4,"HR") -> 0 | E4: 25 | F4: 洪韶壕 | AI4: =COUNTA(G4:I4,K4:M4,O4:Q4,S4:U4,W4:Y4,AA4:AC4,AE4:AG4) -> 0 | AJ4: =COUNTIF(G4:AG4,"R")+(COUNTIF(G4:AG4,"HR")*2) -> 0 | AK4: =COUNTIF(G4:AG4,"K") -> 0 | AL4: =$A4+$B4 -> 0 | AM4: 江言鎧 | AO4: 23 | AP4: {=_xlfn.UNIQUE(F3:F20)} -> 黃雅苓 | AQ4: =SUMIF($F$3:$F$20,AP4,$AI$3:$AI$20) -> 2 | AR4: =SUMIF($F$3:$F$20,AP4,$AJ$3:$AJ$20) -> 0 | AS4: =SUMIF($F$3:$F$20,AP4,$AK$3:$AK$20) -> 1 | AT4: =SUMIF($F$3:$F$20,AP4,$AL$3:$AL$20) -> 1 | AV4: 姓名 | AW4: AB | AX4: R | AY4: K
A5: =COUNTIF($G$23:$AG$40,E5) -> 0 | C5: =COUNTIF(G5:AG5,"HR") -> 0 | AI5: =COUNTA(G5:I5,K5:M5,O5:Q5,S5:U5,W5:Y5,AA5:AC5,AE5:AG5) -> 0 | AJ5: =COUNTIF(G5:AG5,"R")+(COUNTIF(G5:AG5,"HR")*2) -> 0 | AK5: =COUNTIF(G5:AG5,"K") -> 0 | AL5: =$A5+$B5 -> 0 | AO5: 25 | AP5: 洪韶壕 | AQ5: =SUMIF($F$3:$F$20,AP5,$AI$3:$AI$20) -> 0 | AR5: =SUMIF($F$3:$F$20,AP5,$AJ$3:$AJ$20) -> 0 | AS5: =SUMIF($F$3:$F$20,AP5,$AK$3:$AK$20) -> 0 | AT5: =SUMIF($F$3:$F$20,AP5,$AL$3:$AL$20) -> 0 | AV5: {=_xlfn.UNIQUE(AM4:AM5)} -> 江言鎧 | AW5: 10 | AX5: 1 | AY5: 7
A6: =COUNTIF($G$23:$AG$40,E6) -> 0 | C6: =COUNTIF(G6:AG6,"HR") -> 0 | D6: 2 | E6: 26 | F6: 賴智傑 | G6: K | O6: K | AI6: =COUNTA(G6:I6,K6:M6,O6:Q6,S6:U6,W6:Y6,AA6:AC6,AE6:AG6) -> 2 | AJ6: =COUNTIF(G6:AG6,"R")+(COUNTIF(G6:AG6,"HR")*2) -> 0 | AK6: =COUNTIF(G6:AG6,"K") -> 2 | AL6: =$A6+$B6 -> 0 | AM6: 捕手 | AP6: 0 | AQ6: =SUMIF($F$3:$F$20,AP6,$AI$3:$AI$20) -> 0 | AR6: =SUMIF($F$3:$F$20,AP6,$AJ$3:$AJ$20) -> 0 | AS6: =SUMIF($F$3:$F$20,AP6,$AK$3:$AK$20) -> 0 | AT6: =SUMIF($F$3:$F$20,AP6,$AL$3:$AL$20) -> 0 | AV6: 0
A7: =COUNTIF($G$23:$AG$40,E7) -> 0 | C7: =COUNTIF(G7:AG7,"HR") -> 0 | AI7: =COUNTA(G7:I7,K7:M7,O7:Q7,S7:U7,W7:Y7,AA7:AC7,AE7:AG7) -> 0 | AJ7: =COUNTIF(G7:AG7,"R")+(COUNTIF(G7:AG7,"HR")*2) -> 0 | AK7: =COUNTIF(G7:AG7,"K") -> 0 | AL7: =$A7+$B7 -> 0 | AM7: 林宜宏 | AO7: 26 | AP7: 賴智傑 | AQ7: =SUMIF($F$3:$F$20,AP7,$AI$3:$AI$20) -> 2 | AR7: =SUMIF($F$3:$F$20,AP7,$AJ$3:$AJ$20) -> 0 | AS7: =SUMIF($F$3:$F$20,AP7,$AK$3:$AK$20) -> 2 | AT7: =SUMIF($F$3:$F$20,AP7,$AL$3:$AL$20) -> 0
A8: =COUNTIF($G$23:$AG$40,E8) -> 0 | C8: =COUNTIF(G8:AG8,"HR") -> 0 | AI8: =COUNTA(G8:I8,K8:M8,O8:Q8,S8:U8,W8:Y8,AA8:AC8,AE8:AG8) -> 0 | AJ8: =COUNTIF(G8:AG8,"R")+(COUNTIF(G8:AG8,"HR")*2) -> 0 | AK8: =COUNTIF(G8:AG8,"K") -> 0 | AL8: =$A8+$B8 -> 0 | AO8: 66 | AP8: 陳韻婷 | AQ8: =SUMIF($F$3:$F$20,AP8,$AI$3:$AI$20) -> 2 | AR8: =SUMIF($F$3:$F$20,AP8,$AJ$3:$AJ$20) -> 0 | AS8: =SUMIF($F$3:$F$20,AP8,$AK$3:$AK$20) -> 2 | AT8: =SUMIF($F$3:$F$20,AP8,$AL$3:$AL$20) -> 1
A9: =COUNTIF($G$23:$AG$40,E9) -> 1 | C9: =COUNTIF(G9:AG9,"HR") -> 0 | D9: 3 | E9: 66 | F9: 陳韻婷 | G9: K | O9: K | AI9: =COUNTA(G9:I9,K9:M9,O9:Q9,S9:U9,W9:Y9,AA9:AC9,AE9:AG9) -> 2 | AJ9: =COUNTIF(G9:AG9,"R")+(COUNTIF(G9:AG9,"HR")*2) -> 0 | AK9: =COUNTIF(G9:AG9,"K") -> 2 | AL9: =$A9+$B9 -> 1 | AO9: 19 | AP9: 宋展宇 | AQ9: =SUMIF($F$3:$F$20,AP9,$AI$3:$AI$20) -> 2 | AR9: =SUMIF($F$3:$F$20,AP9,$AJ$3:$AJ$20) -> 0 | AS9: =SUMIF($F$3:$F$20,AP9,$AK$3:$AK$20) -> 1 | AT9: =SUMIF($F$3:$F$20,AP9,$AL$3:$AL$20) -> 0
A10: =COUNTIF($G$23:$AG$40,E10) -> 0 | C10: =COUNTIF(G10:AG10,"HR") -> 0 | AI10: =COUNTA(G10:I10,K10:M10,O10:Q10,S10:U10,W10:Y10,AA10:AC10,AE10:AG10) -> 0 | AJ10: =COUNTIF(G10:AG10,"R")+(COUNTIF(G10:AG10,"HR")*2) -> 0 | AK10: =COUNTIF(G10:AG10,"K") -> 0 | AL10: =$A10+$B10 -> 0 | AM10: 觀測員 | AO10: 17 | AP10: 張睿紘 | AQ10: =SUMIF($F$3:$F$20,AP10,$AI$3:$AI$20) -> 1 | AR10: =SUMIF($F$3:$F$20,AP10,$AJ$3:$AJ$20) -> 1 | AS10: =SUMIF($F$3:$F$20,AP10,$AK$3:$AK$20) -> 0 | AT10: =SUMIF($F$3:$F$20,AP10,$AL$3:$AL$20) -> 1
A11: =COUNTIF($G$23:$AG$40,E11) -> 0 | C11: =COUNTIF(G11:AG11,"HR") -> 0 | AI11: =COUNTA(G11:I11,K11:M11,O11:Q11,S11:U11,W11:Y11,AA11:AC11,AE11:AG11) -> 0 | AJ11: =COUNTIF(G11:AG11,"R")+(COUNTIF(G11:AG11,"HR")*2) -> 0 | AK11: =COUNTIF(G11:AG11,"K") -> 0 | AL11: =$A11+$B11 -> 0 | AM11: 高芳伶 | AO11: 20 | AP11: 劉家溫 | AQ11: =SUMIF($F$3:$F$20,AP11,$AI$3:$AI$20) -> 1 | AR11: =SUMIF($F$3:$F$20,AP11,$AJ$3:$AJ$20) -> 0 | AS11: =SUMIF($F$3:$F$20,AP11,$AK$3:$AK$20) -> 1 | AT11: =SUMIF($F$3:$F$20,AP11,$AL$3:$AL$20) -> 0
A12: =COUNTIF($G$23:$AG$40,E12) -> 0 | C12: =COUNTIF(G12:AG12,"HR") -> 0 | D12: 4 | E12: 19 | F12: 宋展宇 | K12: int | O12: K | AI12: =COUNTA(G12:I12,K12:M12,O12:Q12,S12:U12,W12:Y12,AA12:AC12,AE12:AG12) -> 2 | AJ12: =COUNTIF(G12:AG12,"R")+(COUNTIF(G12:AG12,"HR")*2) -> 0 | AK12: =COUNTIF(G12:AG12,"K") -> 1 | AL12: =$A12+$B12 -> 0 | AQ12: =SUMIF($F$3:$F$20,AP12,$AI$3:$AI$20) -> 0 | AR12: =SUMIF($F$3:$F$20,AP12,$AJ$3:$AJ$20) -> 0 | AS12: =SUMIF($F$3:$F$20,AP12,$AK$3:$AK$20) -> 0 | AT12: =SUMIF($F$3:$F$20,AP12,$AL$3:$AL$20) -> 0
A13: =COUNTIF($G$23:$AG$40,E13) -> 0 | C13: =COUNTIF(G13:AG13,"HR") -> 0 | AI13: =COUNTA(G13:I13,K13:M13,O13:Q13,S13:U13,W13:Y13,AA13:AC13,AE13:AG13) -> 0 | AJ13: =COUNTIF(G13:AG13,"R")+(COUNTIF(G13:AG13,"HR")*2) -> 0 | AK13: =COUNTIF(G13:AG13,"K") -> 0 | AL13: =$A13+$B13 -> 0
A14: =COUNTIF($G$23:$AG$40,E14) -> 0 | C14: =COUNTIF(G14:AG14,"HR") -> 0 | AI14: =COUNTA(G14:I14,K14:M14,O14:Q14,S14:U14,W14:Y14,AA14:AC14,AE14:AG14) -> 0 | AJ14: =COUNTIF(G14:AG14,"R")+(COUNTIF(G14:AG14,"HR")*2) -> 0 | AK14: =COUNTIF(G14:AG14,"K") -> 0 | AL14: =$A14+$B14 -> 0 | AM14: 候補球員
A15: =COUNTIF($G$23:$AG$40,E15) -> 1 | C15: =COUNTIF(G15:AG15,"HR") -> 0 | D15: 5 | E15: 17 | F15: 張睿紘 | K15: R | AI15: =COUNTA(G15:I15,K15:M15,O15:Q15,S15:U15,W15:Y15,AA15:AC15,AE15:AG15) -> 1 | AJ15: =COUNTIF(G15:AG15,"R")+(COUNTIF(G15:AG15,"HR")*2) -> 1 | AK15: =COUNTIF(G15:AG15,"K") -> 0 | AL15: =$A15+$B15 -> 1
A16: =COUNTIF($G$23:$AG$40,E16) -> 0 | C16: =COUNTIF(G16:AG16,"HR") -> 0 | AI16: =COUNTA(G16:I16,K16:M16,O16:Q16,S16:U16,W16:Y16,AA16:AC16,AE16:AG16) -> 0 | AJ16: =COUNTIF(G16:AG16,"R")+(COUNTIF(G16:AG16,"HR")*2) -> 0 | AK16: =COUNTIF(G16:AG16,"K") -> 0 | AL16: =$A16+$B16 -> 0 | AQ16: =SUM(AQ3:AQ15) -> 10 | AR16: =SUM(AR3:AR15) -> 1 | AS16: =SUM(AS3:AS15) -> 7 | AT16: =SUM(AT3:AT15) -> 3
A17: =COUNTIF($G$23:$AG$40,E17) -> 0 | C17: =COUNTIF(G17:AG17,"HR") -> 0 | AI17: =COUNTA(G17:I17,K17:M17,O17:Q17,S17:U17,W17:Y17,AA17:AC17,AE17:AG17) -> 0 | AJ17: =COUNTIF(G17:AG17,"R")+(COUNTIF(G17:AG17,"HR")*2) -> 0 | AK17: =COUNTIF(G17:AG17,"K") -> 0 | AL17: =$A17+$B17 -> 0
A18: =COUNTIF($G$23:$AG$40,E18) -> 0 | C18: =COUNTIF(G18:AG18,"HR") -> 0 | D18: 6 | E18: 20 | F18: 劉家溫 | K18: K | AI18: =COUNTA(G18:I18,K18:M18,O18:Q18,S18:U18,W18:Y18,AA18:AC18,AE18:AG18) -> 1 | AJ18: =COUNTIF(G18:AG18,"R")+(COUNTIF(G18:AG18,"HR")*2) -> 0 | AK18: =COUNTIF(G18:AG18,"K") -> 1 | AL18: =$A18+$B18 -> 0
A19: =COUNTIF($G$23:$AG$40,E19) -> 0 | C19: =COUNTIF(G19:AG19,"HR") -> 0 | AI19: =COUNTA(G19:I19,K19:M19,O19:Q19,S19:U19,W19:Y19,AA19:AC19,AE19:AG19) -> 0 | AJ19: =COUNTIF(G19:AG19,"R")+(COUNTIF(G19:AG19,"HR")*2) -> 0 | AK19: =COUNTIF(G19:AG19,"K") -> 0 | AL19: =$A19+$B19 -> 0
A20: =COUNTIF($G$23:$AG$40,E20) -> 0 | C20: =COUNTIF(G20:AG20,"HR") -> 0 | AI20: =COUNTA(G20:I20,K20:M20,O20:Q20,S20:U20,W20:Y20,AA20:AC20,AE20:AG20) -> 0 | AJ20: =COUNTIF(G20:AG20,"R")+(COUNTIF(G20:AG20,"HR")*2) -> 0 | AK20: =COUNTIF(G20:AG20,"K") -> 0 | AL20: =$A20+$B20 -> 0
A21: =SUM(A3:A20) -> 3 | B21: =SUM(B3:B20) -> 0 | C21: =SUM(C3:C20) -> 0 | D21: 得分加總 | G21: =COUNTIF(G3:I20,"R")+(COUNTIF(G3:I20,"HR")*2) -> 0 | K21: =COUNTIF(K3:M20,"R")+(COUNTIF(K3:M20,"HR")*2)+G21 -> 1 | O21: =COUNTIF(O3:Q20,"R")+(COUNTIF(O3:Q20,"HR")*2)+K21 -> 1 | S21: =COUNTIF(S3:U20,"R")+(COUNTIF(S3:U20,"HR")*2)+O21 -> 1 | W21: =COUNTIF(W3:Y20,"R")+(COUNTIF(W3:Y20,"HR")*2)+S21 -> 1 | AA21: =COUNTIF(AA3:AC20,"R")+(COUNTIF(AA3:AC20,"HR")*2)+W21 -> 1 | AE21: =COUNTIF(AE3:AG20,"R")+(COUNTIF(AE3:AG20,"HR")*2)+AA21 -> 1 | AI21: =SUM(AI3:AI20) -> 10 | AJ21: =SUM(AJ3:AJ20) -> 1 | AK21: =SUM(AK3:AK20) -> 7 | AL21: =SUM(AL3:AL20) -> 3
A22: 撿球 | B22: 接殺 | C22: HR | D22: 後 | E22: 背號 | F22: 球員 | G22: 1 | J22: 投 | K22: 2 | N22: 投 | O22: 3 | R22: 投 | S22: 4 | V22: 投 | W22: 5 | Z22: 投 | AA22: 6 | AD22: 投 | AE22: 7 | AH22: 投 | AI22: AB | AJ22: R | AK22: K | AL22: P | AM22: 投/捕/觀
A23: =COUNTIF($G$3:$AG$20,E23) -> 0 | C23: =COUNTIF(G23:AG23,"HR") -> 0 | D23: 1 | E23: 39 | F23: 郭亦倫 | G23: R | L23: R | AI23: =COUNTA(G23:I23,K23:M23,O23:Q23,S23:U23,W23:Y23,AA23:AC23,AE23:AG23) -> 2 | AJ23: =COUNTIF(G23:AG23,"R")+(COUNTIF(G23:AG23,"HR")*2) -> 2 | AK23: =COUNTIF(G23:AG23,"K") -> 0 | AL23: =$A23+$B23 -> 0 | AM23: 投手 | AO23: 39 | AP23: {=_xlfn.UNIQUE(F23:F40)} -> 郭亦倫 | AQ23: =SUMIF($F$23:$F$40,AP23,$AI$23:$AI$40) -> 2 | AR23: =SUMIF($F$23:$F$40,AP23,$AJ$23:$AJ$40) -> 2 | AS23: =SUMIF($F$23:$F$40,AP23,$AK$23:$AK$40) -> 0 | AT23: =SUMIF($F$23:$F$40,AP23,$AL$23:$AL$40) -> 0
A24: =COUNTIF($G$3:$AG$20,E24) -> 0 | C24: =COUNTIF(G24:AG24,"HR") -> 0 | E24: 22 | F24: 蔡存宥 | AI24: =COUNTA(G24:I24,K24:M24,O24:Q24,S24:U24,W24:Y24,AA24:AC24,AE24:AG24) -> 0 | AJ24: =COUNTIF(G24:AG24,"R")+(COUNTIF(G24:AG24,"HR")*2) -> 0 | AK24: =COUNTIF(G24:AG24,"K") -> 0 | AL24: =$A24+$B24 -> 0 | AM24: 王辰光 | AO24: 22 | AP24: 蔡存宥 | AQ24: =SUMIF($F$23:$F$40,AP24,$AI$23:$AI$40) -> 0 | AR24: =SUMIF($F$23:$F$40,AP24,$AJ$23:$AJ$40) -> 0 | AS24: =SUMIF($F$23:$F$40,AP24,$AK$23:$AK$40) -> 0 | AT24: =SUMIF($F$23:$F$40,AP24,$AL$23:$AL$40) -> 0
A25: =COUNTIF($G$3:$AG$20,E25) -> 0 | C25: =COUNTIF(G25:AG25,"HR") -> 0 | AI25: =COUNTA(G25:I25,K25:M25,O25:Q25,S25:U25,W25:Y25,AA25:AC25,AE25:AG25) -> 0 | AJ25: =COUNTIF(G25:AG25,"R")+(COUNTIF(G25:AG25,"HR")*2) -> 0 | AK25: =COUNTIF(G25:AG25,"K") -> 0 | AL25: =$A25+$B25 -> 0 | AP25: 0 | AQ25: =SUMIF($F$23:$F$40,AP25,$AI$23:$AI$40) -> 0 | AR25: =SUMIF($F$23:$F$40,AP25,$AJ$23:$AJ$40) -> 0 | AS25: =SUMIF($F$23:$F$40,AP25,$AK$23:$AK$40) -> 0 | AT25: =SUMIF($F$23:$F$40,AP25,$AL$23:$AL$40) -> 0 | AV25: {=_xlfn.UNIQUE(AM24:AM25)} -> 王辰光 | AW25: 9 | AX25: 3 | AY25: 3
A26: =COUNTIF($G$3:$AG$20,E26) -> 1 | C26: =COUNTIF(G26:AG26,"HR") -> 0 | D26: 2 | E26: 37 | F26: 古國偉 | G26: R | L26: K | AI26: =COUNTA(G26:I26,K26:M26,O26:Q26,S26:U26,W26:Y26,AA26:AC26,AE26:AG26) -> 2 | AJ26: =COUNTIF(G26:AG26,"R")+(COUNTIF(G26:AG26,"HR")*2) -> 1 | AK26: =COUNTIF(G26:AG26,"K") -> 1 | AL26: =$A26+$B26 -> 1 | AM26: 捕手 | AO26: 37 | AP26: 古國偉 | AQ26: =SUMIF($F$23:$F$40,AP26,$AI$23:$AI$40) -> 2 | AR26: =SUMIF($F$23:$F$40,AP26,$AJ$23:$AJ$40) -> 1 | AS26: =SUMIF($F$23:$F$40,AP26,$AK$23:$AK$40) -> 1 | AT26: =SUMIF($F$23:$F$40,AP26,$AL$23:$AL$40) -> 1 | AV26: 0
A27: =COUNTIF($G$3:$AG$20,E27) -> 0 | C27: =COUNTIF(G27:AG27,"HR") -> 0 | E27: 81 | F27: 余自成 | AI27: =COUNTA(G27:I27,K27:M27,O27:Q27,S27:U27,W27:Y27,AA27:AC27,AE27:AG27) -> 0 | AJ27: =COUNTIF(G27:AG27,"R")+(COUNTIF(G27:AG27,"HR")*2) -> 0 | AK27: =COUNTIF(G27:AG27,"K") -> 0 | AL27: =$A27+$B27 -> 0 | AM27: 陳相睿 | AO27: 81 | AP27: 余自成 | AQ27: =SUMIF($F$23:$F$40,AP27,$AI$23:$AI$40) -> 0 | AR27: =SUMIF($F$23:$F$40,AP27,$AJ$23:$AJ$40) -> 0 | AS27: =SUMIF($F$23:$F$40,AP27,$AK$23:$AK$40) -> 0 | AT27: =SUMIF($F$23:$F$40,AP27,$AL$23:$AL$40) -> 0
A28: =COUNTIF($G$3:$AG$20,E28) -> 0 | C28: =COUNTIF(G28:AG28,"HR") -> 0 | AI28: =COUNTA(G28:I28,K28:M28,O28:Q28,S28:U28,W28:Y28,AA28:AC28,AE28:AG28) -> 0 | AJ28: =COUNTIF(G28:AG28,"R")+(COUNTIF(G28:AG28,"HR")*2) -> 0 | AK28: =COUNTIF(G28:AG28,"K") -> 0 | AL28: =$A28+$B28 -> 0 | AO28: 58 | AP28: 蔡孟洵 | AQ28: =SUMIF($F$23:$F$40,AP28,$AI$23:$AI$40) -> 2 | AR28: =SUMIF($F$23:$F$40,AP28,$AJ$23:$AJ$40) -> 0 | AS28: =SUMIF($F$23:$F$40,AP28,$AK$23:$AK$40) -> 1 | AT28: =SUMIF($F$23:$F$40,AP28,$AL$23:$AL$40) -> 0
A29: =COUNTIF($G$3:$AG$20,E29) -> 0 | C29: =COUNTIF(G29:AG29,"HR") -> 0 | D29: 3 | E29: 58 | F29: 蔡孟洵 | G29: 66 | L29: K | AI29: =COUNTA(G29:I29,K29:M29,O29:Q29,S29:U29,W29:Y29,AA29:AC29,AE29:AG29) -> 2 | AJ29: =COUNTIF(G29:AG29,"R")+(COUNTIF(G29:AG29,"HR")*2) -> 0 | AK29: =COUNTIF(G29:AG29,"K") -> 1 | AL29: =$A29+$B29 -> 0 | AO29: 11 | AP29: 勞恩以達西拔 | AQ29: =SUMIF($F$23:$F$40,AP29,$AI$23:$AI$40) -> 1 | AR29: =SUMIF($F$23:$F$40,AP29,$AJ$23:$AJ$40) -> 0 | AS29: =SUMIF($F$23:$F$40,AP29,$AK$23:$AK$40) -> 0 | AT29: =SUMIF($F$23:$F$40,AP29,$AL$23:$AL$40) -> 0
A30: =COUNTIF($G$3:$AG$20,E30) -> 0 | C30: =COUNTIF(G30:AG30,"HR") -> 0 | AI30: =COUNTA(G30:I30,K30:M30,O30:Q30,S30:U30,W30:Y30,AA30:AC30,AE30:AG30) -> 0 | AJ30: =COUNTIF(G30:AG30,"R")+(COUNTIF(G30:AG30,"HR")*2) -> 0 | AK30: =COUNTIF(G30:AG30,"K") -> 0 | AL30: =$A30+$B30 -> 0 | AM30: 觀測員 | AO30: o | AP30: 吳品逸 | AQ30: =SUMIF($F$23:$F$40,AP30,$AI$23:$AI$40) -> 1 | AR30: =SUMIF($F$23:$F$40,AP30,$AJ$23:$AJ$40) -> 0 | AS30: =SUMIF($F$23:$F$40,AP30,$AK$23:$AK$40) -> 0 | AT30: =SUMIF($F$23:$F$40,AP30,$AL$23:$AL$40) -> 0
A31: =COUNTIF($G$3:$AG$20,E31) -> 0 | C31: =COUNTIF(G31:AG31,"HR") -> 0 | AI31: =COUNTA(G31:I31,K31:M31,O31:Q31,S31:U31,W31:Y31,AA31:AC31,AE31:AG31) -> 0 | AJ31: =COUNTIF(G31:AG31,"R")+(COUNTIF(G31:AG31,"HR")*2) -> 0 | AK31: =COUNTIF(G31:AG31,"K") -> 0 | AL31: =$A31+$B31 -> 0 | AM31: 劉維璽 | AO31: 36 | AP31: 張雅恩 | AQ31: =SUMIF($F$23:$F$40,AP31,$AI$23:$AI$40) -> 1 | AR31: =SUMIF($F$23:$F$40,AP31,$AJ$23:$AJ$40) -> 0 | AS31: =SUMIF($F$23:$F$40,AP31,$AK$23:$AK$40) -> 1 | AT31: =SUMIF($F$23:$F$40,AP31,$AL$23:$AL$40) -> 0
A32: =COUNTIF($G$3:$AG$20,E32) -> 0 | C32: =COUNTIF(G32:AG32,"HR") -> 0 | D32: 4 | E32: 11 | F32: 勞恩以達西拔 | G32: 23 | AI32: =COUNTA(G32:I32,K32:M32,O32:Q32,S32:U32,W32:Y32,AA32:AC32,AE32:AG32) -> 1 | AJ32: =COUNTIF(G32:AG32,"R")+(COUNTIF(G32:AG32,"HR")*2) -> 0 | AK32: =COUNTIF(G32:AG32,"K") -> 0 | AL32: =$A32+$B32 -> 0
A33: =COUNTIF($G$3:$AG$20,E33) -> 0 | C33: =COUNTIF(G33:AG33,"HR") -> 0 | AI33: =COUNTA(G33:I33,K33:M33,O33:Q33,S33:U33,W33:Y33,AA33:AC33,AE33:AG33) -> 0 | AJ33: =COUNTIF(G33:AG33,"R")+(COUNTIF(G33:AG33,"HR")*2) -> 0 | AK33: =COUNTIF(G33:AG33,"K") -> 0 | AL33: =$A33+$B33 -> 0
A34: =COUNTIF($G$3:$AG$20,E34) -> 0 | C34: =COUNTIF(G34:AG34,"HR") -> 0 | AI34: =COUNTA(G34:I34,K34:M34,O34:Q34,S34:U34,W34:Y34,AA34:AC34,AE34:AG34) -> 0 | AJ34: =COUNTIF(G34:AG34,"R")+(COUNTIF(G34:AG34,"HR")*2) -> 0 | AK34: =COUNTIF(G34:AG34,"K") -> 0 | AL34: =$A34+$B34 -> 0 | AM34: 候補球員
A35: =COUNTIF($G$3:$AG$20,E35) -> 0 | C35: =COUNTIF(G35:AG35,"HR") -> 0 | D35: 5 | E35: O | F35: 吳品逸 | G35: 17 | AI35: =COUNTA(G35:I35,K35:M35,O35:Q35,S35:U35,W35:Y35,AA35:AC35,AE35:AG35) -> 1 | AJ35: =COUNTIF(G35:AG35,"R")+(COUNTIF(G35:AG35,"HR")*2) -> 0 | AK35: =COUNTIF(G35:AG35,"K") -> 0 | AL35: =$A35+$B35 -> 0 | AQ35: =SUM(AQ23:AQ34) -> 9 | AR35: =SUM(AR23:AR34) -> 3 | AS35: =SUM(AS23:AS34) -> 3 | AT35: =SUM(AT23:AT34) -> 1
A36: =COUNTIF($G$3:$AG$20,E36) -> 0 | C36: =COUNTIF(G36:AG36,"HR") -> 0 | AI36: =COUNTA(G36:I36,K36:M36,O36:Q36,S36:U36,W36:Y36,AA36:AC36,AE36:AG36) -> 0 | AJ36: =COUNTIF(G36:AG36,"R")+(COUNTIF(G36:AG36,"HR")*2) -> 0 | AK36: =COUNTIF(G36:AG36,"K") -> 0 | AL36: =$A36+$B36 -> 0
A37: =COUNTIF($G$3:$AG$20,E37) -> 0 | C37: =COUNTIF(G37:AG37,"HR") -> 0 | AI37: =COUNTA(G37:I37,K37:M37,O37:Q37,S37:U37,W37:Y37,AA37:AC37,AE37:AG37) -> 0 | AJ37: =COUNTIF(G37:AG37,"R")+(COUNTIF(G37:AG37,"HR")*2) -> 0 | AK37: =COUNTIF(G37:AG37,"K") -> 0 | AL37: =$A37+$B37 -> 0
A38: =COUNTIF($G$3:$AG$20,E38) -> 0 | C38: =COUNTIF(G38:AG38,"HR") -> 0 | D38: 6 | E38: 36 | F38: 張雅恩 | K38: K | AI38: =COUNTA(G38:I38,K38:M38,O38:Q38,S38:U38,W38:Y38,AA38:AC38,AE38:AG38) -> 1 | AJ38: =COUNTIF(G38:AG38,"R")+(COUNTIF(G38:AG38,"HR")*2) -> 0 | AK38: =COUNTIF(G38:AG38,"K") -> 1 | AL38: =$A38+$B38 -> 0
A39: =COUNTIF($G$3:$AG$20,E39) -> 0 | C39: =COUNTIF(G39:AG39,"HR") -> 0 | AI39: =COUNTA(G39:I39,K39:M39,O39:Q39,S39:U39,W39:Y39,AA39:AC39,AE39:AG39) -> 0 | AJ39: =COUNTIF(G39:AG39,"R")+(COUNTIF(G39:AG39,"HR")*2) -> 0 | AK39: =COUNTIF(G39:AG39,"K") -> 0 | AL39: =$A39+$B39 -> 0
A40: =COUNTIF($G$3:$AG$20,E40) -> 0 | C40: =COUNTIF(G40:AG40,"HR") -> 0 | AI40: =COUNTA(G40:I40,K40:M40,O40:Q40,S40:U40,W40:Y40,AA40:AC40,AE40:AG40) -> 0 | AJ40: =COUNTIF(G40:AG40,"R")+(COUNTIF(G40:AG40,"HR")*2) -> 0 | AK40: =COUNTIF(G40:AG40,"K") -> 0 | AL40: =$A40+$B40 -> 0
...

Sheet G4
B1: 加計分數 | D1: 場次 | H1: G4 | J1: 日期 | L1: 115.08.16 | Q1: =AE21 -> 11 | T1: 夜魔俠 | V1: VS | X1: 閃電隊 | AA1: =AE41 -> 6 | AI1: 數據
A2: 撿球 | B2: 接殺 | C2: HR | D2: 先 | E2: 背號 | F2: 球員 | G2: 1 | J2: 投 | K2: 2 | N2: 投 | O2: 3 | R2: 投 | S2: 4 | V2: 投 | W2: 5 | Z2: 投 | AA2: 6 | AD2: 投 | AE2: 7 | AH2: 投 | AI2: AB | AJ2: R | AK2: K | AL2: P | AM2: 投/捕/觀
A3: =COUNTIF($G$23:$AG$40,E3) -> 2 | C3: =COUNTIF(G3:AG3,"HR") -> 1 | D3: 1 | E3: 18 | F3: 梁耿縉 | G3: HR | L3: R | S3: R | W3: R | AB3: R | AI3: =COUNTA(G3:I3,K3:M3,O3:Q3,S3:U3,W3:Y3,AA3:AC3,AE3:AG3) -> 5 | AJ3: =COUNTIF(G3:AG3,"R")+(COUNTIF(G3:AG3,"HR")*2) -> 6 | AK3: =COUNTIF(G3:AG3,"K") -> 0 | AL3: =$A3+$B3 -> 2 | AM3: 投手 | AO3: 背號 | AP3: 球員 | AQ3: AB | AR3: R | AS3: K | AT3: P | AV3: 投手成績統計 | AX3: (手動輸入)
A4: =COUNTIF($G$23:$AG$40,E4) -> 0 | C4: =COUNTIF(G4:AG4,"HR") -> 0 | AI4: =COUNTA(G4:I4,K4:M4,O4:Q4,S4:U4,W4:Y4,AA4:AC4,AE4:AG4) -> 0 | AJ4: =COUNTIF(G4:AG4,"R")+(COUNTIF(G4:AG4,"HR")*2) -> 0 | AK4: =COUNTIF(G4:AG4,"K") -> 0 | AL4: =$A4+$B4 -> 0 | AM4: 林春佑 | AO4: 18 | AP4: {=_xlfn.UNIQUE(F3:F20)} -> 梁耿縉 | AQ4: =SUMIF($F$3:$F$20,AP4,$AI$3:$AI$20) -> 5 | AR4: =SUMIF($F$3:$F$20,AP4,$AJ$3:$AJ$20) -> 6 | AS4: =SUMIF($F$3:$F$20,AP4,$AK$3:$AK$20) -> 0 | AT4: =SUMIF($F$3:$F$20,AP4,$AL$3:$AL$20) -> 2 | AV4: 姓名 | AW4: AB | AX4: R | AY4: K
A5: =COUNTIF($G$23:$AG$40,E5) -> 0 | C5: =COUNTIF(G5:AG5,"HR") -> 0 | AI5: =COUNTA(G5:I5,K5:M5,O5:Q5,S5:U5,W5:Y5,AA5:AC5,AE5:AG5) -> 0 | AJ5: =COUNTIF(G5:AG5,"R")+(COUNTIF(G5:AG5,"HR")*2) -> 0 | AK5: =COUNTIF(G5:AG5,"K") -> 0 | AL5: =$A5+$B5 -> 0 | AP5: 0 | AQ5: =SUMIF($F$3:$F$20,AP5,$AI$3:$AI$20) -> 0 | AR5: =SUMIF($F$3:$F$20,AP5,$AJ$3:$AJ$20) -> 0 | AS5: =SUMIF($F$3:$F$20,AP5,$AK$3:$AK$20) -> 0 | AT5: =SUMIF($F$3:$F$20,AP5,$AL$3:$AL$20) -> 0 | AV5: {=_xlfn.UNIQUE(AM4:AM5)} -> 林春佑 | AW5: 28 | AX5: 11 | AY5: 11
A6: =COUNTIF($G$23:$AG$40,E6) -> 0 | C6: =COUNTIF(G6:AG6,"HR") -> 0 | D6: 2 | E6: 22 | F6: 蔡存宥 | G6: K | L6: K | S6: R | W6: R | AB6: R | AI6: =COUNTA(G6:I6,K6:M6,O6:Q6,S6:U6,W6:Y6,AA6:AC6,AE6:AG6) -> 5 | AJ6: =COUNTIF(G6:AG6,"R")+(COUNTIF(G6:AG6,"HR")*2) -> 3 | AK6: =COUNTIF(G6:AG6,"K") -> 2 | AL6: =$A6+$B6 -> 0 | AM6: 捕手 | AO6: 22 | AP6: 蔡存宥 | AQ6: =SUMIF($F$3:$F$20,AP6,$AI$3:$AI$20) -> 5 | AR6: =SUMIF($F$3:$F$20,AP6,$AJ$3:$AJ$20) -> 3 | AS6: =SUMIF($F$3:$F$20,AP6,$AK$3:$AK$20) -> 2 | AT6: =SUMIF($F$3:$F$20,AP6,$AL$3:$AL$20) -> 0 | AV6: 0
A7: =COUNTIF($G$23:$AG$40,E7) -> 0 | C7: =COUNTIF(G7:AG7,"HR") -> 0 | AI7: =COUNTA(G7:I7,K7:M7,O7:Q7,S7:U7,W7:Y7,AA7:AC7,AE7:AG7) -> 0 | AJ7: =COUNTIF(G7:AG7,"R")+(COUNTIF(G7:AG7,"HR")*2) -> 0 | AK7: =COUNTIF(G7:AG7,"K") -> 0 | AL7: =$A7+$B7 -> 0 | AM7: 王辰光 | AO7: O | AP7: 吳品逸 | AQ7: =SUMIF($F$3:$F$20,AP7,$AI$3:$AI$20) -> 3 | AR7: =SUMIF($F$3:$F$20,AP7,$AJ$3:$AJ$20) -> 1 | AS7: =SUMIF($F$3:$F$20,AP7,$AK$3:$AK$20) -> 0 | AT7: =SUMIF($F$3:$F$20,AP7,$AL$3:$AL$20) -> 0
A8: =COUNTIF($G$23:$AG$40,E8) -> 0 | C8: =COUNTIF(G8:AG8,"HR") -> 0 | AI8: =COUNTA(G8:I8,K8:M8,O8:Q8,S8:U8,W8:Y8,AA8:AC8,AE8:AG8) -> 0 | AJ8: =COUNTIF(G8:AG8,"R")+(COUNTIF(G8:AG8,"HR")*2) -> 0 | AK8: =COUNTIF(G8:AG8,"K") -> 0 | AL8: =$A8+$B8 -> 0 | AO8: 58 | AP8: 蔡孟洵 | AQ8: =SUMIF($F$3:$F$20,AP8,$AI$3:$AI$20) -> 2 | AR8: =SUMIF($F$3:$F$20,AP8,$AJ$3:$AJ$20) -> 0 | AS8: =SUMIF($F$3:$F$20,AP8,$AK$3:$AK$20) -> 1 | AT8: =SUMIF($F$3:$F$20,AP8,$AL$3:$AL$20) -> 0
A9: =COUNTIF($G$23:$AG$40,E9) -> 0 | C9: =COUNTIF(G9:AG9,"HR") -> 0 | D9: 3 | E9: o | F9: 吳品逸 | G9: 35 | L9: 51 | S9: R | AI9: =COUNTA(G9:I9,K9:M9,O9:Q9,S9:U9,W9:Y9,AA9:AC9,AE9:AG9) -> 3 | AJ9: =COUNTIF(G9:AG9,"R")+(COUNTIF(G9:AG9,"HR")*2) -> 1 | AK9: =COUNTIF(G9:AG9,"K") -> 0 | AL9: =$A9+$B9 -> 0 | AO9: 39 | AP9: 郭亦倫 | AQ9: =SUMIF($F$3:$F$20,AP9,$AI$3:$AI$20) -> 4 | AR9: =SUMIF($F$3:$F$20,AP9,$AJ$3:$AJ$20) -> 0 | AS9: =SUMIF($F$3:$F$20,AP9,$AK$3:$AK$20) -> 0 | AT9: =SUMIF($F$3:$F$20,AP9,$AL$3:$AL$20) -> 1
A10: =COUNTIF($G$23:$AG$40,E10) -> 0 | C10: =COUNTIF(G10:AG10,"HR") -> 0 | E10: 58 | F10: 蔡孟洵 | W10: K | AB10: 33 | AI10: =COUNTA(G10:I10,K10:M10,O10:Q10,S10:U10,W10:Y10,AA10:AC10,AE10:AG10) -> 2 | AJ10: =COUNTIF(G10:AG10,"R")+(COUNTIF(G10:AG10,"HR")*2) -> 0 | AK10: =COUNTIF(G10:AG10,"K") -> 1 | AL10: =$A10+$B10 -> 0 | AM10: 觀測員 | AO10: 11 | AP10: 勞恩以達西拔 | AQ10: =SUMIF($F$3:$F$20,AP10,$AI$3:$AI$20) -> 3 | AR10: =SUMIF($F$3:$F$20,AP10,$AJ$3:$AJ$20) -> 1 | AS10: =SUMIF($F$3:$F$20,AP10,$AK$3:$AK$20) -> 2 | AT10: =SUMIF($F$3:$F$20,AP10,$AL$3:$AL$20) -> 0
A11: =COUNTIF($G$23:$AG$40,E11) -> 0 | C11: =COUNTIF(G11:AG11,"HR") -> 0 | AI11: =COUNTA(G11:I11,K11:M11,O11:Q11,S11:U11,W11:Y11,AA11:AC11,AE11:AG11) -> 0 | AJ11: =COUNTIF(G11:AG11,"R")+(COUNTIF(G11:AG11,"HR")*2) -> 0 | AK11: =COUNTIF(G11:AG11,"K") -> 0 | AL11: =$A11+$B11 -> 0 | AM11: 劉維璽 | AO11: 37 | AP11: 古國偉 | AQ11: =SUMIF($F$3:$F$20,AP11,$AI$3:$AI$20) -> 2 | AR11: =SUMIF($F$3:$F$20,AP11,$AJ$3:$AJ$20) -> 0 | AS11: =SUMIF($F$3:$F$20,AP11,$AK$3:$AK$20) -> 2 | AT11: =SUMIF($F$3:$F$20,AP11,$AL$3:$AL$20) -> 3
A12: =COUNTIF($G$23:$AG$40,E12) -> 1 | C12: =COUNTIF(G12:AG12,"HR") -> 0 | D12: 4 | E12: 39 | F12: 郭亦倫 | G12: 33 | O12: 35 | S12: 35 | W12: 35 | AI12: =COUNTA(G12:I12,K12:M12,O12:Q12,S12:U12,W12:Y12,AA12:AC12,AE12:AG12) -> 4 | AJ12: =COUNTIF(G12:AG12,"R")+(COUNTIF(G12:AG12,"HR")*2) -> 0 | AK12: =COUNTIF(G12:AG12,"K") -> 0 | AL12: =$A12+$B12 -> 1 | AO12: 36 | AP12: 張雅恩 | AQ12: =SUMIF($F$3:$F$20,AP12,$AI$3:$AI$20) -> 4 | AR12: =SUMIF($F$3:$F$20,AP12,$AJ$3:$AJ$20) -> 0 | AS12: =SUMIF($F$3:$F$20,AP12,$AK$3:$AK$20) -> 4 | AT12: =SUMIF($F$3:$F$20,AP12,$AL$3:$AL$20) -> 0
A13: =COUNTIF($G$23:$AG$40,E13) -> 0 | C13: =COUNTIF(G13:AG13,"HR") -> 0 | E13: 11 | F13: 勞恩以達西拔 | AB13: K | AI13: =COUNTA(G13:I13,K13:M13,O13:Q13,S13:U13,W13:Y13,AA13:AC13,AE13:AG13) -> 1 | AJ13: =COUNTIF(G13:AG13,"R")+(COUNTIF(G13:AG13,"HR")*2) -> 0 | AK13: =COUNTIF(G13:AG13,"K") -> 1 | AL13: =$A13+$B13 -> 0 | AQ13: =SUMIF($F$3:$F$20,AP13,$AI$3:$AI$20) -> 0 | AR13: =SUMIF($F$3:$F$20,AP13,$AJ$3:$AJ$20) -> 0 | AS13: =SUMIF($F$3:$F$20,AP13,$AK$3:$AK$20) -> 0 | AT13: =SUMIF($F$3:$F$20,AP13,$AL$3:$AL$20) -> 0
A14: =COUNTIF($G$23:$AG$40,E14) -> 0 | C14: =COUNTIF(G14:AG14,"HR") -> 0 | AI14: =COUNTA(G14:I14,K14:M14,O14:Q14,S14:U14,W14:Y14,AA14:AC14,AE14:AG14) -> 0 | AJ14: =COUNTIF(G14:AG14,"R")+(COUNTIF(G14:AG14,"HR")*2) -> 0 | AK14: =COUNTIF(G14:AG14,"K") -> 0 | AL14: =$A14+$B14 -> 0 | AM14: 候補球員
A15: =COUNTIF($G$23:$AG$40,E15) -> 0 | C15: =COUNTIF(G15:AG15,"HR") -> 0 | D15: 5 | E15: 11 | F15: 勞恩以達西拔 | K15: R | O15: K | AI15: =COUNTA(G15:I15,K15:M15,O15:Q15,S15:U15,W15:Y15,AA15:AC15,AE15:AG15) -> 2 | AJ15: =COUNTIF(G15:AG15,"R")+(COUNTIF(G15:AG15,"HR")*2) -> 1 | AK15: =COUNTIF(G15:AG15,"K") -> 1 | AL15: =$A15+$B15 -> 0
A16: =COUNTIF($G$23:$AG$40,E16) -> 3 | C16: =COUNTIF(G16:AG16,"HR") -> 0 | E16: 37 | F16: 古國偉 | S16: K | W16: K | AI16: =COUNTA(G16:I16,K16:M16,O16:Q16,S16:U16,W16:Y16,AA16:AC16,AE16:AG16) -> 2 | AJ16: =COUNTIF(G16:AG16,"R")+(COUNTIF(G16:AG16,"HR")*2) -> 0 | AK16: =COUNTIF(G16:AG16,"K") -> 2 | AL16: =$A16+$B16 -> 3 | AQ16: =SUM(AQ3:AQ15) -> 28 | AR16: =SUM(AR3:AR15) -> 11 | AS16: =SUM(AS3:AS15) -> 11 | AT16: =SUM(AT3:AT15) -> 6
A17: =COUNTIF($G$23:$AG$40,E17) -> 0 | C17: =COUNTIF(G17:AG17,"HR") -> 0 | AI17: =COUNTA(G17:I17,K17:M17,O17:Q17,S17:U17,W17:Y17,AA17:AC17,AE17:AG17) -> 0 | AJ17: =COUNTIF(G17:AG17,"R")+(COUNTIF(G17:AG17,"HR")*2) -> 0 | AK17: =COUNTIF(G17:AG17,"K") -> 0 | AL17: =$A17+$B17 -> 0
A18: =COUNTIF($G$23:$AG$40,E18) -> 0 | C18: =COUNTIF(G18:AG18,"HR") -> 0 | D18: 6 | E18: 36 | F18: 張雅恩 | K18: K | O18: K | S18: K | AA18: K | AI18: =COUNTA(G18:I18,K18:M18,O18:Q18,S18:U18,W18:Y18,AA18:AC18,AE18:AG18) -> 4 | AJ18: =COUNTIF(G18:AG18,"R")+(COUNTIF(G18:AG18,"HR")*2) -> 0 | AK18: =COUNTIF(G18:AG18,"K") -> 4 | AL18: =$A18+$B18 -> 0
A19: =COUNTIF($G$23:$AG$40,E19) -> 0 | C19: =COUNTIF(G19:AG19,"HR") -> 0 | AI19: =COUNTA(G19:I19,K19:M19,O19:Q19,S19:U19,W19:Y19,AA19:AC19,AE19:AG19) -> 0 | AJ19: =COUNTIF(G19:AG19,"R")+(COUNTIF(G19:AG19,"HR")*2) -> 0 | AK19: =COUNTIF(G19:AG19,"K") -> 0 | AL19: =$A19+$B19 -> 0
A20: =COUNTIF($G$23:$AG$40,E20) -> 0 | C20: =COUNTIF(G20:AG20,"HR") -> 0 | AI20: =COUNTA(G20:I20,K20:M20,O20:Q20,S20:U20,W20:Y20,AA20:AC20,AE20:AG20) -> 0 | AJ20: =COUNTIF(G20:AG20,"R")+(COUNTIF(G20:AG20,"HR")*2) -> 0 | AK20: =COUNTIF(G20:AG20,"K") -> 0 | AL20: =$A20+$B20 -> 0
