Workbook

Sheet 分組球員名單
A1: 球員名單 | B1: 背號
A2: A | D2: 投捕觀名單 | F2: 隊伍名稱
A3: 陳璽帆 | B3: 8 | D3: 駱繼宗 | F3: 閃電
A4: 黃柏欽 | B4: 4 | D4: 李裕仁 | F4: 夜魔俠
A5: 郭育廷 | B5: 21 | D5: 陳相睿 | F5: 游擊
A6: 林育良 | B6: 99 | D6: 林春佑 | F6: 金錢豹
A7: 林健彰 | B7: 111 | D7: 宋展宇
A8: 陳俊欽 | B8: 35 | D8: 王辰光
A9: 鄭傳逸 | B9: 88 | D9: 江言鎧
D10: 劉維璽
D11: 賴相存
A13: B
A14: 梁耿縉 | B14: 18
A15: 勞恩以達西拔 | B15: 11
A16: 蔡存宥 | B16: 22
A17: 郭亦倫 | B17: 39
A18: 古國偉 | B18: 37
A19: 余自成 | B19: 81
A20: 蔡孟洵 | B20: 58
A21: 吳品逸 | B21: o
F22: 對戰分數
F23: 閃電 | G23: 夜魔俠 | H23: 游擊 | I23: 金錢豹
E24: G1 | F24: 7 | I24: 6
A25: C | E25: G2 | G25: 21 | H25: 15
A26: 邱文昇 | B26: 55 | E26: G3 | F26: 9 | G26: 8
A27: 賴智傑 | B27: 26 | E27: G4 | H27: 21 | I27: 10
A28: 黃志遠 | B28: 56 | E28: G5
A29: 王兆熙 | B29: 23 | E29: G6 | G29: 12 | I29: 5
A30: 蔡孟洵* | B30: 58 | F30: =SUM(F24:F29) -> 16 | G30: =SUM(G24:G29) -> 41 | H30: =SUM(H24:H29) -> 36 | I30: =SUM(I24:I29) -> 21
A31: 吳品逸* | B31: o
A32: 勞恩* | B32: 11
A33: 蔡存宥* | B33: 22
A35: D
A36: 陳傑閔 | B36: 28
A37: 蔡宗豪 | B37: 15
A38: 賴保全 | B38: 1
A39: 蔡志雄 | B39: 37
A40: 陳韻婷 | B40: 66
A41: 黃雅苓 | B41: 421
A42: 張睿紘 | B42: 17

Sheet G1
B1: 加計分數 | D1: 場次 | H1: G1 | J1: 日期 | L1: 114.12.13 | Q1: =AA21 -> 6 | T1: 金錢豹 | V1: VS | X1: 閃電 | AB1: =AA41 -> 7 | AE1: 數據
A2: 撿球 | B2: 接殺 | C2: HR | D2: 先 | E2: 背號 | F2: 球員 | G2: 1 | J2: 投 | K2: 2 | N2: 投 | O2: 3 | R2: 投 | S2: 4 | V2: 投 | W2: 5 | Z2: 投 | AA2: 6 | AD2: 投 | AE2: AB | AF2: R | AG2: Po | AH2: K | AI2: 投/捕/觀 | AK2: 背號 | AL2: 球員 | AM2: AB | AN2: R | AO2: Po | AP2: K
A3: =COUNTIF($G$23:$AC$40,E3) -> 0 | C3: =COUNTIF(G3:AC3,"HR") -> 0 | D3: 1 | E3: 37 | F3: 蔡志雄 | G3: K | L3: R | T3: 8 | X3: K | AE3: =COUNTA(G3:I3,K3:M3,O3:Q3,S3:U3,W3:Y3,AA3:AC3) -> 4 | AF3: =COUNTIF(G3:AC3,"R")+(COUNTIF(G3:AC3,"HR")*2) -> 1 | AG3: =A3+B3 -> 0 | AH3: =COUNTIF(G3:AC3,"K") -> 2 | AI3: 投手 | AL3: 蔡志雄 | AM3: {=_xlfn.CHOOSECOLS(_xlfn._xlws.FILTER($F$3:$AH$20,$F$3:$F$20=AL3),26,27,28,29)} -> 4 | AN3: 1 | AO3: 0 | AP3: 2
A4: =COUNTIF($G$23:$AC$40,E4) -> 0 | C4: =COUNTIF(G4:AC4,"HR") -> 0 | AE4: =COUNTA(G4:I4,K4:M4,O4:Q4,S4:U4,W4:Y4,AA4:AC4) -> 0 | AF4: =COUNTIF(G4:AC4,"R")+(COUNTIF(G4:AC4,"HR")*2) -> 0 | AG4: =A4+B4 -> 0 | AH4: =COUNTIF(G4:AC4,"K") -> 0 | AL4: 陳傑閔 | AM4: {=_xlfn.CHOOSECOLS(_xlfn._xlws.FILTER($F$3:$AH$20,$F$3:$F$20=AL4),26,27,28,29)} -> 4 | AN4: 0 | AO4: 1 | AP4: 4
A5: =COUNTIF($G$23:$AC$40,E5) -> 0 | C5: =COUNTIF(G5:AC5,"HR") -> 0 | AE5: =COUNTA(G5:I5,K5:M5,O5:Q5,S5:U5,W5:Y5,AA5:AC5) -> 0 | AF5: =COUNTIF(G5:AC5,"R")+(COUNTIF(G5:AC5,"HR")*2) -> 0 | AG5: =A5+B5 -> 0 | AH5: =COUNTIF(G5:AC5,"K") -> 0 | AL5: 賴保全 | AM5: {=_xlfn.CHOOSECOLS(_xlfn._xlws.FILTER($F$3:$AH$20,$F$3:$F$20=AL5),26,27,28,29)} -> 4 | AN5: 1 | AO5: 0 | AP5: 3
A6: =COUNTIF($G$23:$AC$40,E6) -> 1 | C6: =COUNTIF(G6:AC6,"HR") -> 0 | D6: 2 | E6: 28 | F6: 陳傑閔 | G6: K | L6: K | T6: K | X6: K | AE6: =COUNTA(G6:I6,K6:M6,O6:Q6,S6:U6,W6:Y6,AA6:AC6) -> 4 | AF6: =COUNTIF(G6:AC6,"R")+(COUNTIF(G6:AC6,"HR")*2) -> 0 | AG6: =A6+B6 -> 1 | AH6: =COUNTIF(G6:AC6,"K") -> 4 | AI6: 捕手 | AL6: 張睿紘 | AM6: {=_xlfn.CHOOSECOLS(_xlfn._xlws.FILTER($F$3:$AH$20,$F$3:$F$20=AL6),26,27,28,29)} -> 4 | AN6: 1 | AO6: 0 | AP6: 2
A7: =COUNTIF($G$23:$AC$40,E7) -> 0 | C7: =COUNTIF(G7:AC7,"HR") -> 0 | AE7: =COUNTA(G7:I7,K7:M7,O7:Q7,S7:U7,W7:Y7,AA7:AC7) -> 0 | AF7: =COUNTIF(G7:AC7,"R")+(COUNTIF(G7:AC7,"HR")*2) -> 0 | AG7: =A7+B7 -> 0 | AH7: =COUNTIF(G7:AC7,"K") -> 0 | AL7: 黃雅苓 | AM7: {=_xlfn.CHOOSECOLS(_xlfn._xlws.FILTER($F$3:$AH$20,$F$3:$F$20=AL7),26,27,28,29)} -> 2 | AN7: 0 | AO7: 0 | AP7: 2
A8: =COUNTIF($G$23:$AC$40,E8) -> 0 | C8: =COUNTIF(G8:AC8,"HR") -> 0 | AE8: =COUNTA(G8:I8,K8:M8,O8:Q8,S8:U8,W8:Y8,AA8:AC8) -> 0 | AF8: =COUNTIF(G8:AC8,"R")+(COUNTIF(G8:AC8,"HR")*2) -> 0 | AG8: =A8+B8 -> 0 | AH8: =COUNTIF(G8:AC8,"K") -> 0 | AL8: 陳韻婷 | AM8: {=_xlfn.CHOOSECOLS(_xlfn._xlws.FILTER($F$3:$AH$20,$F$3:$F$20=AL8),26,27,28,29)} -> 2 | AN8: 0 | AO8: 0 | AP8: 2
A9: =COUNTIF($G$23:$AC$40,E9) -> 0 | C9: =COUNTIF(G9:AC9,"HR") -> 0 | D9: 3 | E9: 1 | F9: 賴保全 | G9: K | O9: K | T9: K | AA9: R | AE9: =COUNTA(G9:I9,K9:M9,O9:Q9,S9:U9,W9:Y9,AA9:AC9) -> 4 | AF9: =COUNTIF(G9:AC9,"R")+(COUNTIF(G9:AC9,"HR")*2) -> 1 | AG9: =A9+B9 -> 0 | AH9: =COUNTIF(G9:AC9,"K") -> 3 | AL9: 蔡宗豪 | AM9: {=_xlfn.CHOOSECOLS(_xlfn._xlws.FILTER($F$3:$AH$20,$F$3:$F$20=AL9),26,27,28,29)} -> 4 | AN9: 3 | AO9: 0 | AP9: 0
A10: =COUNTIF($G$23:$AC$40,E10) -> 0 | C10: =COUNTIF(G10:AC10,"HR") -> 0 | AE10: =COUNTA(G10:I10,K10:M10,O10:Q10,S10:U10,W10:Y10,AA10:AC10) -> 0 | AF10: =COUNTIF(G10:AC10,"R")+(COUNTIF(G10:AC10,"HR")*2) -> 0 | AG10: =A10+B10 -> 0 | AH10: =COUNTIF(G10:AC10,"K") -> 0 | AI10: 觀測員
A11: =COUNTIF($G$23:$AC$40,E11) -> 0 | C11: =COUNTIF(G11:AC11,"HR") -> 0 | AE11: =COUNTA(G11:I11,K11:M11,O11:Q11,S11:U11,W11:Y11,AA11:AC11) -> 0 | AF11: =COUNTIF(G11:AC11,"R")+(COUNTIF(G11:AC11,"HR")*2) -> 0 | AG11: =A11+B11 -> 0 | AH11: =COUNTIF(G11:AC11,"K") -> 0
A12: =COUNTIF($G$23:$AC$40,E12) -> 0 | C12: =COUNTIF(G12:AC12,"HR") -> 0 | D12: 4 | E12: 17 | F12: 張睿紘 | K12: K | O12: K | W12: R | AA12: 8 | AE12: =COUNTA(G12:I12,K12:M12,O12:Q12,S12:U12,W12:Y12,AA12:AC12) -> 4 | AF12: =COUNTIF(G12:AC12,"R")+(COUNTIF(G12:AC12,"HR")*2) -> 1 | AG12: =A12+B12 -> 0 | AH12: =COUNTIF(G12:AC12,"K") -> 2
A13: =COUNTIF($G$23:$AC$40,E13) -> 0 | C13: =COUNTIF(G13:AC13,"HR") -> 0 | AE13: =COUNTA(G13:I13,K13:M13,O13:Q13,S13:U13,W13:Y13,AA13:AC13) -> 0 | AF13: =COUNTIF(G13:AC13,"R")+(COUNTIF(G13:AC13,"HR")*2) -> 0 | AG13: =A13+B13 -> 0 | AH13: =COUNTIF(G13:AC13,"K") -> 0
A14: =COUNTIF($G$23:$AC$40,E14) -> 0 | C14: =COUNTIF(G14:AC14,"HR") -> 0 | AE14: =COUNTA(G14:I14,K14:M14,O14:Q14,S14:U14,W14:Y14,AA14:AC14) -> 0 | AF14: =COUNTIF(G14:AC14,"R")+(COUNTIF(G14:AC14,"HR")*2) -> 0 | AG14: =A14+B14 -> 0 | AH14: =COUNTIF(G14:AC14,"K") -> 0 | AI14: 候補球員
A15: =COUNTIF($G$23:$AC$40,E15) -> 0 | C15: =COUNTIF(G15:AC15,"HR") -> 0 | D15: 5 | E15: 421 | F15: 黃雅苓 | K15: K | O15: K | AE15: =COUNTA(G15:I15,K15:M15,O15:Q15,S15:U15,W15:Y15,AA15:AC15) -> 2 | AF15: =COUNTIF(G15:AC15,"R")+(COUNTIF(G15:AC15,"HR")*2) -> 0 | AG15: =A15+B15 -> 0 | AH15: =COUNTIF(G15:AC15,"K") -> 2
A16: =COUNTIF($G$23:$AC$40,E16) -> 0 | C16: =COUNTIF(G16:AC16,"HR") -> 0 | E16: 66 | F16: 陳韻婷 | W16: K | AA16: K | AE16: =COUNTA(G16:I16,K16:M16,O16:Q16,S16:U16,W16:Y16,AA16:AC16) -> 2 | AF16: =COUNTIF(G16:AC16,"R")+(COUNTIF(G16:AC16,"HR")*2) -> 0 | AG16: =A16+B16 -> 0 | AH16: =COUNTIF(G16:AC16,"K") -> 2 | AM16: =SUM(AM3:AM15) -> 24 | AN16: =SUM(AN3:AN15) -> 6 | AO16: =SUM(AO3:AO15) -> 1 | AP16: =SUM(AP3:AP15) -> 15
A17: =COUNTIF($G$23:$AC$40,E17) -> 0 | C17: =COUNTIF(G17:AC17,"HR") -> 0 | AE17: =COUNTA(G17:I17,K17:M17,O17:Q17,S17:U17,W17:Y17,AA17:AC17) -> 0 | AF17: =COUNTIF(G17:AC17,"R")+(COUNTIF(G17:AC17,"HR")*2) -> 0 | AG17: =A17+B17 -> 0 | AH17: =COUNTIF(G17:AC17,"K") -> 0
A18: =COUNTIF($G$23:$AC$40,E18) -> 0 | C18: =COUNTIF(G18:AC18,"HR") -> 0 | D18: 6 | E18: 15 | F18: 蔡宗豪 | K18: R | S18: R | W18: R | AA18: 35 | AE18: =COUNTA(G18:I18,K18:M18,O18:Q18,S18:U18,W18:Y18,AA18:AC18) -> 4 | AF18: =COUNTIF(G18:AC18,"R")+(COUNTIF(G18:AC18,"HR")*2) -> 3 | AG18: =A18+B18 -> 0 | AH18: =COUNTIF(G18:AC18,"K") -> 0
A19: =COUNTIF($G$23:$AC$40,E19) -> 0 | C19: =COUNTIF(G19:AC19,"HR") -> 0 | AE19: =COUNTA(G19:I19,K19:M19,O19:Q19,S19:U19,W19:Y19,AA19:AC19) -> 0 | AF19: =COUNTIF(G19:AC19,"R")+(COUNTIF(G19:AC19,"HR")*2) -> 0 | AG19: =A19+B19 -> 0 | AH19: =COUNTIF(G19:AC19,"K") -> 0
A20: =COUNTIF($G$23:$AC$40,E20) -> 0 | C20: =COUNTIF(G20:AC20,"HR") -> 0 | AE20: =COUNTA(G20:I20,K20:M20,O20:Q20,S20:U20,W20:Y20,AA20:AC20) -> 0 | AF20: =COUNTIF(G20:AC20,"R")+(COUNTIF(G20:AC20,"HR")*2) -> 0 | AG20: =A20+B20 -> 0 | AH20: =COUNTIF(G20:AC20,"K") -> 0
A21: =SUM(A3:A20) -> 1 | B21: =SUM(B3:B20) -> 0 | C21: =SUM(C3:C20) -> 0 | D21: 得分加總 | G21: =COUNTIF(G3:I20,"R")+(COUNTIF(G3:I20,"HR")*2) -> 0 | K21: =COUNTIF(K3:M20,"R")+(COUNTIF(K3:M20,"HR")*2)+G21 -> 2 | O21: =COUNTIF(O3:Q20,"R")+(COUNTIF(O3:Q20,"HR")*2)+K21 -> 2 | S21: =COUNTIF(S3:U20,"R")+(COUNTIF(S3:U20,"HR")*2)+O21 -> 3 | W21: =COUNTIF(W3:Y20,"R")+(COUNTIF(W3:Y20,"HR")*2)+S21 -> 5 | AA21: =COUNTIF(AA3:AC20,"R")+(COUNTIF(AA3:AC20,"HR")*2)+W21 -> 6 | AE21: =SUM(AE3:AE20) -> 24 | AF21: =SUM(AF3:AF20) -> 6 | AG21: =SUM(AG3:AG20) -> 1 | AH21: =SUM(AH3:AH20) -> 15
A22: 撿球 | B22: 接殺 | C22: HR | D22: 後 | E22: 背號 | F22: 球員 | G22: 1 | J22: 投 | K22: 2 | N22: 投 | O22: 3 | R22: 投 | S22: 4 | V22: 投 | W22: 5 | Z22: 投 | AA22: 6 | AD22: 投 | AE22: AB | AF22: R | AG22: Po | AH22: K | AI22: 投/捕/觀
A23: =COUNTIF($G$3:$AC$20,E23) -> 0 | C23: =COUNTIF(G23:AC23,"HR") -> 0 | D23: 1 | E23: 99 | F23: 林育良 | G23: K | L23: R | P23: K | X23: K | AE23: =COUNTA(G23:I23,K23:M23,O23:Q23,S23:U23,W23:Y23,AA23:AC23) -> 4 | AF23: =COUNTIF(G23:AC23,"R")+C23 -> 1 | AG23: =A23+B23 -> 0 | AH23: =COUNTIF(G23:AC23,"K") -> 3 | AI23: 投手 | AL23: 林育良 | AM23: {=_xlfn.CHOOSECOLS(_xlfn._xlws.FILTER($F$23:$AH$40,$F$23:$F$40=AL23),26,27,28,29)} -> 4 | AN23: 1 | AO23: 0 | AP23: 3
A24: =COUNTIF($G$3:$AC$20,E24) -> 0 | C24: =COUNTIF(G24:AC24,"HR") -> 0 | AE24: =COUNTA(G24:I24,K24:M24,O24:Q24,S24:U24,W24:Y24,AA24:AC24) -> 0 | AF24: =COUNTIF(G24:AC24,"R")+C24 -> 0 | AG24: =A24+B24 -> 0 | AH24: =COUNTIF(G24:AC24,"K") -> 0 | AL24: 陳璽帆 | AM24: {=_xlfn.CHOOSECOLS(_xlfn._xlws.FILTER($F$23:$AH$40,$F$23:$F$40=AL24),26,27,28,29)} -> 4 | AN24: 1 | AO24: 2 | AP24: 3
A25: =COUNTIF($G$3:$AC$20,E25) -> 0 | C25: =COUNTIF(G25:AC25,"HR") -> 0 | AE25: =COUNTA(G25:I25,K25:M25,O25:Q25,S25:U25,W25:Y25,AA25:AC25) -> 0 | AF25: =COUNTIF(G25:AC25,"R")+C25 -> 0 | AG25: =A25+B25 -> 0 | AH25: =COUNTIF(G25:AC25,"K") -> 0 | AL25: 鄭傳逸 | AM25: {=_xlfn.CHOOSECOLS(_xlfn._xlws.FILTER($F$23:$AH$40,$F$23:$F$40=AL25),26,27,28,29)} -> 4 | AN25: 1 | AO25: 0 | AP25: 2
A26: =COUNTIF($G$3:$AC$20,E26) -> 2 | C26: =COUNTIF(G26:AC26,"HR") -> 0 | D26: 2 | E26: 8 | F26: 陳璽帆 | G26: K | L26: K | S26: K | X26: R | AE26: =COUNTA(G26:I26,K26:M26,O26:Q26,S26:U26,W26:Y26,AA26:AC26) -> 4 | AF26: =COUNTIF(G26:AC26,"R")+C26 -> 1 | AG26: =A26+B26 -> 2 | AH26: =COUNTIF(G26:AC26,"K") -> 3 | AI26: 捕手 | AL26: 林健彰 | AM26: {=_xlfn.CHOOSECOLS(_xlfn._xlws.FILTER($F$23:$AH$40,$F$23:$F$40=AL26),26,27,28,29)} -> 4 | AN26: 3 | AO26: 0 | AP26: 1
A27: =COUNTIF($G$3:$AC$20,E27) -> 0 | C27: =COUNTIF(G27:AC27,"HR") -> 0 | AE27: =COUNTA(G27:I27,K27:M27,O27:Q27,S27:U27,W27:Y27,AA27:AC27) -> 0 | AF27: =COUNTIF(G27:AC27,"R")+C27 -> 0 | AG27: =A27+B27 -> 0 | AH27: =COUNTIF(G27:AC27,"K") -> 0 | AL27: 黃柏欽 | AM27: {=_xlfn.CHOOSECOLS(_xlfn._xlws.FILTER($F$23:$AH$40,$F$23:$F$40=AL27),26,27,28,29)} -> 3 | AN27: 1 | AO27: 0 | AP27: 2
A28: =COUNTIF($G$3:$AC$20,E28) -> 0 | C28: =COUNTIF(G28:AC28,"HR") -> 0 | AE28: =COUNTA(G28:I28,K28:M28,O28:Q28,S28:U28,W28:Y28,AA28:AC28) -> 0 | AF28: =COUNTIF(G28:AC28,"R")+C28 -> 0 | AG28: =A28+B28 -> 0 | AH28: =COUNTIF(G28:AC28,"K") -> 0 | AL28: 陳俊欽 | AM28: {=_xlfn.CHOOSECOLS(_xlfn._xlws.FILTER($F$23:$AH$40,$F$23:$F$40=AL28),26,27,28,29)} -> 3 | AN28: 0 | AO28: 1 | AP28: 3
A29: =COUNTIF($G$3:$AC$20,E29) -> 0 | C29: =COUNTIF(G29:AC29,"HR") -> 0 | D29: 3 | E29: 88 | F29: 鄭傳逸 | G29: K | O29: R | S29: 28 | X29: K | AE29: =COUNTA(G29:I29,K29:M29,O29:Q29,S29:U29,W29:Y29,AA29:AC29) -> 4 | AF29: =COUNTIF(G29:AC29,"R")+C29 -> 1 | AG29: =A29+B29 -> 0 | AH29: =COUNTIF(G29:AC29,"K") -> 2
A30: =COUNTIF($G$3:$AC$20,E30) -> 0 | C30: =COUNTIF(G30:AC30,"HR") -> 0 | AE30: =COUNTA(G30:I30,K30:M30,O30:Q30,S30:U30,W30:Y30,AA30:AC30) -> 0 | AF30: =COUNTIF(G30:AC30,"R")+C30 -> 0 | AG30: =A30+B30 -> 0 | AH30: =COUNTIF(G30:AC30,"K") -> 0 | AI30: 觀測員
A31: =COUNTIF($G$3:$AC$20,E31) -> 0 | C31: =COUNTIF(G31:AC31,"HR") -> 0 | AE31: =COUNTA(G31:I31,K31:M31,O31:Q31,S31:U31,W31:Y31,AA31:AC31) -> 0 | AF31: =COUNTIF(G31:AC31,"R")+C31 -> 0 | AG31: =A31+B31 -> 0 | AH31: =COUNTIF(G31:AC31,"K") -> 0
A32: =COUNTIF($G$3:$AC$20,E32) -> 0 | C32: =COUNTIF(G32:AC32,"HR") -> 0 | D32: 4 | E32: 111 | F32: 林健彰 | K32: K | O32: R | S32: R | AA32: R | AE32: =COUNTA(G32:I32,K32:M32,O32:Q32,S32:U32,W32:Y32,AA32:AC32) -> 4 | AF32: =COUNTIF(G32:AC32,"R")+C32 -> 3 | AG32: =A32+B32 -> 0 | AH32: =COUNTIF(G32:AC32,"K") -> 1
A33: =COUNTIF($G$3:$AC$20,E33) -> 0 | C33: =COUNTIF(G33:AC33,"HR") -> 0 | AE33: =COUNTA(G33:I33,K33:M33,O33:Q33,S33:U33,W33:Y33,AA33:AC33) -> 0 | AF33: =COUNTIF(G33:AC33,"R")+C33 -> 0 | AG33: =A33+B33 -> 0 | AH33: =COUNTIF(G33:AC33,"K") -> 0
A34: =COUNTIF($G$3:$AC$20,E34) -> 0 | C34: =COUNTIF(G34:AC34,"HR") -> 0 | AE34: =COUNTA(G34:I34,K34:M34,O34:Q34,S34:U34,W34:Y34,AA34:AC34) -> 0 | AF34: =COUNTIF(G34:AC34,"R")+C34 -> 0 | AG34: =A34+B34 -> 0 | AH34: =COUNTIF(G34:AC34,"K") -> 0 | AI34: 候補球員
A35: =COUNTIF($G$3:$AC$20,E35) -> 0 | C35: =COUNTIF(G35:AC35,"HR") -> 0 | D35: 5 | E35: 4 | F35: 黃柏欽 | K35: R | O35: K | S35: K | AE35: =COUNTA(G35:I35,K35:M35,O35:Q35,S35:U35,W35:Y35,AA35:AC35) -> 3 | AF35: =COUNTIF(G35:AC35,"R")+C35 -> 1 | AG35: =A35+B35 -> 0 | AH35: =COUNTIF(G35:AC35,"K") -> 2 | AM35: =SUM(AM23:AM34) -> 22 | AN35: =SUM(AN23:AN32) -> 7 | AO35: =SUM(AO23:AO32) -> 3 | AP35: =SUM(AP23:AP32) -> 14
A36: =COUNTIF($G$3:$AC$20,E36) -> 0 | C36: =COUNTIF(G36:AC36,"HR") -> 0 | AE36: =COUNTA(G36:I36,K36:M36,O36:Q36,S36:U36,W36:Y36,AA36:AC36) -> 0 | AF36: =COUNTIF(G36:AC36,"R")+C36 -> 0 | AG36: =A36+B36 -> 0 | AH36: =COUNTIF(G36:AC36,"K") -> 0
A37: =COUNTIF($G$3:$AC$20,E37) -> 0 | C37: =COUNTIF(G37:AC37,"HR") -> 0 | AE37: =COUNTA(G37:I37,K37:M37,O37:Q37,S37:U37,W37:Y37,AA37:AC37) -> 0 | AF37: =COUNTIF(G37:AC37,"R")+C37 -> 0 | AG37: =A37+B37 -> 0 | AH37: =COUNTIF(G37:AC37,"K") -> 0
A38: =COUNTIF($G$3:$AC$20,E38) -> 1 | C38: =COUNTIF(G38:AC38,"HR") -> 0 | D38: 6 | E38: 35 | F38: 陳俊欽 | K38: K | O38: K | W38: K | AE38: =COUNTA(G38:I38,K38:M38,O38:Q38,S38:U38,W38:Y38,AA38:AC38) -> 3 | AF38: =COUNTIF(G38:AC38,"R")+C38 -> 0 | AG38: =A38+B38 -> 1 | AH38: =COUNTIF(G38:AC38,"K") -> 3
A39: =COUNTIF($G$3:$AC$20,E39) -> 0 | C39: =COUNTIF(G39:AC39,"HR") -> 0 | AE39: =COUNTA(G39:I39,K39:M39,O39:Q39,S39:U39,W39:Y39,AA39:AC39) -> 0 | AF39: =COUNTIF(G39:AC39,"R")+C39 -> 0 | AG39: =A39+B39 -> 0 | AH39: =COUNTIF(G39:AC39,"K") -> 0
A40: =COUNTIF($G$3:$AC$20,E40) -> 0 | C40: =COUNTIF(G40:AC40,"HR") -> 0 | AE40: =COUNTA(G40:I40,K40:M40,O40:Q40,S40:U40,W40:Y40,AA40:AC40) -> 0 | AF40: =COUNTIF(G40:AC40,"R")+C40 -> 0 | AG40: =A40+B40 -> 0 | AH40: =COUNTIF(G40:AC40,"K") -> 0
...

Sheet G2
B1: 加計分數 | D1: 場次 | H1: G2 | J1: 日期 | L1: 114.12.13 | Q1: =AA21 -> 21 | T1: 夜魔俠 | V1: VS | X1: 游擊 | AB1: =AA41 -> 15 | AE1: 數據
A2: 撿球 | B2: 接殺 | C2: HR | D2: 先 | E2: 背號 | F2: 球員 | G2: 1 | J2: 投 | K2: 2 | N2: 投 | O2: 3 | R2: 投 | S2: 4 | V2: 投 | W2: 5 | Z2: 投 | AA2: 6 | AD2: 投 | AE2: AB | AF2: R | AG2: Po | AH2: K | AI2: 投/捕/觀 | AK2: 背號 | AL2: 球員 | AM2: AB | AN2: R | AO2: Po | AP2: K
A3: =COUNTIF($G$23:$AC$40,E3) -> 0 | C3: =COUNTIF(G3:AC3,"HR") -> 0 | D3: 1 | E3: 18 | F3: 梁耿縉 | G3: R | H3: R | O3: K | T3: R | U3: R | X3: R | AB3: R | AE3: =COUNTA(G3:I3,K3:M3,O3:Q3,S3:U3,W3:Y3,AA3:AC3) -> 7 | AF3: =COUNTIF(G3:AC3,"R")+(COUNTIF(G3:AC3,"HR")*2) -> 6 | AG3: =A3+B3 -> 0 | AH3: =COUNTIF(G3:AC3,"K") -> 1 | AI3: 投手 | AK3: 18 | AL3: 梁耿縉 | AM3: {=_xlfn.CHOOSECOLS(_xlfn._xlws.FILTER($F$3:$AH$20,$F$3:$F$20=AL3),26,27,28,29)} -> 7 | AN3: 6 | AO3: 0 | AP3: 1
A4: =COUNTIF($G$23:$AC$40,E4) -> 0 | C4: =COUNTIF(G4:AC4,"HR") -> 0 | AE4: =COUNTA(G4:I4,K4:M4,O4:Q4,S4:U4,W4:Y4,AA4:AC4) -> 0 | AF4: =COUNTIF(G4:AC4,"R")+(COUNTIF(G4:AC4,"HR")*2) -> 0 | AG4: =A4+B4 -> 0 | AH4: =COUNTIF(G4:AC4,"K") -> 0 | AK4: 22 | AL4: 蔡存宥 | AM4: {=_xlfn.CHOOSECOLS(_xlfn._xlws.FILTER($F$3:$AH$20,$F$3:$F$20=AL4),26,27,28,29)} -> 7 | AN4: 2 | AO4: 3 | AP4: 4
A5: =COUNTIF($G$23:$AC$40,E5) -> 0 | C5: =COUNTIF(G5:AC5,"HR") -> 0 | AE5: =COUNTA(G5:I5,K5:M5,O5:Q5,S5:U5,W5:Y5,AA5:AC5) -> 0 | AF5: =COUNTIF(G5:AC5,"R")+(COUNTIF(G5:AC5,"HR")*2) -> 0 | AG5: =A5+B5 -> 0 | AH5: =COUNTIF(G5:AC5,"K") -> 0 | AK5: 11 | AL5: 勞恩以達西拔 | AM5: {=_xlfn.CHOOSECOLS(_xlfn._xlws.FILTER($F$3:$AH$20,$F$3:$F$20=AL5),26,27,28,29)} -> 7 | AN5: 5 | AO5: 3 | AP5: 0
A6: =COUNTIF($G$23:$AC$40,E6) -> 3 | C6: =COUNTIF(G6:AC6,"HR") -> 0 | D6: 2 | E6: 22 | F6: 蔡存宥 | G6: R | H6: 26 | O6: K | T6: K | U6: R | X6: K | AB6: K | AE6: =COUNTA(G6:I6,K6:M6,O6:Q6,S6:U6,W6:Y6,AA6:AC6) -> 7 | AF6: =COUNTIF(G6:AC6,"R")+(COUNTIF(G6:AC6,"HR")*2) -> 2 | AG6: =A6+B6 -> 3 | AH6: =COUNTIF(G6:AC6,"K") -> 4 | AI6: 捕手 | AK6: 37 | AL6: 古國偉 | AM6: {=_xlfn.CHOOSECOLS(_xlfn._xlws.FILTER($F$3:$AH$20,$F$3:$F$20=AL6),26,27,28,29)} -> 6 | AN6: 2 | AO6: 5 | AP6: 3
A7: =COUNTIF($G$23:$AC$40,E7) -> 0 | C7: =COUNTIF(G7:AC7,"HR") -> 0 | AE7: =COUNTA(G7:I7,K7:M7,O7:Q7,S7:U7,W7:Y7,AA7:AC7) -> 0 | AF7: =COUNTIF(G7:AC7,"R")+(COUNTIF(G7:AC7,"HR")*2) -> 0 | AG7: =A7+B7 -> 0 | AH7: =COUNTIF(G7:AC7,"K") -> 0 | AK7: 81 | AL7: 余自成 | AM7: {=_xlfn.CHOOSECOLS(_xlfn._xlws.FILTER($F$3:$AH$20,$F$3:$F$20=AL7),26,27,28,29)} -> 6 | AN7: 2 | AO7: 1 | AP7: 1
A8: =COUNTIF($G$23:$AC$40,E8) -> 0 | C8: =COUNTIF(G8:AC8,"HR") -> 0 | AE8: =COUNTA(G8:I8,K8:M8,O8:Q8,S8:U8,W8:Y8,AA8:AC8) -> 0 | AF8: =COUNTIF(G8:AC8,"R")+(COUNTIF(G8:AC8,"HR")*2) -> 0 | AG8: =A8+B8 -> 0 | AH8: =COUNTIF(G8:AC8,"K") -> 0 | AK8: 39 | AL8: 郭亦倫 | AM8: {=_xlfn.CHOOSECOLS(_xlfn._xlws.FILTER($F$3:$AH$20,$F$3:$F$20=AL8),26,27,28,29)} -> 6 | AN8: 4 | AO8: 2 | AP8: 2
A9: =COUNTIF($G$23:$AC$40,E9) -> 2 | B9: 1 | C9: =COUNTIF(G9:AC9,"HR") -> 0 | D9: 3 | E9: 11 | F9: 勞恩以達西拔 | G9: R | K9: R | O9: 23 | T9: R | U9: R | X9: R | AB9: 23 | AE9: =COUNTA(G9:I9,K9:M9,O9:Q9,S9:U9,W9:Y9,AA9:AC9) -> 7 | AF9: =COUNTIF(G9:AC9,"R")+(COUNTIF(G9:AC9,"HR")*2) -> 5 | AG9: =A9+B9 -> 3 | AH9: =COUNTIF(G9:AC9,"K") -> 0
A10: =COUNTIF($G$23:$AC$40,E10) -> 0 | C10: =COUNTIF(G10:AC10,"HR") -> 0 | AE10: =COUNTA(G10:I10,K10:M10,O10:Q10,S10:U10,W10:Y10,AA10:AC10) -> 0 | AF10: =COUNTIF(G10:AC10,"R")+(COUNTIF(G10:AC10,"HR")*2) -> 0 | AG10: =A10+B10 -> 0 | AH10: =COUNTIF(G10:AC10,"K") -> 0 | AI10: 觀測員
A11: =COUNTIF($G$23:$AC$40,E11) -> 0 | C11: =COUNTIF(G11:AC11,"HR") -> 0 | AE11: =COUNTA(G11:I11,K11:M11,O11:Q11,S11:U11,W11:Y11,AA11:AC11) -> 0 | AF11: =COUNTIF(G11:AC11,"R")+(COUNTIF(G11:AC11,"HR")*2) -> 0 | AG11: =A11+B11 -> 0 | AH11: =COUNTIF(G11:AC11,"K") -> 0
A12: =COUNTIF($G$23:$AC$40,E12) -> 5 | C12: =COUNTIF(G12:AC12,"HR") -> 0 | D12: 4 | E12: 37 | F12: 古國偉 | G12: K | K12: K | S12: R | T12: 55 | U12: R | X12: K | AE12: =COUNTA(G12:I12,K12:M12,O12:Q12,S12:U12,W12:Y12,AA12:AC12) -> 6 | AF12: =COUNTIF(G12:AC12,"R")+(COUNTIF(G12:AC12,"HR")*2) -> 2 | AG12: =A12+B12 -> 5 | AH12: =COUNTIF(G12:AC12,"K") -> 3
A13: =COUNTIF($G$23:$AC$40,E13) -> 0 | C13: =COUNTIF(G13:AC13,"HR") -> 0 | AE13: =COUNTA(G13:I13,K13:M13,O13:Q13,S13:U13,W13:Y13,AA13:AC13) -> 0 | AF13: =COUNTIF(G13:AC13,"R")+(COUNTIF(G13:AC13,"HR")*2) -> 0 | AG13: =A13+B13 -> 0 | AH13: =COUNTIF(G13:AC13,"K") -> 0
A14: =COUNTIF($G$23:$AC$40,E14) -> 0 | C14: =COUNTIF(G14:AC14,"HR") -> 0 | AE14: =COUNTA(G14:I14,K14:M14,O14:Q14,S14:U14,W14:Y14,AA14:AC14) -> 0 | AF14: =COUNTIF(G14:AC14,"R")+(COUNTIF(G14:AC14,"HR")*2) -> 0 | AG14: =A14+B14 -> 0 | AH14: =COUNTIF(G14:AC14,"K") -> 0 | AI14: 候補球員
A15: =COUNTIF($G$23:$AC$40,E15) -> 1 | C15: =COUNTIF(G15:AC15,"HR") -> 0 | D15: 5 | E15: 81 | F15: 余自成 | G15: 56 | K15: 55 | S15: R | T15: R | U15: K | AA15: 56 | AE15: =COUNTA(G15:I15,K15:M15,O15:Q15,S15:U15,W15:Y15,AA15:AC15) -> 6 | AF15: =COUNTIF(G15:AC15,"R")+(COUNTIF(G15:AC15,"HR")*2) -> 2 | AG15: =A15+B15 -> 1 | AH15: =COUNTIF(G15:AC15,"K") -> 1
A16: =COUNTIF($G$23:$AC$40,E16) -> 0 | C16: =COUNTIF(G16:AC16,"HR") -> 0 | AE16: =COUNTA(G16:I16,K16:M16,O16:Q16,S16:U16,W16:Y16,AA16:AC16) -> 0 | AF16: =COUNTIF(G16:AC16,"R")+(COUNTIF(G16:AC16,"HR")*2) -> 0 | AG16: =A16+B16 -> 0 | AH16: =COUNTIF(G16:AC16,"K") -> 0 | AM16: =SUM(AM3:AM15) -> 39 | AN16: =SUM(AN3:AN15) -> 21 | AO16: =SUM(AO3:AO15) -> 14 | AP16: =SUM(AP3:AP15) -> 11
A17: =COUNTIF($G$23:$AC$40,E17) -> 0 | C17: =COUNTIF(G17:AC17,"HR") -> 0 | AE17: =COUNTA(G17:I17,K17:M17,O17:Q17,S17:U17,W17:Y17,AA17:AC17) -> 0 | AF17: =COUNTIF(G17:AC17,"R")+(COUNTIF(G17:AC17,"HR")*2) -> 0 | AG17: =A17+B17 -> 0 | AH17: =COUNTIF(G17:AC17,"K") -> 0
A18: =COUNTIF($G$23:$AC$40,E18) -> 2 | C18: =COUNTIF(G18:AC18,"HR") -> 0 | D18: 6 | E18: 39 | F18: 郭亦倫 | G18: R | K18: K | S18: R | T18: R | W18: K | AA18: R | AE18: =COUNTA(G18:I18,K18:M18,O18:Q18,S18:U18,W18:Y18,AA18:AC18) -> 6 | AF18: =COUNTIF(G18:AC18,"R")+(COUNTIF(G18:AC18,"HR")*2) -> 4 | AG18: =A18+B18 -> 2 | AH18: =COUNTIF(G18:AC18,"K") -> 2
A19: =COUNTIF($G$23:$AC$40,E19) -> 0 | C19: =COUNTIF(G19:AC19,"HR") -> 0 | AE19: =COUNTA(G19:I19,K19:M19,O19:Q19,S19:U19,W19:Y19,AA19:AC19) -> 0 | AF19: =COUNTIF(G19:AC19,"R")+(COUNTIF(G19:AC19,"HR")*2) -> 0 | AG19: =A19+B19 -> 0 | AH19: =COUNTIF(G19:AC19,"K") -> 0
A20: =COUNTIF($G$23:$AC$40,E20) -> 0 | C20: =COUNTIF(G20:AC20,"HR") -> 0 | AE20: =COUNTA(G20:I20,K20:M20,O20:Q20,S20:U20,W20:Y20,AA20:AC20) -> 0 | AF20: =COUNTIF(G20:AC20,"R")+(COUNTIF(G20:AC20,"HR")*2) -> 0 | AG20: =A20+B20 -> 0 | AH20: =COUNTIF(G20:AC20,"K") -> 0
A21: =SUM(A3:A20) -> 13 | B21: =SUM(B3:B20) -> 1 | C21: =SUM(C3:C20) -> 0 | D21: 得分加總 | G21: =COUNTIF(G3:I20,"R")+(COUNTIF(G3:I20,"HR")*2) -> 5 | K21: =COUNTIF(K3:M20,"R")+(COUNTIF(K3:M20,"HR")*2)+G21 -> 6 | O21: =COUNTIF(O3:Q20,"R")+(COUNTIF(O3:Q20,"HR")*2)+K21 -> 6 | S21: =COUNTIF(S3:U20,"R")+(COUNTIF(S3:U20,"HR")*2)+O21 -> 17 | W21: =COUNTIF(W3:Y20,"R")+(COUNTIF(W3:Y20,"HR")*2)+S21 -> 19 | AA21: =COUNTIF(AA3:AC20,"R")+(COUNTIF(AA3:AC20,"HR")*2)+W21 -> 21 | AE21: =SUM(AE3:AE20) -> 39 | AF21: =SUM(AF3:AF20) -> 21 | AG21: =SUM(AG3:AG20) -> 14 | AH21: =SUM(AH3:AH20) -> 11
A22: 撿球 | B22: 接殺 | C22: HR | D22: 後 | E22: 背號 | F22: 球員 | G22: 1 | J22: 投 | K22: 2 | N22: 投 | O22: 3 | R22: 投 | S22: 4 | V22: 投 | W22: 5 | Z22: 投 | AA22: 6 | AD22: 投 | AE22: AB | AF22: R | AG22: Po | AH22: K | AI22: 投/捕/觀
A23: =COUNTIF($G$3:$AC$20,E23) -> 2 | C23: =COUNTIF(G23:AC23,"HR") -> 0 | D23: 1 | E23: 55 | F23: 邱文昇 | G23: R | L23: R | P23: R | T23: R | X23: R | AB23: R | AE23: =COUNTA(G23:I23,K23:M23,O23:Q23,S23:U23,W23:Y23,AA23:AC23) -> 6 | AF23: =COUNTIF(G23:AC23,"R")+C23 -> 6 | AG23: =A23+B23 -> 2 | AH23: =COUNTIF(G23:AC23,"K") -> 0 | AI23: 投手 | AK23: 55 | AL23: 邱文昇 | AM23: {=_xlfn.CHOOSECOLS(_xlfn._xlws.FILTER($F$23:$AH$40,$F$23:$F$40=AL23),26,27,28,29)} -> 6 | AN23: 6 | AO23: 2 | AP23: 0
A24: =COUNTIF($G$3:$AC$20,E24) -> 0 | C24: =COUNTIF(G24:AC24,"HR") -> 0 | AE24: =COUNTA(G24:I24,K24:M24,O24:Q24,S24:U24,W24:Y24,AA24:AC24) -> 0 | AF24: =COUNTIF(G24:AC24,"R")+C24 -> 0 | AG24: =A24+B24 -> 0 | AH24: =COUNTIF(G24:AC24,"K") -> 0 | AK24: 26 | AL24: 賴智傑 | AM24: {=_xlfn.CHOOSECOLS(_xlfn._xlws.FILTER($F$23:$AH$40,$F$23:$F$40=AL24),26,27,28,29)} -> 6 | AN24: 5 | AO24: 1 | AP24: 0
A25: =COUNTIF($G$3:$AC$20,E25) -> 0 | C25: =COUNTIF(G25:AC25,"HR") -> 0 | AE25: =COUNTA(G25:I25,K25:M25,O25:Q25,S25:U25,W25:Y25,AA25:AC25) -> 0 | AF25: =COUNTIF(G25:AC25,"R")+C25 -> 0 | AG25: =A25+B25 -> 0 | AH25: =COUNTIF(G25:AC25,"K") -> 0 | AK25: 23 | AL25: 王兆熙 | AM25: {=_xlfn.CHOOSECOLS(_xlfn._xlws.FILTER($F$23:$AH$40,$F$23:$F$40=AL25),26,27,28,29)} -> 6 | AN25: 0 | AO25: 2 | AP25: 3
A26: =COUNTIF($G$3:$AC$20,E26) -> 1 | C26: =COUNTIF(G26:AC26,"HR") -> 0 | D26: 2 | E26: 26 | F26: 賴智傑 | G26: R | L26: R | P26: R | T26: 37 | X26: R | AB26: R | AE26: =COUNTA(G26:I26,K26:M26,O26:Q26,S26:U26,W26:Y26,AA26:AC26) -> 6 | AF26: =COUNTIF(G26:AC26,"R")+C26 -> 5 | AG26: =A26+B26 -> 1 | AH26: =COUNTIF(G26:AC26,"K") -> 0 | AI26: 捕手 | AK26: 56 | AL26: 黃志遠 | AM26: {=_xlfn.CHOOSECOLS(_xlfn._xlws.FILTER($F$23:$AH$40,$F$23:$F$40=AL26),26,27,28,29)} -> 5 | AN26: 0 | AO26: 2 | AP26: 1
A27: =COUNTIF($G$3:$AC$20,E27) -> 0 | C27: =COUNTIF(G27:AC27,"HR") -> 0 | AE27: =COUNTA(G27:I27,K27:M27,O27:Q27,S27:U27,W27:Y27,AA27:AC27) -> 0 | AF27: =COUNTIF(G27:AC27,"R")+C27 -> 0 | AG27: =A27+B27 -> 0 | AH27: =COUNTIF(G27:AC27,"K") -> 0 | AK27: O | AL27: 吳品逸* | AM27: {=_xlfn.CHOOSECOLS(_xlfn._xlws.FILTER($F$23:$AH$40,$F$23:$F$40=AL27),26,27,28,29)} -> 5 | AN27: 3 | AO27: 0 | AP27: 0
A28: =COUNTIF($G$3:$AC$20,E28) -> 0 | C28: =COUNTIF(G28:AC28,"HR") -> 0 | AE28: =COUNTA(G28:I28,K28:M28,O28:Q28,S28:U28,W28:Y28,AA28:AC28) -> 0 | AF28: =COUNTIF(G28:AC28,"R")+C28 -> 0 | AG28: =A28+B28 -> 0 | AH28: =COUNTIF(G28:AC28,"K") -> 0 | AK28: 58 | AL28: 蔡孟洵* | AM28: {=_xlfn.CHOOSECOLS(_xlfn._xlws.FILTER($F$23:$AH$40,$F$23:$F$40=AL28),26,27,28,29)} -> 5 | AN28: 1 | AO28: 0 | AP28: 1
A29: =COUNTIF($G$3:$AC$20,E29) -> 2 | C29: =COUNTIF(G29:AC29,"HR") -> 0 | D29: 3 | E29: 23 | F29: 王兆熙 | G29: 22 | L29: 37 | P29: K | T29: K | X29: K | AB29: 81 | AE29: =COUNTA(G29:I29,K29:M29,O29:Q29,S29:U29,W29:Y29,AA29:AC29) -> 6 | AF29: =COUNTIF(G29:AC29,"R")+C29 -> 0 | AG29: =A29+B29 -> 2 | AH29: =COUNTIF(G29:AC29,"K") -> 3
A30: =COUNTIF($G$3:$AC$20,E30) -> 0 | C30: =COUNTIF(G30:AC30,"HR") -> 0 | AE30: =COUNTA(G30:I30,K30:M30,O30:Q30,S30:U30,W30:Y30,AA30:AC30) -> 0 | AF30: =COUNTIF(G30:AC30,"R")+C30 -> 0 | AG30: =A30+B30 -> 0 | AH30: =COUNTIF(G30:AC30,"K") -> 0 | AI30: 觀測員
A31: =COUNTIF($G$3:$AC$20,E31) -> 0 | C31: =COUNTIF(G31:AC31,"HR") -> 0 | AE31: =COUNTA(G31:I31,K31:M31,O31:Q31,S31:U31,W31:Y31,AA31:AC31) -> 0 | AF31: =COUNTIF(G31:AC31,"R")+C31 -> 0 | AG31: =A31+B31 -> 0 | AH31: =COUNTIF(G31:AC31,"K") -> 0
A32: =COUNTIF($G$3:$AC$20,E32) -> 2 | C32: =COUNTIF(G32:AC32,"HR") -> 0 | D32: 4 | E32: 56 | F32: 黃志遠 | G32: 22 | L32: K | P32: 22 | T32: 37 | X32: 11 | Z32: DP | AE32: =COUNTA(G32:I32,K32:M32,O32:Q32,S32:U32,W32:Y32,AA32:AC32) -> 5 | AF32: =COUNTIF(G32:AC32,"R")+C32 -> 0 | AG32: =A32+B32 -> 2 | AH32: =COUNTIF(G32:AC32,"K") -> 1
A33: =COUNTIF($G$3:$AC$20,E33) -> 0 | C33: =COUNTIF(G33:AC33,"HR") -> 0 | AE33: =COUNTA(G33:I33,K33:M33,O33:Q33,S33:U33,W33:Y33,AA33:AC33) -> 0 | AF33: =COUNTIF(G33:AC33,"R")+C33 -> 0 | AG33: =A33+B33 -> 0 | AH33: =COUNTIF(G33:AC33,"K") -> 0
A34: =COUNTIF($G$3:$AC$20,E34) -> 0 | C34: =COUNTIF(G34:AC34,"HR") -> 0 | AE34: =COUNTA(G34:I34,K34:M34,O34:Q34,S34:U34,W34:Y34,AA34:AC34) -> 0 | AF34: =COUNTIF(G34:AC34,"R")+C34 -> 0 | AG34: =A34+B34 -> 0 | AH34: =COUNTIF(G34:AC34,"K") -> 0 | AI34: 候補球員
A35: =COUNTIF($G$3:$AC$20,E35) -> 0 | C35: =COUNTIF(G35:AC35,"HR") -> 0 | D35: 5 | E35: O | F35: 吳品逸* | G35: 37 | O35: R | S35: R | W35: R | AA35: 39 | AE35: =COUNTA(G35:I35,K35:M35,O35:Q35,S35:U35,W35:Y35,AA35:AC35) -> 5 | AF35: =COUNTIF(G35:AC35,"R")+C35 -> 3 | AG35: =A35+B35 -> 0 | AH35: =COUNTIF(G35:AC35,"K") -> 0 | AM35: =SUM(AM23:AM34) -> 33 | AN35: =SUM(AN23:AN32) -> 15 | AO35: =SUM(AO23:AO32) -> 7 | AP35: =SUM(AP23:AP32) -> 5
A36: =COUNTIF($G$3:$AC$20,E36) -> 0 | C36: =COUNTIF(G36:AC36,"HR") -> 0 | AE36: =COUNTA(G36:I36,K36:M36,O36:Q36,S36:U36,W36:Y36,AA36:AC36) -> 0 | AF36: =COUNTIF(G36:AC36,"R")+C36 -> 0 | AG36: =A36+B36 -> 0 | AH36: =COUNTIF(G36:AC36,"K") -> 0
A37: =COUNTIF($G$3:$AC$20,E37) -> 0 | C37: =COUNTIF(G37:AC37,"HR") -> 0 | AE37: =COUNTA(G37:I37,K37:M37,O37:Q37,S37:U37,W37:Y37,AA37:AC37) -> 0 | AF37: =COUNTIF(G37:AC37,"R")+C37 -> 0 | AG37: =A37+B37 -> 0 | AH37: =COUNTIF(G37:AC37,"K") -> 0
A38: =COUNTIF($G$3:$AC$20,E38) -> 0 | C38: =COUNTIF(G38:AC38,"HR") -> 0 | D38: 6 | E38: 58 | F38: 蔡孟洵* | K38: 37 | O38: K | S38: R | W38: 11 | AA38: 39 | AE38: =COUNTA(G38:I38,K38:M38,O38:Q38,S38:U38,W38:Y38,AA38:AC38) -> 5 | AF38: =COUNTIF(G38:AC38,"R")+C38 -> 1 | AG38: =A38+B38 -> 0 | AH38: =COUNTIF(G38:AC38,"K") -> 1
A39: =COUNTIF($G$3:$AC$20,E39) -> 0 | C39: =COUNTIF(G39:AC39,"HR") -> 0 | AE39: =COUNTA(G39:I39,K39:M39,O39:Q39,S39:U39,W39:Y39,AA39:AC39) -> 0 | AF39: =COUNTIF(G39:AC39,"R")+C39 -> 0 | AG39: =A39+B39 -> 0 | AH39: =COUNTIF(G39:AC39,"K") -> 0
A40: =COUNTIF($G$3:$AC$20,E40) -> 0 | C40: =COUNTIF(G40:AC40,"HR") -> 0 | AE40: =COUNTA(G40:I40,K40:M40,O40:Q40,S40:U40,W40:Y40,AA40:AC40) -> 0 | AF40: =COUNTIF(G40:AC40,"R")+C40 -> 0 | AG40: =A40+B40 -> 0 | AH40: =COUNTIF(G40:AC40,"K") -> 0
...

Sheet G3
B1: 加計分數 | D1: 場次 | H1: G3 | J1: 日期 | L1: 114.12.13 | Q1: =AA21 -> 8 | T1: 夜魔俠 | V1: VS | X1: 閃電 | AB1: =AA41 -> 9 | AE1: 數據
A2: 撿球 | B2: 接殺 | C2: HR | D2: 先 | E2: 背號 | F2: 球員 | G2: 1 | J2: 投 | K2: 2 | N2: 投 | O2: 3 | R2: 投 | S2: 4 | V2: 投 | W2: 5 | Z2: 投 | AA2: 6 | AD2: 投 | AE2: AB | AF2: R | AG2: Po | AH2: K | AI2: 投/捕/觀 | AK2: 背號 | AL2: 球員 | AM2: AB | AN2: R | AO2: Po | AP2: K
A3: =COUNTIF($G$23:$AC$40,E3) -> 0 | C3: =COUNTIF(G3:AC3,"HR") -> 0 | D3: 1 | E3: 18 | F3: 梁耿縉 | G3: R | L3: R | S3: R | T3: K | AB3: R | AE3: =COUNTA(G3:I3,K3:M3,O3:Q3,S3:U3,W3:Y3,AA3:AC3) -> 5 | AF3: =COUNTIF(G3:AC3,"R")+(COUNTIF(G3:AC3,"HR")*2) -> 4 | AG3: =A3+B3 -> 0 | AH3: =COUNTIF(G3:AC3,"K") -> 1 | AI3: 投手 | AK3: 18 | AL3: 梁耿縉 | AM3: {=_xlfn.CHOOSECOLS(_xlfn._xlws.FILTER($F$3:$AH$20,$F$3:$F$20=AL3),26,27,28,29)} -> 5 | AN3: 4 | AO3: 0 | AP3: 1
A4: =COUNTIF($G$23:$AC$40,E4) -> 0 | C4: =COUNTIF(G4:AC4,"HR") -> 0 | AE4: =COUNTA(G4:I4,K4:M4,O4:Q4,S4:U4,W4:Y4,AA4:AC4) -> 0 | AF4: =COUNTIF(G4:AC4,"R")+(COUNTIF(G4:AC4,"HR")*2) -> 0 | AG4: =A4+B4 -> 0 | AH4: =COUNTIF(G4:AC4,"K") -> 0 | AK4: 22 | AL4: 蔡存宥 | AM4: {=_xlfn.CHOOSECOLS(_xlfn._xlws.FILTER($F$3:$AH$20,$F$3:$F$20=AL4),26,27,28,29)} -> 5 | AN4: 1 | AO4: 1 | AP4: 1
A5: =COUNTIF($G$23:$AC$40,E5) -> 0 | C5: =COUNTIF(G5:AC5,"HR") -> 0 | AE5: =COUNTA(G5:I5,K5:M5,O5:Q5,S5:U5,W5:Y5,AA5:AC5) -> 0 | AF5: =COUNTIF(G5:AC5,"R")+(COUNTIF(G5:AC5,"HR")*2) -> 0 | AG5: =A5+B5 -> 0 | AH5: =COUNTIF(G5:AC5,"K") -> 0 | AK5: 81 | AL5: 余自成 | AM5: 3 | AN5: 1 | AO5: 1 | AP5: 0
A6: =COUNTIF($G$23:$AC$40,E6) -> 1 | C6: =COUNTIF(G6:AC6,"HR") -> 0 | D6: 2 | E6: 22 | F6: 蔡存宥 | G6: K | L6: 35 | S6: R | W6: 21 | AB6: 88 | AE6: =COUNTA(G6:I6,K6:M6,O6:Q6,S6:U6,W6:Y6,AA6:AC6) -> 5 | AF6: =COUNTIF(G6:AC6,"R")+(COUNTIF(G6:AC6,"HR")*2) -> 1 | AG6: =A6+B6 -> 1 | AH6: =COUNTIF(G6:AC6,"K") -> 1 | AI6: 捕手 | AK6: 39 | AL6: 郭亦倫 | AM6: {=_xlfn.CHOOSECOLS(_xlfn._xlws.FILTER($F$3:$AH$20,$F$3:$F$20=AL6),26,27,28,29)} -> 2 | AN6: 1 | AO6: 1 | AP6: 1
A7: =COUNTIF($G$23:$AC$40,E7) -> 0 | C7: =COUNTIF(G7:AC7,"HR") -> 0 | AE7: =COUNTA(G7:I7,K7:M7,O7:Q7,S7:U7,W7:Y7,AA7:AC7) -> 0 | AF7: =COUNTIF(G7:AC7,"R")+(COUNTIF(G7:AC7,"HR")*2) -> 0 | AG7: =A7+B7 -> 0 | AH7: =COUNTIF(G7:AC7,"K") -> 0 | AK7: 37 | AL7: 古國偉 | AM7: {=_xlfn.CHOOSECOLS(_xlfn._xlws.FILTER($F$3:$AH$20,$F$3:$F$20=AL7),26,27,28,29)} -> 3 | AN7: 0 | AO7: 0 | AP7: 2
A8: =COUNTIF($G$23:$AC$40,E8) -> 0 | C8: =COUNTIF(G8:AC8,"HR") -> 0 | AE8: =COUNTA(G8:I8,K8:M8,O8:Q8,S8:U8,W8:Y8,AA8:AC8) -> 0 | AF8: =COUNTIF(G8:AC8,"R")+(COUNTIF(G8:AC8,"HR")*2) -> 0 | AG8: =A8+B8 -> 0 | AH8: =COUNTIF(G8:AC8,"K") -> 0 | AK8: O | AL8: 吳品逸 | AM8: {=_xlfn.CHOOSECOLS(_xlfn._xlws.FILTER($F$3:$AH$20,$F$3:$F$20=AL8),26,27,28,29)} -> 4 | AN8: 1 | AO8: 0 | AP8: 3
C9: =COUNTIF(G9:AC9,"HR") -> 0 | D9: 3 | E9: 81 | F9: 余自成 | G9: R | L9: 21 | AE9: =COUNTA(G9:I9,K9:M9,O9:Q9,S9:U9,W9:Y9,AA9:AC9) -> 2 | AF9: =COUNTIF(G9:AC9,"R")+(COUNTIF(G9:AC9,"HR")*2) -> 1 | AG9: =A9+B9 -> 0 | AH9: =COUNTIF(G9:AC9,"K") -> 0 | AK9: 58 | AL9: 蔡孟洵 | AM9: {=_xlfn.CHOOSECOLS(_xlfn._xlws.FILTER($F$3:$AH$20,$F$3:$F$20=AL9),26,27,28,29)} -> 4 | AN9: 0 | AO9: 0 | AP9: 1
A10: =COUNTIF($G$23:$AC$40,E10) -> 1 | C10: =COUNTIF(G10:AC10,"HR") -> 0 | E10: 39 | F10: 郭亦倫 | S10: R | W10: K | AE10: =COUNTA(G10:I10,K10:M10,O10:Q10,S10:U10,W10:Y10,AA10:AC10) -> 2 | AF10: =COUNTIF(G10:AC10,"R")+(COUNTIF(G10:AC10,"HR")*2) -> 1 | AG10: =A10+B10 -> 1 | AH10: =COUNTIF(G10:AC10,"K") -> 1 | AI10: 觀測員 | AK10: 11 (DF) | AL10: 勞恩以達西拔
A11: =COUNTIF($G$23:$AC$40,E11) -> 0 | C11: =COUNTIF(G11:AC11,"HR") -> 0 | AE11: =COUNTA(G11:I11,K11:M11,O11:Q11,S11:U11,W11:Y11,AA11:AC11) -> 0 | AF11: =COUNTIF(G11:AC11,"R")+(COUNTIF(G11:AC11,"HR")*2) -> 0 | AG11: =A11+B11 -> 0 | AH11: =COUNTIF(G11:AC11,"K") -> 0
A12: =COUNTIF($G$23:$AC$40,E12) -> 0 | C12: =COUNTIF(G12:AC12,"HR") -> 0 | D12: 4 | E12: 37 | F12: 古國偉 | G12: K | O12: K | S12: 8 | AE12: =COUNTA(G12:I12,K12:M12,O12:Q12,S12:U12,W12:Y12,AA12:AC12) -> 3 | AF12: =COUNTIF(G12:AC12,"R")+(COUNTIF(G12:AC12,"HR")*2) -> 0 | AG12: =A12+B12 -> 0 | AH12: =COUNTIF(G12:AC12,"K") -> 2
A13: =COUNTIF($G$23:$AC$40,E13) -> 1 | C13: =COUNTIF(G13:AC13,"HR") -> 0 | E13: 81 | F13: 余自成 | W13: 21 | AE13: =COUNTA(G13:I13,K13:M13,O13:Q13,S13:U13,W13:Y13,AA13:AC13) -> 1 | AF13: =COUNTIF(G13:AC13,"R")+(COUNTIF(G13:AC13,"HR")*2) -> 0 | AG13: =A13+B13 -> 1 | AH13: =COUNTIF(G13:AC13,"K") -> 0
A14: =COUNTIF($G$23:$AC$40,E14) -> 0 | C14: =COUNTIF(G14:AC14,"HR") -> 0 | AE14: =COUNTA(G14:I14,K14:M14,O14:Q14,S14:U14,W14:Y14,AA14:AC14) -> 0 | AF14: =COUNTIF(G14:AC14,"R")+(COUNTIF(G14:AC14,"HR")*2) -> 0 | AG14: =A14+B14 -> 0 | AH14: =COUNTIF(G14:AC14,"K") -> 0 | AI14: 候補球員
A15: =COUNTIF($G$23:$AC$40,E15) -> 0 | C15: =COUNTIF(G15:AC15,"HR") -> 0 | D15: 5 | E15: o | F15: 吳品逸 | G15: K | O15: K | S15: R | AA15: K | AE15: =COUNTA(G15:I15,K15:M15,O15:Q15,S15:U15,W15:Y15,AA15:AC15) -> 4 | AF15: =COUNTIF(G15:AC15,"R")+(COUNTIF(G15:AC15,"HR")*2) -> 1 | AG15: =A15+B15 -> 0 | AH15: =COUNTIF(G15:AC15,"K") -> 3
A16: =COUNTIF($G$23:$AC$40,E16) -> 0 | C16: =COUNTIF(G16:AC16,"HR") -> 0 | AE16: =COUNTA(G16:I16,K16:M16,O16:Q16,S16:U16,W16:Y16,AA16:AC16) -> 0 | AF16: =COUNTIF(G16:AC16,"R")+(COUNTIF(G16:AC16,"HR")*2) -> 0 | AG16: =A16+B16 -> 0 | AH16: =COUNTIF(G16:AC16,"K") -> 0 | AM16: =SUM(AM3:AM15) -> 26 | AN16: =SUM(AN3:AN15) -> 8 | AO16: =SUM(AO3:AO15) -> 3 | AP16: =SUM(AP3:AP15) -> 9
A17: =COUNTIF($G$23:$AC$40,E17) -> 0 | C17: =COUNTIF(G17:AC17,"HR") -> 0 | AE17: =COUNTA(G17:I17,K17:M17,O17:Q17,S17:U17,W17:Y17,AA17:AC17) -> 0 | AF17: =COUNTIF(G17:AC17,"R")+(COUNTIF(G17:AC17,"HR")*2) -> 0 | AG17: =A17+B17 -> 0 | AH17: =COUNTIF(G17:AC17,"K") -> 0
A18: =COUNTIF($G$23:$AC$40,E18) -> 0 | C18: =COUNTIF(G18:AC18,"HR") -> 0 | D18: 6 | E18: 58 | F18: 蔡孟洵 | K18: K | O18: 35 | S18: 21 | AA18: 111 | AE18: =COUNTA(G18:I18,K18:M18,O18:Q18,S18:U18,W18:Y18,AA18:AC18) -> 4 | AF18: =COUNTIF(G18:AC18,"R")+(COUNTIF(G18:AC18,"HR")*2) -> 0 | AG18: =A18+B18 -> 0 | AH18: =COUNTIF(G18:AC18,"K") -> 1
A19: =COUNTIF($G$23:$AC$40,E19) -> 0 | C19: =COUNTIF(G19:AC19,"HR") -> 0 | E19: 11 | F19: 勞恩以達西拔 | AE19: =COUNTA(G19:I19,K19:M19,O19:Q19,S19:U19,W19:Y19,AA19:AC19) -> 0 | AF19: =COUNTIF(G19:AC19,"R")+(COUNTIF(G19:AC19,"HR")*2) -> 0 | AG19: =A19+B19 -> 0 | AH19: =COUNTIF(G19:AC19,"K") -> 0
A20: =COUNTIF($G$23:$AC$40,E20) -> 0 | C20: =COUNTIF(G20:AC20,"HR") -> 0 | AE20: =COUNTA(G20:I20,K20:M20,O20:Q20,S20:U20,W20:Y20,AA20:AC20) -> 0 | AF20: =COUNTIF(G20:AC20,"R")+(COUNTIF(G20:AC20,"HR")*2) -> 0 | AG20: =A20+B20 -> 0 | AH20: =COUNTIF(G20:AC20,"K") -> 0
A21: =SUM(A3:A20) -> 3 | B21: =SUM(B3:B20) -> 0 | C21: =SUM(C3:C20) -> 0 | D21: 得分加總 | G21: =COUNTIF(G3:I20,"R")+(COUNTIF(G3:I20,"HR")*2) -> 2 | K21: =COUNTIF(K3:M20,"R")+(COUNTIF(K3:M20,"HR")*2)+G21 -> 3 | O21: =COUNTIF(O3:Q20,"R")+(COUNTIF(O3:Q20,"HR")*2)+K21 -> 3 | S21: =COUNTIF(S3:U20,"R")+(COUNTIF(S3:U20,"HR")*2)+O21 -> 7 | W21: =COUNTIF(W3:Y20,"R")+(COUNTIF(W3:Y20,"HR")*2)+S21 -> 7 | AA21: =COUNTIF(AA3:AC20,"R")+(COUNTIF(AA3:AC20,"HR")*2)+W21 -> 8 | AE21: =SUM(AE3:AE20) -> 26 | AF21: =SUM(AF3:AF20) -> 8 | AG21: =SUM(AG3:AG20) -> 3 | AH21: =SUM(AH3:AH20) -> 9
A22: 撿球 | B22: 接殺 | C22: HR | D22: 後 | E22: 背號 | F22: 球員 | G22: 1 | J22: 投 | K22: 2 | N22: 投 | O22: 3 | R22: 投 | S22: 4 | V22: 投 | W22: 5 | Z22: 投 | AA22: 6 | AD22: 投 | AE22: AB | AF22: R | AG22: Po | AH22: K | AI22: 投/捕/觀
A23: =COUNTIF($G$3:$AC$20,E23) -> 1 | C23: =COUNTIF(G23:AC23,"HR") -> 0 | D23: 1 | E23: 88 | F23: 鄭傳逸 | G23: R | L23: K | P23: R | W23: R | AE23: =COUNTA(G23:I23,K23:M23,O23:Q23,S23:U23,W23:Y23,AA23:AC23) -> 4 | AF23: =COUNTIF(G23:AC23,"R")+C23 -> 3 | AG23: =A23+B23 -> 1 | AH23: =COUNTIF(G23:AC23,"K") -> 1 | AI23: 投手 | AK23: 88 | AL23: 鄭傳逸 | AM23: {=_xlfn.CHOOSECOLS(_xlfn._xlws.FILTER($F$23:$AH$40,$F$23:$F$40=AL23),26,27,28,29)} -> 4 | AN23: 3 | AO23: 1 | AP23: 1
A24: =COUNTIF($G$3:$AC$20,E24) -> 0 | C24: =COUNTIF(G24:AC24,"HR") -> 0 | AE24: =COUNTA(G24:I24,K24:M24,O24:Q24,S24:U24,W24:Y24,AA24:AC24) -> 0 | AF24: =COUNTIF(G24:AC24,"R")+C24 -> 0 | AG24: =A24+B24 -> 0 | AH24: =COUNTIF(G24:AC24,"K") -> 0 | AK24: 21 | AL24: 郭育廷 | AM24: {=_xlfn.CHOOSECOLS(_xlfn._xlws.FILTER($F$23:$AH$40,$F$23:$F$40=AL24),26,27,28,29)} -> 4 | AN24: 0 | AO24: 4 | AP24: 4
A25: =COUNTIF($G$3:$AC$20,E25) -> 0 | C25: =COUNTIF(G25:AC25,"HR") -> 0 | AE25: =COUNTA(G25:I25,K25:M25,O25:Q25,S25:U25,W25:Y25,AA25:AC25) -> 0 | AF25: =COUNTIF(G25:AC25,"R")+C25 -> 0 | AG25: =A25+B25 -> 0 | AH25: =COUNTIF(G25:AC25,"K") -> 0 | AK25: 99 | AL25: 林育良 | AM25: {=_xlfn.CHOOSECOLS(_xlfn._xlws.FILTER($F$23:$AH$40,$F$23:$F$40=AL25),26,27,28,29)} -> 4 | AN25: 3 | AO25: 0 | AP25: 0
A26: =COUNTIF($G$3:$AC$20,E26) -> 4 | C26: =COUNTIF(G26:AC26,"HR") -> 0 | D26: 2 | E26: 21 | F26: 郭育廷 | G26: K | L26: K | P26: K | W26: K | AE26: =COUNTA(G26:I26,K26:M26,O26:Q26,S26:U26,W26:Y26,AA26:AC26) -> 4 | AF26: =COUNTIF(G26:AC26,"R")+C26 -> 0 | AG26: =A26+B26 -> 4 | AH26: =COUNTIF(G26:AC26,"K") -> 4 | AI26: 捕手 | AK26: 35 | AL26: 陳俊欽 | AM26: {=_xlfn.CHOOSECOLS(_xlfn._xlws.FILTER($F$23:$AH$40,$F$23:$F$40=AL26),26,27,28,29)} -> 3 | AN26: 1 | AO26: 2 | AP26: 1
A27: =COUNTIF($G$3:$AC$20,E27) -> 0 | C27: =COUNTIF(G27:AC27,"HR") -> 0 | AE27: =COUNTA(G27:I27,K27:M27,O27:Q27,S27:U27,W27:Y27,AA27:AC27) -> 0 | AF27: =COUNTIF(G27:AC27,"R")+C27 -> 0 | AG27: =A27+B27 -> 0 | AH27: =COUNTIF(G27:AC27,"K") -> 0 | AK27: 4 | AL27: 黃柏欽 | AM27: {=_xlfn.CHOOSECOLS(_xlfn._xlws.FILTER($F$23:$AH$40,$F$23:$F$40=AL27),26,27,28,29)} -> 1 | AN27: 0 | AO27: 0 | AP27: 1
A28: =COUNTIF($G$3:$AC$20,E28) -> 0 | C28: =COUNTIF(G28:AC28,"HR") -> 0 | AE28: =COUNTA(G28:I28,K28:M28,O28:Q28,S28:U28,W28:Y28,AA28:AC28) -> 0 | AF28: =COUNTIF(G28:AC28,"R")+C28 -> 0 | AG28: =A28+B28 -> 0 | AH28: =COUNTIF(G28:AC28,"K") -> 0 | AK28: 8 | AL28: 陳璽帆 | AM28: {=_xlfn.CHOOSECOLS(_xlfn._xlws.FILTER($F$23:$AH$40,$F$23:$F$40=AL28),26,27,28,29)} -> 4 | AN28: 1 | AO28: 1 | AP28: 2
A29: =COUNTIF($G$3:$AC$20,E29) -> 0 | C29: =COUNTIF(G29:AC29,"HR") -> 0 | D29: 3 | E29: 99 | F29: 林育良 | G29: R | O29: R | S29: R | W29: 39 | AE29: =COUNTA(G29:I29,K29:M29,O29:Q29,S29:U29,W29:Y29,AA29:AC29) -> 4 | AF29: =COUNTIF(G29:AC29,"R")+C29 -> 3 | AG29: =A29+B29 -> 0 | AH29: =COUNTIF(G29:AC29,"K") -> 0 | AK29: 111 | AL29: 林健彰 | AM29: {=_xlfn.CHOOSECOLS(_xlfn._xlws.FILTER($F$23:$AH$40,$F$23:$F$40=AL29),26,27,28,29)} -> 4 | AN29: 1 | AO29: 1 | AP29: 3
A30: =COUNTIF($G$3:$AC$20,E30) -> 0 | C30: =COUNTIF(G30:AC30,"HR") -> 0 | AE30: =COUNTA(G30:I30,K30:M30,O30:Q30,S30:U30,W30:Y30,AA30:AC30) -> 0 | AF30: =COUNTIF(G30:AC30,"R")+C30 -> 0 | AG30: =A30+B30 -> 0 | AH30: =COUNTIF(G30:AC30,"K") -> 0 | AI30: 觀測員
A31: =COUNTIF($G$3:$AC$20,E31) -> 0 | C31: =COUNTIF(G31:AC31,"HR") -> 0 | AE31: =COUNTA(G31:I31,K31:M31,O31:Q31,S31:U31,W31:Y31,AA31:AC31) -> 0 | AF31: =COUNTIF(G31:AC31,"R")+C31 -> 0 | AG31: =A31+B31 -> 0 | AH31: =COUNTIF(G31:AC31,"K") -> 0
A32: =COUNTIF($G$3:$AC$20,E32) -> 2 | C32: =COUNTIF(G32:AC32,"HR") -> 0 | D32: 4 | E32: 35 | F32: 陳俊欽 | G32: K | O32: 22 | W32: R | AE32: =COUNTA(G32:I32,K32:M32,O32:Q32,S32:U32,W32:Y32,AA32:AC32) -> 3 | AF32: =COUNTIF(G32:AC32,"R")+C32 -> 1 | AG32: =A32+B32 -> 2 | AH32: =COUNTIF(G32:AC32,"K") -> 1
A33: =COUNTIF($G$3:$AC$20,E33) -> 0 | C33: =COUNTIF(G33:AC33,"HR") -> 0 | E33: 4 | F33: 黃柏欽 | S33: K | AE33: =COUNTA(G33:I33,K33:M33,O33:Q33,S33:U33,W33:Y33,AA33:AC33) -> 1 | AF33: =COUNTIF(G33:AC33,"R")+C33 -> 0 | AG33: =A33+B33 -> 0 | AH33: =COUNTIF(G33:AC33,"K") -> 1
A34: =COUNTIF($G$3:$AC$20,E34) -> 0 | C34: =COUNTIF(G34:AC34,"HR") -> 0 | AE34: =COUNTA(G34:I34,K34:M34,O34:Q34,S34:U34,W34:Y34,AA34:AC34) -> 0 | AF34: =COUNTIF(G34:AC34,"R")+C34 -> 0 | AG34: =A34+B34 -> 0 | AH34: =COUNTIF(G34:AC34,"K") -> 0 | AI34: 候補球員
A35: =COUNTIF($G$3:$AC$20,E35) -> 1 | C35: =COUNTIF(G35:AC35,"HR") -> 0 | D35: 5 | E35: 8 | F35: 陳璽帆 | G35: K | O35: K | S35: 81 | W35: R | AE35: =COUNTA(G35:I35,K35:M35,O35:Q35,S35:U35,W35:Y35,AA35:AC35) -> 4 | AF35: =COUNTIF(G35:AC35,"R")+C35 -> 1 | AG35: =A35+B35 -> 1 | AH35: =COUNTIF(G35:AC35,"K") -> 2 | AM35: =SUM(AM23:AM34) -> 24 | AN35: =SUM(AN23:AN32) -> 9 | AO35: =SUM(AO23:AO32) -> 9 | AP35: =SUM(AP23:AP32) -> 12
A36: =COUNTIF($G$3:$AC$20,E36) -> 0 | C36: =COUNTIF(G36:AC36,"HR") -> 0 | AE36: =COUNTA(G36:I36,K36:M36,O36:Q36,S36:U36,W36:Y36,AA36:AC36) -> 0 | AF36: =COUNTIF(G36:AC36,"R")+C36 -> 0 | AG36: =A36+B36 -> 0 | AH36: =COUNTIF(G36:AC36,"K") -> 0
A37: =COUNTIF($G$3:$AC$20,E37) -> 0 | C37: =COUNTIF(G37:AC37,"HR") -> 0 | AE37: =COUNTA(G37:I37,K37:M37,O37:Q37,S37:U37,W37:Y37,AA37:AC37) -> 0 | AF37: =COUNTIF(G37:AC37,"R")+C37 -> 0 | AG37: =A37+B37 -> 0 | AH37: =COUNTIF(G37:AC37,"K") -> 0
A38: =COUNTIF($G$3:$AC$20,E38) -> 1 | C38: =COUNTIF(G38:AC38,"HR") -> 0 | D38: 6 | E38: 111 | F38: 林健彰 | K38: K | O38: R | S38: K | W38: K | AE38: =COUNTA(G38:I38,K38:M38,O38:Q38,S38:U38,W38:Y38,AA38:AC38) -> 4 | AF38: =COUNTIF(G38:AC38,"R")+C38 -> 1 | AG38: =A38+B38 -> 1 | AH38: =COUNTIF(G38:AC38,"K") -> 3
A39: =COUNTIF($G$3:$AC$20,E39) -> 0 | C39: =COUNTIF(G39:AC39,"HR") -> 0 | AE39: =COUNTA(G39:I39,K39:M39,O39:Q39,S39:U39,W39:Y39,AA39:AC39) -> 0 | AF39: =COUNTIF(G39:AC39,"R")+C39 -> 0 | AG39: =A39+B39 -> 0 | AH39: =COUNTIF(G39:AC39,"K") -> 0
A40: =COUNTIF($G$3:$AC$20,E40) -> 0 | C40: =COUNTIF(G40:AC40,"HR") -> 0 | AE40: =COUNTA(G40:I40,K40:M40,O40:Q40,S40:U40,W40:Y40,AA40:AC40) -> 0 | AF40: =COUNTIF(G40:AC40,"R")+C40 -> 0 | AG40: =A40+B40 -> 0 | AH40: =COUNTIF(G40:AC40,"K") -> 0
...

Sheet G4
B1: 加計分數 | D1: 場次 | H1: G4 | J1: 日期 | L1: 114.12.13 | Q1: =AA21 -> 21 | T1: 游擊 | V1: VS | X1: 金錢豹 | AB1: =AA41 -> 10 | AE1: 數據
A2: 撿球 | B2: 接殺 | C2: HR | D2: 先 | E2: 背號 | F2: 球員 | G2: 1 | J2: 投 | K2: 2 | N2: 投 | O2: 3 | R2: 投 | S2: 4 | V2: 投 | W2: 5 | Z2: 投 | AA2: 6 | AD2: 投 | AE2: AB | AF2: R | AG2: Po | AH2: K | AI2: 投/捕/觀 | AK2: 背號 | AL2: 球員 | AM2: AB | AN2: R | AO2: Po | AP2: K
A3: =COUNTIF($G$23:$AC$40,E3) -> 1 | C3: =COUNTIF(G3:AC3,"HR") -> 0 | D3: 1 | E3: 55 | F3: 邱文昇 | G3: R | H3: R | O3: R | S3: R | T3: R | X3: R | AB3: R | AE3: =COUNTA(G3:I3,K3:M3,O3:Q3,S3:U3,W3:Y3,AA3:AC3) -> 7 | AF3: =COUNTIF(G3:AC3,"R")+(COUNTIF(G3:AC3,"HR")*2) -> 7 | AG3: =A3+B3 -> 1 | AH3: =COUNTIF(G3:AC3,"K") -> 0 | AI3: 投手 | AL3: 邱文昇 | AM3: {=_xlfn.CHOOSECOLS(_xlfn._xlws.FILTER($F$3:$AH$20,$F$3:$F$20=AL3),26,27,28,29)} -> 7 | AN3: 7 | AO3: 1 | AP3: 0
A4: =COUNTIF($G$23:$AC$40,E4) -> 0 | C4: =COUNTIF(G4:AC4,"HR") -> 0 | AE4: =COUNTA(G4:I4,K4:M4,O4:Q4,S4:U4,W4:Y4,AA4:AC4) -> 0 | AF4: =COUNTIF(G4:AC4,"R")+(COUNTIF(G4:AC4,"HR")*2) -> 0 | AG4: =A4+B4 -> 0 | AH4: =COUNTIF(G4:AC4,"K") -> 0 | AL4: 賴智傑 | AM4: {=_xlfn.CHOOSECOLS(_xlfn._xlws.FILTER($F$3:$AH$20,$F$3:$F$20=AL4),26,27,28,29)} -> 7 | AN4: 5 | AO4: 0 | AP4: 2
A5: =COUNTIF($G$23:$AC$40,E5) -> 0 | C5: =COUNTIF(G5:AC5,"HR") -> 0 | AE5: =COUNTA(G5:I5,K5:M5,O5:Q5,S5:U5,W5:Y5,AA5:AC5) -> 0 | AF5: =COUNTIF(G5:AC5,"R")+(COUNTIF(G5:AC5,"HR")*2) -> 0 | AG5: =A5+B5 -> 0 | AH5: =COUNTIF(G5:AC5,"K") -> 0 | AL5: 吳品逸* | AM5: {=_xlfn.CHOOSECOLS(_xlfn._xlws.FILTER($F$3:$AH$20,$F$3:$F$20=AL5),26,27,28,29)} -> 7 | AN5: 4 | AO5: 0 | AP5: 0
A6: =COUNTIF($G$23:$AC$40,E6) -> 0 | C6: =COUNTIF(G6:AC6,"HR") -> 0 | D6: 2 | E6: 26 | F6: 賴智傑 | G6: K | H6: R | O6: R | S6: R | T6: R | X6: K | AB6: R | AE6: =COUNTA(G6:I6,K6:M6,O6:Q6,S6:U6,W6:Y6,AA6:AC6) -> 7 | AF6: =COUNTIF(G6:AC6,"R")+(COUNTIF(G6:AC6,"HR")*2) -> 5 | AG6: =A6+B6 -> 0 | AH6: =COUNTIF(G6:AC6,"K") -> 2 | AI6: 捕手 | AL6: 蔡孟洵* | AM6: {=_xlfn.CHOOSECOLS(_xlfn._xlws.FILTER($F$3:$AH$20,$F$3:$F$20=AL6),26,27,28,29)} -> 6 | AN6: 1 | AO6: 0 | AP6: 2
A7: =COUNTIF($G$23:$AC$40,E7) -> 0 | C7: =COUNTIF(G7:AC7,"HR") -> 0 | AE7: =COUNTA(G7:I7,K7:M7,O7:Q7,S7:U7,W7:Y7,AA7:AC7) -> 0 | AF7: =COUNTIF(G7:AC7,"R")+(COUNTIF(G7:AC7,"HR")*2) -> 0 | AG7: =A7+B7 -> 0 | AH7: =COUNTIF(G7:AC7,"K") -> 0 | AL7: 王兆熙 | AM7: {=_xlfn.CHOOSECOLS(_xlfn._xlws.FILTER($F$3:$AH$20,$F$3:$F$20=AL7),26,27,28,29)} -> 6 | AN7: 1 | AO7: 1 | AP7: 3
A8: =COUNTIF($G$23:$AC$40,E8) -> 0 | C8: =COUNTIF(G8:AC8,"HR") -> 0 | AE8: =COUNTA(G8:I8,K8:M8,O8:Q8,S8:U8,W8:Y8,AA8:AC8) -> 0 | AF8: =COUNTIF(G8:AC8,"R")+(COUNTIF(G8:AC8,"HR")*2) -> 0 | AG8: =A8+B8 -> 0 | AH8: =COUNTIF(G8:AC8,"K") -> 0 | AL8: 黃志遠 | AM8: {=_xlfn.CHOOSECOLS(_xlfn._xlws.FILTER($F$3:$AH$20,$F$3:$F$20=AL8),26,27,28,29)} -> 6 | AN8: 3 | AO8: 4 | AP8: 2
A9: =COUNTIF($G$23:$AC$40,E9) -> 0 | C9: =COUNTIF(G9:AC9,"HR") -> 0 | D9: 3 | E9: O | F9: 吳品逸* | G9: R | H9: 28 | O9: R | S9: 1 | T9: R | X9: R | AB9: 28 | AE9: =COUNTA(G9:I9,K9:M9,O9:Q9,S9:U9,W9:Y9,AA9:AC9) -> 7 | AF9: =COUNTIF(G9:AC9,"R")+(COUNTIF(G9:AC9,"HR")*2) -> 4 | AG9: =A9+B9 -> 0 | AH9: =COUNTIF(G9:AC9,"K") -> 0
A10: =COUNTIF($G$23:$AC$40,E10) -> 0 | C10: =COUNTIF(G10:AC10,"HR") -> 0 | AE10: =COUNTA(G10:I10,K10:M10,O10:Q10,S10:U10,W10:Y10,AA10:AC10) -> 0 | AF10: =COUNTIF(G10:AC10,"R")+(COUNTIF(G10:AC10,"HR")*2) -> 0 | AG10: =A10+B10 -> 0 | AH10: =COUNTIF(G10:AC10,"K") -> 0 | AI10: 觀測員
A11: =COUNTIF($G$23:$AC$40,E11) -> 0 | C11: =COUNTIF(G11:AC11,"HR") -> 0 | AE11: =COUNTA(G11:I11,K11:M11,O11:Q11,S11:U11,W11:Y11,AA11:AC11) -> 0 | AF11: =COUNTIF(G11:AC11,"R")+(COUNTIF(G11:AC11,"HR")*2) -> 0 | AG11: =A11+B11 -> 0 | AH11: =COUNTIF(G11:AC11,"K") -> 0
A12: =COUNTIF($G$23:$AC$40,E12) -> 0 | C12: =COUNTIF(G12:AC12,"HR") -> 0 | D12: 4 | E12: 58 | F12: 蔡孟洵* | G12: 28 | K12: 15 | O12: K | S12: R | T12: 17 | X12: K | AE12: =COUNTA(G12:I12,K12:M12,O12:Q12,S12:U12,W12:Y12,AA12:AC12) -> 6 | AF12: =COUNTIF(G12:AC12,"R")+(COUNTIF(G12:AC12,"HR")*2) -> 1 | AG12: =A12+B12 -> 0 | AH12: =COUNTIF(G12:AC12,"K") -> 2
A13: =COUNTIF($G$23:$AC$40,E13) -> 0 | C13: =COUNTIF(G13:AC13,"HR") -> 0 | AE13: =COUNTA(G13:I13,K13:M13,O13:Q13,S13:U13,W13:Y13,AA13:AC13) -> 0 | AF13: =COUNTIF(G13:AC13,"R")+(COUNTIF(G13:AC13,"HR")*2) -> 0 | AG13: =A13+B13 -> 0 | AH13: =COUNTIF(G13:AC13,"K") -> 0
A14: =COUNTIF($G$23:$AC$40,E14) -> 0 | C14: =COUNTIF(G14:AC14,"HR") -> 0 | AE14: =COUNTA(G14:I14,K14:M14,O14:Q14,S14:U14,W14:Y14,AA14:AC14) -> 0 | AF14: =COUNTIF(G14:AC14,"R")+(COUNTIF(G14:AC14,"HR")*2) -> 0 | AG14: =A14+B14 -> 0 | AH14: =COUNTIF(G14:AC14,"K") -> 0 | AI14: 候補球員
A15: =COUNTIF($G$23:$AC$40,E15) -> 1 | C15: =COUNTIF(G15:AC15,"HR") -> 0 | D15: 5 | E15: 23 | F15: 王兆熙 | G15: R | K15: 28 | O15: K | S15: 37 | W15: K | AA15: K | AE15: =COUNTA(G15:I15,K15:M15,O15:Q15,S15:U15,W15:Y15,AA15:AC15) -> 6 | AF15: =COUNTIF(G15:AC15,"R")+(COUNTIF(G15:AC15,"HR")*2) -> 1 | AG15: =A15+B15 -> 1 | AH15: =COUNTIF(G15:AC15,"K") -> 3
A16: =COUNTIF($G$23:$AC$40,E16) -> 0 | C16: =COUNTIF(G16:AC16,"HR") -> 0 | AE16: =COUNTA(G16:I16,K16:M16,O16:Q16,S16:U16,W16:Y16,AA16:AC16) -> 0 | AF16: =COUNTIF(G16:AC16,"R")+(COUNTIF(G16:AC16,"HR")*2) -> 0 | AG16: =A16+B16 -> 0 | AH16: =COUNTIF(G16:AC16,"K") -> 0 | AM16: =SUM(AM3:AM15) -> 39 | AN16: =SUM(AN3:AN15) -> 21 | AO16: =SUM(AO3:AO15) -> 6 | AP16: =SUM(AP3:AP15) -> 9
A17: =COUNTIF($G$23:$AC$40,E17) -> 0 | C17: =COUNTIF(G17:AC17,"HR") -> 0 | AE17: =COUNTA(G17:I17,K17:M17,O17:Q17,S17:U17,W17:Y17,AA17:AC17) -> 0 | AF17: =COUNTIF(G17:AC17,"R")+(COUNTIF(G17:AC17,"HR")*2) -> 0 | AG17: =A17+B17 -> 0 | AH17: =COUNTIF(G17:AC17,"K") -> 0
A18: =COUNTIF($G$23:$AC$40,E18) -> 4 | C18: =COUNTIF(G18:AC18,"HR") -> 0 | D18: 6 | E18: 56 | F18: 黃志遠 | G18: R | K18: K | O18: 15 | S18: R | W18: R | AA18: K | AE18: =COUNTA(G18:I18,K18:M18,O18:Q18,S18:U18,W18:Y18,AA18:AC18) -> 6 | AF18: =COUNTIF(G18:AC18,"R")+(COUNTIF(G18:AC18,"HR")*2) -> 3 | AG18: =A18+B18 -> 4 | AH18: =COUNTIF(G18:AC18,"K") -> 2
A19: =COUNTIF($G$23:$AC$40,E19) -> 0 | C19: =COUNTIF(G19:AC19,"HR") -> 0 | AE19: =COUNTA(G19:I19,K19:M19,O19:Q19,S19:U19,W19:Y19,AA19:AC19) -> 0 | AF19: =COUNTIF(G19:AC19,"R")+(COUNTIF(G19:AC19,"HR")*2) -> 0 | AG19: =A19+B19 -> 0 | AH19: =COUNTIF(G19:AC19,"K") -> 0
A20: =COUNTIF($G$23:$AC$40,E20) -> 0 | C20: =COUNTIF(G20:AC20,"HR") -> 0 | AE20: =COUNTA(G20:I20,K20:M20,O20:Q20,S20:U20,W20:Y20,AA20:AC20) -> 0 | AF20: =COUNTIF(G20:AC20,"R")+(COUNTIF(G20:AC20,"HR")*2) -> 0 | AG20: =A20+B20 -> 0 | AH20: =COUNTIF(G20:AC20,"K") -> 0
A21: =SUM(A3:A20) -> 6 | B21: =SUM(B3:B20) -> 0 | C21: =SUM(C3:C20) -> 0 | D21: 得分加總 | G21: =COUNTIF(G3:I20,"R")+(COUNTIF(G3:I20,"HR")*2) -> 6 | K21: =COUNTIF(K3:M20,"R")+(COUNTIF(K3:M20,"HR")*2)+G21 -> 6 | O21: =COUNTIF(O3:Q20,"R")+(COUNTIF(O3:Q20,"HR")*2)+K21 -> 9 | S21: =COUNTIF(S3:U20,"R")+(COUNTIF(S3:U20,"HR")*2)+O21 -> 16 | W21: =COUNTIF(W3:Y20,"R")+(COUNTIF(W3:Y20,"HR")*2)+S21 -> 19 | AA21: =COUNTIF(AA3:AC20,"R")+(COUNTIF(AA3:AC20,"HR")*2)+W21 -> 21 | AE21: =SUM(AE3:AE20) -> 39 | AF21: =SUM(AF3:AF20) -> 21 | AG21: =SUM(AG3:AG20) -> 6 | AH21: =SUM(AH3:AH20) -> 9
A22: 撿球 | B22: 接殺 | C22: HR | D22: 後 | E22: 背號 | F22: 球員 | G22: 1 | J22: 投 | K22: 2 | N22: 投 | O22: 3 | R22: 投 | S22: 4 | V22: 投 | W22: 5 | Z22: 投 | AA22: 6 | AD22: 投 | AE22: AB | AF22: R | AG22: Po | AH22: K | AI22: 投/捕/觀
A23: =COUNTIF($G$3:$AC$20,E23) -> 2 | C23: =COUNTIF(G23:AC23,"HR") -> 0 | D23: 1 | E23: 15 | F23: 蔡宗豪 | G23: K | L23: R | P23: R | W23: R | AB23: R | AE23: =COUNTA(G23:I23,K23:M23,O23:Q23,S23:U23,W23:Y23,AA23:AC23) -> 5 | AF23: =COUNTIF(G23:AC23,"R")+C23 -> 4 | AG23: =A23+B23 -> 2 | AH23: =COUNTIF(G23:AC23,"K") -> 1 | AI23: 投手 | AL23: 蔡宗豪 | AM23: {=_xlfn.CHOOSECOLS(_xlfn._xlws.FILTER($F$23:$AH$40,$F$23:$F$40=AL23),26,27,28,29)} -> 5 | AN23: 4 | AO23: 2 | AP23: 1
A24: =COUNTIF($G$3:$AC$20,E24) -> 0 | C24: =COUNTIF(G24:AC24,"HR") -> 0 | AE24: =COUNTA(G24:I24,K24:M24,O24:Q24,S24:U24,W24:Y24,AA24:AC24) -> 0 | AF24: =COUNTIF(G24:AC24,"R")+C24 -> 0 | AG24: =A24+B24 -> 0 | AH24: =COUNTIF(G24:AC24,"K") -> 0 | AL24: 陳傑閔 | AM24: {=_xlfn.CHOOSECOLS(_xlfn._xlws.FILTER($F$23:$AH$40,$F$23:$F$40=AL24),26,27,28,29)} -> 5 | AN24: 3 | AO24: 4 | AP24: 2
A25: =COUNTIF($G$3:$AC$20,E25) -> 0 | C25: =COUNTIF(G25:AC25,"HR") -> 0 | AE25: =COUNTA(G25:I25,K25:M25,O25:Q25,S25:U25,W25:Y25,AA25:AC25) -> 0 | AF25: =COUNTIF(G25:AC25,"R")+C25 -> 0 | AG25: =A25+B25 -> 0 | AH25: =COUNTIF(G25:AC25,"K") -> 0 | AL25: 賴保全 | AM25: {=_xlfn.CHOOSECOLS(_xlfn._xlws.FILTER($F$23:$AH$40,$F$23:$F$40=AL25),26,27,28,29)} -> 5 | AN25: 2 | AO25: 1 | AP25: 1
A26: =COUNTIF($G$3:$AC$20,E26) -> 4 | C26: =COUNTIF(G26:AC26,"HR") -> 0 | D26: 2 | E26: 28 | F26: 陳傑閔 | G26: R | L26: R | P26: K | W26: K | AB26: R | AE26: =COUNTA(G26:I26,K26:M26,O26:Q26,S26:U26,W26:Y26,AA26:AC26) -> 5 | AF26: =COUNTIF(G26:AC26,"R")+C26 -> 3 | AG26: =A26+B26 -> 4 | AH26: =COUNTIF(G26:AC26,"K") -> 2 | AI26: 捕手 | AL26: 張睿紘 | AM26: {=_xlfn.CHOOSECOLS(_xlfn._xlws.FILTER($F$23:$AH$40,$F$23:$F$40=AL26),26,27,28,29)} -> 5 | AN26: 1 | AO26: 1 | AP26: 1
A27: =COUNTIF($G$3:$AC$20,E27) -> 0 | C27: =COUNTIF(G27:AC27,"HR") -> 0 | AE27: =COUNTA(G27:I27,K27:M27,O27:Q27,S27:U27,W27:Y27,AA27:AC27) -> 0 | AF27: =COUNTIF(G27:AC27,"R")+C27 -> 0 | AG27: =A27+B27 -> 0 | AH27: =COUNTIF(G27:AC27,"K") -> 0 | AL27: 陳韻婷 | AM27: {=_xlfn.CHOOSECOLS(_xlfn._xlws.FILTER($F$23:$AH$40,$F$23:$F$40=AL27),26,27,28,29)} -> 2 | AN27: 0 | AO27: 0 | AP27: 1
A28: =COUNTIF($G$3:$AC$20,E28) -> 0 | C28: =COUNTIF(G28:AC28,"HR") -> 0 | AE28: =COUNTA(G28:I28,K28:M28,O28:Q28,S28:U28,W28:Y28,AA28:AC28) -> 0 | AF28: =COUNTIF(G28:AC28,"R")+C28 -> 0 | AG28: =A28+B28 -> 0 | AH28: =COUNTIF(G28:AC28,"K") -> 0 | AL28: 黃雅苓 | AM28: {=_xlfn.CHOOSECOLS(_xlfn._xlws.FILTER($F$23:$AH$40,$F$23:$F$40=AL28),26,27,28,29)} -> 2 | AN28: 0 | AO28: 0 | AP28: 2
A29: =COUNTIF($G$3:$AC$20,E29) -> 1 | C29: =COUNTIF(G29:AC29,"HR") -> 0 | D29: 3 | E29: 1 | F29: 賴保全 | G29: K | L29: 56 | S29: R | W29: R | AB29: 56 | AE29: =COUNTA(G29:I29,K29:M29,O29:Q29,S29:U29,W29:Y29,AA29:AC29) -> 5 | AF29: =COUNTIF(G29:AC29,"R")+C29 -> 2 | AG29: =A29+B29 -> 1 | AH29: =COUNTIF(G29:AC29,"K") -> 1 | AL29: 蔡志雄 | AM29: {=_xlfn.CHOOSECOLS(_xlfn._xlws.FILTER($F$23:$AH$40,$F$23:$F$40=AL29),26,27,28,29)} -> 4 | AN29: 0 | AO29: 1 | AP29: 4
A30: =COUNTIF($G$3:$AC$20,E30) -> 0 | C30: =COUNTIF(G30:AC30,"HR") -> 0 | AE30: =COUNTA(G30:I30,K30:M30,O30:Q30,S30:U30,W30:Y30,AA30:AC30) -> 0 | AF30: =COUNTIF(G30:AC30,"R")+C30 -> 0 | AG30: =A30+B30 -> 0 | AH30: =COUNTIF(G30:AC30,"K") -> 0 | AI30: 觀測員
A31: =COUNTIF($G$3:$AC$20,E31) -> 0 | C31: =COUNTIF(G31:AC31,"HR") -> 0 | AE31: =COUNTA(G31:I31,K31:M31,O31:Q31,S31:U31,W31:Y31,AA31:AC31) -> 0 | AF31: =COUNTIF(G31:AC31,"R")+C31 -> 0 | AG31: =A31+B31 -> 0 | AH31: =COUNTIF(G31:AC31,"K") -> 0
A32: =COUNTIF($G$3:$AC$20,E32) -> 1 | C32: =COUNTIF(G32:AC32,"HR") -> 0 | D32: 4 | E32: 17 | F32: 張睿紘 | G32: 55 | O32: R | S32: K | W32: 56 | AB32: 56 | AE32: =COUNTA(G32:I32,K32:M32,O32:Q32,S32:U32,W32:Y32,AA32:AC32) -> 5 | AF32: =COUNTIF(G32:AC32,"R")+C32 -> 1 | AG32: =A32+B32 -> 1 | AH32: =COUNTIF(G32:AC32,"K") -> 1
A33: =COUNTIF($G$3:$AC$20,E33) -> 0 | C33: =COUNTIF(G33:AC33,"HR") -> 0 | AE33: =COUNTA(G33:I33,K33:M33,O33:Q33,S33:U33,W33:Y33,AA33:AC33) -> 0 | AF33: =COUNTIF(G33:AC33,"R")+C33 -> 0 | AG33: =A33+B33 -> 0 | AH33: =COUNTIF(G33:AC33,"K") -> 0
A34: =COUNTIF($G$3:$AC$20,E34) -> 0 | C34: =COUNTIF(G34:AC34,"HR") -> 0 | AE34: =COUNTA(G34:I34,K34:M34,O34:Q34,S34:U34,W34:Y34,AA34:AC34) -> 0 | AF34: =COUNTIF(G34:AC34,"R")+C34 -> 0 | AG34: =A34+B34 -> 0 | AH34: =COUNTIF(G34:AC34,"K") -> 0 | AI34: 候補球員
A35: =COUNTIF($G$3:$AC$20,E35) -> 0 | C35: =COUNTIF(G35:AC35,"HR") -> 0 | D35: 5 | E35: 66 | F35: 陳韻婷 | K35: 23 | O35: K | AE35: =COUNTA(G35:I35,K35:M35,O35:Q35,S35:U35,W35:Y35,AA35:AC35) -> 2 | AF35: =COUNTIF(G35:AC35,"R")+C35 -> 0 | AG35: =A35+B35 -> 0 | AH35: =COUNTIF(G35:AC35,"K") -> 1 | AM35: =SUM(AM23:AM34) -> 28 | AN35: =SUM(AN23:AN32) -> 10 | AO35: =SUM(AO23:AO32) -> 9 | AP35: =SUM(AP23:AP32) -> 12
A36: =COUNTIF($G$3:$AC$20,E36) -> 0 | C36: =COUNTIF(G36:AC36,"HR") -> 0 | E36: 421 | F36: 黃雅苓 | S36: K | W36: K | AE36: =COUNTA(G36:I36,K36:M36,O36:Q36,S36:U36,W36:Y36,AA36:AC36) -> 2 | AF36: =COUNTIF(G36:AC36,"R")+C36 -> 0 | AG36: =A36+B36 -> 0 | AH36: =COUNTIF(G36:AC36,"K") -> 2
A37: =COUNTIF($G$3:$AC$20,E37) -> 0 | C37: =COUNTIF(G37:AC37,"HR") -> 0 | AE37: =COUNTA(G37:I37,K37:M37,O37:Q37,S37:U37,W37:Y37,AA37:AC37) -> 0 | AF37: =COUNTIF(G37:AC37,"R")+C37 -> 0 | AG37: =A37+B37 -> 0 | AH37: =COUNTIF(G37:AC37,"K") -> 0
A38: =COUNTIF($G$3:$AC$20,E38) -> 1 | C38: =COUNTIF(G38:AC38,"HR") -> 0 | D38: 6 | E38: 37 | F38: 蔡志雄 | K38: K | O38: K | S38: K | AA38: K | AE38: =COUNTA(G38:I38,K38:M38,O38:Q38,S38:U38,W38:Y38,AA38:AC38) -> 4 | AF38: =COUNTIF(G38:AC38,"R")+C38 -> 0 | AG38: =A38+B38 -> 1 | AH38: =COUNTIF(G38:AC38,"K") -> 4
A39: =COUNTIF($G$3:$AC$20,E39) -> 0 | C39: =COUNTIF(G39:AC39,"HR") -> 0 | AE39: =COUNTA(G39:I39,K39:M39,O39:Q39,S39:U39,W39:Y39,AA39:AC39) -> 0 | AF39: =COUNTIF(G39:AC39,"R")+C39 -> 0 | AG39: =A39+B39 -> 0 | AH39: =COUNTIF(G39:AC39,"K") -> 0
A40: =COUNTIF($G$3:$AC$20,E40) -> 0 | C40: =COUNTIF(G40:AC40,"HR") -> 0 | AE40: =COUNTA(G40:I40,K40:M40,O40:Q40,S40:U40,W40:Y40,AA40:AC40) -> 0 | AF40: =COUNTIF(G40:AC40,"R")+C40 -> 0 | AG40: =A40+B40 -> 0 | AH40: =COUNTIF(G40:AC40,"K") -> 0
...

Sheet G5
B1: 加計分數 | D1: 場次 | H1: G5 | J1: 日期 | L1: 114.12.14 | Q1: =AA21 -> 0 | T1: 金錢豹 | V1: VS | X1: 閃電 | AB1: =AA41 -> 0 | AE1: 數據
A2: 撿球 | B2: 接殺 | C2: HR | D2: 先 | E2: 背號 | F2: 球員 | G2: 1 | J2: 投 | K2: 2 | N2: 投 | O2: 3 | R2: 投 | S2: 4 | V2: 投 | W2: 5 | Z2: 投 | AA2: 6 | AD2: 投 | AE2: AB | AF2: R | AG2: Po | AH2: K | AI2: 投/捕/觀 | AK2: 背號 | AL2: 球員 | AM2: AB | AN2: R | AO2: Po | AP2: K
A3: =COUNTIF($G$23:$AC$40,E3) -> 0 | C3: =COUNTIF(G3:AC3,"HR") -> 0 | D3: 1 | AE3: =COUNTA(G3:I3,K3:M3,O3:Q3,S3:U3,W3:Y3,AA3:AC3) -> 0 | AF3: =COUNTIF(G3:AC3,"R")+(COUNTIF(G3:AC3,"HR")*2) -> 0 | AG3: =A3+B3 -> 0 | AH3: =COUNTIF(G3:AC3,"K") -> 0 | AI3: 投手 | AL3: {=_xlfn.UNIQUE($F$3:$F$20)} -> 0 | AM3: {=_xlfn.CHOOSECOLS(_xlfn._xlws.FILTER($F$3:$AH$20,$F$3:$F$20=AL3),26,27,28,29)} -> #VALUE!
A4: =COUNTIF($G$23:$AC$40,E4) -> 0 | C4: =COUNTIF(G4:AC4,"HR") -> 0 | AE4: =COUNTA(G4:I4,K4:M4,O4:Q4,S4:U4,W4:Y4,AA4:AC4) -> 0 | AF4: =COUNTIF(G4:AC4,"R")+(COUNTIF(G4:AC4,"HR")*2) -> 0 | AG4: =A4+B4 -> 0 | AH4: =COUNTIF(G4:AC4,"K") -> 0 | AM4: {=_xlfn.CHOOSECOLS(_xlfn._xlws.FILTER($F$3:$AH$20,$F$3:$F$20=AL4),26,27,28,29)} -> #VALUE!
A5: =COUNTIF($G$23:$AC$40,E5) -> 0 | C5: =COUNTIF(G5:AC5,"HR") -> 0 | AE5: =COUNTA(G5:I5,K5:M5,O5:Q5,S5:U5,W5:Y5,AA5:AC5) -> 0 | AF5: =COUNTIF(G5:AC5,"R")+(COUNTIF(G5:AC5,"HR")*2) -> 0 | AG5: =A5+B5 -> 0 | AH5: =COUNTIF(G5:AC5,"K") -> 0 | AM5: {=_xlfn.CHOOSECOLS(_xlfn._xlws.FILTER($F$3:$AH$20,$F$3:$F$20=AL5),26,27,28,29)} -> #VALUE!
A6: =COUNTIF($G$23:$AC$40,E6) -> 0 | C6: =COUNTIF(G6:AC6,"HR") -> 0 | D6: 2 | AE6: =COUNTA(G6:I6,K6:M6,O6:Q6,S6:U6,W6:Y6,AA6:AC6) -> 0 | AF6: =COUNTIF(G6:AC6,"R")+(COUNTIF(G6:AC6,"HR")*2) -> 0 | AG6: =A6+B6 -> 0 | AH6: =COUNTIF(G6:AC6,"K") -> 0 | AI6: 捕手 | AM6: {=_xlfn.CHOOSECOLS(_xlfn._xlws.FILTER($F$3:$AH$20,$F$3:$F$20=AL6),26,27,28,29)} -> #VALUE!
A7: =COUNTIF($G$23:$AC$40,E7) -> 0 | C7: =COUNTIF(G7:AC7,"HR") -> 0 | AE7: =COUNTA(G7:I7,K7:M7,O7:Q7,S7:U7,W7:Y7,AA7:AC7) -> 0 | AF7: =COUNTIF(G7:AC7,"R")+(COUNTIF(G7:AC7,"HR")*2) -> 0 | AG7: =A7+B7 -> 0 | AH7: =COUNTIF(G7:AC7,"K") -> 0 | AM7: {=_xlfn.CHOOSECOLS(_xlfn._xlws.FILTER($F$3:$AH$20,$F$3:$F$20=AL7),26,27,28,29)} -> #VALUE!
A8: =COUNTIF($G$23:$AC$40,E8) -> 0 | C8: =COUNTIF(G8:AC8,"HR") -> 0 | AE8: =COUNTA(G8:I8,K8:M8,O8:Q8,S8:U8,W8:Y8,AA8:AC8) -> 0 | AF8: =COUNTIF(G8:AC8,"R")+(COUNTIF(G8:AC8,"HR")*2) -> 0 | AG8: =A8+B8 -> 0 | AH8: =COUNTIF(G8:AC8,"K") -> 0 | AM8: {=_xlfn.CHOOSECOLS(_xlfn._xlws.FILTER($F$3:$AH$20,$F$3:$F$20=AL8),26,27,28,29)} -> #VALUE!
A9: =COUNTIF($G$23:$AC$40,E9) -> 0 | C9: =COUNTIF(G9:AC9,"HR") -> 0 | D9: 3 | AE9: =COUNTA(G9:I9,K9:M9,O9:Q9,S9:U9,W9:Y9,AA9:AC9) -> 0 | AF9: =COUNTIF(G9:AC9,"R")+(COUNTIF(G9:AC9,"HR")*2) -> 0 | AG9: =A9+B9 -> 0 | AH9: =COUNTIF(G9:AC9,"K") -> 0 | AM9: {=_xlfn.CHOOSECOLS(_xlfn._xlws.FILTER($F$3:$AH$20,$F$3:$F$20=AL9),26,27,28,29)} -> #VALUE!
A10: =COUNTIF($G$23:$AC$40,E10) -> 0 | C10: =COUNTIF(G10:AC10,"HR") -> 0 | AE10: =COUNTA(G10:I10,K10:M10,O10:Q10,S10:U10,W10:Y10,AA10:AC10) -> 0 | AF10: =COUNTIF(G10:AC10,"R")+(COUNTIF(G10:AC10,"HR")*2) -> 0 | AG10: =A10+B10 -> 0 | AH10: =COUNTIF(G10:AC10,"K") -> 0 | AI10: 觀測員 | AM10: {=_xlfn.CHOOSECOLS(_xlfn._xlws.FILTER($F$3:$AH$20,$F$3:$F$20=AL10),26,27,28,29)} -> #VALUE!
A11: =COUNTIF($G$23:$AC$40,E11) -> 0 | C11: =COUNTIF(G11:AC11,"HR") -> 0 | AE11: =COUNTA(G11:I11,K11:M11,O11:Q11,S11:U11,W11:Y11,AA11:AC11) -> 0 | AF11: =COUNTIF(G11:AC11,"R")+(COUNTIF(G11:AC11,"HR")*2) -> 0 | AG11: =A11+B11 -> 0 | AH11: =COUNTIF(G11:AC11,"K") -> 0 | AM11: {=_xlfn.CHOOSECOLS(_xlfn._xlws.FILTER($F$3:$AH$20,$F$3:$F$20=AL11),26,27,28,29)} -> #VALUE!
A12: =COUNTIF($G$23:$AC$40,E12) -> 0 | C12: =COUNTIF(G12:AC12,"HR") -> 0 | D12: 4 | AE12: =COUNTA(G12:I12,K12:M12,O12:Q12,S12:U12,W12:Y12,AA12:AC12) -> 0 | AF12: =COUNTIF(G12:AC12,"R")+(COUNTIF(G12:AC12,"HR")*2) -> 0 | AG12: =A12+B12 -> 0 | AH12: =COUNTIF(G12:AC12,"K") -> 0
A13: =COUNTIF($G$23:$AC$40,E13) -> 0 | C13: =COUNTIF(G13:AC13,"HR") -> 0 | AE13: =COUNTA(G13:I13,K13:M13,O13:Q13,S13:U13,W13:Y13,AA13:AC13) -> 0 | AF13: =COUNTIF(G13:AC13,"R")+(COUNTIF(G13:AC13,"HR")*2) -> 0 | AG13: =A13+B13 -> 0 | AH13: =COUNTIF(G13:AC13,"K") -> 0
A14: =COUNTIF($G$23:$AC$40,E14) -> 0 | C14: =COUNTIF(G14:AC14,"HR") -> 0 | AE14: =COUNTA(G14:I14,K14:M14,O14:Q14,S14:U14,W14:Y14,AA14:AC14) -> 0 | AF14: =COUNTIF(G14:AC14,"R")+(COUNTIF(G14:AC14,"HR")*2) -> 0 | AG14: =A14+B14 -> 0 | AH14: =COUNTIF(G14:AC14,"K") -> 0 | AI14: 候補球員
A15: =COUNTIF($G$23:$AC$40,E15) -> 0 | C15: =COUNTIF(G15:AC15,"HR") -> 0 | D15: 5 | AE15: =COUNTA(G15:I15,K15:M15,O15:Q15,S15:U15,W15:Y15,AA15:AC15) -> 0 | AF15: =COUNTIF(G15:AC15,"R")+(COUNTIF(G15:AC15,"HR")*2) -> 0 | AG15: =A15+B15 -> 0 | AH15: =COUNTIF(G15:AC15,"K") -> 0
A16: =COUNTIF($G$23:$AC$40,E16) -> 0 | C16: =COUNTIF(G16:AC16,"HR") -> 0 | AE16: =COUNTA(G16:I16,K16:M16,O16:Q16,S16:U16,W16:Y16,AA16:AC16) -> 0 | AF16: =COUNTIF(G16:AC16,"R")+(COUNTIF(G16:AC16,"HR")*2) -> 0 | AG16: =A16+B16 -> 0 | AH16: =COUNTIF(G16:AC16,"K") -> 0 | AM16: =SUM(AM3:AM15) -> #VALUE! | AN16: =SUM(AN3:AN15) -> 0 | AO16: =SUM(AO3:AO15) -> 0 | AP16: =SUM(AP3:AP15) -> 0
A17: =COUNTIF($G$23:$AC$40,E17) -> 0 | C17: =COUNTIF(G17:AC17,"HR") -> 0 | AE17: =COUNTA(G17:I17,K17:M17,O17:Q17,S17:U17,W17:Y17,AA17:AC17) -> 0 | AF17: =COUNTIF(G17:AC17,"R")+(COUNTIF(G17:AC17,"HR")*2) -> 0 | AG17: =A17+B17 -> 0 | AH17: =COUNTIF(G17:AC17,"K") -> 0
A18: =COUNTIF($G$23:$AC$40,E18) -> 0 | C18: =COUNTIF(G18:AC18,"HR") -> 0 | D18: 6 | AE18: =COUNTA(G18:I18,K18:M18,O18:Q18,S18:U18,W18:Y18,AA18:AC18) -> 0 | AF18: =COUNTIF(G18:AC18,"R")+(COUNTIF(G18:AC18,"HR")*2) -> 0 | AG18: =A18+B18 -> 0 | AH18: =COUNTIF(G18:AC18,"K") -> 0
A19: =COUNTIF($G$23:$AC$40,E19) -> 0 | C19: =COUNTIF(G19:AC19,"HR") -> 0 | AE19: =COUNTA(G19:I19,K19:M19,O19:Q19,S19:U19,W19:Y19,AA19:AC19) -> 0 | AF19: =COUNTIF(G19:AC19,"R")+(COUNTIF(G19:AC19,"HR")*2) -> 0 | AG19: =A19+B19 -> 0 | AH19: =COUNTIF(G19:AC19,"K") -> 0
A20: =COUNTIF($G$23:$AC$40,E20) -> 0 | C20: =COUNTIF(G20:AC20,"HR") -> 0 | AE20: =COUNTA(G20:I20,K20:M20,O20:Q20,S20:U20,W20:Y20,AA20:AC20) -> 0 | AF20: =COUNTIF(G20:AC20,"R")+(COUNTIF(G20:AC20,"HR")*2) -> 0 | AG20: =A20+B20 -> 0 | AH20: =COUNTIF(G20:AC20,"K") -> 0
