Workbook

Sheet 分組球員名單
A1: 球員名單 | B1: 背號
A2: A | D2: 投捕觀名單 | F2: 隊伍名稱
A3: 陳璽帆 | B3: 8 | D3: 駱繼宗 | F3: 閃電
A4: 黃柏欽 | B4: 4 | D4: 李裕仁 | F4: 夜魔俠
A5: 郭育廷 | B5: 21 | D5: 陳相睿 | F5: 游擊
A6: 林育良 | B6: 99 | D6: 林春佑 | F6: 金錢豹
A7: 林健彰 | B7: 111 | D7: 宋展宇
A8: 陳俊欽 | B8: 35 | D8: 王辰光
A9: 鄭傳逸 | B9: 88 | D9: 江言鎧
D10: 劉維璽
D11: 賴相存
A13: B
A14: 梁耿縉 | B14: 18
A15: 勞恩以達西拔 | B15: 11
A16: 蔡存宥 | B16: 22
A17: 郭亦倫 | B17: 39
A18: 古國偉 | B18: 37
A19: 余自成 | B19: 81
A20: 蔡孟洵 | B20: 58
A21: 吳品逸 | B21: o
F22: 對戰分數
F23: 閃電 | G23: 夜魔俠 | H23: 游擊 | I23: 金錢豹
E24: G1 | F24: 7 | I24: 6
A25: C | E25: G2 | G25: 21 | H25: 15
A26: 邱文昇 | B26: 55 | E26: G3 | F26: 9 | G26: 8
A27: 賴智傑 | B27: 26 | E27: G4 | H27: 21 | I27: 10
A28: 黃志遠 | B28: 56 | E28: G5
A29: 王兆熙 | B29: 23 | E29: G6 | G29: 12 | I29: 5
A30: 蔡孟洵* | B30: 58 | F30: =SUM(F24:F29) -> 16 | G30: =SUM(G24:G29) -> 41 | H30: =SUM(H24:H29) -> 36 | I30: =SUM(I24:I29) -> 21
A31: 吳品逸* | B31: o
A32: 勞恩* | B32: 11
A33: 蔡存宥* | B33: 22
A35: D
A36: 陳傑閔 | B36: 28
A37: 蔡宗豪 | B37: 15
A38: 賴保全 | B38: 1
A39: 蔡志雄 | B39: 37
A40: 陳韻婷 | B40: 66
A41: 黃雅苓 | B41: 421
A42: 張睿紘 | B42: 17

Sheet G1
B1: 加計分數 | D1: 場次 | H1: G1 | J1: 日期 | L1: 114.12.13 | Q1: =AA21 -> 6 | T1: 金錢豹 | V1: VS | X1: 閃電 | AB1: =AA41 -> 7 | AE1: 數據
A2: 撿球 | B2: 接殺 | C2: HR | D2: 先 | E2: 背號 | F2: 球員 | G2: 1 | J2: 投 | K2: 2 | N2: 投 | O2: 3 | R2: 投 | S2: 4 | V2: 投 | W2: 5 | Z2: 投 | AA2: 6 | AD2: 投 | AE2: AB | AF2: R | AG2: Po | AH2: K | AI2: 投/捕/觀 | AK2: 背號 | AL2: 球員 | AM2: AB | AN2: R | AO2: Po | AP2: K
A3: =COUNTIF($G$23:$AC$40,E3) -> 0 | C3: =COUNTIF(G3:AC3,"HR") -> 0 | D3: 1 | E3: 37 | F3: 蔡志雄 | G3: K | L3: R | T3: 8 | X3: K | AE3: =COUNTA(G3:I3,K3:M3,O3:Q3,S3:U3,W3:Y3,AA3:AC3) -> 4 | AF3: =COUNTIF(G3:AC3,"R")+(COUNTIF(G3:AC3,"HR")*2) -> 1 | AG3: =A3+B3 -> 0 | AH3: =COUNTIF(G3:AC3,"K") -> 2 | AI3: 投手 | AL3: 蔡志雄 | AM3: {=_xlfn.CHOOSECOLS(_xlfn._xlws.FILTER($F$3:$AH$20,$F$3:$F$20=AL3),26,27,28,29)} -> 4 | AN3: 1 | AO3: 0 | AP3: 2
A4: =COUNTIF($G$23:$AC$40,E4) -> 0 | C4: =COUNTIF(G4:AC4,"HR") -> 0 | AE4: =COUNTA(G4:I4,K4:M4,O4:Q4,S4:U4,W4:Y4,AA4:AC4) -> 0 | AF4: =COUNTIF(G4:AC4,"R")+(COUNTIF(G4:AC4,"HR")*2) -> 0 | AG4: =A4+B4 -> 0 | AH4: =COUNTIF(G4:AC4,"K") -> 0 | AL4: 陳傑閔 | AM4: {=_xlfn.CHOOSECOLS(_xlfn._xlws.FILTER($F$3:$AH$20,$F$3:$F$20=AL4),26,27,28,29)} -> 4 | AN4: 0 | AO4: 1 | AP4: 4
A5: =COUNTIF($G$23:$AC$40,E5) -> 0 | C5: =COUNTIF(G5:AC5,"HR") -> 0 | AE5: =COUNTA(G5:I5,K5:M5,O5:Q5,S5:U5,W5:Y5,AA5:AC5) -> 0 | AF5: =COUNTIF(G5:AC5,"R")+(COUNTIF(G5:AC5,"HR")*2) -> 0 | AG5: =A5+B5 -> 0 | AH5: =COUNTIF(G5:AC5,"K") -> 0 | AL5: 賴保全 | AM5: {=_xlfn.CHOOSECOLS(_xlfn._xlws.FILTER($F$3:$AH$20,$F$3:$F$20=AL5),26,27,28,29)} -> 4 | AN5: 1 | AO5: 0 | AP5: 3
A6: =COUNTIF($G$23:$AC$40,E6) -> 1 | C6: =COUNTIF(G6:AC6,"HR") -> 0 | D6: 2 | E6: 28 | F6: 陳傑閔 | G6: K | L6: K | T6: K | X6: K | AE6: =COUNTA(G6:I6,K6:M6,O6:Q6,S6:U6,W6:Y6,AA6:AC6) -> 4 | AF6: =COUNTIF(G6:AC6,"R")+(COUNTIF(G6:AC6,"HR")*2) -> 0 | AG6: =A6+B6 -> 1 | AH6: =COUNTIF(G6:AC6,"K") -> 4 | AI6: 捕手 | AL6: 張睿紘 | AM6: {=_xlfn.CHOOSECOLS(_xlfn._xlws.FILTER($F$3:$AH$20,$F$3:$F$20=AL6),26,27,28,29)} -> 4 | AN6: 1 | AO6: 0 | AP6: 2
A7: =COUNTIF($G$23:$AC$40,E7) -> 0 | C7: =COUNTIF(G7:AC7,"HR") -> 0 | AE7: =COUNTA(G7:I7,K7:M7,O7:Q7,S7:U7,W7:Y7,AA7:AC7) -> 0 | AF7: =COUNTIF(G7:AC7,"R")+(COUNTIF(G7:AC7,"HR")*2) -> 0 | AG7: =A7+B7 -> 0 | AH7: =COUNTIF(G7:AC7,"K") -> 0 | AL7: 黃雅苓 | AM7: {=_xlfn.CHOOSECOLS(_xlfn._xlws.FILTER($F$3:$AH$20,$F$3:$F$20=AL7),26,27,28,29)} -> 2 | AN7: 0 | AO7: 0 | AP7: 2
A8: =COUNTIF($G$23:$AC$40,E8) -> 0 | C8: =COUNTIF(G8:AC8,"HR") -> 0 | AE8: =COUNTA(G8:I8,K8:M8,O8:Q8,S8:U8,W8:Y8,AA8:AC8) -> 0 | AF8: =COUNTIF(G8:AC8,"R")+(COUNTIF(G8:AC8,"HR")*2) -> 0 | AG8: =A8+B8 -> 0 | AH8: =COUNTIF(G8:AC8,"K") -> 0 | AL8: 陳韻婷 | AM8: {=_xlfn.CHOOSECOLS(_xlfn._xlws.FILTER($F$3:$AH$20,$F$3:$F$20=AL8),26,27,28,29)} -> 2 | AN8: 0 | AO8: 0 | AP8: 2
A9: =COUNTIF($G$23:$AC$40,E9) -> 0 | C9: =COUNTIF(G9:AC9,"HR") -> 0 | D9: 3 | E9: 1 | F9: 賴保全 | G9: K | O9: K | T9: K | AA9: R | AE9: =COUNTA(G9:I9,K9:M9,O9:Q9,S9:U9,W9:Y9,AA9:AC9) -> 4 | AF9: =COUNTIF(G9:AC9,"R")+(COUNTIF(G9:AC9,"HR")*2) -> 1 | AG9: =A9+B9 -> 0 | AH9: =COUNTIF(G9:AC9,"K") -> 3 | AL9: 蔡宗豪 | AM9: {=_xlfn.CHOOSECOLS(_xlfn._xlws.FILTER($F$3:$AH$20,$F$3:$F$20=AL9),26,27,28,29)} -> 4 | AN9: 3 | AO9: 0 | AP9: 0
A10: =COUNTIF($G$23:$AC$40,E10) -> 0 | C10: =COUNTIF(G10:AC10,"HR") -> 0 | AE10: =COUNTA(G10:I10,K10:M10,O10:Q10,S10:U10,W10:Y10,AA10:AC10) -> 0 | AF10: =COUNTIF(G10:AC10,"R")+(COUNTIF(G10:AC10,"HR")*2) -> 0 | AG10: =A10+B10 -> 0 | AH10: =COUNTIF(G10:AC10,"K") -> 0 | AI10: 觀測員
A11: =COUNTIF($G$23:$AC$40,E11) -> 0 | C11: =COUNTIF(G11:AC11,"HR") -> 0 | AE11: =COUNTA(G11:I11,K11:M11,O11:Q11,S11:U11,W11:Y11,AA11:AC11) -> 0 | AF11: =COUNTIF(G11:AC11,"R")+(COUNTIF(G11:AC11,"HR")*2) -> 0 | AG11: =A11+B11 -> 0 | AH11: =COUNTIF(G11:AC11,"K") -> 0
A12: =COUNTIF($G$23:$AC$40,E12) -> 0 | C12: =COUNTIF(G12:AC12,"HR") -> 0 | D12: 4 | E12: 17 | F12: 張睿紘 | K12: K | O12: K | W12: R | AA12: 8 | AE12: =COUNTA(G12:I12,K12:M12,O12:Q12,S12:U12,W12:Y12,AA12:AC12) -> 4 | AF12: =COUNTIF(G12:AC12,"R")+(COUNTIF(G12:AC12,"HR")*2) -> 1 | AG12: =A12+B12 -> 0 | AH12: =COUNTIF(G12:AC12,"K") -> 2
A13: =COUNTIF($G$23:$AC$40,E13) -> 0 | C13: =COUNTIF(G13:AC13,"HR") -> 0 | AE13: =COUNTA(G13:I13,K13:M13,O13:Q13,S13:U13,W13:Y13,AA13:AC13) -> 0 | AF13: =COUNTIF(G13:AC13,"R")+(COUNTIF(G13:AC13,"HR")*2) -> 0 | AG13: =A13+B13 -> 0 | AH13: =COUNTIF(G13:AC13,"K") -> 0
A14: =COUNTIF($G$23:$AC$40,E14) -> 0 | C14: =COUNTIF(G14:AC14,"HR") -> 0 | AE14: =COUNTA(G14:I14,K14:M14,O14:Q14,S14:U14,W14:Y14,AA14:AC14) -> 0 | AF14: =COUNTIF(G14:AC14,"R")+(COUNTIF(G14:AC14,"HR")*2) -> 0 | AG14: =A14+B14 -> 0 | AH14: =COUNTIF(G14:AC14,"K") -> 0 | AI14: 候補球員
A15: =COUNTIF($G$23:$AC$40,E15) -> 0 | C15: =COUNTIF(G15:AC15,"HR") -> 0 | D15: 5 | E15: 421 | F15: 黃雅苓 | K15: K | O15: K | AE15: =COUNTA(G15:I15,K15:M15,O15:Q15,S15:U15,W15:Y15,AA15:AC15) -> 2 | AF15: =COUNTIF(G15:AC15,"R")+(COUNTIF(G15:AC15,"HR")*2) -> 0 | AG15: =A15+B15 -> 0 | AH15: =COUNTIF(G15:AC15,"K") -> 2
A16: =COUNTIF($G$23:$AC$40,E16) -> 0 | C16: =COUNTIF(G16:AC16,"HR") -> 0 | E16: 66 | F16: 陳韻婷 | W16: K | AA16: K | AE16: =COUNTA(G16:I16,K16:M16,O16:Q16,S16:U16,W16:Y16,AA16:AC16) -> 2 | AF16: =COUNTIF(G16:AC16,"R")+(COUNTIF(G16:AC16,"HR")*2) -> 0 | AG16: =A16+B16 -> 0 | AH16: =COUNTIF(G16:AC16,"K") -> 2 | AM16: =SUM(AM3:AM15) -> 24 | AN16: =SUM(AN3:AN15) -> 6 | AO16: =SUM(AO3:AO15) -> 1 | AP16: =SUM(AP3:AP15) -> 15
A17: =COUNTIF($G$23:$AC$40,E17) -> 0 | C17: =COUNTIF(G17:AC17,"HR") -> 0 | AE17: =COUNTA(G17:I17,K17:M17,O17:Q17,S17:U17,W17:Y17,AA17:AC17) -> 0 | AF17: =COUNTIF(G17:AC17,"R")+(COUNTIF(G17:AC17,"HR")*2) -> 0 | AG17: =A17+B17 -> 0 | AH17: =COUNTIF(G17:AC17,"K") -> 0
A18: =COUNTIF($G$23:$AC$40,E18) -> 0 | C18: =COUNTIF(G18:AC18,"HR") -> 0 | D18: 6 | E18: 15 | F18: 蔡宗豪 | K18: R | S18: R | W18: R | AA18: 35 | AE18: =COUNTA(G18:I18,K18:M18,O18:Q18,S18:U18,W18:Y18,AA18:AC18) -> 4 | AF18: =COUNTIF(G18:AC18,"R")+(COUNTIF(G18:AC18,"HR")*2) -> 3 | AG18: =A18+B18 -> 0 | AH18: =COUNTIF(G18:AC18,"K") -> 0
A19: =COUNTIF($G$23:$AC$40,E19) -> 0 | C19: =COUNTIF(G19:AC19,"HR") -> 0 | AE19: =COUNTA(G19:I19,K19:M19,O19:Q19,S19:U19,W19:Y19,AA19:AC19) -> 0 | AF19: =COUNTIF(G19:AC19,"R")+(COUNTIF(G19:AC19,"HR")*2) -> 0 | AG19: =A19+B19 -> 0 | AH19: =COUNTIF(G19:AC19,"K") -> 0
A20: =COUNTIF($G$23:$AC$40,E20) -> 0 | C20: =COUNTIF(G20:AC20,"HR") -> 0 | AE20: =COUNTA(G20:I20,K20:M20,O20:Q20,S20:U20,W20:Y20,AA20:AC20) -> 0 | AF20: =COUNTIF(G20:AC20,"R")+(COUNTIF(G20:AC20,"HR")*2) -> 0 | AG20: =A20+B20 -> 0 | AH20: =COUNTIF(G20:AC20,"K") -> 0
A21: =SUM(A3:A20) -> 1 | B21: =SUM(B3:B20) -> 0 | C21: =SUM(C3:C20) -> 0 | D21: 得分加總 | G21: =COUNTIF(G3:I20,"R")+(COUNTIF(G3:I20,"HR")*2) -> 0 | K21: =COUNTIF(K3:M20,"R")+(COUNTIF(K3:M20,"HR")*2)+G21 -> 2 | O21: =COUNTIF(O3:Q20,"R")+(COUNTIF(O3:Q20,"HR")*2)+K21 -> 2 | S21: =COUNTIF(S3:U20,"R")+(COUNTIF(S3:U20,"HR")*2)+O21 -> 3 | W21: =COUNTIF(W3:Y20,"R")+(COUNTIF(W3:Y20,"HR")*2)+S21 -> 5 | AA21: =COUNTIF(AA3:AC20,"R")+(COUNTIF(AA3:AC20,"HR")*2)+W21 -> 6 | AE21: =SUM(AE3:AE20) -> 24 | AF21: =SUM(AF3:AF20) -> 6 | AG21: =SUM(AG3:AG20) -> 1 | AH21: =SUM(AH3:AH20) -> 15
A22: 撿球 | B22: 接殺 | C22: HR | D22: 後 | E22: 背號 | F22: 球員 | G22: 1 | J22: 投 | K22: 2 | N22: 投 | O22: 3 | R22: 投 | S22: 4 | V22: 投 | W22: 5 | Z22: 投 | AA22: 6 | AD22: 投 | AE22: AB | AF22: R | AG22: Po | AH22: K | AI22: 投/捕/觀
A23: =COUNTIF($G$3:$AC$20,E23) -> 0 | C23: =COUNTIF(G23:AC23,"HR") -> 0 | D23: 1 | E23: 99 | F23: 林育良 | G23: K | L23: R | P23: K | X23: K | AE23: =COUNTA(G23:I23,K23:M23,O23:Q23,S23:U23,W23:Y23,AA23:AC23) -> 4 | AF23: =COUNTIF(G23:AC23,"R")+C23 -> 1 | AG23: =A23+B23 -> 0 | AH23: =COUNTIF(G23:AC23,"K") -> 3 | AI23: 投手 | AL23: 林育良 | AM23: {=_xlfn.CHOOSECOLS(_xlfn._xlws.FILTER($F$23:$AH$40,$F$23:$F$40=AL23),26,27,28,29)} -> 4 | AN23: 1 | AO23: 0 | AP23: 3
A24: =COUNTIF($G$3:$AC$20,E24) -> 0 | C24: =COUNTIF(G24:AC24,"HR") -> 0 | AE24: =COUNTA(G24:I24,K24:M24,O24:Q24,S24:U24,W24:Y24,AA24:AC24) -> 0 | AF24: =COUNTIF(G24:AC24,"R")+C24 -> 0 | AG24: =A24+B24 -> 0 | AH24: =COUNTIF(G24:AC24,"K") -> 0 | AL24: 陳璽帆 | AM24: {=_xlfn.CHOOSECOLS(_xlfn._xlws.FILTER($F$23:$AH$40,$F$23:$F$40=AL24),26,27,28,29)} -> 4 | AN24: 1 | AO24: 2 | AP24: 3
A25: =COUNTIF($G$3:$AC$20,E25) -> 0 | C25: =COUNTIF(G25:AC25,"HR") -> 0 | AE25: =COUNTA(G25:I25,K25:M25,O25:Q25,S25:U25,W25:Y25,AA25:AC25) -> 0 | AF25: =COUNTIF(G25:AC25,"R")+C25 -> 0 | AG25: =A25+B25 -> 0 | AH25: =COUNTIF(G25:AC25,"K") -> 0 | AL25: 鄭傳逸 | AM25: {=_xlfn.CHOOSECOLS(_xlfn._xlws.FILTER($F$23:$AH$40,$F$23:$F$40=AL25),26,27,28,29)} -> 4 | AN25: 1 | AO25: 0 | AP25: 2
A26: =COUNTIF($G$3:$AC$20,E26) -> 2 | C26: =COUNTIF(G26:AC26,"HR") -> 0 | D26: 2 | E26: 8 | F26: 陳璽帆 | G26: K | L26: K | S26: K | X26: R | AE26: =COUNTA(G26:I26,K26:M26,O26:Q26,S26:U26,W26:Y26,AA26:AC26) -> 4 | AF26: =COUNTIF(G26:AC26,"R")+C26 -> 1 | AG26: =A26+B26 -> 2 | AH26: =COUNTIF(G26:AC26,"K") -> 3 | AI26: 捕手 | AL26: 林健彰 | AM26: {=_xlfn.CHOOSECOLS(_xlfn._xlws.FILTER($F$23:$AH$40,$F$23:$F$40=AL26),26,27,28,29)} -> 4 | AN26: 3 | AO26: 0 | AP26: 1
A27: =COUNTIF($G$3:$AC$20,E27) -> 0 | C27: =COUNTIF(G27:AC27,"HR") -> 0 | AE27: =COUNTA(G27:I27,K27:M27,O27:Q27,S27:U27,W27:Y27,AA27:AC27) -> 0 | AF27: =COUNTIF(G27:AC27,"R")+C27 -> 0 | AG27: =A27+B27 -> 0 | AH27: =COUNTIF(G27:AC27,"K") -> 0 | AL27: 黃柏欽 | AM27: {=_xlfn.CHOOSECOLS(_xlfn._xlws.FILTER($F$23:$AH$40,$F$23:$F$40=AL27),26,27,28,29)} -> 3 | AN27: 1 | AO27: 0 | AP27: 2
A28: =COUNTIF($G$3:$AC$20,E28) -> 0 | C28: =COUNTIF(G28:AC28,"HR") -> 0 | AE28: =COUNTA(G28:I28,K28:M28,O28:Q28,S28:U28,W28:Y28,AA28:AC28) -> 0 | AF28: =COUNTIF(G28:AC28,"R")+C28 -> 0 | AG28: =A28+B28 -> 0 | AH28: =COUNTIF(G28:AC28,"K") -> 0 | AL28: 陳俊欽 | AM28: {=_xlfn.CHOOSECOLS(_xlfn._xlws.FILTER($F$23:$AH$40,$F$23:$F$40=AL28),26,27,28,29)} -> 3 | AN28: 0 | AO28: 1 | AP28: 3
A29: =COUNTIF($G$3:$AC$20,E29) -> 0 | C29: =COUNTIF(G29:AC29,"HR") -> 0 | D29: 3 | E29: 88 | F29: 鄭傳逸 | G29: K | O29: R | S29: 28 | X29: K | AE29: =COUNTA(G29:I29,K29:M29,O29:Q29,S29:U29,W29:Y29,AA29:AC29) -> 4 | AF29: =COUNTIF(G29:AC29,"R")+C29 -> 1 | AG29: =A29+B29 -> 0 | AH29: =COUNTIF(G29:AC29,"K") -> 2
A30: =COUNTIF($G$3:$AC$20,E30) -> 0 | C30: =COUNTIF(G30:AC30,"HR") -> 0 | AE30: =COUNTA(G30:I30,K30:M30,O30:Q30,S30:U30,W30:Y30,AA30:AC30) -> 0 | AF30: =COUNTIF(G30:AC30,"R")+C30 -> 0 | AG30: =A30+B30 -> 0 | AH30: =COUNTIF(G30:AC30,"K") -> 0 | AI30: 觀測員
A31: =COUNTIF($G$3:$AC$20,E31) -> 0 | C31: =COUNTIF(G31:AC31,"HR") -> 0 | AE31: =COUNTA(G31:I31,K31:M31,O31:Q31,S31:U31,W31:Y31,AA31:AC31) -> 0 | AF31: =COUNTIF(G31:AC31,"R")+C31 -> 0 | AG31: =A31+B31 -> 0 | AH31: =COUNTIF(G31:AC31,"K") -> 0
A32: =COUNTIF($G$3:$AC$20,E32) -> 0 | C32: =COUNTIF(G32:AC32,"HR") -> 0 | D32: 4 | E32: 111 | F32: 林健彰 | K32: K | O32: R | S32: R | AA32: R | AE32: =COUNTA(G32:I32,K32:M32,O32:Q32,S32:U32,W32:Y32,AA32:AC32) -> 4 | AF32: =COUNTIF(G32:AC32,"R")+C32 -> 3 | AG32: =A32+B32 -> 0 | AH32: =COUNTIF(G32:AC32,"K") -> 1
A33: =COUNTIF($G$3:$AC$20,E33) -> 0 | C33: =COUNTIF(G33:AC33,"HR") -> 0 | AE33: =COUNTA(G33:I33,K33:M33,O33:Q33,S33:U33,W33:Y33,AA33:AC33) -> 0 | AF33: =COUNTIF(G33:AC33,"R")+C33 -> 0 | AG33: =A33+B33 -> 0 | AH33: =COUNTIF(G33:AC33,"K") -> 0
A34: =COUNTIF($G$3:$AC$20,E34) -> 0 | C34: =COUNTIF(G34:AC34,"HR") -> 0 | AE34: =COUNTA(G34:I34,K34:M34,O34:Q34,S34:U34,W34:Y34,AA34:AC34) -> 0 | AF34: =COUNTIF(G34:AC34,"R")+C34 -> 0 | AG34: =A34+B34 -> 0 | AH34: =COUNTIF(G34:AC34,"K") -> 0 | AI34: 候補球員
A35: =COUNTIF($G$3:$AC$20,E35) -> 0 | C35: =COUNTIF(G35:AC35,"HR") -> 0 | D35: 5 | E35: 4 | F35: 黃柏欽 | K35: R | O35: K | S35: K | AE35: =COUNTA(G35:I35,K35:M35,O35:Q35,S35:U35,W35:Y35,AA35:AC35) -> 3 | AF35: =COUNTIF(G35:AC35,"R")+C35 -> 1 | AG35: =A35+B35 -> 0 | AH35: =COUNTIF(G35:AC35,"K") -> 2 | AM35: =SUM(AM23:AM34) -> 22 | AN35: =SUM(AN23:AN32) -> 7 | AO35: =SUM(AO23:AO32) -> 3 | AP35: =SUM(AP23:AP32) -> 14
A36: =COUNTIF($G$3:$AC$20,E36) -> 0 | C36: =COUNTIF(G36:AC36,"HR") -> 0 | AE36: =COUNTA(G36:I36,K36:M36,O36:Q36,S36:U36,W36:Y36,AA36:AC36) -> 0 | AF36: =COUNTIF(G36:AC36,"R")+C36 -> 0 | AG36: =A36+B36 -> 0 | AH36: =COUNTIF(G36:AC36,"K") -> 0
A37: =COUNTIF($G$3:$AC$20,E37) -> 0 | C37: =COUNTIF(G37:AC37,"HR") -> 0 | AE37: =COUNTA(G37:I37,K37:M37,O37:Q37,S37:U37,W37:Y37,AA37:AC37) -> 0 | AF37: =COUNTIF(G37:AC37,"R")+C37 -> 0 | AG37: =A37+B37 -> 0 | AH37: =COUNTIF(G37:AC37,"K") -> 0
A38: =COUNTIF($G$3:$AC$20,E38) -> 1 | C38: =COUNTIF(G38:AC38,"HR") -> 0 | D38: 6 | E38: 35 | F38: 陳俊欽 | K38: K | O38: K | W38: K | AE38: =COUNTA(G38:I38,K38:M38,O38:Q38,S38:U38,W38:Y38,AA38:AC38) -> 3 | AF38: =COUNTIF(G38:AC38,"R")+C38 -> 0 | AG38: =A38+B38 -> 1 | AH38: =COUNTIF(G38:AC38,"K") -> 3
A39: =COUNTIF($G$3:$AC$20,E39) -> 0 | C39: =COUNTIF(G39:AC39,"HR") -> 0 | AE39: =COUNTA(G39:I39,K39:M39,O39:Q39,S39:U39,W39:Y39,AA39:AC39) -> 0 | AF39: =COUNTIF(G39:AC39,"R")+C39 -> 0 | AG39: =A39+B39 -> 0 | AH39: =COUNTIF(G39:AC39,"K") -> 0
A40: =COUNTIF($G$3:$AC$20,E40) -> 0 | C40: =COUNTIF(G40:AC40,"HR") -> 0 | AE40: =COUNTA(G40:I40,K40:M40,O40:Q40,S40:U40,W40:Y40,AA40:AC40) -> 0 | AF40: =COUNTIF(G40:AC40,"R")+C40 -> 0 | AG40: =A40+B40 -> 0 | AH40: =COUNTIF(G40:AC40,"K") -> 0
A41: =SUM(A23:A40) -> 3 | B41: =SUM(B23:B40) -> 0 | C41: =SUM(C23:C40) -> 0 | D41: 得分加總 | G41: =COUNTIF(G23:I40,"R")+(COUNTIF(G23:I40,"HR")*2) -> 0 | K41: =COUNTIF(K23:M40,"R")+(COUNTIF(K23:M40,"HR")*2)+G41 -> 2 | O41: =COUNTIF(O23:Q40,"R")+(COUNTIF(O23:Q40,"HR")*2)+K41 -> 4 | S41: =COUNTIF(S23:U40,"R")+(COUNTIF(S23:U40,"HR")*2)+O41 -> 5 | W41: =COUNTIF(W23:Y40,"R")+(COUNTIF(W23:Y40,"HR")*2)+S41 -> 6 | AA41: =COUNTIF(AA23:AC40,"R")+(COUNTIF(AA23:AC40,"HR")*2)+W41 -> 7 | AE41: =SUM(AE23:AE40) -> 22 | AF41: =SUM(AF23:AF40) -> 7 | AG41: =SUM(AG23:AG40) -> 3 | AH41: =SUM(AH23:AH40) -> 14

Sheet G2
B1: 加計分數 | D1: 場次 | H1: G2 | J1: 日期 | L1: 114.12.13 | Q1: =AA21 -> 21 | T1: 夜魔俠 | V1: VS | X1: 游擊 | AB1: =AA41 -> 15 | AE1: 數據
A2: 撿球 | B2: 接殺 | C2: HR | D2: 先 | E2: 背號 | F2: 球員 | G2: 1 | J2: 投 | K2: 2 | N2: 投 | O2: 3 | R2: 投 | S2: 4 | V2: 投 | W2: 5 | Z2: 投 | AA2: 6 | AD2: 投 | AE2: AB | AF2: R | AG2: Po | AH2: K | AI2: 投/捕/觀 | AK2: 背號 | AL2: 球員 | AM2: AB | AN2: R | AO2: Po | AP2: K
A3: =COUNTIF($G$23:$AC$40,E3) -> 0 | C3: =COUNTIF(G3:AC3,"HR") -> 0 | D3: 1 | E3: 18 | F3: 梁耿縉 | G3: R | H3: R | O3: K | T3: R | U3: R | X3: R | AB3: R | AE3: =COUNTA(G3:I3,K3:M3,O3:Q3,S3:U3,W3:Y3,AA3:AC3) -> 7 | AF3: =COUNTIF(G3:AC3,"R")+(COUNTIF(G3:AC3,"HR")*2) -> 6 | AG3: =A3+B3 -> 0 | AH3: =COUNTIF(G3:AC3,"K") -> 1 | AI3: 投手 | AK3: 18 | AL3: 梁耿縉 | AM3: {=_xlfn.CHOOSECOLS(_xlfn._xlws.FILTER($F$3:$AH$20,$F$3:$F$20=AL3),26,27,28,29)} -> 7 | AN3: 6 | AO3: 0 | AP3: 1
A4: =COUNTIF($G$23:$AC$40,E4) -> 0 | C4: =COUNTIF(G4:AC4,"HR") -> 0 | AE4: =COUNTA(G4:I4,K4:M4,O4:Q4,S4:U4,W4:Y4,AA4:AC4) -> 0 | AF4: =COUNTIF(G4:AC4,"R")+(COUNTIF(G4:AC4,"HR")*2) -> 0 | AG4: =A4+B4 -> 0 | AH4: =COUNTIF(G4:AC4,"K") -> 0 | AK4: 22 | AL4: 蔡存宥 | AM4: {=_xlfn.CHOOSECOLS(_xlfn._xlws.FILTER($F$3:$AH$20,$F$3:$F$20=AL4),26,27,28,29)} -> 7 | AN4: 2 | AO4: 3 | AP4: 4
A5: =COUNTIF($G$23:$AC$40,E5) -> 0 | C5: =COUNTIF(G5:AC5,"HR") -> 0 | AE5: =COUNTA(G5:I5,K5:M5,O5:Q5,S5:U5,W5:Y5,AA5:AC5) -> 0 | AF5: =COUNTIF(G5:AC5,"R")+(COUNTIF(G5:AC5,"HR")*2) -> 0 | AG5: =A5+B5 -> 0 | AH5: =COUNTIF(G5:AC5,"K") -> 0 | AK5: 11 | AL5: 勞恩以達西拔 | AM5: {=_xlfn.CHOOSECOLS(_xlfn._xlws.FILTER($F$3:$AH$20,$F$3:$F$20=AL5),26,27,28,29)} -> 7 | AN5: 5 | AO5: 3 | AP5: 0
A6: =COUNTIF($G$23:$AC$40,E6) -> 3 | C6: =COUNTIF(G6:AC6,"HR") -> 0 | D6: 2 | E6: 22 | F6: 蔡存宥 | G6: R | H6: 26 | O6: K | T6: K | U6: R | X6: K | AB6: K | AE6: =COUNTA(G6:I6,K6:M6,O6:Q6,S6:U6,W6:Y6,AA6:AC6) -> 7 | AF6: =COUNTIF(G6:AC6,"R")+(COUNTIF(G6:AC6,"HR")*2) -> 2 | AG6: =A6+B6 -> 3 | AH6: =COUNTIF(G6:AC6,"K") -> 4 | AI6: 捕手 | AK6: 37 | AL6: 古國偉 | AM6: {=_xlfn.CHOOSECOLS(_xlfn._xlws.FILTER($F$3:$AH$20,$F$3:$F$20=AL6),26,27,28,29)} -> 6 | AN6: 2 | AO6: 5 | AP6: 3
A7: =COUNTIF($G$23:$AC$40,E7) -> 0 | C7: =COUNTIF(G7:AC7,"HR") -> 0 | AE7: =COUNTA(G7:I7,K7:M7,O7:Q7,S7:U7,W7:Y7,AA7:AC7) -> 0 | AF7: =COUNTIF(G7:AC7,"R")+(COUNTIF(G7:AC7,"HR")*2) -> 0 | AG7: =A7+B7 -> 0 | AH7: =COUNTIF(G7:AC7,"K") -> 0 | AK7: 81 | AL7: 余自成 | AM7: {=_xlfn.CHOOSECOLS(_xlfn._xlws.FILTER($F$3:$AH$20,$F$3:$F$20=AL7),26,27,28,29)} -> 6 | AN7: 2 | AO7: 1 | AP7: 1
A8: =COUNTIF($G$23:$AC$40,E8) -> 0 | C8: =COUNTIF(G8:AC8,"HR") -> 0 | AE8: =COUNTA(G8:I8,K8:M8,O8:Q8,S8:U8,W8:Y8,AA8:AC8) -> 0 | AF8: =COUNTIF(G8:AC8,"R")+(COUNTIF(G8:AC8,"HR")*2) -> 0 | AG8: =A8+B8 -> 0 | AH8: =COUNTIF(G8:AC8,"K") -> 0 | AK8: 39 | AL8: 郭亦倫 | AM8: {=_xlfn.CHOOSECOLS(_xlfn._xlws.FILTER($F$3:$AH$20,$F$3:$F$20=AL8),26,27,28,29)} -> 6 | AN8: 4 | AO8: 2 | AP8: 2
A9: =COUNTIF($G$23:$AC$40,E9) -> 2 | B9: 1 | C9: =COUNTIF(G9:AC9,"HR") -> 0 | D9: 3 | E9: 11 | F9: 勞恩以達西拔 | G9: R | K9: R | O9: 23 | T9: R | U9: R | X9: R | AB9: 23 | AE9: =COUNTA(G9:I9,K9:M9,O9:Q9,S9:U9,W9:Y9,AA9:AC9) -> 7 | AF9: =COUNTIF(G9:AC9,"R")+(COUNTIF(G9:AC9,"HR")*2) -> 5 | AG9: =A9+B9 -> 3 | AH9: =COUNTIF(G9:AC9,"K") -> 0
A10: =COUNTIF($G$23:$AC$40,E10) -> 0 | C10: =COUNTIF(G10:AC10,"HR") -> 0 | AE10: =COUNTA(G10:I10,K10:M10,O10:Q10,S10:U10,W10:Y10,AA10:AC10) -> 0 | AF10: =COUNTIF(G10:AC10,"R")+(COUNTIF(G10:AC10,"HR")*2) -> 0 | AG10: =A10+B10 -> 0 | AH10: =COUNTIF(G10:AC10,"K") -> 0 | AI10: 觀測員
A11: =COUNTIF($G$23:$AC$40,E11) -> 0 | C11: =COUNTIF(G11:AC11,"HR") -> 0 | AE11: =COUNTA(G11:I11,K11:M11,O11:Q11,S11:U11,W11:Y11,AA11:AC11) -> 0 | AF11: =COUNTIF(G11:AC11,"R")+(COUNTIF(G11:AC11,"HR")*2) -> 0 | AG11: =A11+B11 -> 0 | AH11: =COUNTIF(G11:AC11,"K") -> 0
A12: =COUNTIF($G$23:$AC$40,E12) -> 5 | C12: =COUNTIF(G12:AC12,"HR") -> 0 | D12: 4 | E12: 37 | F12: 古國偉 | G12: K | K12: K | S12: R | T12: 55 | U12: R | X12: K | AE12: =COUNTA(G12:I12,K12:M12,O12:Q12,S12:U12,W12:Y12,AA12:AC12) -> 6 | AF12: =COUNTIF(G12:AC12,"R")+(COUNTIF(G12:AC12,"HR")*2) -> 2 | AG12: =A12+B12 -> 5 | AH12: =COUNTIF(G12:AC12,"K") -> 3
A13: =COUNTIF($G$23:$AC$40,E13) -> 0 | C13: =COUNTIF(G13:AC13,"HR") -> 0 | AE13: =COUNTA(G13:I13,K13:M13,O13:Q13,S13:U13,W13:Y13,AA13:AC13) -> 0 | AF13: =COUNTIF(G13:AC13,"R")+(COUNTIF(G13:AC13,"HR")*2) -> 0 | AG13: =A13+B13 -> 0 | AH13: =COUNTIF(G13:AC13,"K") -> 0
A14: =COUNTIF($G$23:$AC$40,E14) -> 0 | C14: =COUNTIF(G14:AC14,"HR") -> 0 | AE14: =COUNTA(G14:I14,K14:M14,O14:Q14,S14:U14,W14:Y14,AA14:AC14) -> 0 | AF14: =COUNTIF(G14:AC14,"R")+(COUNTIF(G14:AC14,"HR")*2) -> 0 | AG14: =A14+B14 -> 0 | AH14: =COUNTIF(G14:AC14,"K") -> 0 | AI14: 候補球員
A15: =COUNTIF($G$23:$AC$40,E15) -> 1 | C15: =COUNTIF(G15:AC15,"HR") -> 0 | D15: 5 | E15: 81 | F15: 余自成 | G15: 56 | K15: 55 | S15: R | T15: R | U15: K | AA15: 56 | AE15: =COUNTA(G15:I15,K15:M15,O15:Q15,S15:U15,W15:Y15,AA15:AC15) -> 6 | AF15: =COUNTIF(G15:AC15,"R")+(COUNTIF(G15:AC15,"HR")*2) -> 2 | AG15: =A15+B15 -> 1 | AH15: =COUNTIF(G15:AC15,"K") -> 1
A16: =COUNTIF($G$23:$AC$40,E16) -> 0 | C16: =COUNTIF(G16:AC16,"HR") -> 0 | AE16: =COUNTA(G16:I16,K16:M16,O16:Q16,S16:U16,W16:Y16,AA16:AC16) -> 0 | AF16: =COUNTIF(G16:AC16,"R")+(COUNTIF(G16:AC16,"HR")*2) -> 0 | AG16: =A16+B16 -> 0 | AH16: =COUNTIF(G16:AC16,"K") -> 0 | AM16: =SUM(AM3:AM15) -> 39 | AN16: =SUM(AN3:AN15) -> 21 | AO16: =SUM(AO3:AO15) -> 14 | AP16: =SUM(AP3:AP15) -> 11
A17: =COUNTIF($G$23:$AC$40,E17) -> 0 | C17: =COUNTIF(G17:AC17,"HR") -> 0 | AE17: =COUNTA(G17:I17,K17:M17,O17:Q17,S17:U17,W17:Y17,AA17:AC17) -> 0 | AF17: =COUNTIF(G17:AC17,"R")+(COUNTIF(G17:AC17,"HR")*2) -> 0 | AG17: =A17+B17 -> 0 | AH17: =COUNTIF(G17:AC17,"K") -> 0
A18: =COUNTIF($G$23:$AC$40,E18) -> 2 | C18: =COUNTIF(G18:AC18,"HR") -> 0 | D18: 6 | E18: 39 | F18: 郭亦倫 | G18: R | K18: K | S18: R | T18: R | W18: K | AA18: R | AE18: =COUNTA(G18:I18,K18:M18,O18:Q18,S18:U18,W18:Y18,AA18:AC18) -> 6 | AF18: =COUNTIF(G18:AC18,"R")+(COUNTIF(G18:AC18,"HR")*2) -> 4 | AG18: =A18+B18 -> 2 | AH18: =COUNTIF(G18:AC18,"K") -> 2
A19: =COUNTIF($G$23:$AC$40,E19) -> 0 | C19: =COUNTIF(G19:AC19,"HR") -> 0 | AE19: =COUNTA(G19:I19,K19:M19,O19:Q19,S19:U19,W19:Y19,AA19:AC19) -> 0 | AF19: =COUNTIF(G19:AC19,"R")+(COUNTIF(G19:AC19,"HR")*2) -> 0 | AG19: =A19+B19 -> 0 | AH19: =COUNTIF(G19:AC19,"K") -> 0
A20: =COUNTIF($G$23:$AC$40,E20) -> 0 | C20: =COUNTIF(G20:AC20,"HR") -> 0 | AE20: =COUNTA(G20:I20,K20:M20,O20:Q20,S20:U20,W20:Y20,AA20:AC20) -> 0 | AF20: =COUNTIF(G20:AC20,"R")+(COUNTIF(G20:AC20,"HR")*2) -> 0 | AG20: =A20+B20 -> 0 | AH20: =COUNTIF(G20:AC20,"K") -> 0
A21: =SUM(A3:A20) -> 13 | B21: =SUM(B3:B20) -> 1 | C21: =SUM(C3:C20) -> 0 | D21: 得分加總 | G21: =COUNTIF(G3:I20,"R")+(COUNTIF(G3:I20,"HR")*2) -> 5 | K21: =COUNTIF(K3:M20,"R")+(COUNTIF(K3:M20,"HR")*2)+G21 -> 6 | O21: =COUNTIF(O3:Q20,"R")+(COUNTIF(O3:Q20,"HR")*2)+K21 -> 6 | S21: =COUNTIF(S3:U20,"R")+(COUNTIF(S3:U20,"HR")*2)+O21 -> 17 | W21: =COUNTIF(W3:Y20,"R")+(COUNTIF(W3:Y20,"HR")*2)+S21 -> 19 | AA21: =COUNTIF(AA3:AC20,"R")+(COUNTIF(AA3:AC20,"HR")*2)+W21 -> 21 | AE21: =SUM(AE3:AE20) -> 39 | AF21: =SUM(AF3:AF20) -> 21 | AG21: =SUM(AG3:AG20) -> 14 | AH21: =SUM(AH3:AH20) -> 11
A22: 撿球 | B22: 接殺 | C22: HR | D22: 後 | E22: 背號 | F22: 球員 | G22: 1 | J22: 投 | K22: 2 | N22: 投 | O22: 3 | R22: 投 | S22: 4 | V22: 投 | W22: 5 | Z22: 投 | AA22: 6 | AD22: 投 | AE22: AB | AF22: R | AG22: Po | AH22: K | AI22: 投/捕/觀
A23: =COUNTIF($G$3:$AC$20,E23) -> 2 | C23: =COUNTIF(G23:AC23,"HR") -> 0 | D23: 1 | E23: 55 | F23: 邱文昇 | G23: R | L23: R | P23: R | T23: R | X23: R | AB23: R | AE23: =COUNTA(G23:I23,K23:M23,O23:Q23,S23:U23,W23:Y23,AA23:AC23) -> 6 | AF23: =COUNTIF(G23:AC23,"R")+C23 -> 6 | AG23: =A23+B23 -> 2 | AH23: =COUNTIF(G23:AC23,"K") -> 0 | AI23: 投手 | AK23: 55 | AL23: 邱文昇 | AM23: {=_xlfn.CHOOSECOLS(_xlfn._xlws.FILTER($F$23:$AH$40,$F$23:$F$40=AL23),26,27,28,29)} -> 6 | AN23: 6 | AO23: 2 | AP23: 0
A24: =COUNTIF($G$3:$AC$20,E24) -> 0 | C24: =COUNTIF(G24:AC24,"HR") -> 0 | AE24: =COUNTA(G24:I24,K24:M24,O24:Q24,S24:U24,W24:Y24,AA24:AC24) -> 0 | AF24: =COUNTIF(G24:AC24,"R")+C24 -> 0 | AG24: =A24+B24 -> 0 | AH24: =COUNTIF(G24:AC24,"K") -> 0 | AK24: 26 | AL24: 賴智傑 | AM24: {=_xlfn.CHOOSECOLS(_xlfn._xlws.FILTER($F$23:$AH$40,$F$23:$F$40=AL24),26,27,28,29)} -> 6 | AN24: 5 | AO24: 1 | AP24: 0
A25: =COUNTIF($G$3:$AC$20,E25) -> 0 | C25: =COUNTIF(G25:AC25,"HR") -> 0 | AE25: =COUNTA(G25:I25,K25:M25,O25:Q25,S25:U25,W25:Y25,AA25:AC25) -> 0 | AF25: =COUNTIF(G25:AC25,"R")+C25 -> 0 | AG25: =A25+B25 -> 0 | AH25: =COUNTIF(G25:AC25,"K") -> 0 | AK25: 23 | AL25: 王兆熙 | AM25: {=_xlfn.CHOOSECOLS(_xlfn._xlws.FILTER($F$23:$AH$40,$F$23:$F$40=AL25),26,27,28,29)} -> 6 | AN25: 0 | AO25: 2 | AP25: 3
A26: =COUNTIF($G$3:$AC$20,E26) -> 1 | C26: =COUNTIF(G26:AC26,"HR") -> 0 | D26: 2 | E26: 26 | F26: 賴智傑 | G26: R | L26: R | P26: R | T26: 37 | X26: R | AB26: R | AE26: =COUNTA(G26:I26,K26:M26,O26:Q26,S26:U26,W26:Y26,AA26:AC26) -> 6 | AF26: =COUNTIF(G26:AC26,"R")+C26 -> 5 | AG26: =A26+B26 -> 1 | AH26: =COUNTIF(G26:AC26,"K") -> 0 | AI26: 捕手 | AK26: 56 | AL26: 黃志遠 | AM26: {=_xlfn.CHOOSECOLS(_xlfn._xlws.FILTER($F$23:$AH$40,$F$23:$F$40=AL26),26,27,28,29)} -> 5 | AN26: 0 | AO26: 2 | AP26: 1
A27: =COUNTIF($G$3:$AC$20,E27) -> 0 | C27: =COUNTIF(G27:AC27,"HR") -> 0 | AE27: =COUNTA(G27:I27,K27:M27,O27:Q27,S27:U27,W27:Y27,AA27:AC27) -> 0 | AF27: =COUNTIF(G27:AC27,"R")+C27 -> 0 | AG27: =A27+B27 -> 0 | AH27: =COUNTIF(G27:AC27,"K") -> 0 | AK27: O | AL27: 吳品逸* | AM27: {=_xlfn.CHOOSECOLS(_xlfn._xlws.FILTER($F$23:$AH$40,$F$23:$F$40=AL27),26,27,28,29)} -> 5 | AN27: 3 | AO27: 0 | AP27: 0
A28: =COUNTIF($G$3:$AC$20,E28) -> 0 | C28: =COUNTIF(G28:AC28,"HR") -> 0 | AE28: =COUNTA(G28:I28,K28:M28,O28:Q28,S28:U28,W28:Y28,AA28:AC28) -> 0 | AF28: =COUNTIF(G28:AC28,"R")+C28 -> 0 | AG28: =A28+B28 -> 0 | AH28: =COUNTIF(G28:AC28,"K") -> 0 | AK28: 58 | AL28: 蔡孟洵* | AM28: {=_xlfn.CHOOSECOLS(_xlfn._xlws.FILTER($F$23:$AH$40,$F$23:$F$40=AL28),26,27,28,29)} -> 5 | AN28: 1 | AO28: 0 | AP28: 1
A29: =COUNTIF($G$3:$AC$20,E29) -> 2 | C29: =COUNTIF(G29:AC29,"HR") -> 0 | D29: 3 | E29: 23 | F29: 王兆熙 | G29: 22 | L29: 37 | P29: K | T29: K | X29: K | AB29: 81 | AE29: =COUNTA(G29:I29,K29:M29,O29:Q29,S29:U29,W29:Y29,AA29:AC29) -> 6 | AF29: =COUNTIF(G29:AC29,"R")+C29 -> 0 | AG29: =A29+B29 -> 2 | AH29: =COUNTIF(G29:AC29,"K") -> 3
A30: =COUNTIF($G$3:$AC$20,E30) -> 0 | C30: =COUNTIF(G30:AC30,"HR") -> 0 | AE30: =COUNTA(G30:I30,K30:M30,O30:Q30,S30:U30,W30:Y30,AA30:AC30) -> 0 | AF30: =COUNTIF(G30:AC30,"R")+C30 -> 0 | AG30: =A30+B30 -> 0 | AH30: =COUNTIF(G30:AC30,"K") -> 0 | AI30: 觀測員
A31: =COUNTIF($G$3:$AC$20,E31) -> 0 | C31: =COUNTIF(G31:AC31,"HR") -> 0 | AE31: =COUNTA(G31:I31,K31:M31,O31:Q31,S31:U31,W31:Y31,AA31:AC31) -> 0 | AF31: =COUNTIF(G31:AC31,"R")+C31 -> 0 | AG31: =A31+B31 -> 0 | AH31: =COUNTIF(G31:AC31,"K") -> 0
A32: =COUNTIF($G$3:$AC$20,E32) -> 2 | C32: =COUNTIF(G32:AC32,"HR") -> 0 | D32: 4 | E32: 56 | F32: 黃志遠 | G32: 22 | L32: K | P32: 22 | T32: 37 | X32: 11 | Z32: DP | AE32: =COUNTA(G32:I32,K32:M32,O32:Q32,S32:U32,W32:Y32,AA32:AC32) -> 5 | AF32: =COUNTIF(G32:AC32,"R")+C32 -> 0 | AG32: =A32+B32 -> 2 | AH32: =COUNTIF(G32:AC32,"K") -> 1
A33: =COUNTIF($G$3:$AC$20,E33) -> 0 | C33: =COUNTIF(G33:AC33,"HR") -> 0 | AE33: =COUNTA(G33:I33,K33:M33,O33:Q33,S33:U33,W33:Y33,AA33:AC33) -> 0 | AF33: =COUNTIF(G33:AC33,"R")+C33 -> 0 | AG33: =A33+B33 -> 0 | AH33: =COUNTIF(G33:AC33,"K") -> 0
A34: =COUNTIF($G$3:$AC$20,E34) -> 0 | C34: =COUNTIF(G34:AC34,"HR") -> 0 | AE34: =COUNTA(G34:I34,K34:M34,O34:Q34,S34:U34,W34:Y34,AA34:AC34) -> 0 | AF34: =COUNTIF(G34:AC34,"R")+C34 -> 0 | AG34: =A34+B34 -> 0 | AH34: =COUNTIF(G34:AC34,"K") -> 0 | AI34: 候補球員
A35: =COUNTIF($G$3:$AC$20,E35) -> 0 | C35: =COUNTIF(G35:AC35,"HR") -> 0 | D35: 5 | E35: O | F35: 吳品逸* | G35: 37 | O35: R | S35: R | W35: R | AA35: 39 | AE35: =COUNTA(G35:I35,K35:M35,O35:Q35,S35:U35,W35:Y35,AA35:AC35) -> 5 | AF35: =COUNTIF(G35:AC35,"R")+C35 -> 3 | AG35: =A35+B35 -> 0 | AH35: =COUNTIF(G35:AC35,"K") -> 0 | AM35: =SUM(AM23:AM34) -> 33 | AN35: =SUM(AN23:AN32) -> 15 | AO35: =SUM(AO23:AO32) -> 7 | AP35: =SUM(AP23:AP32) -> 5
A36: =COUNTIF($G$3:$AC$20,E36) -> 0 | C36: =COUNTIF(G36:AC36,"HR") -> 0 | AE36: =COUNTA(G36:I36,K36:M36,O36:Q36,S36:U36,W36:Y36,AA36:AC36) -> 0 | AF36: =COUNTIF(G36:AC36,"R")+C36 -> 0 | AG36: =A36+B36 -> 0 | AH36: =COUNTIF(G36:AC36,"K") -> 0
A37: =COUNTIF($G$3:$AC$20,E37) -> 0 | C37: =COUNTIF(G37:AC37,"HR") -> 0 | AE37: =COUNTA(G37:I37,K37:M37,O37:Q37,S37:U37,W37:Y37,AA37:AC37) -> 0 | AF37: =COUNTIF(G37:AC37,"R")+C37 -> 0 | AG37: =A37+B37 -> 0 | AH37: =COUNTIF(G37:AC37,"K") -> 0
A38: =COUNTIF($G$3:$AC$20,E38) -> 0 | C38: =COUNTIF(G38:AC38,"HR") -> 0 | D38: 6 | E38: 58 | F38: 蔡孟洵* | K38: 37 | O38: K | S38: R | W38: 11 | AA38: 39 | AE38: =COUNTA(G38:I38,K38:M38,O38:Q38,S38:U38,W38:Y38,AA38:AC38) -> 5 | AF38: =COUNTIF(G38:AC38,"R")+C38 -> 1 | AG38: =A38+B38 -> 0 | AH38: =COUNTIF(G38:AC38,"K") -> 1
A39: =COUNTIF($G$3:$AC$20,E39) -> 0 | C39: =COUNTIF(G39:AC39,"HR") -> 0 | AE39: =COUNTA(G39:I39,K39:M39,O39:Q39,S39:U39,W39:Y39,AA39:AC39) -> 0 | AF39: =COUNTIF(G39:AC39,"R")+C39 -> 0 | AG39: =A39+B39 -> 0 | AH39: =COUNTIF(G39:AC39,"K") -> 0
A40: =COUNTIF($G$3:$AC$20,E40) -> 0 | C40: =COUNTIF(G40:AC40,"HR") -> 0 | AE40: =COUNTA(G40:I40,K40:M40,O40:Q40,S40:U40,W40:Y40,AA40:AC40) -> 0 | AF40: =COUNTIF(G40:AC40,"R")+C40 -> 0 | AG40: =A40+B40 -> 0 | AH40: =COUNTIF(G40:AC40,"K") -> 0
A41: =SUM(A23:A40) -> 7 | B41: =SUM(B23:B40) -> 0 | C41: =SUM(C23:C40) -> 0 | D41: 得分加總 | G41: =COUNTIF(G23:I40,"R")+(COUNTIF(G23:I40,"HR")*2) -> 2 | K41: =COUNTIF(K23:M40,"R")+(COUNTIF(K23:M40,"HR")*2)+G41 -> 4 | O41: =COUNTIF(O23:Q40,"R")+(COUNTIF(O23:Q40,"HR")*2)+K41 -> 7 | S41: =COUNTIF(S23:U40,"R")+(COUNTIF(S23:U40,"HR")*2)+O41 -> 10 | W41: =COUNTIF(W23:Y40,"R")+(COUNTIF(W23:Y40,"HR")*2)+S41 -> 13 | AA41: =COUNTIF(AA23:AC40,"R")+(COUNTIF(AA23:AC40,"HR")*2)+W41 -> 15 | AE41: =SUM(AE23:AE40) -> 33 | AF41: =SUM(AF23:AF40) -> 15 | AG41: =SUM(AG23:AG40) -> 7 | AH41: =SUM(AH23:AH40) -> 5

Sheet G3
B1: 加計分數 | D1: 場次 | H1: G3 | J1: 日期 | L1: 114.12.13 | Q1: =AA21 -> 8 | T1: 夜魔俠 | V1: VS | X1: 閃電 | AB1: =AA41 -> 9 | AE1: 數據
A2: 撿球 | B2: 接殺 | C2: HR | D2: 先 | E2: 背號 | F2: 球員 | G2: 1 | J2: 投 | K2: 2 | N2: 投 | O2: 3 | R2: 投 | S2: 4 | V2: 投 | W2: 5 | Z2: 投 | AA2: 6 | AD2: 投 | AE2: AB | AF2: R | AG2: Po | AH2: K | AI2: 投/捕/觀 | AK2: 背號 | AL2: 球員 | AM2: AB | AN2: R | AO2: Po | AP2: K
A3: =COUNTIF($G$23:$AC$40,E3) -> 0 | C3: =COUNTIF(G3:AC3,"HR") -> 0 | D3: 1 | E3: 18 | F3: 梁耿縉 | G3: R | L3: R | S3: R | T3: K | AB3: R | AE3: =COUNTA(G3:I3,K3:M3,O3:Q3,S3:U3,W3:Y3,AA3:AC3) -> 5 | AF3: =COUNTIF(G3:AC3,"R")+(COUNTIF(G3:AC3,"HR")*2) -> 4 | AG3: =A3+B3 -> 0 | AH3: =COUNTIF(G3:AC3,"K") -> 1 | AI3: 投手 | AK3: 18 | AL3: 梁耿縉 | AM3: {=_xlfn.CHOOSECOLS(_xlfn._xlws.FILTER($F$3:$AH$20,$F$3:$F$20=AL3),26,27,28,29)} -> 5 | AN3: 4 | AO3: 0 | AP3: 1
A4: =COUNTIF($G$23:$AC$40,E4) -> 0 | C4: =COUNTIF(G4:AC4,"HR") -> 0 | AE4: =COUNTA(G4:I4,K4:M4,O4:Q4,S4:U4,W4:Y4,AA4:AC4) -> 0 | AF4: =COUNTIF(G4:AC4,"R")+(COUNTIF(G4:AC4,"HR")*2) -> 0 | AG4: =A4+B4 -> 0 | AH4: =COUNTIF(G4:AC4,"K") -> 0 | AK4: 22 | AL4: 蔡存宥 | AM4: {=_xlfn.CHOOSECOLS(_xlfn._xlws.FILTER($F$3:$AH$20,$F$3:$F$20=AL4),26,27,28,29)} -> 5 | AN4: 1 | AO4: 1 | AP4: 1
A5: =COUNTIF($G$23:$AC$40,E5) -> 0 | C5: =COUNTIF(G5:AC5,"HR") -> 0 | AE5: =COUNTA(G5:I5,K5:M5,O5:Q5,S5:U5,W5:Y5,AA5:AC5) -> 0 | AF5: =COUNTIF(G5:AC5,"R")+(COUNTIF(G5:AC5,"HR")*2) -> 0 | AG5: =A5+B5 -> 0 | AH5: =COUNTIF(G5:AC5,"K") -> 0 | AK5: 81 | AL5: 余自成 | AM5: 3 | AN5: 1 | AO5: 1 | AP5: 0
A6: =COUNTIF($G$23:$AC$40,E6) -> 1 | C6: =COUNTIF(G6:AC6,"HR") -> 0 | D6: 2 | E6: 22 | F6: 蔡存宥 | G6: K | L6: 35 | S6: R | W6: 21 | AB6: 88 | AE6: =COUNTA(G6:I6,K6:M6,O6:Q6,S6:U6,W6:Y6,AA6:AC6) -> 5 | AF6: =COUNTIF(G6:AC6,"R")+(COUNTIF(G6:AC6,"HR")*2) -> 1 | AG6: =A6+B6 -> 1 | AH6: =COUNTIF(G6:AC6,"K") -> 1 | AI6: 捕手 | AK6: 39 | AL6: 郭亦倫 | AM6: {=_xlfn.CHOOSECOLS(_xlfn._xlws.FILTER($F$3:$AH$20,$F$3:$F$20=AL6),26,27,28,29)} -> 2 | AN6: 1 | AO6: 1 | AP6: 1
A7: =COUNTIF($G$23:$AC$40,E7) -> 0 | C7: =COUNTIF(G7:AC7,"HR") -> 0 | AE7: =COUNTA(G7:I7,K7:M7,O7:Q7,S7:U7,W7:Y7,AA7:AC7) -> 0 | AF7: =COUNTIF(G7:AC7,"R")+(COUNTIF(G7:AC7,"HR")*2) -> 0 | AG7: =A7+B7 -> 0 | AH7: =COUNTIF(G7:AC7,"K") -> 0 | AK7: 37 | AL7: 古國偉 | AM7: {=_xlfn.CHOOSECOLS(_xlfn._xlws.FILTER($F$3:$AH$20,$F$3:$F$20=AL7),26,27,28,29)} -> 3 | AN7: 0 | AO7: 0 | AP7: 2
A8: =COUNTIF($G$23:$AC$40,E8) -> 0 | C8: =COUNTIF(G8:AC8,"HR") -> 0 | AE8: =COUNTA(G8:I8,K8:M8,O8:Q8,S8:U8,W8:Y8,AA8:AC8) -> 0 | AF8: =COUNTIF(G8:AC8,"R")+(COUNTIF(G8:AC8,"HR")*2) -> 0 | AG8: =A8+B8 -> 0 | AH8: =COUNTIF(G8:AC8,"K") -> 0 | AK8: O | AL8: 吳品逸 | AM8: {=_xlfn.CHOOSECOLS(_xlfn._xlws.FILTER($F$3:$AH$20,$F$3:$F$20=AL8),26,27,28,29)} -> 4 | AN8: 1 | AO8: 0 | AP8: 3
C9: =COUNTIF(G9:AC9,"HR") -> 0 | D9: 3 | E9: 81 | F9: 余自成 | G9: R | L9: 21 | AE9: =COUNTA(G9:I9,K9:M9,O9:Q9,S9:U9,W9:Y9,AA9:AC9) -> 2 | AF9: =COUNTIF(G9:AC9,"R")+(COUNTIF(G9:AC9,"HR")*2) -> 1 | AG9: =A9+B9 -> 0 | AH9: =COUNTIF(G9:AC9,"K") -> 0 | AK9: 58 | AL9: 蔡孟洵 | AM9: {=_xlfn.CHOOSECOLS(_xlfn._xlws.FILTER($F$3:$AH$20,$F$3:$F$20=AL9),26,27,28,29)} -> 4 | AN9: 0 | AO9: 0 | AP9: 1
A10: =COUNTIF($G$23:$AC$40,E10) -> 1 | C10: =COUNTIF(G10:AC10,"HR") -> 0 | E10: 39 | F10: 郭亦倫 | S10: R | W10: K | AE10: =COUNTA(G10:I10,K10:M10,O10:Q10,S10:U10,W10:Y10,AA10:AC10) -> 2 | AF10: =COUNTIF(G10:AC10,"R")+(COUNTIF(G10:AC10,"HR")*2) -> 1 | AG10: =A10+B10 -> 1 | AH10: =COUNTIF(G10:AC10,"K") -> 1 | AI10: 觀測員 | AK10: 11 (DF) | AL10: 勞恩以達西拔
A11: =COUNTIF($G$23:$AC$40,E11) -> 0 | C11: =COUNTIF(G11:AC11,"HR") -> 0 | AE11: =COUNTA(G11:I11,K11:M11,O11:Q11,S11:U11,W11:Y11,AA11:AC11) -> 0 | AF11: =COUNTIF(G11:AC11,"R")+(COUNTIF(G11:AC11,"HR")*2) -> 0 | AG11: =A11+B11 -> 0 | AH11: =COUNTIF(G11:AC11,"K") -> 0
A12: =COUNTIF($G$23:$AC$40,E12) -> 0 | C12: =COUNTIF(G12:AC12,"HR") -> 0 | D12: 4 | E12: 37 | F12: 古國偉 | G12: K | O12: K | S12: 8 | AE12: =COUNTA(G12:I12,K12:M12,O12:Q12,S12:U12,W12:Y12,AA12:AC12) -> 3 | AF12: =COUNTIF(G12:AC12,"R")+(COUNTIF(G12:AC12,"HR")*2) -> 0 | AG12: =A12+B12 -> 0 | AH12: =COUNTIF(G12:AC12,"K") -> 2
A13: =COUNTIF($G$23:$AC$40,E13) -> 1 | C13: =COUNTIF(G13:AC13,"HR") -> 0 | E13: 81 | F13: 余自成 | W13: 21 | AE13: =COUNTA(G13:I13,K13:M13,O13:Q13,S13:U13,W13:Y13,AA13:AC13) -> 1 | AF13: =COUNTIF(G13:AC13,"R")+(COUNTIF(G13:AC13,"HR")*2) -> 0 | AG13: =A13+B13 -> 1 | AH13: =COUNTIF(G13:AC13,"K") -> 0
A14: =COUNTIF($G$23:$AC$40,E14) -> 0 | C14: =COUNTIF(G14:AC14,"HR") -> 0 | AE14: =COUNTA(G14:I14,K14:M14,O14:Q14,S14:U14,W14:Y14,AA14:AC14) -> 0 | AF14: =COUNTIF(G14:AC14,"R")+(COUNTIF(G14:AC14,"HR")*2) -> 0 | AG14: =A14+B14 -> 0 | AH14: =COUNTIF(G14:AC14,"K") -> 0 | AI14: 候補球員
A15: =COUNTIF($G$23:$AC$40,E15) -> 0 | C15: =COUNTIF(G15:AC15,"HR") -> 0 | D15: 5 | E15: o | F15: 吳品逸 | G15: K | O15: K | S15: R | AA15: K | AE15: =COUNTA(G15:I15,K15:M15,O15:Q15,S15:U15,W15:Y15,AA15:AC15) -> 4 | AF15: =COUNTIF(G15:AC15,"R")+(COUNTIF(G15:AC15,"HR")*2) -> 1 | AG15: =A15+B15 -> 0 | AH15: =COUNTIF(G15:AC15,"K") -> 3
A16: =COUNTIF($G$23:$AC$40,E16) -> 0 | C16: =COUNTIF(G16:AC16,"HR") -> 0 | AE16: =COUNTA(G16:I16,K16:M16,O16:Q16,S16:U16,W16:Y16,AA16:AC16) -> 0 | AF16: =COUNTIF(G16:AC16,"R")+(COUNTIF(G16:AC16,"HR")*2) -> 0 | AG16: =A16+B16 -> 0 | AH16: =COUNTIF(G16:AC16,"K") -> 0 | AM16: =SUM(AM3:AM15) -> 26 | AN16: =SUM(AN3:AN15) -> 8 | AO16: =SUM(AO3:AO15) -> 3 | AP16: =SUM(AP3:AP15) -> 9
A17: =COUNTIF($G$23:$AC$40,E17) -> 0 | C17: =COUNTIF(G17:AC17,"HR") -> 0 | AE17: =COUNTA(G17:I17,K17:M17,O17:Q17,S17:U17,W17:Y17,AA17:AC17) -> 0 | AF17: =COUNTIF(G17:AC17,"R")+(COUNTIF(G17:AC17,"HR")*2) -> 0 | AG17: =A17+B17 -> 0 | AH17: =COUNTIF(G17:AC17,"K") -> 0
A18: =COUNTIF($G$23:$AC$40,E18) -> 0 | C18: =COUNTIF(G18:AC18,"HR") -> 0 | D18: 6 | E18: 58 | F18: 蔡孟洵 | K18: K | O18: 35 | S18: 21 | AA18: 111 | AE18: =COUNTA(G18:I18,K18:M18,O18:Q18,S18:U18,W18:Y18,AA18:AC18) -> 4 | AF18: =COUNTIF(G18:AC18,"R")+(COUNTIF(G18:AC18,"HR")*2) -> 0 | AG18: =A18+B18 -> 0 | AH18: =COUNTIF(G18:AC18,"K") -> 1
A19: =COUNTIF($G$23:$AC$40,E19) -> 0 | C19: =COUNTIF(G19:AC19,"HR") -> 0 | E19: 11 | F19: 勞恩以達西拔 | AE19: =COUNTA(G19:I19,K19:M19,O19:Q19,S19:U19,W19:Y19,AA19:AC19) -> 0 | AF19: =COUNTIF(G19:AC19,"R")+(COUNTIF(G19:AC19,"HR")*2) -> 0 | AG19: =A19+B19 -> 0 | AH19: =COUNTIF(G19:AC19,"K") -> 0
A20: =COUNTIF($G$23:$AC$40,E20) -> 0 | C20: =COUNTIF(G20:AC20,"HR") -> 0 | AE20: =COUNTA(G20:I20,K20:M20,O20:Q20,S20:U20,W20:Y20,AA20:AC20) -> 0 | AF20: =COUNTIF(G20:AC20,"R")+(COUNTIF(G20:AC20,"HR")*2) -> 0 | AG20: =A20+B20 -> 0 | AH20: =COUNTIF(G20:AC20,"K") -> 0
A21: =SUM(A3:A20) -> 3 | B21: =SUM(B3:B20) -> 0 | C21: =SUM(C3:C20) -> 0 | D21: 得分加總 | G21: =COUNTIF(G3:I20,"R")+(COUNTIF(G3:I20,"HR")*2) -> 2 | K21: =COUNTIF(K3:M20,"R")+(COUNTIF(K3:M20,"HR")*2)+G21 -> 3 | O21: =COUNTIF(O3:Q20,"R")+(COUNTIF(O3:Q20,"HR")*2)+K21 -> 3 | S21: =COUNTIF(S3:U20,"R")+(COUNTIF(S3:U20,"HR")*2)+O21 -> 7 | W21: =COUNTIF(W3:Y20,"R")+(COUNTIF(W3:Y20,"HR")*2)+S21 -> 7 | AA21: =COUNTIF(AA3:AC20,"R")+(COUNTIF(AA3:AC20,"HR")*2)+W21 -> 8 | AE21: =SUM(AE3:AE20) -> 26 | AF21: =SUM(AF3:AF20) -> 8 | AG21: =SUM(AG3:AG20) -> 3 | AH21: =SUM(AH3:AH20) -> 9
A22: 撿球 | B22: 接殺 | C22: HR | D22: 後 | E22: 背號 | F22: 球員 | G22: 1 | J22: 投 | K22: 2 | N22: 投 | O22: 3 | R22: 投 | S22: 4 | V22: 投 | W22: 5 | Z22: 投 | AA22: 6 | AD22: 投 | AE22: AB | AF22: R | AG22: Po | AH22: K | AI22: 投/捕/觀
A23: =COUNTIF($G$3:$AC$20,E23) -> 1 | C23: =COUNTIF(G23:AC23,"HR") -> 0 | D23: 1 | E23: 88 | F23: 鄭傳逸 | G23: R | L23: K | P23: R | W23: R | AE23: =COUNTA(G23:I23,K23:M23,O23:Q23,S23:U23,W23:Y23,AA23:AC23) -> 4 | AF23: =COUNTIF(G23:AC23,"R")+C23 -> 3 | AG23: =A23+B23 -> 1 | AH23: =COUNTIF(G23:AC23,"K") -> 1 | AI23: 投手 | AK23: 88 | AL23: 鄭傳逸 | AM23: {=_xlfn.CHOOSECOLS(_xlfn._xlws.FILTER($F$23:$AH$40,$F$23:$F$40=AL23),26,27,28,29)} -> 4 | AN23: 3 | AO23: 1 | AP23: 1
A24: =COUNTIF($G$3:$AC$20,E24) -> 0 | C24: =COUNTIF(G24:AC24,"HR") -> 0 | AE24: =COUNTA(G24:I24,K24:M24,O24:Q24,S24:U24,W24:Y24,AA24:AC24) -> 0 | AF24: =COUNTIF(G24:AC24,"R")+C24 -> 0 | AG24: =A24+B24 -> 0 | AH24: =COUNTIF(G24:AC24,"K") -> 0 | AK24: 21 | AL24: 郭育廷 | AM24: {=_xlfn.CHOOSECOLS(_xlfn._xlws.FILTER($F$23:$AH$40,$F$23:$F$40=AL24),26,27,28,29)} -> 4 | AN24: 0 | AO24: 4 | AP24: 4
A25: =COUNTIF($G$3:$AC$20,E25) -> 0 | C25: =COUNTIF(G25:AC25,"HR") -> 0 | AE25: =COUNTA(G25:I25,K25:M25,O25:Q25,S25:U25,W25:Y25,AA25:AC25) -> 0 | AF25: =COUNTIF(G25:AC25,"R")+C25 -> 0 | AG25: =A25+B25 -> 0 | AH25: =COUNTIF(G25:AC25,"K") -> 0 | AK25: 99 | AL25: 林育良 | AM25: {=_xlfn.CHOOSECOLS(_xlfn._xlws.FILTER($F$23:$AH$40,$F$23:$F$40=AL25),26,27,28,29)} -> 4 | AN25: 3 | AO25: 0 | AP25: 0
A26: =COUNTIF($G$3:$AC$20,E26) -> 4 | C26: =COUNTIF(G26:AC26,"HR") -> 0 | D26: 2 | E26: 21 | F26: 郭育廷 | G26: K | L26: K | P26: K | W26: K | AE26: =COUNTA(G26:I26,K26:M26,O26:Q26,S26:U26,W26:Y26,AA26:AC26) -> 4 | AF26: =COUNTIF(G26:AC26,"R")+C26 -> 0 | AG26: =A26+B26 -> 4 | AH26: =COUNTIF(G26:AC26,"K") -> 4 | AI26: 捕手 | AK26: 35 | AL26: 陳俊欽 | AM26: {=_xlfn.CHOOSECOLS(_xlfn._xlws.FILTER($F$23:$AH$40,$F$23:$F$40=AL26),26,27,28,29)} -> 3 | AN26: 1 | AO26: 2 | AP26: 1
A27: =COUNTIF($G$3:$AC$20,E27) -> 0 | C27: =COUNTIF(G27:AC27,"HR") -> 0 | AE27: =COUNTA(G27:I27,K27:M27,O27:Q27,S27:U27,W27:Y27,AA27:AC27) -> 0 | AF27: =COUNTIF(G27:AC27,"R")+C27 -> 0 | AG27: =A27+B27 -> 0 | AH27: =COUNTIF(G27:AC27,"K") -> 0 | AK27: 4 | AL27: 黃柏欽 | AM27: {=_xlfn.CHOOSECOLS(_xlfn._xlws.FILTER($F$23:$AH$40,$F$23:$F$40=AL27),26,27,28,29)} -> 1 | AN27: 0 | AO27: 0 | AP27: 1
A28: =COUNTIF($G$3:$AC$20,E28) -> 0 | C28: =COUNTIF(G28:AC28,"HR") -> 0 | AE28: =COUNTA(G28:I28,K28:M28,O28:Q28,S28:U28,W28:Y28,AA28:AC28) -> 0 | AF28: =COUNTIF(G28:AC28,"R")+C28 -> 0 | AG28: =A28+B28 -> 0 | AH28: =COUNTIF(G28:AC28,"K") -> 0 | AK28: 8 | AL28: 陳璽帆 | AM28: {=_xlfn.CHOOSECOLS(_xlfn._xlws.FILTER($F$23:$AH$40,$F$23:$F$40=AL28),26,27,28,29)} -> 4 | AN28: 1 | AO28: 1 | AP28: 2
A29: =COUNTIF($G$3:$AC$20,E29) -> 0 | C29: =COUNTIF(G29:AC29,"HR") -> 0 | D29: 3 | E29: 99 | F29: 林育良 | G29: R | O29: R | S29: R | W29: 39 | AE29: =COUNTA(G29:I29,K29:M29,O29:Q29,S29:U29,W29:Y29,AA29:AC29) -> 4 | AF29: =COUNTIF(G29:AC29,"R")+C29 -> 3 | AG29: =A29+B29 -> 0 | AH29: =COUNTIF(G29:AC29,"K") -> 0 | AK29: 111 | AL29: 林健彰 | AM29: {=_xlfn.CHOOSECOLS(_xlfn._xlws.FILTER($F$23:$AH$40,$F$23:$F$40=AL29),26,27,28,29)} -> 4 | AN29: 1 | AO29: 1 | AP29: 3
A30: =COUNTIF($G$3:$AC$20,E30) -> 0 | C30: =COUNTIF(G30:AC30,"HR") -> 0 | AE30: =COUNTA(G30:I30,K30:M30,O30:Q30,S30:U30,W30:Y30,AA30:AC30) -> 0 | AF30: =COUNTIF(G30:AC30,"R")+C30 -> 0 | AG30: =A30+B30 -> 0 | AH30: =COUNTIF(G30:AC30,"K") -> 0 | AI30: 觀測員
A31: =COUNTIF($G$3:$AC$20,E31) -> 0 | C31: =COUNTIF(G31:AC31,"HR") -> 0 | AE31: =COUNTA(G31:I31,K31:M31,O31:Q31,S31:U31,W31:Y31,AA31:AC31) -> 0 | AF31: =COUNTIF(G31:AC31,"R")+C31 -> 0 | AG31: =A31+B31 -> 0 | AH31: =COUNTIF(G31:AC31,"K") -> 0
A32: =COUNTIF($G$3:$AC$20,E32) -> 2 | C32: =COUNTIF(G32:AC32,"HR") -> 0 | D32: 4 | E32: 35 | F32: 陳俊欽 | G32: K | O32: 22 | W32: R | AE32: =COUNTA(G32:I32,K32:M32,O32:Q32,S32:U32,W32:Y32,AA32:AC32) -> 3 | AF32: =COUNTIF(G32:AC32,"R")+C32 -> 1 | AG32: =A32+B32 -> 2 | AH32: =COUNTIF(G32:AC32,"K") -> 1
A33: =COUNTIF($G$3:$AC$20,E33) -> 0 | C33: =COUNTIF(G33:AC33,"HR") -> 0 | E33: 4 | F33: 黃柏欽 | S33: K | AE33: =COUNTA(G33:I33,K33:M33,O33:Q33,S33:U33,W33:Y33,AA33:AC33) -> 1 | AF33: =COUNTIF(G33:AC33,"R")+C33 -> 0 | AG33: =A33+B33 -> 0 | AH33: =COUNTIF(G33:AC33,"K") -> 1
A34: =COUNTIF($G$3:$AC$20,E34) -> 0 | C34: =COUNTIF(G34:AC34,"HR") -> 0 | AE34: =COUNTA(G34:I34,K34:M34,O34:Q34,S34:U34,W34:Y34,AA34:AC34) -> 0 | AF34: =COUNTIF(G34:AC34,"R")+C34 -> 0 | AG34: =A34+B34 -> 0 | AH34: =COUNTIF(G34:AC34,"K") -> 0 | AI34: 候補球員
A35: =COUNTIF($G$3:$AC$20,E35) -> 1 | C35: =COUNTIF(G35:AC35,"HR") -> 0 | D35: 5 | E35: 8 | F35: 陳璽帆 | G35: K | O35: K | S35: 81 | W35: R | AE35: =COUNTA(G35:I35,K35:M35,O35:Q35,S35:U35,W35:Y35,AA35:AC35) -> 4 | AF35: =COUNTIF(G35:AC35,"R")+C35 -> 1 | AG35: =A35+B35 -> 1 | AH35: =COUNTIF(G35:AC35,"K") -> 2 | AM35: =SUM(AM23:AM34) -> 24 | AN35: =SUM(AN23:AN32) -> 9 | AO35: =SUM(AO23:AO32) -> 9 | AP35: =SUM(AP23:AP32) -> 12
A36: =COUNTIF($G$3:$AC$20,E36) -> 0 | C36: =COUNTIF(G36:AC36,"HR") -> 0 | AE36: =COUNTA(G36:I36,K36:M36,O36:Q36,S36:U36,W36:Y36,AA36:AC36) -> 0 | AF36: =COUNTIF(G36:AC36,"R")+C36 -> 0 | AG36: =A36+B36 -> 0 | AH36: =COUNTIF(G36:AC36,"K") -> 0
A37: =COUNTIF($G$3:$AC$20,E37) -> 0 | C37: =COUNTIF(G37:AC37,"HR") -> 0 | AE37: =COUNTA(G37:I37,K37:M37,O37:Q37,S37:U37,W37:Y37,AA37:AC37) -> 0 | AF37: =COUNTIF(G37:AC37,"R")+C37 -> 0 | AG37: =A37+B37 -> 0 | AH37: =COUNTIF(G37:AC37,"K") -> 0
A38: =COUNTIF($G$3:$AC$20,E38) -> 1 | C38: =COUNTIF(G38:AC38,"HR") -> 0 | D38: 6 | E38: 111 | F38: 林健彰 | K38: K | O38: R | S38: K | W38: K | AE38: =COUNTA(G38:I38,K38:M38,O38:Q38,S38:U38,W38:Y38,AA38:AC38) -> 4 | AF38: =COUNTIF(G38:AC38,"R")+C38 -> 1 | AG38: =A38+B38 -> 1 | AH38: =COUNTIF(G38:AC38,"K") -> 3
A39: =COUNTIF($G$3:$AC$20,E39) -> 0 | C39: =COUNTIF(G39:AC39,"HR") -> 0 | AE39: =COUNTA(G39:I39,K39:M39,O39:Q39,S39:U39,W39:Y39,AA39:AC39) -> 0 | AF39: =COUNTIF(G39:AC39,"R")+C39 -> 0 | AG39: =A39+B39 -> 0 | AH39: =COUNTIF(G39:AC39,"K") -> 0
A40: =COUNTIF($G$3:$AC$20,E40) -> 0 | C40: =COUNTIF(G40:AC40,"HR") -> 0 | AE40: =COUNTA(G40:I40,K40:M40,O40:Q40,S40:U40,W40:Y40,AA40:AC40) -> 0 | AF40: =COUNTIF(G40:AC40,"R")+C40 -> 0 | AG40: =A40+B40 -> 0 | AH40: =COUNTIF(G40:AC40,"K") -> 0
A41: =SUM(A23:A40) -> 9 | B41: =SUM(B23:B40) -> 0 | C41: =SUM(C23:C40) -> 0 | D41: 得分加總 | G41: =COUNTIF(G23:I40,"R")+(COUNTIF(G23:I40,"HR")*2) -> 2 | K41: =COUNTIF(K23:M40,"R")+(COUNTIF(K23:M40,"HR")*2)+G41 -> 2 | O41: =COUNTIF(O23:Q40,"R")+(COUNTIF(O23:Q40,"HR")*2)+K41 -> 5 | S41: =COUNTIF(S23:U40,"R")+(COUNTIF(S23:U40,"HR")*2)+O41 -> 6 | W41: =COUNTIF(W23:Y40,"R")+(COUNTIF(W23:Y40,"HR")*2)+S41 -> 9 | AA41: =COUNTIF(AA23:AC40,"R")+(COUNTIF(AA23:AC40,"HR")*2)+W41 -> 9 | AE41: =SUM(AE23:AE40) -> 24 | AF41: =SUM(AF23:AF40) -> 9 | AG41: =SUM(AG23:AG40) -> 9 | AH41: =SUM(AH23:AH40) -> 12

Sheet G4
B1: 加計分數 | D1: 場次 | H1: G4 | J1: 日期 | L1: 114.12.13 | Q1: =AA21 -> 21 | T1: 游擊 | V1: VS | X1: 金錢豹 | AB1: =AA41 -> 10 | AE1: 數據
A2: 撿球 | B2: 接殺 | C2: HR | D2: 先 | E2: 背號 | F2: 球員 | G2: 1 | J2: 投 | K2: 2 | N2: 投 | O2: 3 | R2: 投 | S2: 4 | V2: 投 | W2: 5 | Z2: 投 | AA2: 6 | AD2: 投 | AE2: AB | AF2: R | AG2: Po | AH2: K | AI2: 投/捕/觀 | AK2: 背號 | AL2: 球員 | AM2: AB | AN2: R | AO2: Po | AP2: K
A3: =COUNTIF($G$23:$AC$40,E3) -> 1 | C3: =COUNTIF(G3:AC3,"HR") -> 0 | D3: 1 | E3: 55 | F3: 邱文昇 | G3: R | H3: R | O3: R | S3: R | T3: R | X3: R | AB3: R | AE3: =COUNTA(G3:I3,K3:M3,O3:Q3,S3:U3,W3:Y3,AA3:AC3) -> 7 | AF3: =COUNTIF(G3:AC3,"R")+(COUNTIF(G3:AC3,"HR")*2) -> 7 | AG3: =A3+B3 -> 1 | AH3: =COUNTIF(G3:AC3,"K") -> 0 | AI3: 投手 | AL3: 邱文昇 | AM3: {=_xlfn.CHOOSECOLS(_xlfn._xlws.FILTER($F$3:$AH$20,$F$3:$F$20=AL3),26,27,28,29)} -> 7 | AN3: 7 | AO3: 1 | AP3: 0
A4: =COUNTIF($G$23:$AC$40,E4) -> 0 | C4: =COUNTIF(G4:AC4,"HR") -> 0 | AE4: =COUNTA(G4:I4,K4:M4,O4:Q4,S4:U4,W4:Y4,AA4:AC4) -> 0 | AF4: =COUNTIF(G4:AC4,"R")+(COUNTIF(G4:AC4,"HR")*2) -> 0 | AG4: =A4+B4 -> 0 | AH4: =COUNTIF(G4:AC4,"K") -> 0 | AL4: 賴智傑 | AM4: {=_xlfn.CHOOSECOLS(_xlfn._xlws.FILTER($F$3:$AH$20,$F$3:$F$20=AL4),26,27,28,29)} -> 7 | AN4: 5 | AO4: 0 | AP4: 2
A5: =COUNTIF($G$23:$AC$40,E5) -> 0 | C5: =COUNTIF(G5:AC5,"HR") -> 0 | AE5: =COUNTA(G5:I5,K5:M5,O5:Q5,S5:U5,W5:Y5,AA5:AC5) -> 0 | AF5: =COUNTIF(G5:AC5,"R")+(COUNTIF(G5:AC5,"HR")*2) -> 0 | AG5: =A5+B5 -> 0 | AH5: =COUNTIF(G5:AC5,"K") -> 0 | AL5: 吳品逸* | AM5: {=_xlfn.CHOOSECOLS(_xlfn._xlws.FILTER($F$3:$AH$20,$F$3:$F$20=AL5),26,27,28,29)} -> 7 | AN5: 4 | AO5: 0 | AP5: 0
A6: =COUNTIF($G$23:$AC$40,E6) -> 0 | C6: =COUNTIF(G6:AC6,"HR") -> 0 | D6: 2 | E6: 26 | F6: 賴智傑 | G6: K | H6: R | O6: R | S6: R | T6: R | X6: K | AB6: R | AE6: =COUNTA(G6:I6,K6:M6,O6:Q6,S6:U6,W6:Y6,AA6:AC6) -> 7 | AF6: =COUNTIF(G6:AC6,"R")+(COUNTIF(G6:AC6,"HR")*2) -> 5 | AG6: =A6+B6 -> 0 | AH6: =COUNTIF(G6:AC6,"K") -> 2 | AI6: 捕手 | AL6: 蔡孟洵* | AM6: {=_xlfn.CHOOSECOLS(_xlfn._xlws.FILTER($F$3:$AH$20,$F$3:$F$20=AL6),26,27,28,29)} -> 6 | AN6: 1 | AO6: 0 | AP6: 2
A7: =COUNTIF($G$23:$AC$40,E7) -> 0 | C7: =COUNTIF(G7:AC7,"HR") -> 0 | AE7: =COUNTA(G7:I7,K7:M7,O7:Q7,S7:U7,W7:Y7,AA7:AC7) -> 0 | AF7: =COUNTIF(G7:AC7,"R")+(COUNTIF(G7:AC7,"HR")*2) -> 0 | AG7: =A7+B7 -> 0 | AH7: =COUNTIF(G7:AC7,"K") -> 0 | AL7: 王兆熙 | AM7: {=_xlfn.CHOOSECOLS(_xlfn._xlws.FILTER($F$3:$AH$20,$F$3:$F$20=AL7),26,27,28,29)} -> 6 | AN7: 1 | AO7: 1 | AP7: 3
A8: =COUNTIF($G$23:$AC$40,E8) -> 0 | C8: =COUNTIF(G8:AC8,"HR") -> 0 | AE8: =COUNTA(G8:I8,K8:M8,O8:Q8,S8:U8,W8:Y8,AA8:AC8) -> 0 | AF8: =COUNTIF(G8:AC8,"R")+(COUNTIF(G8:AC8,"HR")*2) -> 0 | AG8: =A8+B8 -> 0 | AH8: =COUNTIF(G8:AC8,"K") -> 0 | AL8: 黃志遠 | AM8: {=_xlfn.CHOOSECOLS(_xlfn._xlws.FILTER($F$3:$AH$20,$F$3:$F$20=AL8),26,27,28,29)} -> 6 | AN8: 3 | AO8: 4 | AP8: 2
A9: =COUNTIF($G$23:$AC$40,E9) -> 0 | C9: =COUNTIF(G9:AC9,"HR") -> 0 | D9: 3 | E9: O | F9: 吳品逸* | G9: R | H9: 28 | O9: R | S9: 1 | T9: R | X9: R | AB9: 28 | AE9: =COUNTA(G9:I9,K9:M9,O9:Q9,S9:U9,W9:Y9,AA9:AC9) -> 7 | AF9: =COUNTIF(G9:AC9,"R")+(COUNTIF(G9:AC9,"HR")*2) -> 4 | AG9: =A9+B9 -> 0 | AH9: =COUNTIF(G9:AC9,"K") -> 0
A10: =COUNTIF($G$23:$AC$40,E10) -> 0 | C10: =COUNTIF(G10:AC10,"HR") -> 0 | AE10: =COUNTA(G10:I10,K10:M10,O10:Q10,S10:U10,W10:Y10,AA10:AC10) -> 0 | AF10: =COUNTIF(G10:AC10,"R")+(COUNTIF(G10:AC10,"HR")*2) -> 0 | AG10: =A10+B10 -> 0 | AH10: =COUNTIF(G10:AC10,"K") -> 0 | AI10: 觀測員
A11: =COUNTIF($G$23:$AC$40,E11) -> 0 | C11: =COUNTIF(G11:AC11,"HR") -> 0 | AE11: =COUNTA(G11:I11,K11:M11,O11:Q11,S11:U11,W11:Y11,AA11:AC11) -> 0 | AF11: =COUNTIF(G11:AC11,"R")+(COUNTIF(G11:AC11,"HR")*2) -> 0 | AG11: =A11+B11 -> 0 | AH11: =COUNTIF(G11:AC11,"K") -> 0
A12: =COUNTIF($G$23:$AC$40,E12) -> 0 | C12: =COUNTIF(G12:AC12,"HR") -> 0 | D12: 4 | E12: 58 | F12: 蔡孟洵* | G12: 28 | K12: 15 | O12: K | S12: R | T12: 17 | X12: K | AE12: =COUNTA(G12:I12,K12:M12,O12:Q12,S12:U12,W12:Y12,AA12:AC12) -> 6 | AF12: =COUNTIF(G12:AC12,"R")+(COUNTIF(G12:AC12,"HR")*2) -> 1 | AG12: =A12+B12 -> 0 | AH12: =COUNTIF(G12:AC12,"K") -> 2
A13: =COUNTIF($G$23:$AC$40,E13) -> 0 | C13: =COUNTIF(G13:AC13,"HR") -> 0 | AE13: =COUNTA(G13:I13,K13:M13,O13:Q13,S13:U13,W13:Y13,AA13:AC13) -> 0 | AF13: =COUNTIF(G13:AC13,"R")+(COUNTIF(G13:AC13,"HR")*2) -> 0 | AG13: =A13+B13 -> 0 | AH13: =COUNTIF(G13:AC13,"K") -> 0
A14: =COUNTIF($G$23:$AC$40,E14) -> 0 | C14: =COUNTIF(G14:AC14,"HR") -> 0 | AE14: =COUNTA(G14:I14,K14:M14,O14:Q14,S14:U14,W14:Y14,AA14:AC14) -> 0 | AF14: =COUNTIF(G14:AC14,"R")+(COUNTIF(G14:AC14,"HR")*2) -> 0 | AG14: =A14+B14 -> 0 | AH14: =COUNTIF(G14:AC14,"K") -> 0 | AI14: 候補球員
A15: =COUNTIF($G$23:$AC$40,E15) -> 1 | C15: =COUNTIF(G15:AC15,"HR") -> 0 | D15: 5 | E15: 23 | F15: 王兆熙 | G15: R | K15: 28 | O15: K | S15: 37 | W15: K | AA15: K | AE15: =COUNTA(G15:I15,K15:M15,O15:Q15,S15:U15,W15:Y15,AA15:AC15) -> 6 | AF15: =COUNTIF(G15:AC15,"R")+(COUNTIF(G15:AC15,"HR")*2) -> 1 | AG15: =A15+B15 -> 1 | AH15: =COUNTIF(G15:AC15,"K") -> 3
A16: =COUNTIF($G$23:$AC$40,E16) -> 0 | C16: =COUNTIF(G16:AC16,"HR") -> 0 | AE16: =COUNTA(G16:I16,K16:M16,O16:Q16,S16:U16,W16:Y16,AA16:AC16) -> 0 | AF16: =COUNTIF(G16:AC16,"R")+(COUNTIF(G16:AC16,"HR")*2) -> 0 | AG16: =A16+B16 -> 0 | AH16: =COUNTIF(G16:AC16,"K") -> 0 | AM16: =SUM(AM3:AM15) -> 39 | AN16: =SUM(AN3:AN15) -> 21 | AO16: =SUM(AO3:AO15) -> 6 | AP16: =SUM(AP3:AP15) -> 9
A17: =COUNTIF($G$23:$AC$40,E17) -> 0 | C17: =COUNTIF(G17:AC17,"HR") -> 0 | AE17: =COUNTA(G17:I17,K17:M17,O17:Q17,S17:U17,W17:Y17,AA17:AC17) -> 0 | AF17: =COUNTIF(G17:AC17,"R")+(COUNTIF(G17:AC17,"HR")*2) -> 0 | AG17: =A17+B17 -> 0 | AH17: =COUNTIF(G17:AC17,"K") -> 0
A18: =COUNTIF($G$23:$AC$40,E18) -> 4 | C18: =COUNTIF(G18:AC18,"HR") -> 0 | D18: 6 | E18: 56 | F18: 黃志遠 | G18: R | K18: K | O18: 15 | S18: R | W18: R | AA18: K | AE18: =COUNTA(G18:I18,K18:M18,O18:Q18,S18:U18,W18:Y18,AA18:AC18) -> 6 | AF18: =COUNTIF(G18:AC18,"R")+(COUNTIF(G18:AC18,"HR")*2) -> 3 | AG18: =A18+B18 -> 4 | AH18: =COUNTIF(G18:AC18,"K") -> 2
A19: =COUNTIF($G$23:$AC$40,E19) -> 0 | C19: =COUNTIF(G19:AC19,"HR") -> 0 | AE19: =COUNTA(G19:I19,K19:M19,O19:Q19,S19:U19,W19:Y19,AA19:AC19) -> 0 | AF19: =COUNTIF(G19:AC19,"R")+(COUNTIF(G19:AC19,"HR")*2) -> 0 | AG19: =A19+B19 -> 0 | AH19: =COUNTIF(G19:AC19,"K") -> 0
A20: =COUNTIF($G$23:$AC$40,E20) -> 0 | C20: =COUNTIF(G20:AC20,"HR") -> 0 | AE20: =COUNTA(G20:I20,K20:M20,O20:Q20,S20:U20,W20:Y20,AA20:AC20) -> 0 | AF20: =COUNTIF(G20:AC20,"R")+(COUNTIF(G20:AC20,"HR")*2) -> 0 | AG20: =A20+B20 -> 0 | AH20: =COUNTIF(G20:AC20,"K") -> 0
A21: =SUM(A3:A20) -> 6 | B21: =SUM(B3:B20) -> 0 | C21: =SUM(C3:C20) -> 0 | D21: 得分加總 | G21: =COUNTIF(G3:I20,"R")+(COUNTIF(G3:I20,"HR")*2) -> 6 | K21: =COUNTIF(K3:M20,"R")+(COUNTIF(K3:M20,"HR")*2)+G21 -> 6 | O21: =COUNTIF(O3:Q20,"R")+(COUNTIF(O3:Q20,"HR")*2)+K21 -> 9 | S21: =COUNTIF(S3:U20,"R")+(COUNTIF(S3:U20,"HR")*2)+O21 -> 16 | W21: =COUNTIF(W3:Y20,"R")+(COUNTIF(W3:Y20,"HR")*2)+S21 -> 19 | AA21: =COUNTIF(AA3:AC20,"R")+(COUNTIF(AA3:AC20,"HR")*2)+W21 -> 21 | AE21: =SUM(AE3:AE20) -> 39 | AF21: =SUM(AF3:AF20) -> 21 | AG21: =SUM(AG3:AG20) -> 6 | AH21: =SUM(AH3:AH20) -> 9
A22: 撿球 | B22: 接殺 | C22: HR | D22: 後 | E22: 背號 | F22: 球員 | G22: 1 | J22: 投 | K22: 2 | N22: 投 | O22: 3 | R22: 投 | S22: 4 | V22: 投 | W22: 5 | Z22: 投 | AA22: 6 | AD22: 投 | AE22: AB | AF22: R | AG22: Po | AH22: K | AI22: 投/捕/觀
A23: =COUNTIF($G$3:$AC$20,E23) -> 2 | C23: =COUNTIF(G23:AC23,"HR") -> 0 | D23: 1 | E23: 15 | F23: 蔡宗豪 | G23: K | L23: R | P23: R | W23: R | AB23: R | AE23: =COUNTA(G23:I23,K23:M23,O23:Q23,S23:U23,W23:Y23,AA23:AC23) -> 5 | AF23: =COUNTIF(G23:AC23,"R")+C23 -> 4 | AG23: =A23+B23 -> 2 | AH23: =COUNTIF(G23:AC23,"K") -> 1 | AI23: 投手 | AL23: 蔡宗豪 | AM23: {=_xlfn.CHOOSECOLS(_xlfn._xlws.FILTER($F$23:$AH$40,$F$23:$F$40=AL23),26,27,28,29)} -> 5 | AN23: 4 | AO23: 2 | AP23: 1
A24: =COUNTIF($G$3:$AC$20,E24) -> 0 | C24: =COUNTIF(G24:AC24,"HR") -> 0 | AE24: =COUNTA(G24:I24,K24:M24,O24:Q24,S24:U24,W24:Y24,AA24:AC24) -> 0 | AF24: =COUNTIF(G24:AC24,"R")+C24 -> 0 | AG24: =A24+B24 -> 0 | AH24: =COUNTIF(G24:AC24,"K") -> 0 | AL24: 陳傑閔 | AM24: {=_xlfn.CHOOSECOLS(_xlfn._xlws.FILTER($F$23:$AH$40,$F$23:$F$40=AL24),26,27,28,29)} -> 5 | AN24: 3 | AO24: 4 | AP24: 2
A25: =COUNTIF($G$3:$AC$20,E25) -> 0 | C25: =COUNTIF(G25:AC25,"HR") -> 0 | AE25: =COUNTA(G25:I25,K25:M25,O25:Q25,S25:U25,W25:Y25,AA25:AC25) -> 0 | AF25: =COUNTIF(G25:AC25,"R")+C25 -> 0 | AG25: =A25+B25 -> 0 | AH25: =COUNTIF(G25:AC25,"K") -> 0 | AL25: 賴保全 | AM25: {=_xlfn.CHOOSECOLS(_xlfn._xlws.FILTER($F$23:$AH$40,$F$23:$F$40=AL25),26,27,28,29)} -> 5 | AN25: 2 | AO25: 1 | AP25: 1
A26: =COUNTIF($G$3:$AC$20,E26) -> 4 | C26: =COUNTIF(G26:AC26,"HR") -> 0 | D26: 2 | E26: 28 | F26: 陳傑閔 | G26: R | L26: R | P26: K | W26: K | AB26: R | AE26: =COUNTA(G26:I26,K26:M26,O26:Q26,S26:U26,W26:Y26,AA26:AC26) -> 5 | AF26: =COUNTIF(G26:AC26,"R")+C26 -> 3 | AG26: =A26+B26 -> 4 | AH26: =COUNTIF(G26:AC26,"K") -> 2 | AI26: 捕手 | AL26: 張睿紘 | AM26: {=_xlfn.CHOOSECOLS(_xlfn._xlws.FILTER($F$23:$AH$40,$F$23:$F$40=AL26),26,27,28,29)} -> 5 | AN26: 1 | AO26: 1 | AP26: 1
A27: =COUNTIF($G$3:$AC$20,E27) -> 0 | C27: =COUNTIF(G27:AC27,"HR") -> 0 | AE27: =COUNTA(G27:I27,K27:M27,O27:Q27,S27:U27,W27:Y27,AA27:AC27) -> 0 | AF27: =COUNTIF(G27:AC27,"R")+C27 -> 0 | AG27: =A27+B27 -> 0 | AH27: =COUNTIF(G27:AC27,"K") -> 0 | AL27: 陳韻婷 | AM27: {=_xlfn.CHOOSECOLS(_xlfn._xlws.FILTER($F$23:$AH$40,$F$23:$F$40=AL27),26,27,28,29)} -> 2 | AN27: 0 | AO27: 0 | AP27: 1
A28: =COUNTIF($G$3:$AC$20,E28) -> 0 | C28: =COUNTIF(G28:AC28,"HR") -> 0 | AE28: =COUNTA(G28:I28,K28:M28,O28:Q28,S28:U28,W28:Y28,AA28:AC28) -> 0 | AF28: =COUNTIF(G28:AC28,"R")+C28 -> 0 | AG28: =A28+B28 -> 0 | AH28: =COUNTIF(G28:AC28,"K") -> 0 | AL28: 黃雅苓 | AM28: {=_xlfn.CHOOSECOLS(_xlfn._xlws.FILTER($F$23:$AH$40,$F$23:$F$40=AL28),26,27,28,29)} -> 2 | AN28: 0 | AO28: 0 | AP28: 2
A29: =COUNTIF($G$3:$AC$20,E29) -> 1 | C29: =COUNTIF(G29:AC29,"HR") -> 0 | D29: 3 | E29: 1 | F29: 賴保全 | G29: K | L29: 56 | S29: R | W29: R | AB29: 56 | AE29: =COUNTA(G29:I29,K29:M29,O29:Q29,S29:U29,W29:Y29,AA29:AC29) -> 5 | AF29: =COUNTIF(G29:AC29,"R")+C29 -> 2 | AG29: =A29+B29 -> 1 | AH29: =COUNTIF(G29:AC29,"K") -> 1 | AL29: 蔡志雄 | AM29: {=_xlfn.CHOOSECOLS(_xlfn._xlws.FILTER($F$23:$AH$40,$F$23:$F$40=AL29),26,27,28,29)} -> 4 | AN29: 0 | AO29: 1 | AP29: 4
A30: =COUNTIF($G$3:$AC$20,E30) -> 0 | C30: =COUNTIF(G30:AC30,"HR") -> 0 | AE30: =COUNTA(G30:I30,K30:M30,O30:Q30,S30:U30,W30:Y30,AA30:AC30) -> 0 | AF30: =COUNTIF(G30:AC30,"R")+C30 -> 0 | AG30: =A30+B30 -> 0 | AH30: =COUNTIF(G30:AC30,"K") -> 0 | AI30: 觀測員
A31: =COUNTIF($G$3:$AC$20,E31) -> 0 | C31: =COUNTIF(G31:AC31,"HR") -> 0 | AE31: =COUNTA(G31:I31,K31:M31,O31:Q31,S31:U31,W31:Y31,AA31:AC31) -> 0 | AF31: =COUNTIF(G31:AC31,"R")+C31 -> 0 | AG31: =A31+B31 -> 0 | AH31: =COUNTIF(G31:AC31,"K") -> 0
A32: =COUNTIF($G$3:$AC$20,E32) -> 1 | C32: =COUNTIF(G32:AC32,"HR") -> 0 | D32: 4 | E32: 17 | F32: 張睿紘 | G32: 55 | O32: R | S32: K | W32: 56 | AB32: 56 | AE32: =COUNTA(G32:I32,K32:M32,O32:Q32,S32:U32,W32:Y32,AA32:AC32) -> 5 | AF32: =COUNTIF(G32:AC32,"R")+C32 -> 1 | AG32: =A32+B32 -> 1 | AH32: =COUNTIF(G32:AC32,"K") -> 1
A33: =COUNTIF($G$3:$AC$20,E33) -> 0 | C33: =COUNTIF(G33:AC33,"HR") -> 0 | AE33: =COUNTA(G33:I33,K33:M33,O33:Q33,S33:U33,W33:Y33,AA33:AC33) -> 0 | AF33: =COUNTIF(G33:AC33,"R")+C33 -> 0 | AG33: =A33+B33 -> 0 | AH33: =COUNTIF(G33:AC33,"K") -> 0
A34: =COUNTIF($G$3:$AC$20,E34) -> 0 | C34: =COUNTIF(G34:AC34,"HR") -> 0 | AE34: =COUNTA(G34:I34,K34:M34,O34:Q34,S34:U34,W34:Y34,AA34:AC34) -> 0 | AF34: =COUNTIF(G34:AC34,"R")+C34 -> 0 | AG34: =A34+B34 -> 0 | AH34: =COUNTIF(G34:AC34,"K") -> 0 | AI34: 候補球員
A35: =COUNTIF($G$3:$AC$20,E35) -> 0 | C35: =COUNTIF(G35:AC35,"HR") -> 0 | D35: 5 | E35: 66 | F35: 陳韻婷 | K35: 23 | O35: K | AE35: =COUNTA(G35:I35,K35:M35,O35:Q35,S35:U35,W35:Y35,AA35:AC35) -> 2 | AF35: =COUNTIF(G35:AC35,"R")+C35 -> 0 | AG35: =A35+B35 -> 0 | AH35: =COUNTIF(G35:AC35,"K") -> 1 | AM35: =SUM(AM23:AM34) -> 28 | AN35: =SUM(AN23:AN32) -> 10 | AO35: =SUM(AO23:AO32) -> 9 | AP35: =SUM(AP23:AP32) -> 12
A36: =COUNTIF($G$3:$AC$20,E36) -> 0 | C36: =COUNTIF(G36:AC36,"HR") -> 0 | E36: 421 | F36: 黃雅苓 | S36: K | W36: K | AE36: =COUNTA(G36:I36,K36:M36,O36:Q36,S36:U36,W36:Y36,AA36:AC36) -> 2 | AF36: =COUNTIF(G36:AC36,"R")+C36 -> 0 | AG36: =A36+B36 -> 0 | AH36: =COUNTIF(G36:AC36,"K") -> 2
A37: =COUNTIF($G$3:$AC$20,E37) -> 0 | C37: =COUNTIF(G37:AC37,"HR") -> 0 | AE37: =COUNTA(G37:I37,K37:M37,O37:Q37,S37:U37,W37:Y37,AA37:AC37) -> 0 | AF37: =COUNTIF(G37:AC37,"R")+C37 -> 0 | AG37: =A37+B37 -> 0 | AH37: =COUNTIF(G37:AC37,"K") -> 0
A38: =COUNTIF($G$3:$AC$20,E38) -> 1 | C38: =COUNTIF(G38:AC38,"HR") -> 0 | D38: 6 | E38: 37 | F38: 蔡志雄 | K38: K | O38: K | S38: K | AA38: K | AE38: =COUNTA(G38:I38,K38:M38,O38:Q38,S38:U38,W38:Y38,AA38:AC38) -> 4 | AF38: =COUNTIF(G38:AC38,"R")+C38 -> 0 | AG38: =A38+B38 -> 1 | AH38: =COUNTIF(G38:AC38,"K") -> 4
A39: =COUNTIF($G$3:$AC$20,E39) -> 0 | C39: =COUNTIF(G39:AC39,"HR") -> 0 | AE39: =COUNTA(G39:I39,K39:M39,O39:Q39,S39:U39,W39:Y39,AA39:AC39) -> 0 | AF39: =COUNTIF(G39:AC39,"R")+C39 -> 0 | AG39: =A39+B39 -> 0 | AH39: =COUNTIF(G39:AC39,"K") -> 0
A40: =COUNTIF($G$3:$AC$20,E40) -> 0 | C40: =COUNTIF(G40:AC40,"HR") -> 0 | AE40: =COUNTA(G40:I40,K40:M40,O40:Q40,S40:U40,W40:Y40,AA40:AC40) -> 0 | AF40: =COUNTIF(G40:AC40,"R")+C40 -> 0 | AG40: =A40+B40 -> 0 | AH40: =COUNTIF(G40:AC40,"K") -> 0
A41: =SUM(A23:A40) -> 9 | B41: =SUM(B23:B40) -> 0 | C41: =SUM(C23:C40) -> 0 | D41: 得分加總 | G41: =COUNTIF(G23:I40,"R")+(COUNTIF(G23:I40,"HR")*2) -> 1 | K41: =COUNTIF(K23:M40,"R")+(COUNTIF(K23:M40,"HR")*2)+G41 -> 3 | O41: =COUNTIF(O23:Q40,"R")+(COUNTIF(O23:Q40,"HR")*2)+K41 -> 5 | S41: =COUNTIF(S23:U40,"R")+(COUNTIF(S23:U40,"HR")*2)+O41 -> 6 | W41: =COUNTIF(W23:Y40,"R")+(COUNTIF(W23:Y40,"HR")*2)+S41 -> 8 | AA41: =COUNTIF(AA23:AC40,"R")+(COUNTIF(AA23:AC40,"HR")*2)+W41 -> 10 | AE41: =SUM(AE23:AE40) -> 28 | AF41: =SUM(AF23:AF40) -> 10 | AG41: =SUM(AG23:AG40) -> 9 | AH41: =SUM(AH23:AH40) -> 12

Sheet G5
B1: 加計分數 | D1: 場次 | H1: G5 | J1: 日期 | L1: 114.12.14 | Q1: =AA21 -> 0 | T1: 金錢豹 | V1: VS | X1: 閃電 | AB1: =AA41 -> 0 | AE1: 數據
A2: 撿球 | B2: 接殺 | C2: HR | D2: 先 | E2: 背號 | F2: 球員 | G2: 1 | J2: 投 | K2: 2 | N2: 投 | O2: 3 | R2: 投 | S2: 4 | V2: 投 | W2: 5 | Z2: 投 | AA2: 6 | AD2: 投 | AE2: AB | AF2: R | AG2: Po | AH2: K | AI2: 投/捕/觀 | AK2: 背號 | AL2: 球員 | AM2: AB | AN2: R | AO2: Po | AP2: K
A3: =COUNTIF($G$23:$AC$40,E3) -> 0 | C3: =COUNTIF(G3:AC3,"HR") -> 0 | D3: 1 | AE3: =COUNTA(G3:I3,K3:M3,O3:Q3,S3:U3,W3:Y3,AA3:AC3) -> 0 | AF3: =COUNTIF(G3:AC3,"R")+(COUNTIF(G3:AC3,"HR")*2) -> 0 | AG3: =A3+B3 -> 0 | AH3: =COUNTIF(G3:AC3,"K") -> 0 | AI3: 投手 | AL3: {=_xlfn.UNIQUE($F$3:$F$20)} -> 0 | AM3: {=_xlfn.CHOOSECOLS(_xlfn._xlws.FILTER($F$3:$AH$20,$F$3:$F$20=AL3),26,27,28,29)} -> #VALUE!
A4: =COUNTIF($G$23:$AC$40,E4) -> 0 | C4: =COUNTIF(G4:AC4,"HR") -> 0 | AE4: =COUNTA(G4:I4,K4:M4,O4:Q4,S4:U4,W4:Y4,AA4:AC4) -> 0 | AF4: =COUNTIF(G4:AC4,"R")+(COUNTIF(G4:AC4,"HR")*2) -> 0 | AG4: =A4+B4 -> 0 | AH4: =COUNTIF(G4:AC4,"K") -> 0 | AM4: {=_xlfn.CHOOSECOLS(_xlfn._xlws.FILTER($F$3:$AH$20,$F$3:$F$20=AL4),26,27,28,29)} -> #VALUE!
A5: =COUNTIF($G$23:$AC$40,E5) -> 0 | C5: =COUNTIF(G5:AC5,"HR") -> 0 | AE5: =COUNTA(G5:I5,K5:M5,O5:Q5,S5:U5,W5:Y5,AA5:AC5) -> 0 | AF5: =COUNTIF(G5:AC5,"R")+(COUNTIF(G5:AC5,"HR")*2) -> 0 | AG5: =A5+B5 -> 0 | AH5: =COUNTIF(G5:AC5,"K") -> 0 | AM5: {=_xlfn.CHOOSECOLS(_xlfn._xlws.FILTER($F$3:$AH$20,$F$3:$F$20=AL5),26,27,28,29)} -> #VALUE!
A6: =COUNTIF($G$23:$AC$40,E6) -> 0 | C6: =COUNTIF(G6:AC6,"HR") -> 0 | D6: 2 | AE6: =COUNTA(G6:I6,K6:M6,O6:Q6,S6:U6,W6:Y6,AA6:AC6) -> 0 | AF6: =COUNTIF(G6:AC6,"R")+(COUNTIF(G6:AC6,"HR")*2) -> 0 | AG6: =A6+B6 -> 0 | AH6: =COUNTIF(G6:AC6,"K") -> 0 | AI6: 捕手 | AM6: {=_xlfn.CHOOSECOLS(_xlfn._xlws.FILTER($F$3:$AH$20,$F$3:$F$20=AL6),26,27,28,29)} -> #VALUE!
A7: =COUNTIF($G$23:$AC$40,E7) -> 0 | C7: =COUNTIF(G7:AC7,"HR") -> 0 | AE7: =COUNTA(G7:I7,K7:M7,O7:Q7,S7:U7,W7:Y7,AA7:AC7) -> 0 | AF7: =COUNTIF(G7:AC7,"R")+(COUNTIF(G7:AC7,"HR")*2) -> 0 | AG7: =A7+B7 -> 0 | AH7: =COUNTIF(G7:AC7,"K") -> 0 | AM7: {=_xlfn.CHOOSECOLS(_xlfn._xlws.FILTER($F$3:$AH$20,$F$3:$F$20=AL7),26,27,28,29)} -> #VALUE!
A8: =COUNTIF($G$23:$AC$40,E8) -> 0 | C8: =COUNTIF(G8:AC8,"HR") -> 0 | AE8: =COUNTA(G8:I8,K8:M8,O8:Q8,S8:U8,W8:Y8,AA8:AC8) -> 0 | AF8: =COUNTIF(G8:AC8,"R")+(COUNTIF(G8:AC8,"HR")*2) -> 0 | AG8: =A8+B8 -> 0 | AH8: =COUNTIF(G8:AC8,"K") -> 0 | AM8: {=_xlfn.CHOOSECOLS(_xlfn._xlws.FILTER($F$3:$AH$20,$F$3:$F$20=AL8),26,27,28,29)} -> #VALUE!
A9: =COUNTIF($G$23:$AC$40,E9) -> 0 | C9: =COUNTIF(G9:AC9,"HR") -> 0 | D9: 3 | AE9: =COUNTA(G9:I9,K9:M9,O9:Q9,S9:U9,W9:Y9,AA9:AC9) -> 0 | AF9: =COUNTIF(G9:AC9,"R")+(COUNTIF(G9:AC9,"HR")*2) -> 0 | AG9: =A9+B9 -> 0 | AH9: =COUNTIF(G9:AC9,"K") -> 0 | AM9: {=_xlfn.CHOOSECOLS(_xlfn._xlws.FILTER($F$3:$AH$20,$F$3:$F$20=AL9),26,27,28,29)} -> #VALUE!
A10: =COUNTIF($G$23:$AC$40,E10) -> 0 | C10: =COUNTIF(G10:AC10,"HR") -> 0 | AE10: =COUNTA(G10:I10,K10:M10,O10:Q10,S10:U10,W10:Y10,AA10:AC10) -> 0 | AF10: =COUNTIF(G10:AC10,"R")+(COUNTIF(G10:AC10,"HR")*2) -> 0 | AG10: =A10+B10 -> 0 | AH10: =COUNTIF(G10:AC10,"K") -> 0 | AI10: 觀測員 | AM10: {=_xlfn.CHOOSECOLS(_xlfn._xlws.FILTER($F$3:$AH$20,$F$3:$F$20=AL10),26,27,28,29)} -> #VALUE!
A11: =COUNTIF($G$23:$AC$40,E11) -> 0 | C11: =COUNTIF(G11:AC11,"HR") -> 0 | AE11: =COUNTA(G11:I11,K11:M11,O11:Q11,S11:U11,W11:Y11,AA11:AC11) -> 0 | AF11: =COUNTIF(G11:AC11,"R")+(COUNTIF(G11:AC11,"HR")*2) -> 0 | AG11: =A11+B11 -> 0 | AH11: =COUNTIF(G11:AC11,"K") -> 0 | AM11: {=_xlfn.CHOOSECOLS(_xlfn._xlws.FILTER($F$3:$AH$20,$F$3:$F$20=AL11),26,27,28,29)} -> #VALUE!
A12: =COUNTIF($G$23:$AC$40,E12) -> 0 | C12: =COUNTIF(G12:AC12,"HR") -> 0 | D12: 4 | AE12: =COUNTA(G12:I12,K12:M12,O12:Q12,S12:U12,W12:Y12,AA12:AC12) -> 0 | AF12: =COUNTIF(G12:AC12,"R")+(COUNTIF(G12:AC12,"HR")*2) -> 0 | AG12: =A12+B12 -> 0 | AH12: =COUNTIF(G12:AC12,"K") -> 0
A13: =COUNTIF($G$23:$AC$40,E13) -> 0 | C13: =COUNTIF(G13:AC13,"HR") -> 0 | AE13: =COUNTA(G13:I13,K13:M13,O13:Q13,S13:U13,W13:Y13,AA13:AC13) -> 0 | AF13: =COUNTIF(G13:AC13,"R")+(COUNTIF(G13:AC13,"HR")*2) -> 0 | AG13: =A13+B13 -> 0 | AH13: =COUNTIF(G13:AC13,"K") -> 0
A14: =COUNTIF($G$23:$AC$40,E14) -> 0 | C14: =COUNTIF(G14:AC14,"HR") -> 0 | AE14: =COUNTA(G14:I14,K14:M14,O14:Q14,S14:U14,W14:Y14,AA14:AC14) -> 0 | AF14: =COUNTIF(G14:AC14,"R")+(COUNTIF(G14:AC14,"HR")*2) -> 0 | AG14: =A14+B14 -> 0 | AH14: =COUNTIF(G14:AC14,"K") -> 0 | AI14: 候補球員
A15: =COUNTIF($G$23:$AC$40,E15) -> 0 | C15: =COUNTIF(G15:AC15,"HR") -> 0 | D15: 5 | AE15: =COUNTA(G15:I15,K15:M15,O15:Q15,S15:U15,W15:Y15,AA15:AC15) -> 0 | AF15: =COUNTIF(G15:AC15,"R")+(COUNTIF(G15:AC15,"HR")*2) -> 0 | AG15: =A15+B15 -> 0 | AH15: =COUNTIF(G15:AC15,"K") -> 0
A16: =COUNTIF($G$23:$AC$40,E16) -> 0 | C16: =COUNTIF(G16:AC16,"HR") -> 0 | AE16: =COUNTA(G16:I16,K16:M16,O16:Q16,S16:U16,W16:Y16,AA16:AC16) -> 0 | AF16: =COUNTIF(G16:AC16,"R")+(COUNTIF(G16:AC16,"HR")*2) -> 0 | AG16: =A16+B16 -> 0 | AH16: =COUNTIF(G16:AC16,"K") -> 0 | AM16: =SUM(AM3:AM15) -> #VALUE! | AN16: =SUM(AN3:AN15) -> 0 | AO16: =SUM(AO3:AO15) -> 0 | AP16: =SUM(AP3:AP15) -> 0
A17: =COUNTIF($G$23:$AC$40,E17) -> 0 | C17: =COUNTIF(G17:AC17,"HR") -> 0 | AE17: =COUNTA(G17:I17,K17:M17,O17:Q17,S17:U17,W17:Y17,AA17:AC17) -> 0 | AF17: =COUNTIF(G17:AC17,"R")+(COUNTIF(G17:AC17,"HR")*2) -> 0 | AG17: =A17+B17 -> 0 | AH17: =COUNTIF(G17:AC17,"K") -> 0
A18: =COUNTIF($G$23:$AC$40,E18) -> 0 | C18: =COUNTIF(G18:AC18,"HR") -> 0 | D18: 6 | AE18: =COUNTA(G18:I18,K18:M18,O18:Q18,S18:U18,W18:Y18,AA18:AC18) -> 0 | AF18: =COUNTIF(G18:AC18,"R")+(COUNTIF(G18:AC18,"HR")*2) -> 0 | AG18: =A18+B18 -> 0 | AH18: =COUNTIF(G18:AC18,"K") -> 0
A19: =COUNTIF($G$23:$AC$40,E19) -> 0 | C19: =COUNTIF(G19:AC19,"HR") -> 0 | AE19: =COUNTA(G19:I19,K19:M19,O19:Q19,S19:U19,W19:Y19,AA19:AC19) -> 0 | AF19: =COUNTIF(G19:AC19,"R")+(COUNTIF(G19:AC19,"HR")*2) -> 0 | AG19: =A19+B19 -> 0 | AH19: =COUNTIF(G19:AC19,"K") -> 0
A20: =COUNTIF($G$23:$AC$40,E20) -> 0 | C20: =COUNTIF(G20:AC20,"HR") -> 0 | AE20: =COUNTA(G20:I20,K20:M20,O20:Q20,S20:U20,W20:Y20,AA20:AC20) -> 0 | AF20: =COUNTIF(G20:AC20,"R")+(COUNTIF(G20:AC20,"HR")*2) -> 0 | AG20: =A20+B20 -> 0 | AH20: =COUNTIF(G20:AC20,"K") -> 0
A21: =SUM(A3:A20) -> 0 | B21: =SUM(B3:B20) -> 0 | C21: =SUM(C3:C20) -> 0 | D21: 得分加總 | G21: =COUNTIF(G3:I20,"R")+(COUNTIF(G3:I20,"HR")*2) -> 0 | K21: =COUNTIF(K3:M20,"R")+(COUNTIF(K3:M20,"HR")*2)+G21 -> 0 | O21: =COUNTIF(O3:Q20,"R")+(COUNTIF(O3:Q20,"HR")*2)+K21 -> 0 | S21: =COUNTIF(S3:U20,"R")+(COUNTIF(S3:U20,"HR")*2)+O21 -> 0 | W21: =COUNTIF(W3:Y20,"R")+(COUNTIF(W3:Y20,"HR")*2)+S21 -> 0 | AA21: =COUNTIF(AA3:AC20,"R")+(COUNTIF(AA3:AC20,"HR")*2)+W21 -> 0 | AE21: =SUM(AE3:AE20) -> 0 | AF21: =SUM(AF3:AF20) -> 0 | AG21: =SUM(AG3:AG20) -> 0 | AH21: =SUM(AH3:AH20) -> 0
A22: 撿球 | B22: 接殺 | C22: HR | D22: 後 | E22: 背號 | F22: 球員 | G22: 1 | J22: 投 | K22: 2 | N22: 投 | O22: 3 | R22: 投 | S22: 4 | V22: 投 | W22: 5 | Z22: 投 | AA22: 6 | AD22: 投 | AE22: AB | AF22: R | AG22: Po | AH22: K | AI22: 投/捕/觀
A23: =COUNTIF($G$3:$AC$20,E23) -> 0 | C23: =COUNTIF(G23:AC23,"HR") -> 0 | D23: 1 | AE23: =COUNTA(G23:I23,K23:M23,O23:Q23,S23:U23,W23:Y23,AA23:AC23) -> 0 | AF23: =COUNTIF(G23:AC23,"R")+C23 -> 0 | AG23: =A23+B23 -> 0 | AH23: =COUNTIF(G23:AC23,"K") -> 0 | AI23: 投手 | AL23: {=_xlfn.UNIQUE($F$23:$F$40)} -> 0 | AM23: {=_xlfn.CHOOSECOLS(_xlfn._xlws.FILTER($F$23:$AH$40,$F$23:$F$40=AL23),26,27,28,29)} -> #VALUE!
A24: =COUNTIF($G$3:$AC$20,E24) -> 0 | C24: =COUNTIF(G24:AC24,"HR") -> 0 | AE24: =COUNTA(G24:I24,K24:M24,O24:Q24,S24:U24,W24:Y24,AA24:AC24) -> 0 | AF24: =COUNTIF(G24:AC24,"R")+C24 -> 0 | AG24: =A24+B24 -> 0 | AH24: =COUNTIF(G24:AC24,"K") -> 0 | AM24: {=_xlfn.CHOOSECOLS(_xlfn._xlws.FILTER($F$23:$AH$40,$F$23:$F$40=AL24),26,27,28,29)} -> #VALUE!
A25: =COUNTIF($G$3:$AC$20,E25) -> 0 | C25: =COUNTIF(G25:AC25,"HR") -> 0 | AE25: =COUNTA(G25:I25,K25:M25,O25:Q25,S25:U25,W25:Y25,AA25:AC25) -> 0 | AF25: =COUNTIF(G25:AC25,"R")+C25 -> 0 | AG25: =A25+B25 -> 0 | AH25: =COUNTIF(G25:AC25,"K") -> 0 | AM25: {=_xlfn.CHOOSECOLS(_xlfn._xlws.FILTER($F$23:$AH$40,$F$23:$F$40=AL25),26,27,28,29)} -> #VALUE!
A26: =COUNTIF($G$3:$AC$20,E26) -> 0 | C26: =COUNTIF(G26:AC26,"HR") -> 0 | D26: 2 | AE26: =COUNTA(G26:I26,K26:M26,O26:Q26,S26:U26,W26:Y26,AA26:AC26) -> 0 | AF26: =COUNTIF(G26:AC26,"R")+C26 -> 0 | AG26: =A26+B26 -> 0 | AH26: =COUNTIF(G26:AC26,"K") -> 0 | AI26: 捕手 | AM26: {=_xlfn.CHOOSECOLS(_xlfn._xlws.FILTER($F$23:$AH$40,$F$23:$F$40=AL26),26,27,28,29)} -> #VALUE!
A27: =COUNTIF($G$3:$AC$20,E27) -> 0 | C27: =COUNTIF(G27:AC27,"HR") -> 0 | AE27: =COUNTA(G27:I27,K27:M27,O27:Q27,S27:U27,W27:Y27,AA27:AC27) -> 0 | AF27: =COUNTIF(G27:AC27,"R")+C27 -> 0 | AG27: =A27+B27 -> 0 | AH27: =COUNTIF(G27:AC27,"K") -> 0 | AM27: {=_xlfn.CHOOSECOLS(_xlfn._xlws.FILTER($F$23:$AH$40,$F$23:$F$40=AL27),26,27,28,29)} -> #VALUE!
A28: =COUNTIF($G$3:$AC$20,E28) -> 0 | C28: =COUNTIF(G28:AC28,"HR") -> 0 | AE28: =COUNTA(G28:I28,K28:M28,O28:Q28,S28:U28,W28:Y28,AA28:AC28) -> 0 | AF28: =COUNTIF(G28:AC28,"R")+C28 -> 0 | AG28: =A28+B28 -> 0 | AH28: =COUNTIF(G28:AC28,"K") -> 0 | AM28: {=_xlfn.CHOOSECOLS(_xlfn._xlws.FILTER($F$23:$AH$40,$F$23:$F$40=AL28),26,27,28,29)} -> #VALUE!
A29: =COUNTIF($G$3:$AC$20,E29) -> 0 | C29: =COUNTIF(G29:AC29,"HR") -> 0 | D29: 3 | AE29: =COUNTA(G29:I29,K29:M29,O29:Q29,S29:U29,W29:Y29,AA29:AC29) -> 0 | AF29: =COUNTIF(G29:AC29,"R")+C29 -> 0 | AG29: =A29+B29 -> 0 | AH29: =COUNTIF(G29:AC29,"K") -> 0 | AM29: {=_xlfn.CHOOSECOLS(_xlfn._xlws.FILTER($F$23:$AH$40,$F$23:$F$40=AL29),26,27,28,29)} -> #VALUE!
A30: =COUNTIF($G$3:$AC$20,E30) -> 0 | C30: =COUNTIF(G30:AC30,"HR") -> 0 | AE30: =COUNTA(G30:I30,K30:M30,O30:Q30,S30:U30,W30:Y30,AA30:AC30) -> 0 | AF30: =COUNTIF(G30:AC30,"R")+C30 -> 0 | AG30: =A30+B30 -> 0 | AH30: =COUNTIF(G30:AC30,"K") -> 0 | AI30: 觀測員
A31: =COUNTIF($G$3:$AC$20,E31) -> 0 | C31: =COUNTIF(G31:AC31,"HR") -> 0 | AE31: =COUNTA(G31:I31,K31:M31,O31:Q31,S31:U31,W31:Y31,AA31:AC31) -> 0 | AF31: =COUNTIF(G31:AC31,"R")+C31 -> 0 | AG31: =A31+B31 -> 0 | AH31: =COUNTIF(G31:AC31,"K") -> 0
A32: =COUNTIF($G$3:$AC$20,E32) -> 0 | C32: =COUNTIF(G32:AC32,"HR") -> 0 | D32: 4 | AE32: =COUNTA(G32:I32,K32:M32,O32:Q32,S32:U32,W32:Y32,AA32:AC32) -> 0 | AF32: =COUNTIF(G32:AC32,"R")+C32 -> 0 | AG32: =A32+B32 -> 0 | AH32: =COUNTIF(G32:AC32,"K") -> 0
A33: =COUNTIF($G$3:$AC$20,E33) -> 0 | C33: =COUNTIF(G33:AC33,"HR") -> 0 | AE33: =COUNTA(G33:I33,K33:M33,O33:Q33,S33:U33,W33:Y33,AA33:AC33) -> 0 | AF33: =COUNTIF(G33:AC33,"R")+C33 -> 0 | AG33: =A33+B33 -> 0 | AH33: =COUNTIF(G33:AC33,"K") -> 0
A34: =COUNTIF($G$3:$AC$20,E34) -> 0 | C34: =COUNTIF(G34:AC34,"HR") -> 0 | AE34: =COUNTA(G34:I34,K34:M34,O34:Q34,S34:U34,W34:Y34,AA34:AC34) -> 0 | AF34: =COUNTIF(G34:AC34,"R")+C34 -> 0 | AG34: =A34+B34 -> 0 | AH34: =COUNTIF(G34:AC34,"K") -> 0 | AI34: 候補球員
A35: =COUNTIF($G$3:$AC$20,E35) -> 0 | C35: =COUNTIF(G35:AC35,"HR") -> 0 | D35: 5 | AE35: =COUNTA(G35:I35,K35:M35,O35:Q35,S35:U35,W35:Y35,AA35:AC35) -> 0 | AF35: =COUNTIF(G35:AC35,"R")+C35 -> 0 | AG35: =A35+B35 -> 0 | AH35: =COUNTIF(G35:AC35,"K") -> 0 | AM35: =SUM(AM23:AM34) -> #VALUE! | AN35: =SUM(AN23:AN32) -> 0 | AO35: =SUM(AO23:AO32) -> 0 | AP35: =SUM(AP23:AP32) -> 0
A36: =COUNTIF($G$3:$AC$20,E36) -> 0 | C36: =COUNTIF(G36:AC36,"HR") -> 0 | AE36: =COUNTA(G36:I36,K36:M36,O36:Q36,S36:U36,W36:Y36,AA36:AC36) -> 0 | AF36: =COUNTIF(G36:AC36,"R")+C36 -> 0 | AG36: =A36+B36 -> 0 | AH36: =COUNTIF(G36:AC36,"K") -> 0
A37: =COUNTIF($G$3:$AC$20,E37) -> 0 | C37: =COUNTIF(G37:AC37,"HR") -> 0 | AE37: =COUNTA(G37:I37,K37:M37,O37:Q37,S37:U37,W37:Y37,AA37:AC37) -> 0 | AF37: =COUNTIF(G37:AC37,"R")+C37 -> 0 | AG37: =A37+B37 -> 0 | AH37: =COUNTIF(G37:AC37,"K") -> 0
A38: =COUNTIF($G$3:$AC$20,E38) -> 0 | C38: =COUNTIF(G38:AC38,"HR") -> 0 | D38: 6 | AE38: =COUNTA(G38:I38,K38:M38,O38:Q38,S38:U38,W38:Y38,AA38:AC38) -> 0 | AF38: =COUNTIF(G38:AC38,"R")+C38 -> 0 | AG38: =A38+B38 -> 0 | AH38: =COUNTIF(G38:AC38,"K") -> 0
A39: =COUNTIF($G$3:$AC$20,E39) -> 0 | C39: =COUNTIF(G39:AC39,"HR") -> 0 | AE39: =COUNTA(G39:I39,K39:M39,O39:Q39,S39:U39,W39:Y39,AA39:AC39) -> 0 | AF39: =COUNTIF(G39:AC39,"R")+C39 -> 0 | AG39: =A39+B39 -> 0 | AH39: =COUNTIF(G39:AC39,"K") -> 0
A40: =COUNTIF($G$3:$AC$20,E40) -> 0 | C40: =COUNTIF(G40:AC40,"HR") -> 0 | AE40: =COUNTA(G40:I40,K40:M40,O40:Q40,S40:U40,W40:Y40,AA40:AC40) -> 0 | AF40: =COUNTIF(G40:AC40,"R")+C40 -> 0 | AG40: =A40+B40 -> 0 | AH40: =COUNTIF(G40:AC40,"K") -> 0
A41: =SUM(A23:A40) -> 0 | B41: =SUM(B23:B40) -> 0 | C41: =SUM(C23:C40) -> 0 | D41: 得分加總 | G41: =COUNTIF(G23:I40,"R")+(COUNTIF(G23:I40,"HR")*2) -> 0 | K41: =COUNTIF(K23:M40,"R")+(COUNTIF(K23:M40,"HR")*2)+G41 -> 0 | O41: =COUNTIF(O23:Q40,"R")+(COUNTIF(O23:Q40,"HR")*2)+K41 -> 0 | S41: =COUNTIF(S23:U40,"R")+(COUNTIF(S23:U40,"HR")*2)+O41 -> 0 | W41: =COUNTIF(W23:Y40,"R")+(COUNTIF(W23:Y40,"HR")*2)+S41 -> 0 | AA41: =COUNTIF(AA23:AC40,"R")+(COUNTIF(AA23:AC40,"HR")*2)+W41 -> 0 | AE41: =SUM(AE23:AE40) -> 0 | AF41: =SUM(AF23:AF40) -> 0 | AG41: =SUM(AG23:AG40) -> 0 | AH41: =SUM(AH23:AH40) -> 0

Sheet G6
B1: 加計分數 | D1: 場次 | H1: G6 | J1: 日期 | L1: 114.12.14 | Q1: =AA21 -> 12 | T1: 夜魔俠 | V1: VS | X1: 金錢豹 | AB1: =AA41 -> 5 | AE1: 數據
A2: 撿球 | B2: 接殺 | C2: HR | D2: 先 | E2: 背號 | F2: 球員 | G2: 1 | J2: 投 | K2: 2 | N2: 投 | O2: 3 | R2: 投 | S2: 4 | V2: 投 | W2: 5 | Z2: 投 | AA2: 6 | AD2: 投 | AE2: AB | AF2: R | AG2: Po | AH2: K | AI2: 投/捕/觀 | AK2: 背號 | AL2: 球員 | AM2: AB | AN2: R | AO2: Po | AP2: K
A3: =COUNTIF($G$23:$AC$40,E3) -> 0 | C3: =COUNTIF(G3:AC3,"HR") -> 0 | D3: 1 | E3: 58 | F3: 蔡孟洵 | G3: 17 | L3: 17 | P3: 421 | T3: K | X3: 1 | AE3: =COUNTA(G3:I3,K3:M3,O3:Q3,S3:U3,W3:Y3,AA3:AC3) -> 5 | AF3: =COUNTIF(G3:AC3,"R")+(COUNTIF(G3:AC3,"HR")*2) -> 0 | AG3: =A3+B3 -> 0 | AH3: =COUNTIF(G3:AC3,"K") -> 1 | AI3: 投手 | AK3: 58 | AL3: 蔡孟洵 | AM3: =SUMIF($F$3:$F$20,AL3,AE3:AE20) -> 5 | AN3: =SUMIF($F$3:$F$20,AL3,$AF$3:$AF$20) -> 0 | AO3: =SUMIF($F$3:$F$20,AL3,$AG$3:$AG$20) -> 0 | AP3: =SUMIF($F$3:$F$20,AL3,$AH$3:$AH$20) -> 1
A4: =COUNTIF($G$23:$AC$40,E4) -> 0 | C4: =COUNTIF(G4:AC4,"HR") -> 0 | E4: 11 | F4: 勞恩以達西拔 | AE4: =COUNTA(G4:I4,K4:M4,O4:Q4,S4:U4,W4:Y4,AA4:AC4) -> 0 | AF4: =COUNTIF(G4:AC4,"R")+(COUNTIF(G4:AC4,"HR")*2) -> 0 | AG4: =A4+B4 -> 0 | AH4: =COUNTIF(G4:AC4,"K") -> 0 | AI4: 王辰光 | AK4: 22 | AL4: 蔡存宥 | AM4: =SUMIF($F$3:$F$20,AL4,AE4:AE21) -> 0 | AN4: =SUMIF($F$3:$F$20,AL4,$AF$3:$AF$20) -> 1 | AO4: =SUMIF($F$3:$F$20,AL4,$AG$3:$AG$20) -> 0 | AP4: =SUMIF($F$3:$F$20,AL4,$AH$3:$AH$20) -> 3
A5: =COUNTIF($G$23:$AC$40,E5) -> 0 | C5: =COUNTIF(G5:AC5,"HR") -> 0 | AE5: =COUNTA(G5:I5,K5:M5,O5:Q5,S5:U5,W5:Y5,AA5:AC5) -> 0 | AF5: =COUNTIF(G5:AC5,"R")+(COUNTIF(G5:AC5,"HR")*2) -> 0 | AG5: =A5+B5 -> 0 | AH5: =COUNTIF(G5:AC5,"K") -> 0 | AK5: 81 | AL5: 余自成 | AM5: =SUMIF($F$3:$F$20,AL5,AE5:AE22) -> 0 | AN5: =SUMIF($F$3:$F$20,AL5,$AF$3:$AF$20) -> 2 | AO5: =SUMIF($F$3:$F$20,AL5,$AG$3:$AG$20) -> 0 | AP5: =SUMIF($F$3:$F$20,AL5,$AH$3:$AH$20) -> 1
A6: =COUNTIF($G$23:$AC$40,E6) -> 0 | C6: =COUNTIF(G6:AC6,"HR") -> 0 | D6: 2 | E6: 22 | F6: 蔡存宥 | G6: K | L6: K | P6: 37 | T6: K | AA6: R | AE6: =COUNTA(G6:I6,K6:M6,O6:Q6,S6:U6,W6:Y6,AA6:AC6) -> 5 | AF6: =COUNTIF(G6:AC6,"R")+(COUNTIF(G6:AC6,"HR")*2) -> 1 | AG6: =A6+B6 -> 0 | AH6: =COUNTIF(G6:AC6,"K") -> 3 | AI6: 捕手 | AK6: 39 | AL6: 郭亦倫 | AM6: =SUMIF($F$3:$F$20,AL6,AE6:AE23) -> 5 | AN6: =SUMIF($F$3:$F$20,AL6,$AF$3:$AF$20) -> 3 | AO6: =SUMIF($F$3:$F$20,AL6,$AG$3:$AG$20) -> 0 | AP6: =SUMIF($F$3:$F$20,AL6,$AH$3:$AH$20) -> 1
A7: =COUNTIF($G$23:$AC$40,E7) -> 0 | C7: =COUNTIF(G7:AC7,"HR") -> 0 | AE7: =COUNTA(G7:I7,K7:M7,O7:Q7,S7:U7,W7:Y7,AA7:AC7) -> 0 | AF7: =COUNTIF(G7:AC7,"R")+(COUNTIF(G7:AC7,"HR")*2) -> 0 | AG7: =A7+B7 -> 0 | AH7: =COUNTIF(G7:AC7,"K") -> 0 | AI7: 陳相睿 | AK7: 37 | AL7: 古國偉 | AM7: =SUMIF($F$3:$F$20,AL7,AE7:AE24) -> 0 | AN7: =SUMIF($F$3:$F$20,AL7,$AF$3:$AF$20) -> 4 | AO7: =SUMIF($F$3:$F$20,AL7,$AG$3:$AG$20) -> 1 | AP7: =SUMIF($F$3:$F$20,AL7,$AH$3:$AH$20) -> 1
A8: =COUNTIF($G$23:$AC$40,E8) -> 0 | C8: =COUNTIF(G8:AC8,"HR") -> 0 | AE8: =COUNTA(G8:I8,K8:M8,O8:Q8,S8:U8,W8:Y8,AA8:AC8) -> 0 | AF8: =COUNTIF(G8:AC8,"R")+(COUNTIF(G8:AC8,"HR")*2) -> 0 | AG8: =A8+B8 -> 0 | AH8: =COUNTIF(G8:AC8,"K") -> 0 | AK8: 18 | AL8: 梁耿縉 | AM8: =SUMIF($F$3:$F$20,AL8,AE8:AE25) -> 4 | AN8: =SUMIF($F$3:$F$20,AL8,$AF$3:$AF$20) -> 2 | AO8: =SUMIF($F$3:$F$20,AL8,$AG$3:$AG$20) -> 1 | AP8: =SUMIF($F$3:$F$20,AL8,$AH$3:$AH$20) -> 3
A9: =COUNTIF($G$23:$AC$40,E9) -> 0 | C9: =COUNTIF(G9:AC9,"HR") -> 0 | D9: 3 | E9: 81 | F9: 余自成 | G9: R | O9: K | S9: 37 | W9: R | AA9: 1 | AE9: =COUNTA(G9:I9,K9:M9,O9:Q9,S9:U9,W9:Y9,AA9:AC9) -> 5 | AF9: =COUNTIF(G9:AC9,"R")+(COUNTIF(G9:AC9,"HR")*2) -> 2 | AG9: =A9+B9 -> 0 | AH9: =COUNTIF(G9:AC9,"K") -> 1 | AK9: 11 (DF) | AL9: 勞恩以達西拔 | AM9: =SUMIF($F$3:$F$20,AL9,AE9:AE26) -> 0 | AN9: =SUMIF($F$3:$F$20,AL9,$AF$3:$AF$20) -> 0 | AO9: =SUMIF($F$3:$F$20,AL9,$AG$3:$AG$20) -> 0 | AP9: =SUMIF($F$3:$F$20,AL9,$AH$3:$AH$20) -> 0
A10: =COUNTIF($G$23:$AC$40,E10) -> 0 | C10: =COUNTIF(G10:AC10,"HR") -> 0 | AE10: =COUNTA(G10:I10,K10:M10,O10:Q10,S10:U10,W10:Y10,AA10:AC10) -> 0 | AF10: =COUNTIF(G10:AC10,"R")+(COUNTIF(G10:AC10,"HR")*2) -> 0 | AG10: =A10+B10 -> 0 | AH10: =COUNTIF(G10:AC10,"K") -> 0 | AI10: 觀測員
A11: =COUNTIF($G$23:$AC$40,E11) -> 0 | C11: =COUNTIF(G11:AC11,"HR") -> 0 | AE11: =COUNTA(G11:I11,K11:M11,O11:Q11,S11:U11,W11:Y11,AA11:AC11) -> 0 | AF11: =COUNTIF(G11:AC11,"R")+(COUNTIF(G11:AC11,"HR")*2) -> 0 | AG11: =A11+B11 -> 0 | AH11: =COUNTIF(G11:AC11,"K") -> 0 | AI11: 劉維璽
A12: =COUNTIF($G$23:$AC$40,E12) -> 0 | C12: =COUNTIF(G12:AC12,"HR") -> 0 | D12: 4 | E12: 39 | F12: 郭亦倫 | G12: K | O12: R | S12: R | W12: 17 | AA12: R | AE12: =COUNTA(G12:I12,K12:M12,O12:Q12,S12:U12,W12:Y12,AA12:AC12) -> 5 | AF12: =COUNTIF(G12:AC12,"R")+(COUNTIF(G12:AC12,"HR")*2) -> 3 | AG12: =A12+B12 -> 0 | AH12: =COUNTIF(G12:AC12,"K") -> 1
A13: =COUNTIF($G$23:$AC$40,E13) -> 0 | C13: =COUNTIF(G13:AC13,"HR") -> 0 | AE13: =COUNTA(G13:I13,K13:M13,O13:Q13,S13:U13,W13:Y13,AA13:AC13) -> 0 | AF13: =COUNTIF(G13:AC13,"R")+(COUNTIF(G13:AC13,"HR")*2) -> 0 | AG13: =A13+B13 -> 0 | AH13: =COUNTIF(G13:AC13,"K") -> 0
A14: =COUNTIF($G$23:$AC$40,E14) -> 0 | C14: =COUNTIF(G14:AC14,"HR") -> 0 | AE14: =COUNTA(G14:I14,K14:M14,O14:Q14,S14:U14,W14:Y14,AA14:AC14) -> 0 | AF14: =COUNTIF(G14:AC14,"R")+(COUNTIF(G14:AC14,"HR")*2) -> 0 | AG14: =A14+B14 -> 0 | AH14: =COUNTIF(G14:AC14,"K") -> 0 | AI14: 候補球員
A15: =COUNTIF($G$23:$AC$40,E15) -> 1 | C15: =COUNTIF(G15:AC15,"HR") -> 0 | D15: 5 | E15: 37 | F15: 古國偉 | K15: R | O15: R | S15: R | W15: R | AA15: K | AE15: =COUNTA(G15:I15,K15:M15,O15:Q15,S15:U15,W15:Y15,AA15:AC15) -> 5 | AF15: =COUNTIF(G15:AC15,"R")+(COUNTIF(G15:AC15,"HR")*2) -> 4 | AG15: =A15+B15 -> 1 | AH15: =COUNTIF(G15:AC15,"K") -> 1
A16: =COUNTIF($G$23:$AC$40,E16) -> 0 | C16: =COUNTIF(G16:AC16,"HR") -> 0 | AE16: =COUNTA(G16:I16,K16:M16,O16:Q16,S16:U16,W16:Y16,AA16:AC16) -> 0 | AF16: =COUNTIF(G16:AC16,"R")+(COUNTIF(G16:AC16,"HR")*2) -> 0 | AG16: =A16+B16 -> 0 | AH16: =COUNTIF(G16:AC16,"K") -> 0 | AM16: =SUM(AM3:AM15) -> 14 | AN16: =SUM(AN3:AN15) -> 12 | AO16: =SUM(AO3:AO15) -> 2 | AP16: =SUM(AP3:AP15) -> 10
A17: =COUNTIF($G$23:$AC$40,E17) -> 0 | C17: =COUNTIF(G17:AC17,"HR") -> 0 | AE17: =COUNTA(G17:I17,K17:M17,O17:Q17,S17:U17,W17:Y17,AA17:AC17) -> 0 | AF17: =COUNTIF(G17:AC17,"R")+(COUNTIF(G17:AC17,"HR")*2) -> 0 | AG17: =A17+B17 -> 0 | AH17: =COUNTIF(G17:AC17,"K") -> 0
A18: =COUNTIF($G$23:$AC$40,E18) -> 1 | C18: =COUNTIF(G18:AC18,"HR") -> 0 | D18: 6 | E18: 18 | F18: 梁耿縉 | K18: K | O18: R | S18: R | W18: K | AA18: K | AE18: =COUNTA(G18:I18,K18:M18,O18:Q18,S18:U18,W18:Y18,AA18:AC18) -> 5 | AF18: =COUNTIF(G18:AC18,"R")+(COUNTIF(G18:AC18,"HR")*2) -> 2 | AG18: =A18+B18 -> 1 | AH18: =COUNTIF(G18:AC18,"K") -> 3
A19: =COUNTIF($G$23:$AC$40,E19) -> 0 | C19: =COUNTIF(G19:AC19,"HR") -> 0 | AE19: =COUNTA(G19:I19,K19:M19,O19:Q19,S19:U19,W19:Y19,AA19:AC19) -> 0 | AF19: =COUNTIF(G19:AC19,"R")+(COUNTIF(G19:AC19,"HR")*2) -> 0 | AG19: =A19+B19 -> 0 | AH19: =COUNTIF(G19:AC19,"K") -> 0
A20: =COUNTIF($G$23:$AC$40,E20) -> 0 | C20: =COUNTIF(G20:AC20,"HR") -> 0 | AE20: =COUNTA(G20:I20,K20:M20,O20:Q20,S20:U20,W20:Y20,AA20:AC20) -> 0 | AF20: =COUNTIF(G20:AC20,"R")+(COUNTIF(G20:AC20,"HR")*2) -> 0 | AG20: =A20+B20 -> 0 | AH20: =COUNTIF(G20:AC20,"K") -> 0
A21: =SUM(A3:A20) -> 2 | B21: =SUM(B3:B20) -> 0 | C21: =SUM(C3:C20) -> 0 | D21: 得分加總 | G21: =COUNTIF(G3:I20,"R")+(COUNTIF(G3:I20,"HR")*2) -> 1 | K21: =COUNTIF(K3:M20,"R")+(COUNTIF(K3:M20,"HR")*2)+G21 -> 2 | O21: =COUNTIF(O3:Q20,"R")+(COUNTIF(O3:Q20,"HR")*2)+K21 -> 5 | S21: =COUNTIF(S3:U20,"R")+(COUNTIF(S3:U20,"HR")*2)+O21 -> 8 | W21: =COUNTIF(W3:Y20,"R")+(COUNTIF(W3:Y20,"HR")*2)+S21 -> 10 | AA21: =COUNTIF(AA3:AC20,"R")+(COUNTIF(AA3:AC20,"HR")*2)+W21 -> 12 | AE21: =SUM(AE3:AE20) -> 30 | AF21: =SUM(AF3:AF20) -> 12 | AG21: =SUM(AG3:AG20) -> 2 | AH21: =SUM(AH3:AH20) -> 10
A22: 撿球 | B22: 接殺 | C22: HR | D22: 後 | E22: 背號 | F22: 球員 | G22: 1 | J22: 投 | K22: 2 | N22: 投 | O22: 3 | R22: 投 | S22: 4 | V22: 投 | W22: 5 | Z22: 投 | AA22: 6 | AD22: 投 | AE22: AB | AF22: R | AG22: Po | AH22: K | AI22: 投/捕/觀
A23: =COUNTIF($G$3:$AC$20,E23) -> 3 | C23: =COUNTIF(G23:AC23,"HR") -> 0 | D23: 1 | E23: 17 | F23: 張睿紘 | G23: K | L23: K | S23: K | X23: K | AE23: =COUNTA(G23:I23,K23:M23,O23:Q23,S23:U23,W23:Y23,AA23:AC23) -> 4 | AF23: =COUNTIF(G23:AC23,"R")+C23 -> 0 | AG23: =A23+B23 -> 3 | AH23: =COUNTIF(G23:AC23,"K") -> 4 | AI23: 投手 | AK23: 17 | AL23: 張睿紘 | AM23: {=_xlfn.CHOOSECOLS(_xlfn._xlws.FILTER($F$23:$AH$40,$F$23:$F$40=AL23),26,27,28,29)} -> 4 | AN23: 0 | AO23: 3 | AP23: 4
A24: =COUNTIF($G$3:$AC$20,E24) -> 0 | C24: =COUNTIF(G24:AC24,"HR") -> 0 | AE24: =COUNTA(G24:I24,K24:M24,O24:Q24,S24:U24,W24:Y24,AA24:AC24) -> 0 | AF24: =COUNTIF(G24:AC24,"R")+C24 -> 0 | AG24: =A24+B24 -> 0 | AH24: =COUNTIF(G24:AC24,"K") -> 0 | AI24: 江言鎧 | AK24: 28 | AL24: 陳傑閔 | AM24: {=_xlfn.CHOOSECOLS(_xlfn._xlws.FILTER($F$23:$AH$40,$F$23:$F$40=AL24),26,27,28,29)} -> 3 | AN24: 2 | AO24: 0 | AP24: 1
A25: =COUNTIF($G$3:$AC$20,E25) -> 0 | C25: =COUNTIF(G25:AC25,"HR") -> 0 | AE25: =COUNTA(G25:I25,K25:M25,O25:Q25,S25:U25,W25:Y25,AA25:AC25) -> 0 | AF25: =COUNTIF(G25:AC25,"R")+C25 -> 0 | AG25: =A25+B25 -> 0 | AH25: =COUNTIF(G25:AC25,"K") -> 0 | AK25: 15 | AL25: 蔡宗豪 | AM25: {=_xlfn.CHOOSECOLS(_xlfn._xlws.FILTER($F$23:$AH$40,$F$23:$F$40=AL25),26,27,28,29)} -> 1 | AN25: 1 | AO25: 0 | AP25: 0
A26: =COUNTIF($G$3:$AC$20,E26) -> 0 | C26: =COUNTIF(G26:AC26,"HR") -> 0 | D26: 2 | E26: 28 | F26: 陳傑閔 | G26: K | O26: R | S26: R | AE26: =COUNTA(G26:I26,K26:M26,O26:Q26,S26:U26,W26:Y26,AA26:AC26) -> 3 | AF26: =COUNTIF(G26:AC26,"R")+C26 -> 2 | AG26: =A26+B26 -> 0 | AH26: =COUNTIF(G26:AC26,"K") -> 1 | AI26: 捕手 | AK26: 1 | AL26: 賴保全 | AM26: {=_xlfn.CHOOSECOLS(_xlfn._xlws.FILTER($F$23:$AH$40,$F$23:$F$40=AL26),26,27,28,29)} -> 4 | AN26: 1 | AO26: 2 | AP26: 2
A27: =COUNTIF($G$3:$AC$20,E27) -> 0 | C27: =COUNTIF(G27:AC27,"HR") -> 0 | E27: 15 | F27: 蔡宗豪 | AA27: R | AE27: =COUNTA(G27:I27,K27:M27,O27:Q27,S27:U27,W27:Y27,AA27:AC27) -> 1 | AF27: =COUNTIF(G27:AC27,"R")+C27 -> 1 | AG27: =A27+B27 -> 0 | AH27: =COUNTIF(G27:AC27,"K") -> 0 | AK27: 37 | AL27: 蔡志雄 | AM27: {=_xlfn.CHOOSECOLS(_xlfn._xlws.FILTER($F$23:$AH$40,$F$23:$F$40=AL27),26,27,28,29)} -> 4 | AN27: 1 | AO27: 2 | AP27: 3
A28: =COUNTIF($G$3:$AC$20,E28) -> 0 | C28: =COUNTIF(G28:AC28,"HR") -> 0 | AE28: =COUNTA(G28:I28,K28:M28,O28:Q28,S28:U28,W28:Y28,AA28:AC28) -> 0 | AF28: =COUNTIF(G28:AC28,"R")+C28 -> 0 | AG28: =A28+B28 -> 0 | AH28: =COUNTIF(G28:AC28,"K") -> 0 | AK28: 421 | AL28: 黃雅苓 | AM28: {=_xlfn.CHOOSECOLS(_xlfn._xlws.FILTER($F$23:$AH$40,$F$23:$F$40=AL28),26,27,28,29)} -> 4 | AN28: 0 | AO28: 1 | AP28: 4
A29: =COUNTIF($G$3:$AC$20,E29) -> 2 | C29: =COUNTIF(G29:AC29,"HR") -> 0 | D29: 3 | E29: 1 | F29: 賴保全 | G29: K | O29: R | S29: K | AA29: 37 | AE29: =COUNTA(G29:I29,K29:M29,O29:Q29,S29:U29,W29:Y29,AA29:AC29) -> 4 | AF29: =COUNTIF(G29:AC29,"R")+C29 -> 1 | AG29: =A29+B29 -> 2 | AH29: =COUNTIF(G29:AC29,"K") -> 2 | AK29: 66 | AL29: 陳韻婷 | AM29: {=_xlfn.CHOOSECOLS(_xlfn._xlws.FILTER($F$23:$AH$40,$F$23:$F$40=AL29),26,27,28,29)} -> 3 | AN29: 0 | AO29: 0 | AP29: 2
A30: =COUNTIF($G$3:$AC$20,E30) -> 0 | C30: =COUNTIF(G30:AC30,"HR") -> 0 | AE30: =COUNTA(G30:I30,K30:M30,O30:Q30,S30:U30,W30:Y30,AA30:AC30) -> 0 | AF30: =COUNTIF(G30:AC30,"R")+C30 -> 0 | AG30: =A30+B30 -> 0 | AH30: =COUNTIF(G30:AC30,"K") -> 0 | AI30: 觀測員
A31: =COUNTIF($G$3:$AC$20,E31) -> 0 | C31: =COUNTIF(G31:AC31,"HR") -> 0 | AE31: =COUNTA(G31:I31,K31:M31,O31:Q31,S31:U31,W31:Y31,AA31:AC31) -> 0 | AF31: =COUNTIF(G31:AC31,"R")+C31 -> 0 | AG31: =A31+B31 -> 0 | AH31: =COUNTIF(G31:AC31,"K") -> 0 | AI31: 江言鎧
A32: =COUNTIF($G$3:$AC$20,E32) -> 2 | C32: =COUNTIF(G32:AC32,"HR") -> 0 | D32: 4 | E32: 37 | F32: 蔡志雄 | K32: R | O32: K | S32: K | AA32: K | AE32: =COUNTA(G32:I32,K32:M32,O32:Q32,S32:U32,W32:Y32,AA32:AC32) -> 4 | AF32: =COUNTIF(G32:AC32,"R")+C32 -> 1 | AG32: =A32+B32 -> 2 | AH32: =COUNTIF(G32:AC32,"K") -> 3
A33: =COUNTIF($G$3:$AC$20,E33) -> 0 | C33: =COUNTIF(G33:AC33,"HR") -> 0 | AE33: =COUNTA(G33:I33,K33:M33,O33:Q33,S33:U33,W33:Y33,AA33:AC33) -> 0 | AF33: =COUNTIF(G33:AC33,"R")+C33 -> 0 | AG33: =A33+B33 -> 0 | AH33: =COUNTIF(G33:AC33,"K") -> 0
A34: =COUNTIF($G$3:$AC$20,E34) -> 0 | C34: =COUNTIF(G34:AC34,"HR") -> 0 | AE34: =COUNTA(G34:I34,K34:M34,O34:Q34,S34:U34,W34:Y34,AA34:AC34) -> 0 | AF34: =COUNTIF(G34:AC34,"R")+C34 -> 0 | AG34: =A34+B34 -> 0 | AH34: =COUNTIF(G34:AC34,"K") -> 0 | AI34: 候補球員
A35: =COUNTIF($G$3:$AC$20,E35) -> 1 | C35: =COUNTIF(G35:AC35,"HR") -> 0 | D35: 5 | E35: 421 | F35: 黃雅苓 | K35: K | O35: K | W35: K | AA35: K | AE35: =COUNTA(G35:I35,K35:M35,O35:Q35,S35:U35,W35:Y35,AA35:AC35) -> 4 | AF35: =COUNTIF(G35:AC35,"R")+C35 -> 0 | AG35: =A35+B35 -> 1 | AH35: =COUNTIF(G35:AC35,"K") -> 4 | AM35: =SUM(AM23:AM34) -> 23 | AN35: =SUM(AN23:AN32) -> 5 | AO35: =SUM(AO23:AO32) -> 8 | AP35: =SUM(AP23:AP32) -> 16
A36: =COUNTIF($G$3:$AC$20,E36) -> 0 | C36: =COUNTIF(G36:AC36,"HR") -> 0 | AE36: =COUNTA(G36:I36,K36:M36,O36:Q36,S36:U36,W36:Y36,AA36:AC36) -> 0 | AF36: =COUNTIF(G36:AC36,"R")+C36 -> 0 | AG36: =A36+B36 -> 0 | AH36: =COUNTIF(G36:AC36,"K") -> 0
A37: =COUNTIF($G$3:$AC$20,E37) -> 0 | C37: =COUNTIF(G37:AC37,"HR") -> 0 | AE37: =COUNTA(G37:I37,K37:M37,O37:Q37,S37:U37,W37:Y37,AA37:AC37) -> 0 | AF37: =COUNTIF(G37:AC37,"R")+C37 -> 0 | AG37: =A37+B37 -> 0 | AH37: =COUNTIF(G37:AC37,"K") -> 0
A38: =COUNTIF($G$3:$AC$20,E38) -> 0 | C38: =COUNTIF(G38:AC38,"HR") -> 0 | D38: 6 | E38: 66 | F38: 陳韻婷 | K38: 18 | O38: K | W38: K | AE38: =COUNTA(G38:I38,K38:M38,O38:Q38,S38:U38,W38:Y38,AA38:AC38) -> 3 | AF38: =COUNTIF(G38:AC38,"R")+C38 -> 0 | AG38: =A38+B38 -> 0 | AH38: =COUNTIF(G38:AC38,"K") -> 2
A39: =COUNTIF($G$3:$AC$20,E39) -> 0 | C39: =COUNTIF(G39:AC39,"HR") -> 0 | AE39: =COUNTA(G39:I39,K39:M39,O39:Q39,S39:U39,W39:Y39,AA39:AC39) -> 0 | AF39: =COUNTIF(G39:AC39,"R")+C39 -> 0 | AG39: =A39+B39 -> 0 | AH39: =COUNTIF(G39:AC39,"K") -> 0
A40: =COUNTIF($G$3:$AC$20,E40) -> 0 | C40: =COUNTIF(G40:AC40,"HR") -> 0 | AE40: =COUNTA(G40:I40,K40:M40,O40:Q40,S40:U40,W40:Y40,AA40:AC40) -> 0 | AF40: =COUNTIF(G40:AC40,"R")+C40 -> 0 | AG40: =A40+B40 -> 0 | AH40: =COUNTIF(G40:AC40,"K") -> 0
A41: =SUM(A23:A40) -> 8 | B41: =SUM(B23:B40) -> 0 | C41: =SUM(C23:C40) -> 0 | D41: 得分加總 | G41: =COUNTIF(G23:I40,"R")+(COUNTIF(G23:I40,"HR")*2) -> 0 | K41: =COUNTIF(K23:M40,"R")+(COUNTIF(K23:M40,"HR")*2)+G41 -> 1 | O41: =COUNTIF(O23:Q40,"R")+(COUNTIF(O23:Q40,"HR")*2)+K41 -> 3 | S41: =COUNTIF(S23:U40,"R")+(COUNTIF(S23:U40,"HR")*2)+O41 -> 4 | W41: =COUNTIF(W23:Y40,"R")+(COUNTIF(W23:Y40,"HR")*2)+S41 -> 4 | AA41: =COUNTIF(AA23:AC40,"R")+(COUNTIF(AA23:AC40,"HR")*2)+W41 -> 5 | AE41: =SUM(AE23:AE40) -> 23 | AF41: =SUM(AF23:AF40) -> 5 | AG41: =SUM(AG23:AG40) -> 8 | AH41: =SUM(AH23:AH40) -> 16

Sheet 成績匯總 (函數)
A3: A | B3: 閃電 | C3: G1 | G3: G2 | K3: G3 | O3: G4 | S3: G5 | W3: G6 | AA3: 數據
A4: 背號 | B4: 姓名 | C4: AB | D4: R | E4: Po | F4: K | G4: AB | H4: R | I4: Po | J4: K | K4: AB | L4: R | M4: Po | N4: K | O4: AB | P4: R | Q4: Po | R4: K | S4: AB | T4: R | U4: Po | V4: K | W4: AB | X4: R | Y4: Po | Z4: K | AA4: AB | AB4: R | AC4: Po | AD4: K | AE4: 打擊率 (R/AB)
A5: 8 | B5: 陳璽帆 | C5: {=IFERROR(_xlfn.XLOOKUP(B5,'G1'!$AL$3:$AL$34,'G1'!$AM$3:$AP$34),0)} -> 4 | D5: 1 | E5: 2 | F5: 3 | G5: {=IFERROR(_xlfn.XLOOKUP(B5,'G2'!$AL$3:$AL$34,'G2'!$AM$3:$AP$34),0)} -> 0 | K5: {=IFERROR(_xlfn.XLOOKUP(B5,'G3'!$AL$3:$AL$34,'G3'!$AM$3:$AP$34),0)} -> 4 | L5: 1 | M5: 1 | N5: 2 | O5: {=IFERROR(_xlfn.XLOOKUP(B5,'G4'!$AL$3:$AL$34,'G4'!$AM$3:$AP$34),0)} -> 0 | S5: {=IFERROR(_xlfn.XLOOKUP(B5,'G5'!$AL$3:$AL$34,'G5'!$AM$3:$AP$34),0)} -> 0 | W5: {=IFERROR(_xlfn.XLOOKUP(B5,'G6'!$AL$3:$AL$34,'G6'!$AM$3:$AP$34),0)} -> 0 | AA5: =+C5+G5+K5+O5+S5+W5 -> 8 | AB5: =+D5+H5+L5+P5+T5+X5 -> 2 | AC5: =+E5+I5+M5+Q5+U5+Y5 -> 3 | AD5: =+F5+J5+N5+R5+V5+Z5 -> 5 | AE5: =+AB5/AA5 -> 0.25
A6: 4 | B6: 黃柏欽 | C6: {=IFERROR(_xlfn.XLOOKUP(B6,'G1'!$AL$3:$AL$34,'G1'!$AM$3:$AP$34),0)} -> 3 | D6: 1 | E6: 0 | F6: 2 | G6: {=IFERROR(_xlfn.XLOOKUP(B6,'G2'!$AL$3:$AL$34,'G2'!$AM$3:$AP$34),0)} -> 0 | K6: {=IFERROR(_xlfn.XLOOKUP(B6,'G3'!$AL$3:$AL$34,'G3'!$AM$3:$AP$34),0)} -> 1 | L6: 0 | M6: 0 | N6: 1 | O6: {=IFERROR(_xlfn.XLOOKUP(B6,'G4'!$AL$3:$AL$34,'G4'!$AM$3:$AP$34),0)} -> 0 | S6: {=IFERROR(_xlfn.XLOOKUP(B6,'G5'!$AL$3:$AL$34,'G5'!$AM$3:$AP$34),0)} -> 0 | W6: {=IFERROR(_xlfn.XLOOKUP(B6,'G6'!$AL$3:$AL$34,'G6'!$AM$3:$AP$34),0)} -> 0 | AA6: =+C6+G6+K6+O6+S6+W6 -> 4 | AB6: =+D6+H6+L6+P6+T6+X6 -> 1 | AC6: =+E6+I6+M6+Q6+U6+Y6 -> 0 | AD6: =+F6+J6+N6+R6+V6+Z6 -> 3 | AE6: =+AB6/AA6 -> 0.25
A7: 21 | B7: 郭育廷 | C7: {=IFERROR(_xlfn.XLOOKUP(B7,'G1'!$AL$3:$AL$34,'G1'!$AM$3:$AP$34),0)} -> 0 | G7: {=IFERROR(_xlfn.XLOOKUP(B7,'G2'!$AL$3:$AL$34,'G2'!$AM$3:$AP$34),0)} -> 0 | K7: {=IFERROR(_xlfn.XLOOKUP(B7,'G3'!$AL$3:$AL$34,'G3'!$AM$3:$AP$34),0)} -> 4 | L7: 0 | M7: 4 | N7: 4 | O7: {=IFERROR(_xlfn.XLOOKUP(B7,'G4'!$AL$3:$AL$34,'G4'!$AM$3:$AP$34),0)} -> 0 | S7: {=IFERROR(_xlfn.XLOOKUP(B7,'G5'!$AL$3:$AL$34,'G5'!$AM$3:$AP$34),0)} -> 0 | W7: {=IFERROR(_xlfn.XLOOKUP(B7,'G6'!$AL$3:$AL$34,'G6'!$AM$3:$AP$34),0)} -> 0 | AA7: =+C7+G7+K7+O7+S7+W7 -> 4 | AB7: =+D7+H7+L7+P7+T7+X7 -> 0 | AC7: =+E7+I7+M7+Q7+U7+Y7 -> 4 | AD7: =+F7+J7+N7+R7+V7+Z7 -> 4 | AE7: =+AB7/AA7 -> 0
A8: 99 | B8: 林育良 | C8: {=IFERROR(_xlfn.XLOOKUP(B8,'G1'!$AL$3:$AL$34,'G1'!$AM$3:$AP$34),0)} -> 4 | D8: 1 | E8: 0 | F8: 3 | G8: {=IFERROR(_xlfn.XLOOKUP(B8,'G2'!$AL$3:$AL$34,'G2'!$AM$3:$AP$34),0)} -> 0 | K8: {=IFERROR(_xlfn.XLOOKUP(B8,'G3'!$AL$3:$AL$34,'G3'!$AM$3:$AP$34),0)} -> 4 | L8: 3 | M8: 0 | N8: 0 | O8: {=IFERROR(_xlfn.XLOOKUP(B8,'G4'!$AL$3:$AL$34,'G4'!$AM$3:$AP$34),0)} -> 0 | S8: {=IFERROR(_xlfn.XLOOKUP(B8,'G5'!$AL$3:$AL$34,'G5'!$AM$3:$AP$34),0)} -> 0 | W8: {=IFERROR(_xlfn.XLOOKUP(B8,'G6'!$AL$3:$AL$34,'G6'!$AM$3:$AP$34),0)} -> 0 | AA8: =+C8+G8+K8+O8+S8+W8 -> 8 | AB8: =+D8+H8+L8+P8+T8+X8 -> 4 | AC8: =+E8+I8+M8+Q8+U8+Y8 -> 0 | AD8: =+F8+J8+N8+R8+V8+Z8 -> 3 | AE8: =+AB8/AA8 -> 0.5
A9: 111 | B9: 林健彰 | C9: {=IFERROR(_xlfn.XLOOKUP(B9,'G1'!$AL$3:$AL$34,'G1'!$AM$3:$AP$34),0)} -> 4 | D9: 3 | E9: 0 | F9: 1 | G9: {=IFERROR(_xlfn.XLOOKUP(B9,'G2'!$AL$3:$AL$34,'G2'!$AM$3:$AP$34),0)} -> 0 | K9: {=IFERROR(_xlfn.XLOOKUP(B9,'G3'!$AL$3:$AL$34,'G3'!$AM$3:$AP$34),0)} -> 4 | L9: 1 | M9: 1 | N9: 3 | O9: {=IFERROR(_xlfn.XLOOKUP(B9,'G4'!$AL$3:$AL$34,'G4'!$AM$3:$AP$34),0)} -> 0 | S9: {=IFERROR(_xlfn.XLOOKUP(B9,'G5'!$AL$3:$AL$34,'G5'!$AM$3:$AP$34),0)} -> 0 | W9: {=IFERROR(_xlfn.XLOOKUP(B9,'G6'!$AL$3:$AL$34,'G6'!$AM$3:$AP$34),0)} -> 0 | AA9: =+C9+G9+K9+O9+S9+W9 -> 8 | AB9: =+D9+H9+L9+P9+T9+X9 -> 4 | AC9: =+E9+I9+M9+Q9+U9+Y9 -> 1 | AD9: =+F9+J9+N9+R9+V9+Z9 -> 4 | AE9: =+AB9/AA9 -> 0.5
A10: 35 | B10: 陳俊欽 | C10: {=IFERROR(_xlfn.XLOOKUP(B10,'G1'!$AL$3:$AL$34,'G1'!$AM$3:$AP$34),0)} -> 3 | D10: 0 | E10: 1 | F10: 3 | G10: {=IFERROR(_xlfn.XLOOKUP(B10,'G2'!$AL$3:$AL$34,'G2'!$AM$3:$AP$34),0)} -> 0 | K10: {=IFERROR(_xlfn.XLOOKUP(B10,'G3'!$AL$3:$AL$34,'G3'!$AM$3:$AP$34),0)} -> 3 | L10: 1 | M10: 2 | N10: 1 | O10: {=IFERROR(_xlfn.XLOOKUP(B10,'G4'!$AL$3:$AL$34,'G4'!$AM$3:$AP$34),0)} -> 0 | S10: {=IFERROR(_xlfn.XLOOKUP(B10,'G5'!$AL$3:$AL$34,'G5'!$AM$3:$AP$34),0)} -> 0 | W10: {=IFERROR(_xlfn.XLOOKUP(B10,'G6'!$AL$3:$AL$34,'G6'!$AM$3:$AP$34),0)} -> 0 | AA10: =+C10+G10+K10+O10+S10+W10 -> 6 | AB10: =+D10+H10+L10+P10+T10+X10 -> 1 | AC10: =+E10+I10+M10+Q10+U10+Y10 -> 3 | AD10: =+F10+J10+N10+R10+V10+Z10 -> 4 | AE10: =+AB10/AA10 -> 0.16666667
A11: 88 | B11: 鄭傳逸 | C11: {=IFERROR(_xlfn.XLOOKUP(B11,'G1'!$AL$3:$AL$34,'G1'!$AM$3:$AP$34),0)} -> 4 | D11: 1 | E11: 0 | F11: 2 | G11: {=IFERROR(_xlfn.XLOOKUP(B11,'G2'!$AL$3:$AL$34,'G2'!$AM$3:$AP$34),0)} -> 0 | K11: {=IFERROR(_xlfn.XLOOKUP(B11,'G3'!$AL$3:$AL$34,'G3'!$AM$3:$AP$34),0)} -> 4 | L11: 3 | M11: 1 | N11: 1 | O11: {=IFERROR(_xlfn.XLOOKUP(B11,'G4'!$AL$3:$AL$34,'G4'!$AM$3:$AP$34),0)} -> 0 | S11: {=IFERROR(_xlfn.XLOOKUP(B11,'G5'!$AL$3:$AL$34,'G5'!$AM$3:$AP$34),0)} -> 0 | W11: {=IFERROR(_xlfn.XLOOKUP(B11,'G6'!$AL$3:$AL$34,'G6'!$AM$3:$AP$34),0)} -> 0 | AA11: =+C11+G11+K11+O11+S11+W11 -> 8 | AB11: =+D11+H11+L11+P11+T11+X11 -> 4 | AC11: =+E11+I11+M11+Q11+U11+Y11 -> 1 | AD11: =+F11+J11+N11+R11+V11+Z11 -> 3 | AE11: =+AB11/AA11 -> 0.5
C12: {=IFERROR(_xlfn.XLOOKUP(B12,'G1'!$AL$3:$AL$34,'G1'!$AM$3:$AP$34),0)} -> 0 | D12: 0 | E12: 0 | F12: 0 | G12: {=IFERROR(_xlfn.XLOOKUP(B12,'G2'!$AL$3:$AL$34,'G2'!$AM$3:$AP$34),0)} -> 0 | H12: 0 | I12: 0 | J12: 0 | K12: {=IFERROR(_xlfn.XLOOKUP(B12,'G3'!$AL$3:$AL$34,'G3'!$AM$3:$AP$34),0)} -> 0 | L12: 0 | M12: 0 | N12: 0 | O12: {=IFERROR(_xlfn.XLOOKUP(B12,'G4'!$AL$3:$AL$34,'G4'!$AM$3:$AP$34),0)} -> 0 | P12: 0 | Q12: 0 | R12: 0 | S12: {=IFERROR(_xlfn.XLOOKUP(B12,'G5'!$AL$3:$AL$34,'G5'!$AM$3:$AP$34),0)} -> 0 | T12: 0 | U12: 0 | V12: 0 | W12: {=IFERROR(_xlfn.XLOOKUP(B12,'G6'!$AL$3:$AL$34,'G6'!$AM$3:$AP$34),0)} -> 0 | X12: 0 | Y12: 0 | Z12: 0 | AA12: =+C12+G12+K12+O12+S12+W12 -> 0 | AB12: =+D12+H12+L12+P12+T12+X12 -> 0 | AC12: =+E12+I12+M12+Q12+U12+Y12 -> 0 | AD12: =+F12+J12+N12+R12+V12+Z12 -> 0 | AE12: =+AB12/AA12 -> #DIV/0!
C13: =SUM(C5:C12) -> 22 | D13: =SUM(D5:D12) -> 7 | E13: =SUM(E5:E12) -> 3 | F13: =SUM(F5:F12) -> 14 | G13: =SUM(G5:G12) -> 0 | H13: =SUM(H5:H12) -> 0 | I13: =SUM(I5:I12) -> 0 | J13: =SUM(J5:J12) -> 0 | ... AD13: =SUM(AD5:AD12) -> 26 | AE13: =+AB13/AA13 -> 0.34782609
A15: B | B15: 夜魔俠 | C15: G1 | G15: G2 | K15: G3 | O15: G4 | S15: G5 | W15: G6 | AA15: 數據
A16: 背號 | B16: 姓名 | C16: AB | D16: R | E16: Po | F16: K | G16: AB | H16: R | I16: Po | J16: K | K16: AB | L16: R | M16: Po | N16: K | O16: AB | P16: R | Q16: Po | R16: K | S16: AB | T16: R | U16: Po | V16: K | W16: AB | X16: R | Y16: Po | Z16: K | AA16: AB | AB16: R | AC16: Po | AD16: K | AE16: 打擊率 (R/AB)
A17: 18 | B17: 梁耿縉 | C17: {=IFERROR(_xlfn.XLOOKUP(B17,'G1'!$AL$3:$AL$34,'G1'!$AM$3:$AP$34),0)} -> 0 | G17: {=IFERROR(_xlfn.XLOOKUP(B17,'G2'!$AL$3:$AL$34,'G2'!$AM$3:$AP$34),0)} -> 7 | H17: 6 | I17: 0 | J17: 1 | K17: {=IFERROR(_xlfn.XLOOKUP(B17,'G3'!$AL$3:$AL$34,'G3'!$AM$3:$AP$34),0)} -> 5 | L17: 4 | M17: 0 | N17: 1 | O17: {=IFERROR(_xlfn.XLOOKUP(B17,'G4'!$AL$3:$AL$34,'G4'!$AM$3:$AP$34),0)} -> 0 | S17: {=IFERROR(_xlfn.XLOOKUP(B17,'G5'!$AL$3:$AL$34,'G5'!$AM$3:$AP$34),0)} -> 0 | W17: {=IFERROR(_xlfn.XLOOKUP(B17,'G6'!$AL$3:$AL$34,'G6'!$AM$3:$AP$34),0)} -> 4 | X17: 2 | Y17: 1 | Z17: 3 | AA17: =+C17+G17+K17+O17+S17+W17 -> 16 | AB17: =+D17+H17+L17+P17+T17+X17 -> 12 | AC17: =+E17+I17+M17+Q17+U17+Y17 -> 1 | AD17: =+F17+J17+N17+R17+V17+Z17 -> 5 | AE17: =+AB17/AA17 -> 0.75
A18: 11 | B18: 勞恩以達西拔 | C18: {=IFERROR(_xlfn.XLOOKUP(B18,'G1'!$AL$3:$AL$34,'G1'!$AM$3:$AP$34),0)} -> 0 | G18: {=IFERROR(_xlfn.XLOOKUP(B18,'G2'!$AL$3:$AL$34,'G2'!$AM$3:$AP$34),0)} -> 7 | H18: 5 | I18: 3 | J18: 0 | K18: {=IFERROR(_xlfn.XLOOKUP(B18,'G3'!$AL$3:$AL$34,'G3'!$AM$3:$AP$34),0)} -> 0 | L18: 0 | M18: 0 | N18: 0 | O18: {=IFERROR(_xlfn.XLOOKUP(B18,'G4'!$AL$3:$AL$34,'G4'!$AM$3:$AP$34),0)} -> 0 | S18: {=IFERROR(_xlfn.XLOOKUP(B18,'G5'!$AL$3:$AL$34,'G5'!$AM$3:$AP$34),0)} -> 0 | W18: {=IFERROR(_xlfn.XLOOKUP(B18,'G6'!$AL$3:$AL$34,'G6'!$AM$3:$AP$34),0)} -> 0 | X18: 0 | Y18: 0 | Z18: 0 | AA18: =+C18+G18+K18+O18+S18+W18 -> 7 | AB18: =+D18+H18+L18+P18+T18+X18 -> 5 | AC18: =+E18+I18+M18+Q18+U18+Y18 -> 3 | AD18: =+F18+J18+N18+R18+V18+Z18 -> 0 | AE18: =+AB18/AA18 -> 0.71428571
A19: 22 | B19: 蔡存宥 | C19: {=IFERROR(_xlfn.XLOOKUP(B19,'G1'!$AL$3:$AL$34,'G1'!$AM$3:$AP$34),0)} -> 0 | G19: {=IFERROR(_xlfn.XLOOKUP(B19,'G2'!$AL$3:$AL$34,'G2'!$AM$3:$AP$34),0)} -> 7 | H19: 2 | I19: 3 | J19: 4 | K19: {=IFERROR(_xlfn.XLOOKUP(B19,'G3'!$AL$3:$AL$34,'G3'!$AM$3:$AP$34),0)} -> 5 | L19: 1 | M19: 1 | N19: 1 | O19: {=IFERROR(_xlfn.XLOOKUP(B19,'G4'!$AL$3:$AL$34,'G4'!$AM$3:$AP$34),0)} -> 0 | S19: {=IFERROR(_xlfn.XLOOKUP(B19,'G5'!$AL$3:$AL$34,'G5'!$AM$3:$AP$34),0)} -> 0 | W19: {=IFERROR(_xlfn.XLOOKUP(B19,'G6'!$AL$3:$AL$34,'G6'!$AM$3:$AP$34),0)} -> 0 | X19: 1 | Y19: 0 | Z19: 3 | AA19: =+C19+G19+K19+O19+S19+W19 -> 12 | AB19: =+D19+H19+L19+P19+T19+X19 -> 4 | AC19: =+E19+I19+M19+Q19+U19+Y19 -> 4 | AD19: =+F19+J19+N19+R19+V19+Z19 -> 8 | AE19: =+AB19/AA19 -> 0.33333333
A20: 39 | B20: 郭亦倫 | C20: {=IFERROR(_xlfn.XLOOKUP(B20,'G1'!$AL$3:$AL$34,'G1'!$AM$3:$AP$34),0)} -> 0 | G20: {=IFERROR(_xlfn.XLOOKUP(B20,'G2'!$AL$3:$AL$34,'G2'!$AM$3:$AP$34),0)} -> 6 | H20: 4 | I20: 2 | J20: 2 | K20: {=IFERROR(_xlfn.XLOOKUP(B20,'G3'!$AL$3:$AL$34,'G3'!$AM$3:$AP$34),0)} -> 2 | L20: 1 | M20: 1 | N20: 1 | O20: {=IFERROR(_xlfn.XLOOKUP(B20,'G4'!$AL$3:$AL$34,'G4'!$AM$3:$AP$34),0)} -> 0 | S20: {=IFERROR(_xlfn.XLOOKUP(B20,'G5'!$AL$3:$AL$34,'G5'!$AM$3:$AP$34),0)} -> 0 | W20: {=IFERROR(_xlfn.XLOOKUP(B20,'G6'!$AL$3:$AL$34,'G6'!$AM$3:$AP$34),0)} -> 5 | X20: 3 | Y20: 0 | Z20: 1 | AA20: =+C20+G20+K20+O20+S20+W20 -> 13 | AB20: =+D20+H20+L20+P20+T20+X20 -> 8 | AC20: =+E20+I20+M20+Q20+U20+Y20 -> 3 | AD20: =+F20+J20+N20+R20+V20+Z20 -> 4 | AE20: =+AB20/AA20 -> 0.61538462
A21: 37 | B21: 古國偉 | C21: {=IFERROR(_xlfn.XLOOKUP(B21,'G1'!$AL$3:$AL$34,'G1'!$AM$3:$AP$34),0)} -> 0 | G21: {=IFERROR(_xlfn.XLOOKUP(B21,'G2'!$AL$3:$AL$34,'G2'!$AM$3:$AP$34),0)} -> 6 | H21: 2 | I21: 5 | J21: 3 | K21: {=IFERROR(_xlfn.XLOOKUP(B21,'G3'!$AL$3:$AL$34,'G3'!$AM$3:$AP$34),0)} -> 3 | L21: 0 | M21: 0 | N21: 2 | O21: {=IFERROR(_xlfn.XLOOKUP(B21,'G4'!$AL$3:$AL$34,'G4'!$AM$3:$AP$34),0)} -> 0 | S21: {=IFERROR(_xlfn.XLOOKUP(B21,'G5'!$AL$3:$AL$34,'G5'!$AM$3:$AP$34),0)} -> 0 | W21: {=IFERROR(_xlfn.XLOOKUP(B21,'G6'!$AL$3:$AL$34,'G6'!$AM$3:$AP$34),0)} -> 0 | X21: 4 | Y21: 1 | Z21: 1 | AA21: =+C21+G21+K21+O21+S21+W21 -> 9 | AB21: =+D21+H21+L21+P21+T21+X21 -> 6 | AC21: =+E21+I21+M21+Q21+U21+Y21 -> 6 | AD21: =+F21+J21+N21+R21+V21+Z21 -> 6 | AE21: =+AB21/AA21 -> 0.66666667
A22: 81 | B22: 余自成 | C22: {=IFERROR(_xlfn.XLOOKUP(B22,'G1'!$AL$3:$AL$34,'G1'!$AM$3:$AP$34),0)} -> 0 | G22: {=IFERROR(_xlfn.XLOOKUP(B22,'G2'!$AL$3:$AL$34,'G2'!$AM$3:$AP$34),0)} -> 6 | H22: 2 | I22: 1 | J22: 1 | K22: {=IFERROR(_xlfn.XLOOKUP(B22,'G3'!$AL$3:$AL$34,'G3'!$AM$3:$AP$34),0)} -> 3 | L22: 1 | M22: 1 | N22: 0 | O22: {=IFERROR(_xlfn.XLOOKUP(B22,'G4'!$AL$3:$AL$34,'G4'!$AM$3:$AP$34),0)} -> 0 | S22: {=IFERROR(_xlfn.XLOOKUP(B22,'G5'!$AL$3:$AL$34,'G5'!$AM$3:$AP$34),0)} -> 0 | W22: {=IFERROR(_xlfn.XLOOKUP(B22,'G6'!$AL$3:$AL$34,'G6'!$AM$3:$AP$34),0)} -> 0 | X22: 2 | Y22: 0 | Z22: 1 | AA22: =+C22+G22+K22+O22+S22+W22 -> 9 | AB22: =+D22+H22+L22+P22+T22+X22 -> 5 | AC22: =+E22+I22+M22+Q22+U22+Y22 -> 2 | AD22: =+F22+J22+N22+R22+V22+Z22 -> 2 | AE22: =+AB22/AA22 -> 0.55555556
A23: 58 | B23: 蔡孟洵 | C23: {=IFERROR(_xlfn.XLOOKUP(B23,'G1'!$AL$3:$AL$34,'G1'!$AM$3:$AP$34),0)} -> 0 | G23: {=IFERROR(_xlfn.XLOOKUP(B23,'G2'!$AL$3:$AL$34,'G2'!$AM$3:$AP$34),0)} -> 0 | K23: {=IFERROR(_xlfn.XLOOKUP(B23,'G3'!$AL$3:$AL$34,'G3'!$AM$3:$AP$34),0)} -> 4 | L23: 0 | M23: 0 | N23: 1 | O23: {=IFERROR(_xlfn.XLOOKUP(B23,'G4'!$AL$3:$AL$34,'G4'!$AM$3:$AP$34),0)} -> 0 | S23: {=IFERROR(_xlfn.XLOOKUP(B23,'G5'!$AL$3:$AL$34,'G5'!$AM$3:$AP$34),0)} -> 0 | W23: {=IFERROR(_xlfn.XLOOKUP(B23,'G6'!$AL$3:$AL$34,'G6'!$AM$3:$AP$34),0)} -> 5 | X23: 0 | Y23: 0 | Z23: 1 | AA23: =+C23+G23+K23+O23+S23+W23 -> 9 | AB23: =+D23+H23+L23+P23+T23+X23 -> 0 | AC23: =+E23+I23+M23+Q23+U23+Y23 -> 0 | AD23: =+F23+J23+N23+R23+V23+Z23 -> 2 | AE23: =+AB23/AA23 -> 0
A24: o | B24: 吳品逸 | C24: {=IFERROR(_xlfn.XLOOKUP(B24,'G1'!$AL$3:$AL$34,'G1'!$AM$3:$AP$34),0)} -> 0 | G24: {=IFERROR(_xlfn.XLOOKUP(B24,'G2'!$AL$3:$AL$34,'G2'!$AM$3:$AP$34),0)} -> 0 | K24: {=IFERROR(_xlfn.XLOOKUP(B24,'G3'!$AL$3:$AL$34,'G3'!$AM$3:$AP$34),0)} -> 4 | L24: 1 | M24: 0 | N24: 3 | O24: {=IFERROR(_xlfn.XLOOKUP(B24,'G4'!$AL$3:$AL$34,'G4'!$AM$3:$AP$34),0)} -> 0 | S24: {=IFERROR(_xlfn.XLOOKUP(B24,'G5'!$AL$3:$AL$34,'G5'!$AM$3:$AP$34),0)} -> 0 | W24: {=IFERROR(_xlfn.XLOOKUP(B24,'G6'!$AL$3:$AL$34,'G6'!$AM$3:$AP$34),0)} -> 0 | AA24: =+C24+G24+K24+O24+S24+W24 -> 4 | AB24: =+D24+H24+L24+P24+T24+X24 -> 1 | AC24: =+E24+I24+M24+Q24+U24+Y24 -> 0 | AD24: =+F24+J24+N24+R24+V24+Z24 -> 3 | AE24: =+AB24/AA24 -> 0.25
C25: {=IFERROR(_xlfn.XLOOKUP(B25,'G1'!$AL$3:$AL$34,'G1'!$AM$3:$AP$34),0)} -> 0 | D25: 0 | E25: 0 | F25: 0 | G25: {=IFERROR(_xlfn.XLOOKUP(B25,'G2'!$AL$3:$AL$34,'G2'!$AM$3:$AP$34),0)} -> 0 | H25: 0 | I25: 0 | J25: 0 | K25: {=IFERROR(_xlfn.XLOOKUP(B25,'G3'!$AL$3:$AL$34,'G3'!$AM$3:$AP$34),0)} -> 0 | L25: 0 | M25: 0 | N25: 0 | O25: {=IFERROR(_xlfn.XLOOKUP(B25,'G4'!$AL$3:$AL$34,'G4'!$AM$3:$AP$34),0)} -> 0 | P25: 0 | Q25: 0 | R25: 0 | S25: {=IFERROR(_xlfn.XLOOKUP(B25,'G5'!$AL$3:$AL$34,'G5'!$AM$3:$AP$34),0)} -> 0 | T25: 0 | U25: 0 | V25: 0 | W25: {=IFERROR(_xlfn.XLOOKUP(B25,'G6'!$AL$3:$AL$34,'G6'!$AM$3:$AP$34),0)} -> 0 | X25: 0 | Y25: 0 | Z25: 0 | AA25: =+C25+G25+K25+O25+S25+W25 -> 0 | AB25: =+D25+H25+L25+P25+T25+X25 -> 0 | AC25: =+E25+I25+M25+Q25+U25+Y25 -> 0 | AD25: =+F25+J25+N25+R25+V25+Z25 -> 0 | AE25: =+AB25/AA25 -> #DIV/0!
C26: {=IFERROR(_xlfn.XLOOKUP(B26,'G1'!$AL$3:$AL$34,'G1'!$AM$3:$AP$34),0)} -> 0 | D26: 0 | E26: 0 | F26: 0 | G26: {=IFERROR(_xlfn.XLOOKUP(B26,'G2'!$AL$3:$AL$34,'G2'!$AM$3:$AP$34),0)} -> 0 | H26: 0 | I26: 0 | J26: 0 | K26: {=IFERROR(_xlfn.XLOOKUP(B26,'G3'!$AL$3:$AL$34,'G3'!$AM$3:$AP$34),0)} -> 0 | L26: 0 | M26: 0 | N26: 0 | O26: {=IFERROR(_xlfn.XLOOKUP(B26,'G4'!$AL$3:$AL$34,'G4'!$AM$3:$AP$34),0)} -> 0 | P26: 0 | Q26: 0 | R26: 0 | S26: {=IFERROR(_xlfn.XLOOKUP(B26,'G5'!$AL$3:$AL$34,'G5'!$AM$3:$AP$34),0)} -> 0 | T26: 0 | U26: 0 | V26: 0 | W26: {=IFERROR(_xlfn.XLOOKUP(B26,'G6'!$AL$3:$AL$34,'G6'!$AM$3:$AP$34),0)} -> 0 | X26: 0 | Y26: 0 | Z26: 0 | AA26: =+C26+G26+K26+O26+S26+W26 -> 0 | AB26: =+D26+H26+L26+P26+T26+X26 -> 0 | AC26: =+E26+I26+M26+Q26+U26+Y26 -> 0 | AD26: =+F26+J26+N26+R26+V26+Z26 -> 0 | AE26: =+AB26/AA26 -> #DIV/0!
C27: {=IFERROR(_xlfn.XLOOKUP(B27,'G1'!$AL$3:$AL$34,'G1'!$AM$3:$AP$34),0)} -> 0 | D27: 0 | E27: 0 | F27: 0 | G27: {=IFERROR(_xlfn.XLOOKUP(B27,'G2'!$AL$3:$AL$34,'G2'!$AM$3:$AP$34),0)} -> 0 | H27: 0 | I27: 0 | J27: 0 | K27: {=IFERROR(_xlfn.XLOOKUP(B27,'G3'!$AL$3:$AL$34,'G3'!$AM$3:$AP$34),0)} -> 0 | L27: 0 | M27: 0 | N27: 0 | O27: {=IFERROR(_xlfn.XLOOKUP(B27,'G4'!$AL$3:$AL$34,'G4'!$AM$3:$AP$34),0)} -> 0 | P27: 0 | Q27: 0 | R27: 0 | S27: {=IFERROR(_xlfn.XLOOKUP(B27,'G5'!$AL$3:$AL$34,'G5'!$AM$3:$AP$34),0)} -> 0 | T27: 0 | U27: 0 | V27: 0 | W27: {=IFERROR(_xlfn.XLOOKUP(B27,'G6'!$AL$3:$AL$34,'G6'!$AM$3:$AP$34),0)} -> 0 | X27: 0 | Y27: 0 | Z27: 0 | AA27: =+C27+G27+K27+O27+S27+W27 -> 0 | AB27: =+D27+H27+L27+P27+T27+X27 -> 0 | AC27: =+E27+I27+M27+Q27+U27+Y27 -> 0 | AD27: =+F27+J27+N27+R27+V27+Z27 -> 0 | AE27: =+AB27/AA27 -> #DIV/0!
C28: =SUM(C17:C27) -> 0 | D28: =SUM(D17:D27) -> 0 | E28: =SUM(E17:E27) -> 0 | F28: =SUM(F17:F27) -> 0 | G28: =SUM(G17:G27) -> 39 | H28: =SUM(H17:H27) -> 21 | I28: =SUM(I17:I27) -> 14 | J28: =SUM(J17:J27) -> 11 | ... AD28: =SUM(AD17:AD27) -> 30 | AE28: =+AB28/AA28 -> 0.51898734
A30: C | B30: 游擊 | C30: G1 | G30: G2 | K30: G3 | O30: G4 | S30: G5 | W30: G6 | AA30: 數據
A31: 背號 | B31: 姓名 | C31: AB | D31: R | E31: Po | F31: K | G31: AB | H31: R | I31: Po | J31: K | K31: AB | L31: R | M31: Po | N31: K | O31: AB | P31: R | Q31: Po | R31: K | S31: AB | T31: R | U31: Po | V31: K | W31: AB | X31: R | Y31: Po | Z31: K | AA31: AB | AB31: R | AC31: Po | AD31: K | AE31: 打擊率 (R/AB)
A32: 55 | B32: 邱文昇 | C32: {=IFERROR(_xlfn.XLOOKUP(B32,'G1'!$AL$3:$AL$34,'G1'!$AM$3:$AP$34),0)} -> 0 | G32: {=IFERROR(_xlfn.XLOOKUP(B32,'G2'!$AL$3:$AL$34,'G2'!$AM$3:$AP$34),0)} -> 6 | H32: 6 | I32: 2 | J32: 0 | K32: {=IFERROR(_xlfn.XLOOKUP(B32,'G3'!$AL$3:$AL$34,'G3'!$AM$3:$AP$34),0)} -> 0 | O32: {=IFERROR(_xlfn.XLOOKUP(B32,'G4'!$AL$3:$AL$34,'G4'!$AM$3:$AP$34),0)} -> 7 | P32: 7 | Q32: 1 | R32: 0 | S32: {=IFERROR(_xlfn.XLOOKUP(B32,'G5'!$AL$3:$AL$34,'G5'!$AM$3:$AP$34),0)} -> 0 | W32: {=IFERROR(_xlfn.XLOOKUP(B32,'G6'!$AL$3:$AL$34,'G6'!$AM$3:$AP$34),0)} -> 0 | AA32: =+C32+G32+K32+O32+S32+W32 -> 13 | AB32: =+D32+H32+L32+P32+T32+X32 -> 13 | AC32: =+E32+I32+M32+Q32+U32+Y32 -> 3 | AD32: =+F32+J32+N32+R32+V32+Z32 -> 0 | AE32: =+AB32/AA32 -> 1
A33: 26 | B33: 賴智傑 | C33: {=IFERROR(_xlfn.XLOOKUP(B33,'G1'!$AL$3:$AL$34,'G1'!$AM$3:$AP$34),0)} -> 0 | G33: {=IFERROR(_xlfn.XLOOKUP(B33,'G2'!$AL$3:$AL$34,'G2'!$AM$3:$AP$34),0)} -> 6 | H33: 5 | I33: 1 | J33: 0 | K33: {=IFERROR(_xlfn.XLOOKUP(B33,'G3'!$AL$3:$AL$34,'G3'!$AM$3:$AP$34),0)} -> 0 | O33: {=IFERROR(_xlfn.XLOOKUP(B33,'G4'!$AL$3:$AL$34,'G4'!$AM$3:$AP$34),0)} -> 7 | P33: 5 | Q33: 0 | R33: 2 | S33: {=IFERROR(_xlfn.XLOOKUP(B33,'G5'!$AL$3:$AL$34,'G5'!$AM$3:$AP$34),0)} -> 0 | W33: {=IFERROR(_xlfn.XLOOKUP(B33,'G6'!$AL$3:$AL$34,'G6'!$AM$3:$AP$34),0)} -> 0 | AA33: =+C33+G33+K33+O33+S33+W33 -> 13 | AB33: =+D33+H33+L33+P33+T33+X33 -> 10 | AC33: =+E33+I33+M33+Q33+U33+Y33 -> 1 | AD33: =+F33+J33+N33+R33+V33+Z33 -> 2 | AE33: =+AB33/AA33 -> 0.76923077
A34: 56 | B34: 黃志遠 | C34: {=IFERROR(_xlfn.XLOOKUP(B34,'G1'!$AL$3:$AL$34,'G1'!$AM$3:$AP$34),0)} -> 0 | G34: {=IFERROR(_xlfn.XLOOKUP(B34,'G2'!$AL$3:$AL$34,'G2'!$AM$3:$AP$34),0)} -> 5 | H34: 0 | I34: 2 | J34: 1 | K34: {=IFERROR(_xlfn.XLOOKUP(B34,'G3'!$AL$3:$AL$34,'G3'!$AM$3:$AP$34),0)} -> 0 | O34: {=IFERROR(_xlfn.XLOOKUP(B34,'G4'!$AL$3:$AL$34,'G4'!$AM$3:$AP$34),0)} -> 6 | P34: 3 | Q34: 4 | R34: 2 | S34: {=IFERROR(_xlfn.XLOOKUP(B34,'G5'!$AL$3:$AL$34,'G5'!$AM$3:$AP$34),0)} -> 0 | W34: {=IFERROR(_xlfn.XLOOKUP(B34,'G6'!$AL$3:$AL$34,'G6'!$AM$3:$AP$34),0)} -> 0 | AA34: =+C34+G34+K34+O34+S34+W34 -> 11 | AB34: =+D34+H34+L34+P34+T34+X34 -> 3 | AC34: =+E34+I34+M34+Q34+U34+Y34 -> 6 | AD34: =+F34+J34+N34+R34+V34+Z34 -> 3 | AE34: =+AB34/AA34 -> 0.27272727
A35: 23 | B35: 王兆熙 | C35: {=IFERROR(_xlfn.XLOOKUP(B35,'G1'!$AL$3:$AL$34,'G1'!$AM$3:$AP$34),0)} -> 0 | G35: {=IFERROR(_xlfn.XLOOKUP(B35,'G2'!$AL$3:$AL$34,'G2'!$AM$3:$AP$34),0)} -> 6 | H35: 0 | I35: 2 | J35: 3 | K35: {=IFERROR(_xlfn.XLOOKUP(B35,'G3'!$AL$3:$AL$34,'G3'!$AM$3:$AP$34),0)} -> 0 | O35: {=IFERROR(_xlfn.XLOOKUP(B35,'G4'!$AL$3:$AL$34,'G4'!$AM$3:$AP$34),0)} -> 6 | P35: 1 | Q35: 1 | R35: 3 | S35: {=IFERROR(_xlfn.XLOOKUP(B35,'G5'!$AL$3:$AL$34,'G5'!$AM$3:$AP$34),0)} -> 0 | W35: {=IFERROR(_xlfn.XLOOKUP(B35,'G6'!$AL$3:$AL$34,'G6'!$AM$3:$AP$34),0)} -> 0 | AA35: =+C35+G35+K35+O35+S35+W35 -> 12 | AB35: =+D35+H35+L35+P35+T35+X35 -> 1 | AC35: =+E35+I35+M35+Q35+U35+Y35 -> 3 | AD35: =+F35+J35+N35+R35+V35+Z35 -> 6 | AE35: =+AB35/AA35 -> 0.083333333
A36: 58 | B36: 蔡孟洵* | C36: {=IFERROR(_xlfn.XLOOKUP(B36,'G1'!$AL$3:$AL$34,'G1'!$AM$3:$AP$34),0)} -> 0 | G36: {=IFERROR(_xlfn.XLOOKUP(B36,'G2'!$AL$3:$AL$34,'G2'!$AM$3:$AP$34),0)} -> 5 | H36: 1 | I36: 0 | J36: 1 | K36: {=IFERROR(_xlfn.XLOOKUP(B36,'G3'!$AL$3:$AL$34,'G3'!$AM$3:$AP$34),0)} -> 0 | O36: {=IFERROR(_xlfn.XLOOKUP(B36,'G4'!$AL$3:$AL$34,'G4'!$AM$3:$AP$34),0)} -> 6 | P36: 1 | Q36: 0 | R36: 2 | S36: {=IFERROR(_xlfn.XLOOKUP(B36,'G5'!$AL$3:$AL$34,'G5'!$AM$3:$AP$34),0)} -> 0 | W36: {=IFERROR(_xlfn.XLOOKUP(B36,'G6'!$AL$3:$AL$34,'G6'!$AM$3:$AP$34),0)} -> 0 | AA36: =+C36+G36+K36+O36+S36+W36 -> 11 | AB36: =+D36+H36+L36+P36+T36+X36 -> 2 | AC36: =+E36+I36+M36+Q36+U36+Y36 -> 0 | AD36: =+F36+J36+N36+R36+V36+Z36 -> 3 | AE36: =+AB36/AA36 -> 0.18181818
A37: o | B37: 吳品逸* | C37: {=IFERROR(_xlfn.XLOOKUP(B37,'G1'!$AL$3:$AL$34,'G1'!$AM$3:$AP$34),0)} -> 0 | G37: {=IFERROR(_xlfn.XLOOKUP(B37,'G2'!$AL$3:$AL$34,'G2'!$AM$3:$AP$34),0)} -> 5 | H37: 3 | I37: 0 | J37: 0 | K37: {=IFERROR(_xlfn.XLOOKUP(B37,'G3'!$AL$3:$AL$34,'G3'!$AM$3:$AP$34),0)} -> 0 | O37: {=IFERROR(_xlfn.XLOOKUP(B37,'G4'!$AL$3:$AL$34,'G4'!$AM$3:$AP$34),0)} -> 7 | P37: 4 | Q37: 0 | R37: 0 | S37: {=IFERROR(_xlfn.XLOOKUP(B37,'G5'!$AL$3:$AL$34,'G5'!$AM$3:$AP$34),0)} -> 0 | W37: {=IFERROR(_xlfn.XLOOKUP(B37,'G6'!$AL$3:$AL$34,'G6'!$AM$3:$AP$34),0)} -> 0 | AA37: =+C37+G37+K37+O37+S37+W37 -> 12 | AB37: =+D37+H37+L37+P37+T37+X37 -> 7 | AC37: =+E37+I37+M37+Q37+U37+Y37 -> 0 | AD37: =+F37+J37+N37+R37+V37+Z37 -> 0 | AE37: =+AB37/AA37 -> 0.58333333
A38: 11 | B38: 勞恩* | C38: {=IFERROR(_xlfn.XLOOKUP(B38,'G1'!$AL$3:$AL$34,'G1'!$AM$3:$AP$34),0)} -> 0 | G38: {=IFERROR(_xlfn.XLOOKUP(B38,'G2'!$AL$3:$AL$34,'G2'!$AM$3:$AP$34),0)} -> 0 | K38: {=IFERROR(_xlfn.XLOOKUP(B38,'G3'!$AL$3:$AL$34,'G3'!$AM$3:$AP$34),0)} -> 0 | O38: {=IFERROR(_xlfn.XLOOKUP(B38,'G4'!$AL$3:$AL$34,'G4'!$AM$3:$AP$34),0)} -> 0 | S38: {=IFERROR(_xlfn.XLOOKUP(B38,'G5'!$AL$3:$AL$34,'G5'!$AM$3:$AP$34),0)} -> 0 | W38: {=IFERROR(_xlfn.XLOOKUP(B38,'G6'!$AL$3:$AL$34,'G6'!$AM$3:$AP$34),0)} -> 0 | AA38: =+C38+G38+K38+O38+S38+W38 -> 0 | AB38: =+D38+H38+L38+P38+T38+X38 -> 0 | AC38: =+E38+I38+M38+Q38+U38+Y38 -> 0 | AD38: =+F38+J38+N38+R38+V38+Z38 -> 0 | AE38: =+AB38/AA38 -> #DIV/0!
A39: 22 | B39: 蔡存宥* | C39: {=IFERROR(_xlfn.XLOOKUP(B39,'G1'!$AL$3:$AL$34,'G1'!$AM$3:$AP$34),0)} -> 0 | G39: {=IFERROR(_xlfn.XLOOKUP(B39,'G2'!$AL$3:$AL$34,'G2'!$AM$3:$AP$34),0)} -> 0 | K39: {=IFERROR(_xlfn.XLOOKUP(B39,'G3'!$AL$3:$AL$34,'G3'!$AM$3:$AP$34),0)} -> 0 | O39: {=IFERROR(_xlfn.XLOOKUP(B39,'G4'!$AL$3:$AL$34,'G4'!$AM$3:$AP$34),0)} -> 0 | S39: {=IFERROR(_xlfn.XLOOKUP(B39,'G5'!$AL$3:$AL$34,'G5'!$AM$3:$AP$34),0)} -> 0 | W39: {=IFERROR(_xlfn.XLOOKUP(B39,'G6'!$AL$3:$AL$34,'G6'!$AM$3:$AP$34),0)} -> 0 | AA39: =+C39+G39+K39+O39+S39+W39 -> 0 | AB39: =+D39+H39+L39+P39+T39+X39 -> 0 | AC39: =+E39+I39+M39+Q39+U39+Y39 -> 0 | AD39: =+F39+J39+N39+R39+V39+Z39 -> 0 | AE39: =+AB39/AA39 -> #DIV/0!
C40: {=IFERROR(_xlfn.XLOOKUP(B40,'G1'!$AL$3:$AL$34,'G1'!$AM$3:$AP$34),0)} -> 0 | D40: 0 | E40: 0 | F40: 0 | G40: {=IFERROR(_xlfn.XLOOKUP(B40,'G2'!$AL$3:$AL$34,'G2'!$AM$3:$AP$34),0)} -> 0 | H40: 0 | I40: 0 | J40: 0 | K40: {=IFERROR(_xlfn.XLOOKUP(B40,'G3'!$AL$3:$AL$34,'G3'!$AM$3:$AP$34),0)} -> 0 | L40: 0 | M40: 0 | N40: 0 | O40: {=IFERROR(_xlfn.XLOOKUP(B40,'G4'!$AL$3:$AL$34,'G4'!$AM$3:$AP$34),0)} -> 0 | P40: 0 | Q40: 0 | R40: 0 | S40: {=IFERROR(_xlfn.XLOOKUP(B40,'G5'!$AL$3:$AL$34,'G5'!$AM$3:$AP$34),0)} -> 0 | T40: 0 | U40: 0 | V40: 0 | W40: {=IFERROR(_xlfn.XLOOKUP(B40,'G6'!$AL$3:$AL$34,'G6'!$AM$3:$AP$34),0)} -> 0 | X40: 0 | Y40: 0 | Z40: 0 | AA40: =+C40+G40+K40+O40+S40+W40 -> 0 | AB40: =+D40+H40+L40+P40+T40+X40 -> 0 | AC40: =+E40+I40+M40+Q40+U40+Y40 -> 0 | AD40: =+F40+J40+N40+R40+V40+Z40 -> 0 | AE40: =+AB40/AA40 -> #DIV/0!
C41: =SUM(C32:C40) -> 0 | D41: =SUM(D32:D40) -> 0 | E41: =SUM(E32:E40) -> 0 | F41: =SUM(F32:F40) -> 0 | G41: =SUM(G32:G40) -> 33 | H41: =SUM(H32:H40) -> 15 | I41: =SUM(I32:I40) -> 7 | J41: =SUM(J32:J40) -> 5 | ... AD41: =SUM(AD32:AD40) -> 14 | AE41: =+AB41/AA41 -> 0.5
A43: D | B43: 新北獵豹 | C43: G1 | G43: G2 | K43: G3 | O43: G4 | S43: G5 | W43: G6 | AA43: 數據
A44: 背號 | B44: 姓名 | C44: AB | D44: R | E44: Po | F44: K | G44: AB | H44: R | I44: Po | J44: K | K44: AB | L44: R | M44: Po | N44: K | O44: AB | P44: R | Q44: Po | R44: K | S44: AB | T44: R | U44: Po | V44: K | W44: AB | X44: R | Y44: Po | Z44: K | AA44: AB | AB44: R | AC44: Po | AD44: K | AE44: 打擊率 (R/AB)
A45: 28 | B45: 陳傑閔 | C45: {=IFERROR(_xlfn.XLOOKUP(B45,'G1'!$AL$3:$AL$34,'G1'!$AM$3:$AP$34),0)} -> 4 | D45: 0 | E45: 1 | F45: 4 | G45: {=IFERROR(_xlfn.XLOOKUP(B45,'G2'!$AL$3:$AL$34,'G2'!$AM$3:$AP$34),0)} -> 0 | K45: {=IFERROR(_xlfn.XLOOKUP(B45,'G3'!$AL$3:$AL$34,'G3'!$AM$3:$AP$34),0)} -> 0 | O45: {=IFERROR(_xlfn.XLOOKUP(B45,'G4'!$AL$3:$AL$34,'G4'!$AM$3:$AP$34),0)} -> 5 | P45: 3 | Q45: 4 | R45: 2 | S45: {=IFERROR(_xlfn.XLOOKUP(B45,'G5'!$AL$3:$AL$34,'G5'!$AM$3:$AP$34),0)} -> 0 | W45: {=IFERROR(_xlfn.XLOOKUP(B45,'G6'!$AL$3:$AL$34,'G6'!$AM$3:$AP$34),0)} -> 3 | X45: 2 | Y45: 0 | Z45: 1 | AA45: =+C45+G45+K45+O45+S45+W45 -> 12 | AB45: =+D45+H45+L45+P45+T45+X45 -> 5 | AC45: =+E45+I45+M45+Q45+U45+Y45 -> 5 | AD45: =+F45+J45+N45+R45+V45+Z45 -> 7 | AE45: =+AB45/AA45 -> 0.41666667
A46: 15 | B46: 蔡宗豪 | C46: {=IFERROR(_xlfn.XLOOKUP(B46,'G1'!$AL$3:$AL$34,'G1'!$AM$3:$AP$34),0)} -> 4 | D46: 3 | E46: 0 | F46: 0 | G46: {=IFERROR(_xlfn.XLOOKUP(B46,'G2'!$AL$3:$AL$34,'G2'!$AM$3:$AP$34),0)} -> 0 | K46: {=IFERROR(_xlfn.XLOOKUP(B46,'G3'!$AL$3:$AL$34,'G3'!$AM$3:$AP$34),0)} -> 0 | O46: {=IFERROR(_xlfn.XLOOKUP(B46,'G4'!$AL$3:$AL$34,'G4'!$AM$3:$AP$34),0)} -> 5 | P46: 4 | Q46: 2 | R46: 1 | S46: {=IFERROR(_xlfn.XLOOKUP(B46,'G5'!$AL$3:$AL$34,'G5'!$AM$3:$AP$34),0)} -> 0 | W46: {=IFERROR(_xlfn.XLOOKUP(B46,'G6'!$AL$3:$AL$34,'G6'!$AM$3:$AP$34),0)} -> 1 | X46: 1 | Y46: 0 | Z46: 0 | AA46: =+C46+G46+K46+O46+S46+W46 -> 10 | AB46: =+D46+H46+L46+P46+T46+X46 -> 8 | AC46: =+E46+I46+M46+Q46+U46+Y46 -> 2 | AD46: =+F46+J46+N46+R46+V46+Z46 -> 1 | AE46: =+AB46/AA46 -> 0.8
A47: 1 | B47: 賴保全 | C47: {=IFERROR(_xlfn.XLOOKUP(B47,'G1'!$AL$3:$AL$34,'G1'!$AM$3:$AP$34),0)} -> 4 | D47: 1 | E47: 0 | F47: 3 | G47: {=IFERROR(_xlfn.XLOOKUP(B47,'G2'!$AL$3:$AL$34,'G2'!$AM$3:$AP$34),0)} -> 0 | K47: {=IFERROR(_xlfn.XLOOKUP(B47,'G3'!$AL$3:$AL$34,'G3'!$AM$3:$AP$34),0)} -> 0 | O47: {=IFERROR(_xlfn.XLOOKUP(B47,'G4'!$AL$3:$AL$34,'G4'!$AM$3:$AP$34),0)} -> 5 | P47: 2 | Q47: 1 | R47: 1 | S47: {=IFERROR(_xlfn.XLOOKUP(B47,'G5'!$AL$3:$AL$34,'G5'!$AM$3:$AP$34),0)} -> 0 | W47: {=IFERROR(_xlfn.XLOOKUP(B47,'G6'!$AL$3:$AL$34,'G6'!$AM$3:$AP$34),0)} -> 4 | X47: 1 | Y47: 2 | Z47: 2 | AA47: =+C47+G47+K47+O47+S47+W47 -> 13 | AB47: =+D47+H47+L47+P47+T47+X47 -> 4 | AC47: =+E47+I47+M47+Q47+U47+Y47 -> 3 | AD47: =+F47+J47+N47+R47+V47+Z47 -> 6 | AE47: =+AB47/AA47 -> 0.30769231
A48: 37 | B48: 蔡志雄 | C48: {=IFERROR(_xlfn.XLOOKUP(B48,'G1'!$AL$3:$AL$34,'G1'!$AM$3:$AP$34),0)} -> 4 | D48: 1 | E48: 0 | F48: 2 | G48: {=IFERROR(_xlfn.XLOOKUP(B48,'G2'!$AL$3:$AL$34,'G2'!$AM$3:$AP$34),0)} -> 0 | K48: {=IFERROR(_xlfn.XLOOKUP(B48,'G3'!$AL$3:$AL$34,'G3'!$AM$3:$AP$34),0)} -> 0 | O48: {=IFERROR(_xlfn.XLOOKUP(B48,'G4'!$AL$3:$AL$34,'G4'!$AM$3:$AP$34),0)} -> 4 | P48: 0 | Q48: 1 | R48: 4 | S48: {=IFERROR(_xlfn.XLOOKUP(B48,'G5'!$AL$3:$AL$34,'G5'!$AM$3:$AP$34),0)} -> 0 | W48: {=IFERROR(_xlfn.XLOOKUP(B48,'G6'!$AL$3:$AL$34,'G6'!$AM$3:$AP$34),0)} -> 4 | X48: 1 | Y48: 2 | Z48: 3 | AA48: =+C48+G48+K48+O48+S48+W48 -> 12 | AB48: =+D48+H48+L48+P48+T48+X48 -> 2 | AC48: =+E48+I48+M48+Q48+U48+Y48 -> 3 | AD48: =+F48+J48+N48+R48+V48+Z48 -> 9 | AE48: =+AB48/AA48 -> 0.16666667
A49: 66 | B49: 陳韻婷 | C49: {=IFERROR(_xlfn.XLOOKUP(B49,'G1'!$AL$3:$AL$34,'G1'!$AM$3:$AP$34),0)} -> 2 | D49: 0 | E49: 0 | F49: 2 | G49: {=IFERROR(_xlfn.XLOOKUP(B49,'G2'!$AL$3:$AL$34,'G2'!$AM$3:$AP$34),0)} -> 0 | K49: {=IFERROR(_xlfn.XLOOKUP(B49,'G3'!$AL$3:$AL$34,'G3'!$AM$3:$AP$34),0)} -> 0 | O49: {=IFERROR(_xlfn.XLOOKUP(B49,'G4'!$AL$3:$AL$34,'G4'!$AM$3:$AP$34),0)} -> 2 | P49: 0 | Q49: 0 | R49: 1 | S49: {=IFERROR(_xlfn.XLOOKUP(B49,'G5'!$AL$3:$AL$34,'G5'!$AM$3:$AP$34),0)} -> 0 | W49: {=IFERROR(_xlfn.XLOOKUP(B49,'G6'!$AL$3:$AL$34,'G6'!$AM$3:$AP$34),0)} -> 3 | X49: 0 | Y49: 0 | Z49: 2 | AA49: =+C49+G49+K49+O49+S49+W49 -> 7 | AB49: =+D49+H49+L49+P49+T49+X49 -> 0 | AC49: =+E49+I49+M49+Q49+U49+Y49 -> 0 | AD49: =+F49+J49+N49+R49+V49+Z49 -> 5 | AE49: =+AB49/AA49 -> 0
A50: 421 | B50: 黃雅苓 | C50: {=IFERROR(_xlfn.XLOOKUP(B50,'G1'!$AL$3:$AL$34,'G1'!$AM$3:$AP$34),0)} -> 2 | D50: 0 | E50: 0 | F50: 2 | G50: {=IFERROR(_xlfn.XLOOKUP(B50,'G2'!$AL$3:$AL$34,'G2'!$AM$3:$AP$34),0)} -> 0 | K50: {=IFERROR(_xlfn.XLOOKUP(B50,'G3'!$AL$3:$AL$34,'G3'!$AM$3:$AP$34),0)} -> 0 | O50: {=IFERROR(_xlfn.XLOOKUP(B50,'G4'!$AL$3:$AL$34,'G4'!$AM$3:$AP$34),0)} -> 2 | P50: 0 | Q50: 0 | R50: 2 | S50: {=IFERROR(_xlfn.XLOOKUP(B50,'G5'!$AL$3:$AL$34,'G5'!$AM$3:$AP$34),0)} -> 0 | W50: {=IFERROR(_xlfn.XLOOKUP(B50,'G6'!$AL$3:$AL$34,'G6'!$AM$3:$AP$34),0)} -> 4 | X50: 0 | Y50: 1 | Z50: 4 | AA50: =+C50+G50+K50+O50+S50+W50 -> 8 | AB50: =+D50+H50+L50+P50+T50+X50 -> 0 | AC50: =+E50+I50+M50+Q50+U50+Y50 -> 1 | AD50: =+F50+J50+N50+R50+V50+Z50 -> 8 | AE50: =+AB50/AA50 -> 0
A51: 17 | B51: 張睿紘 | C51: {=IFERROR(_xlfn.XLOOKUP(B51,'G1'!$AL$3:$AL$34,'G1'!$AM$3:$AP$34),0)} -> 4 | D51: 1 | E51: 0 | F51: 2 | G51: {=IFERROR(_xlfn.XLOOKUP(B51,'G2'!$AL$3:$AL$34,'G2'!$AM$3:$AP$34),0)} -> 0 | K51: {=IFERROR(_xlfn.XLOOKUP(B51,'G3'!$AL$3:$AL$34,'G3'!$AM$3:$AP$34),0)} -> 0 | O51: {=IFERROR(_xlfn.XLOOKUP(B51,'G4'!$AL$3:$AL$34,'G4'!$AM$3:$AP$34),0)} -> 5 | P51: 1 | Q51: 1 | R51: 1 | S51: {=IFERROR(_xlfn.XLOOKUP(B51,'G5'!$AL$3:$AL$34,'G5'!$AM$3:$AP$34),0)} -> 0 | W51: {=IFERROR(_xlfn.XLOOKUP(B51,'G6'!$AL$3:$AL$34,'G6'!$AM$3:$AP$34),0)} -> 4 | X51: 0 | Y51: 3 | Z51: 4 | AA51: =+C51+G51+K51+O51+S51+W51 -> 13 | AB51: =+D51+H51+L51+P51+T51+X51 -> 2 | AC51: =+E51+I51+M51+Q51+U51+Y51 -> 4 | AD51: =+F51+J51+N51+R51+V51+Z51 -> 7 | AE51: =+AB51/AA51 -> 0.15384615
C52: {=IFERROR(_xlfn.XLOOKUP(B52,'G1'!$AL$3:$AL$34,'G1'!$AM$3:$AP$34),0)} -> 0 | D52: 0 | E52: 0 | F52: 0 | G52: {=IFERROR(_xlfn.XLOOKUP(B52,'G2'!$AL$3:$AL$34,'G2'!$AM$3:$AP$34),0)} -> 0 | H52: 0 | I52: 0 | J52: 0 | K52: {=IFERROR(_xlfn.XLOOKUP(B52,'G3'!$AL$3:$AL$34,'G3'!$AM$3:$AP$34),0)} -> 0 | L52: 0 | M52: 0 | N52: 0 | O52: {=IFERROR(_xlfn.XLOOKUP(B52,'G4'!$AL$3:$AL$34,'G4'!$AM$3:$AP$34),0)} -> 0 | P52: 0 | Q52: 0 | R52: 0 | S52: {=IFERROR(_xlfn.XLOOKUP(B52,'G5'!$AL$3:$AL$34,'G5'!$AM$3:$AP$34),0)} -> 0 | T52: 0 | U52: 0 | V52: 0 | W52: {=IFERROR(_xlfn.XLOOKUP(B52,'G6'!$AL$3:$AL$34,'G6'!$AM$3:$AP$34),0)} -> 0 | X52: 0 | Y52: 0 | Z52: 0 | AA52: =+C52+G52+K52+O52+S52+W52 -> 0 | AB52: =+D52+H52+L52+P52+T52+X52 -> 0 | AC52: =+E52+I52+M52+Q52+U52+Y52 -> 0 | AD52: =+F52+J52+N52+R52+V52+Z52 -> 0 | AE52: =+AB52/AA52 -> #DIV/0!
C53: {=IFERROR(_xlfn.XLOOKUP(B53,'G1'!$AL$3:$AL$34,'G1'!$AM$3:$AP$34),0)} -> 0 | D53: 0 | E53: 0 | F53: 0 | G53: {=IFERROR(_xlfn.XLOOKUP(B53,'G2'!$AL$3:$AL$34,'G2'!$AM$3:$AP$34),0)} -> 0 | H53: 0 | I53: 0 | J53: 0 | K53: {=IFERROR(_xlfn.XLOOKUP(B53,'G3'!$AL$3:$AL$34,'G3'!$AM$3:$AP$34),0)} -> 0 | L53: 0 | M53: 0 | N53: 0 | O53: {=IFERROR(_xlfn.XLOOKUP(B53,'G4'!$AL$3:$AL$34,'G4'!$AM$3:$AP$34),0)} -> 0 | P53: 0 | Q53: 0 | R53: 0 | S53: {=IFERROR(_xlfn.XLOOKUP(B53,'G5'!$AL$3:$AL$34,'G5'!$AM$3:$AP$34),0)} -> 0 | T53: 0 | U53: 0 | V53: 0 | W53: {=IFERROR(_xlfn.XLOOKUP(B53,'G6'!$AL$3:$AL$34,'G6'!$AM$3:$AP$34),0)} -> 0 | X53: 0 | Y53: 0 | Z53: 0 | AA53: =+C53+G53+K53+O53+S53+W53 -> 0 | AB53: =+D53+H53+L53+P53+T53+X53 -> 0 | AC53: =+E53+I53+M53+Q53+U53+Y53 -> 0 | AD53: =+F53+J53+N53+R53+V53+Z53 -> 0 | AE53: =+AB53/AA53 -> #DIV/0!
C54: {=IFERROR(_xlfn.XLOOKUP(B54,'G1'!$AL$3:$AL$34,'G1'!$AM$3:$AP$34),0)} -> 0 | D54: 0 | E54: 0 | F54: 0 | G54: {=IFERROR(_xlfn.XLOOKUP(B54,'G2'!$AL$3:$AL$34,'G2'!$AM$3:$AP$34),0)} -> 0 | H54: 0 | I54: 0 | J54: 0 | K54: {=IFERROR(_xlfn.XLOOKUP(B54,'G3'!$AL$3:$AL$34,'G3'!$AM$3:$AP$34),0)} -> 0 | L54: 0 | M54: 0 | N54: 0 | O54: {=IFERROR(_xlfn.XLOOKUP(B54,'G4'!$AL$3:$AL$34,'G4'!$AM$3:$AP$34),0)} -> 0 | P54: 0 | Q54: 0 | R54: 0 | S54: {=IFERROR(_xlfn.XLOOKUP(B54,'G5'!$AL$3:$AL$34,'G5'!$AM$3:$AP$34),0)} -> 0 | T54: 0 | U54: 0 | V54: 0 | W54: {=IFERROR(_xlfn.XLOOKUP(B54,'G6'!$AL$3:$AL$34,'G6'!$AM$3:$AP$34),0)} -> 0 | X54: 0 | Y54: 0 | Z54: 0 | AA54: =+C54+G54+K54+O54+S54+W54 -> 0 | AB54: =+D54+H54+L54+P54+T54+X54 -> 0 | AC54: =+E54+I54+M54+Q54+U54+Y54 -> 0 | AD54: =+F54+J54+N54+R54+V54+Z54 -> 0 | AE54: =+AB54/AA54 -> #DIV/0!
C55: {=IFERROR(_xlfn.XLOOKUP(B55,'G1'!$AL$3:$AL$34,'G1'!$AM$3:$AP$34),0)} -> 0 | D55: 0 | E55: 0 | F55: 0 | G55: {=IFERROR(_xlfn.XLOOKUP(B55,'G2'!$AL$3:$AL$34,'G2'!$AM$3:$AP$34),0)} -> 0 | H55: 0 | I55: 0 | J55: 0 | K55: {=IFERROR(_xlfn.XLOOKUP(B55,'G3'!$AL$3:$AL$34,'G3'!$AM$3:$AP$34),0)} -> 0 | L55: 0 | M55: 0 | N55: 0 | O55: {=IFERROR(_xlfn.XLOOKUP(B55,'G4'!$AL$3:$AL$34,'G4'!$AM$3:$AP$34),0)} -> 0 | P55: 0 | Q55: 0 | R55: 0 | S55: {=IFERROR(_xlfn.XLOOKUP(B55,'G5'!$AL$3:$AL$34,'G5'!$AM$3:$AP$34),0)} -> 0 | T55: 0 | U55: 0 | V55: 0 | W55: {=IFERROR(_xlfn.XLOOKUP(B55,'G6'!$AL$3:$AL$34,'G6'!$AM$3:$AP$34),0)} -> 0 | X55: 0 | Y55: 0 | Z55: 0 | AA55: =+C55+G55+K55+O55+S55+W55 -> 0 | AB55: =+D55+H55+L55+P55+T55+X55 -> 0 | AC55: =+E55+I55+M55+Q55+U55+Y55 -> 0 | AD55: =+F55+J55+N55+R55+V55+Z55 -> 0 | AE55: =+AB55/AA55 -> #DIV/0!
C56: {=IFERROR(_xlfn.XLOOKUP(B56,'G1'!$AL$3:$AL$34,'G1'!$AM$3:$AP$34),0)} -> 0 | D56: 0 | E56: 0 | F56: 0 | G56: {=IFERROR(_xlfn.XLOOKUP(B56,'G2'!$AL$3:$AL$34,'G2'!$AM$3:$AP$34),0)} -> 0 | H56: 0 | I56: 0 | J56: 0 | K56: {=IFERROR(_xlfn.XLOOKUP(B56,'G3'!$AL$3:$AL$34,'G3'!$AM$3:$AP$34),0)} -> 0 | L56: 0 | M56: 0 | N56: 0 | O56: {=IFERROR(_xlfn.XLOOKUP(B56,'G4'!$AL$3:$AL$34,'G4'!$AM$3:$AP$34),0)} -> 0 | P56: 0 | Q56: 0 | R56: 0 | S56: {=IFERROR(_xlfn.XLOOKUP(B56,'G5'!$AL$3:$AL$34,'G5'!$AM$3:$AP$34),0)} -> 0 | T56: 0 | U56: 0 | V56: 0 | W56: {=IFERROR(_xlfn.XLOOKUP(B56,'G6'!$AL$3:$AL$34,'G6'!$AM$3:$AP$34),0)} -> 0 | X56: 0 | Y56: 0 | Z56: 0 | AA56: =+C56+G56+K56+O56+S56+W56 -> 0 | AB56: =+D56+H56+L56+P56+T56+X56 -> 0 | AC56: =+E56+I56+M56+Q56+U56+Y56 -> 0 | AD56: =+F56+J56+N56+R56+V56+Z56 -> 0 | AE56: =+AB56/AA56 -> #DIV/0!
C57: {=IFERROR(_xlfn.XLOOKUP(B57,'G1'!$AL$3:$AL$34,'G1'!$AM$3:$AP$34),0)} -> 0 | D57: 0 | E57: 0 | F57: 0 | G57: {=IFERROR(_xlfn.XLOOKUP(B57,'G2'!$AL$3:$AL$34,'G2'!$AM$3:$AP$34),0)} -> 0 | H57: 0 | I57: 0 | J57: 0 | K57: {=IFERROR(_xlfn.XLOOKUP(B57,'G3'!$AL$3:$AL$34,'G3'!$AM$3:$AP$34),0)} -> 0 | L57: 0 | M57: 0 | N57: 0 | O57: {=IFERROR(_xlfn.XLOOKUP(B57,'G4'!$AL$3:$AL$34,'G4'!$AM$3:$AP$34),0)} -> 0 | P57: 0 | Q57: 0 | R57: 0 | S57: {=IFERROR(_xlfn.XLOOKUP(B57,'G5'!$AL$3:$AL$34,'G5'!$AM$3:$AP$34),0)} -> 0 | T57: 0 | U57: 0 | V57: 0 | W57: {=IFERROR(_xlfn.XLOOKUP(B57,'G6'!$AL$3:$AL$34,'G6'!$AM$3:$AP$34),0)} -> 0 | X57: 0 | Y57: 0 | Z57: 0 | AA57: =+C57+G57+K57+O57+S57+W57 -> 0 | AB57: =+D57+H57+L57+P57+T57+X57 -> 0 | AC57: =+E57+I57+M57+Q57+U57+Y57 -> 0 | AD57: =+F57+J57+N57+R57+V57+Z57 -> 0 | AE57: =+AB57/AA57 -> #DIV/0!
C58: =SUM(C45:C57) -> 24 | D58: =SUM(D45:D57) -> 6 | E58: =SUM(E45:E57) -> 1 | F58: =SUM(F45:F57) -> 15 | G58: =SUM(G45:G57) -> 0 | H58: =SUM(H45:H57) -> 0 | I58: =SUM(I45:I57) -> 0 | J58: =SUM(J45:J57) -> 0 | ... AD58: =SUM(AD45:AD57) -> 43 | AE58: =+AB58/AA58 -> 0.28

Sheet 總表排名
A3: 守備位置 | B3: 隊名 | C3: 姓名 | D3: AB | E3: R | F3: PO | G3: K | H3: Def_G(場數) | I3: BA(打擊率) | J3: PO/G(防守率) | K3: 打擊排行 | L3: 防守排行
B4: 閃電 | C4: {=_xlfn.CHOOSECOLS('成績匯總 (函數)'!$B$5:$AD$12,1,26,27,28,29)} -> 陳璽帆 | D4: 8 | E4: 2 | F4: 3 | G4: 5 | H4: 3 | I4: =E4/D4 -> 0.25 | J4: =F4/H4 -> 1 | K4: =_xlfn.RANK.EQ(I4,$I$4:$I$48) -> 17 | L4: =_xlfn.RANK.EQ(J4,$J$4:$J$52) -> 7
B5: 閃電 | C5: 黃柏欽 | D5: 4 | E5: 1 | F5: 0 | G5: 3 | H5: 2 | I5: =E5/D5 -> 0.25 | J5: =F5/H5 -> 0 | K5: =_xlfn.RANK.EQ(I5,$I$4:$I$48) -> 17 | L5: =_xlfn.RANK.EQ(J5,$J$4:$J$52) -> 22
B6: 閃電 | C6: 郭育廷 | D6: 4 | E6: 0 | F6: 4 | G6: 4 | H6: 3 | I6: =E6/D6 -> 0 | J6: =F6/H6 -> 1.3333333 | K6: =_xlfn.RANK.EQ(I6,$I$4:$I$48) -> 25 | L6: =_xlfn.RANK.EQ(J6,$J$4:$J$52) -> 4
B7: 閃電 | C7: 林育良 | D7: 8 | E7: 4 | F7: 0 | G7: 3 | H7: 3 | I7: =E7/D7 -> 0.5 | J7: =F7/H7 -> 0 | K7: =_xlfn.RANK.EQ(I7,$I$4:$I$48) -> 10 | L7: =_xlfn.RANK.EQ(J7,$J$4:$J$52) -> 22
B8: 閃電 | C8: 林健彰 | D8: 8 | E8: 4 | F8: 1 | G8: 4 | H8: 3 | I8: =E8/D8 -> 0.5 | J8: =F8/H8 -> 0.33333333 | K8: =_xlfn.RANK.EQ(I8,$I$4:$I$48) -> 10 | L8: =_xlfn.RANK.EQ(J8,$J$4:$J$52) -> 18
B9: 閃電 | C9: 陳俊欽 | D9: 6 | E9: 1 | F9: 3 | G9: 4 | H9: 3 | I9: =E9/D9 -> 0.16666667 | J9: =F9/H9 -> 1 | K9: =_xlfn.RANK.EQ(I9,$I$4:$I$48) -> 21 | L9: =_xlfn.RANK.EQ(J9,$J$4:$J$52) -> 7
B10: 閃電 | C10: 鄭傳逸 | D10: 8 | E10: 4 | F10: 1 | G10: 3 | H10: 3 | I10: =E10/D10 -> 0.5 | J10: =F10/H10 -> 0.33333333 | K10: =_xlfn.RANK.EQ(I10,$I$4:$I$48) -> 10 | L10: =_xlfn.RANK.EQ(J10,$J$4:$J$52) -> 18
B11: 閃電 | C11: 0 | D11: 0 | E11: 0 | F11: 0 | G11: 0 | H11: 3 | J11: =F11/H11 -> 0 | K11: =_xlfn.RANK.EQ(I11,$I$4:$I$48) -> 25 | L11: =_xlfn.RANK.EQ(J11,$J$4:$J$52) -> 22
I12: =IF(D12<=8,"",E12/D12) | L12: =_xlfn.RANK.EQ(J12,$J$4:$J$52) -> 22
I13: =IF(D13<=8,"",E13/D13) | L13: =_xlfn.RANK.EQ(J13,$J$4:$J$52) -> 22
B14: 夜魔俠 | C14: {=_xlfn.CHOOSECOLS('成績匯總 (函數)'!$B$17:$AD$27,1,26,27,28,29)} -> 梁耿縉 | D14: 16 | E14: 12 | F14: 1 | G14: 5 | H14: 3 | I14: =E14/D14 -> 0.75 | J14: =F14/H14 -> 0.33333333 | K14: =_xlfn.RANK.EQ(I14,$I$4:$I$48) -> 4 | L14: =_xlfn.RANK.EQ(J14,$J$4:$J$52) -> 18
B15: 夜魔俠 | C15: 勞恩以達西拔 | D15: 7 | E15: 5 | F15: 3 | G15: 0 | H15: 3 | I15: =E15/D15 -> 0.71428571 | J15: =F15/H15 -> 1 | K15: =_xlfn.RANK.EQ(I15,$I$4:$I$48) -> 5 | L15: =_xlfn.RANK.EQ(J15,$J$4:$J$52) -> 7
B16: 夜魔俠 | C16: 蔡存宥 | D16: 12 | E16: 4 | F16: 4 | G16: 8 | H16: 3 | I16: =E16/D16 -> 0.33333333 | J16: =F16/H16 -> 1.3333333 | K16: =_xlfn.RANK.EQ(I16,$I$4:$I$48) -> 14 | L16: =_xlfn.RANK.EQ(J16,$J$4:$J$52) -> 4
B17: 夜魔俠 | C17: 郭亦倫 | D17: 13 | E17: 8 | F17: 3 | G17: 4 | H17: 3 | I17: =E17/D17 -> 0.61538462 | J17: =F17/H17 -> 1 | K17: =_xlfn.RANK.EQ(I17,$I$4:$I$48) -> 7 | L17: =_xlfn.RANK.EQ(J17,$J$4:$J$52) -> 7
B18: 夜魔俠 | C18: 古國偉 | D18: 9 | E18: 6 | F18: 6 | G18: 6 | H18: 3 | I18: =E18/D18 -> 0.66666667 | J18: =F18/H18 -> 2 | K18: =_xlfn.RANK.EQ(I18,$I$4:$I$48) -> 6 | L18: =_xlfn.RANK.EQ(J18,$J$4:$J$52) -> 1
B19: 夜魔俠 | C19: 余自成 | D19: 9 | E19: 5 | F19: 2 | G19: 2 | H19: 3 | I19: =E19/D19 -> 0.55555556 | J19: =F19/H19 -> 0.66666667 | K19: =_xlfn.RANK.EQ(I19,$I$4:$I$48) -> 9 | L19: =_xlfn.RANK.EQ(J19,$J$4:$J$52) -> 15
B20: 夜魔俠 | C20: 蔡孟洵 | D20: 9 | E20: 0 | F20: 0 | G20: 2 | H20: 3 | I20: =E20/D20 -> 0 | J20: =F20/H20 -> 0 | K20: =_xlfn.RANK.EQ(I20,$I$4:$I$48) -> 25 | L20: =_xlfn.RANK.EQ(J20,$J$4:$J$52) -> 22
B21: 夜魔俠 | C21: 吳品逸 | D21: 4 | E21: 1 | F21: 0 | G21: 3 | H21: 2 | I21: =E21/D21 -> 0.25 | J21: =F21/H21 -> 0 | K21: =_xlfn.RANK.EQ(I21,$I$4:$I$48) -> 17 | L21: =_xlfn.RANK.EQ(J21,$J$4:$J$52) -> 22
B22: 夜魔俠 | C22: 0 | D22: 0 | E22: 0 | F22: 0 | G22: 0 | H22: 3 | I22: =IF(D22<=8,"",E22/D22) | J22: =F22/H22 -> 0 | L22: =_xlfn.RANK.EQ(J22,$J$4:$J$52) -> 22
B23: 夜魔俠 | C23: 0 | D23: 0 | E23: 0 | F23: 0 | G23: 0 | H23: 3 | I23: =IF(D23<=8,"",E23/D23) | J23: =F23/H23 -> 0 | L23: =_xlfn.RANK.EQ(J23,$J$4:$J$52) -> 22
B24: 夜魔俠 | C24: 0 | D24: 0 | E24: 0 | F24: 0 | G24: 0 | H24: 3 | I24: =IF(D24<=8,"",E24/D24) | J24: =F24/H24 -> 0 | L24: =_xlfn.RANK.EQ(J24,$J$4:$J$52) -> 22
K25: =_xlfn.RANK.EQ(I25,$I$4:$I$48) -> 25 | L25: =_xlfn.RANK.EQ(J25,$J$4:$J$52) -> 22
K26: =_xlfn.RANK.EQ(I26,$I$4:$I$48) -> 25 | L26: =_xlfn.RANK.EQ(J26,$J$4:$J$52) -> 22
B27: 游擊 | C27: {=_xlfn.CHOOSECOLS('成績匯總 (函數)'!$B$32:$AD$40,1,26,27,28,29)} -> 邱文昇 | D27: 13 | E27: 13 | F27: 3 | G27: 0 | H27: 3 | I27: =E27/D27 -> 1 | J27: =F27/H27 -> 1 | K27: =_xlfn.RANK.EQ(I27,$I$4:$I$48) -> 1 | L27: =_xlfn.RANK.EQ(J27,$J$4:$J$52) -> 7
B28: 游擊 | C28: 賴智傑 | D28: 13 | E28: 10 | F28: 1 | G28: 2 | H28: 3 | I28: =E28/D28 -> 0.76923077 | J28: =F28/H28 -> 0.33333333 | K28: =_xlfn.RANK.EQ(I28,$I$4:$I$48) -> 3 | L28: =_xlfn.RANK.EQ(J28,$J$4:$J$52) -> 18
B29: 游擊 | C29: 黃志遠 | D29: 11 | E29: 3 | F29: 6 | G29: 3 | H29: 3 | I29: =E29/D29 -> 0.27272727 | J29: =F29/H29 -> 2 | K29: =_xlfn.RANK.EQ(I29,$I$4:$I$48) -> 16 | L29: =_xlfn.RANK.EQ(J29,$J$4:$J$52) -> 1
B30: 游擊 | C30: 王兆熙 | D30: 12 | E30: 1 | F30: 3 | G30: 6 | H30: 3 | I30: =E30/D30 -> 0.083333333 | J30: =F30/H30 -> 1 | K30: =_xlfn.RANK.EQ(I30,$I$4:$I$48) -> 24 | L30: =_xlfn.RANK.EQ(J30,$J$4:$J$52) -> 7
B31: 游擊 | C31: 蔡孟洵* | D31: 11 | E31: 2 | F31: 0 | G31: 3 | H31: 2 | I31: =E31/D31 -> 0.18181818 | J31: =F31/H31 -> 0 | K31: =_xlfn.RANK.EQ(I31,$I$4:$I$48) -> 20 | L31: =_xlfn.RANK.EQ(J31,$J$4:$J$52) -> 22
B32: 游擊 | C32: 吳品逸* | D32: 12 | E32: 7 | F32: 0 | G32: 0 | H32: 2 | I32: =E32/D32 -> 0.58333333 | J32: =F32/H32 -> 0 | K32: =_xlfn.RANK.EQ(I32,$I$4:$I$48) -> 8 | L32: =_xlfn.RANK.EQ(J32,$J$4:$J$52) -> 22
B33: 游擊 | C33: 勞恩* | D33: 0 | E33: 0 | F33: 0 | G33: 0 | H33: 1 | J33: =F33/H33 -> 0 | K33: =_xlfn.RANK.EQ(I33,$I$4:$I$48) -> 25 | L33: =_xlfn.RANK.EQ(J33,$J$4:$J$52) -> 22
B34: 游擊 | C34: 蔡存宥* | D34: 0 | E34: 0 | F34: 0 | G34: 0 | H34: 1 | J34: =F34/H34 -> 0 | K34: =_xlfn.RANK.EQ(I34,$I$4:$I$48) -> 25 | L34: =_xlfn.RANK.EQ(J34,$J$4:$J$52) -> 22
C35: 0 | D35: 0 | E35: 0 | F35: 0 | G35: 0 | K35: =_xlfn.RANK.EQ(I35,$I$4:$I$48) -> 25 | L35: =_xlfn.RANK.EQ(J35,$J$4:$J$52) -> 22
B36: 新北獵豹 | C36: {=_xlfn.CHOOSECOLS('成績匯總 (函數)'!$B$45:$AD$57,1,26,27,28,29)} -> 陳傑閔 | D36: 12 | E36: 5 | F36: 5 | G36: 7 | H36: 3 | I36: =E36/D36 -> 0.41666667 | J36: =F36/H36 -> 1.6666667 | K36: =_xlfn.RANK.EQ(I36,$I$4:$I$48) -> 13 | L36: =_xlfn.RANK.EQ(J36,$J$4:$J$52) -> 3
B37: 新北獵豹 | C37: 蔡宗豪 | D37: 10 | E37: 8 | F37: 2 | G37: 1 | H37: 3 | I37: =E37/D37 -> 0.8 | J37: =F37/H37 -> 0.66666667 | K37: =_xlfn.RANK.EQ(I37,$I$4:$I$48) -> 2 | L37: =_xlfn.RANK.EQ(J37,$J$4:$J$52) -> 15
B38: 新北獵豹 | C38: 賴保全 | D38: 13 | E38: 4 | F38: 3 | G38: 6 | H38: 3 | I38: =E38/D38 -> 0.30769231 | J38: =F38/H38 -> 1 | K38: =_xlfn.RANK.EQ(I38,$I$4:$I$48) -> 15 | L38: =_xlfn.RANK.EQ(J38,$J$4:$J$52) -> 7
B39: 新北獵豹 | C39: 蔡志雄 | D39: 12 | E39: 2 | F39: 3 | G39: 9 | H39: 3 | I39: =E39/D39 -> 0.16666667 | J39: =F39/H39 -> 1 | K39: =_xlfn.RANK.EQ(I39,$I$4:$I$48) -> 21 | L39: =_xlfn.RANK.EQ(J39,$J$4:$J$52) -> 7
B40: 新北獵豹 | C40: 陳韻婷 | D40: 7 | E40: 0 | F40: 0 | G40: 5 | H40: 2 | I40: =E40/D40 -> 0 | J40: =F40/H40 -> 0 | K40: =_xlfn.RANK.EQ(I40,$I$4:$I$48) -> 25 | L40: =_xlfn.RANK.EQ(J40,$J$4:$J$52) -> 22
B41: 新北獵豹 | C41: 黃雅苓 | D41: 8 | E41: 0 | F41: 1 | G41: 8 | H41: 2 | I41: =E41/D41 -> 0 | J41: =F41/H41 -> 0.5 | K41: =_xlfn.RANK.EQ(I41,$I$4:$I$48) -> 25 | L41: =_xlfn.RANK.EQ(J41,$J$4:$J$52) -> 17
B42: 新北獵豹 | C42: 張睿紘 | D42: 13 | E42: 2 | F42: 4 | G42: 7 | H42: 3 | I42: =E42/D42 -> 0.15384615 | J42: =F42/H42 -> 1.3333333 | K42: =_xlfn.RANK.EQ(I42,$I$4:$I$48) -> 23 | L42: =_xlfn.RANK.EQ(J42,$J$4:$J$52) -> 4
B43: 新北獵豹 | C43: 0 | D43: 0 | E43: 0 | F43: 0 | G43: 0 | H43: 3 | J43: =F43/H43 -> 0 | K43: =_xlfn.RANK.EQ(I43,$I$4:$I$48) -> 25 | L43: =_xlfn.RANK.EQ(J43,$J$4:$J$52) -> 22
B44: 新北獵豹 | C44: 0 | D44: 0 | E44: 0 | F44: 0 | G44: 0 | H44: 3 | J44: =F44/H44 -> 0 | K44: =_xlfn.RANK.EQ(I44,$I$4:$I$48) -> 25 | L44: =_xlfn.RANK.EQ(J44,$J$4:$J$52) -> 22
B45: 新北獵豹 | C45: 0 | D45: 0 | E45: 0 | F45: 0 | G45: 0 | K45: =_xlfn.RANK.EQ(I45,$I$4:$I$48) -> 25 | L45: =_xlfn.RANK.EQ(J45,$J$4:$J$52) -> 22
B46: 新北獵豹 | C46: 0 | D46: 0 | E46: 0 | F46: 0 | G46: 0 | H46: 3 | J46: =F46/H46 -> 0 | K46: =_xlfn.RANK.EQ(I46,$I$4:$I$48) -> 25 | L46: =_xlfn.RANK.EQ(J46,$J$4:$J$52) -> 22
B47: 新北獵豹 | C47: 0 | D47: 0 | E47: 0 | F47: 0 | G47: 0 | K47: =_xlfn.RANK.EQ(I47,$I$4:$I$48) -> 25 | L47: =_xlfn.RANK.EQ(J47,$J$4:$J$52) -> 22
B48: 新北獵豹 | C48: 0 | D48: 0 | E48: 0 | F48: 0 | G48: 0 | H48: 2 | J48: =F48/H48 -> 0 | K48: =_xlfn.RANK.EQ(I48,$I$4:$I$48) -> 25 | L48: =_xlfn.RANK.EQ(J48,$J$4:$J$52) -> 22
C51: 團隊防守成績 | D51: (少G5 資料,閃電、游擊數據僅供參考)
B52: 積分(不含G5) | C52: 隊伍名稱 | D52: AB | E52: R | F52: PO | G52: K | H52: LOST | I52: Fielding | J52: 防守排行 | K52: 淨得分
B53: 4 | C53: 閃電 | D53: {='成績匯總 (函數)'!AA13:AD13} -> 46 | E53: 16 | F53: 12 | G53: 26 | H53: 14 | I53: =+F53/(F53+H53) -> 0.46153846 | J53: =_xlfn.RANK.EQ(I53,$I$53:$I$56) -> 1 | K53: =+E53-H53 -> 2
B54: 4 | C54: 夜魔俠 | D54: {='成績匯總 (函數)'!AA28:AD28} -> 79 | E54: 41 | F54: 19 | G54: 30 | H54: 29 | I54: =+F54/(F54+H54) -> 0.39583333 | J54: =_xlfn.RANK.EQ(I54,$I$53:$I$56) -> 2 | K54: =+E54-H54 -> 12
B55: 4 | C55: 游擊 | D55: {='成績匯總 (函數)'!AA41:AD41} -> 72 | E55: 36 | F55: 13 | G55: 14 | H55: 31 | I55: =+F55/(F55+H55) -> 0.29545455 | J55: =_xlfn.RANK.EQ(I55,$I$53:$I$56) -> 4 | K55: =+E55-H55 -> 5
B56: 0 | C56: 金錢豹 | D56: {='成績匯總 (函數)'!AA58:AD58} -> 75 | E56: 21 | F56: 18 | G56: 43 | H56: 40 | I56: =+F56/(F56+H56) -> 0.31034483 | J56: =_xlfn.RANK.EQ(I56,$I$53:$I$56) -> 3 | K56: =+E56-H56 -> -19
B58: 投手成績
B59: 投手名單 | C59: AB | D59: R | E59: K | F59: K Pct. | G59: K率排行(小)
B60: 駱繼宗 | F60: =+E60/C60 -> #DIV/0! | G60: =_xlfn.RANK.EQ(F60,$F$60:$F$66,1) -> #DIV/0!
B61: 李裕仁 | F61: =+E61/C61 -> #DIV/0! | G61: =_xlfn.RANK.EQ(F61,$F$60:$F$66,1) -> #DIV/0!
B62: 陳相睿 | C62: 65 | D62: 29 | E62: 20 | F62: =+E62/C62 -> 0.30769231 | G62: =_xlfn.RANK.EQ(F62,$F$60:$F$66,1) -> #DIV/0!
B63: 林春佑 | F63: =+E63/C63 -> #DIV/0! | G63: =_xlfn.RANK.EQ(F63,$F$60:$F$66,1) -> #DIV/0!
B64: 王辰光 | C64: 30 | D64: 12 | E64: 10 | F64: =+E64/C64 -> 0.33333333 | G64: =_xlfn.RANK.EQ(F64,$F$60:$F$66,1) -> #DIV/0!
B65: 江言鎧 | C65: 71 | D65: 18 | E65: 43 | F65: =+E65/C65 -> 0.6056338 | G65: =_xlfn.RANK.EQ(F65,$F$60:$F$66,1) -> #DIV/0!
F66: =+E66/C66 -> #DIV/0! | G66: =_xlfn.RANK.EQ(F66,$F$60:$F$66,1) -> #DIV/0!
A71: S | B71: 前排守備 | F71: M | G71: 中排守備 | K71: D | L71: 後排守備
A72: 守備位置 | B72: 隊名 | C72: 姓名 | D72: PO/G | E72: 排行 | F72: 守備位置 | G72: 隊名 | H72: 姓名 | I72: PO/G | J72: 排行 | K72: 守備位置 | L72: 隊名 | M72: 姓名 | N72: PO/G | O72: 排行
A73: {=_xlfn.CHOOSECOLS(_xlfn._xlws.FILTER($A$4:$J$49,$A$4:$A$49=A71,""),1,2,3,10)} -> #VALUE! | E73: =_xlfn.RANK.EQ(D73,$D$73:$D$82) -> #N/A | F73: {=_xlfn.CHOOSECOLS(_xlfn._xlws.FILTER($A$4:$J$49,$A$4:$A$49=F71,""),1,2,3,10)} -> #VALUE! | J73: =_xlfn.RANK.EQ(I73,$I$73:$I$90) -> #N/A | K73: {=_xlfn.CHOOSECOLS(_xlfn._xlws.FILTER($A$4:$J$49,$A$4:$A$49=K71,""),1,2,3,10)} -> #VALUE! | O73: =_xlfn.RANK.EQ(N73,$N$73:$N$79) -> #N/A
E74: =_xlfn.RANK.EQ(D74,$D$73:$D$82) -> #N/A | J74: =_xlfn.RANK.EQ(I74,$I$73:$I$90) -> #N/A | O74: =_xlfn.RANK.EQ(N74,$N$73:$N$79) -> #N/A
E75: =_xlfn.RANK.EQ(D75,$D$73:$D$82) -> #N/A | J75: =_xlfn.RANK.EQ(I75,$I$73:$I$90) -> #N/A | O75: =_xlfn.RANK.EQ(N75,$N$73:$N$79) -> #N/A
E76: =_xlfn.RANK.EQ(D76,$D$73:$D$82) -> #N/A | J76: =_xlfn.RANK.EQ(I76,$I$73:$I$90) -> #N/A | O76: =_xlfn.RANK.EQ(N76,$N$73:$N$79) -> #N/A
E77: =_xlfn.RANK.EQ(D77,$D$73:$D$82) -> #N/A | J77: =_xlfn.RANK.EQ(I77,$I$73:$I$90) -> #N/A | O77: =_xlfn.RANK.EQ(N77,$N$73:$N$79) -> #N/A | P77: 2次雙殺
E78: =_xlfn.RANK.EQ(D78,$D$73:$D$82) -> #N/A | J78: =_xlfn.RANK.EQ(I78,$I$73:$I$90) -> #N/A | O78: =_xlfn.RANK.EQ(N78,$N$73:$N$79) -> #N/A
E79: =_xlfn.RANK.EQ(D79,$D$73:$D$82) -> #N/A | J79: =_xlfn.RANK.EQ(I79,$I$73:$I$90) -> #N/A | O79: =_xlfn.RANK.EQ(N79,$N$73:$N$79) -> #N/A
E80: =_xlfn.RANK.EQ(D80,$D$73:$D$82) -> #N/A | J80: =_xlfn.RANK.EQ(I80,$I$73:$I$90) -> #N/A
E81: =_xlfn.RANK.EQ(D81,$D$73:$D$82) -> #N/A | J81: =_xlfn.RANK.EQ(I81,$I$73:$I$90) -> #N/A
E82: =_xlfn.RANK.EQ(D82,$D$73:$D$82) -> #N/A | J82: =_xlfn.RANK.EQ(I82,$I$73:$I$90) -> #N/A
J83: =_xlfn.RANK.EQ(I83,$I$73:$I$90) -> #N/A
J84: =_xlfn.RANK.EQ(I84,$I$73:$I$90) -> #N/A
J85: =_xlfn.RANK.EQ(I85,$I$73:$I$90) -> #N/A
J86: =_xlfn.RANK.EQ(I86,$I$73:$I$90) -> #N/A
J87: =_xlfn.RANK.EQ(I87,$I$73:$I$90) -> #N/A
J88: =_xlfn.RANK.EQ(I88,$I$73:$I$90) -> #N/A
J89: =_xlfn.RANK.EQ(I89,$I$73:$I$90) -> #N/A

Sheet 工作表1
A2: 背號 | B2: 姓名 | C2: AB | D2: R | E2: Po | F2: K | G2: 打擊率 (R/AB)
A3: 18 | B3: 梁耿縉 | C3: 17 | D3: 12 | E3: 1 | F3: 5 | G3: 0.70588235
A4: 11 | B4: 勞恩以達西拔 | C4: 7 | D4: 5 | E4: 2 | F4: 0 | G4: 0.71428571
A5: 22 | B5: 蔡存宥 | C5: 17 | D5: 4 | E5: 4 | F5: 8 | G5: 0.23529412
A6: 39 | B6: 郭亦倫 | C6: 13 | D6: 8 | E6: 3 | F6: 4 | G6: 0.61538462
A7: 37 | B7: 古國偉 | C7: 14 | D7: 6 | E7: 6 | F7: 6 | G7: 0.42857143
A8: 81 | B8: 余自成 | C8: 14 | D8: 5 | E8: 2 | F8: 2 | G8: 0.35714286
A9: 58 | B9: 蔡孟洵 | C9: 9 | D9: 0 | E9: 0 | F9: 2 | G9: 0
A10: o | B10: 吳品逸 | C10: 4 | D10: 1 | E10: 0 | F10: 3 | G10: 0.25
A14: 背號 | B14: 姓名 | C14: AB | D14: R | E14: Po | F14: K | G14: 打擊率 (R/AB)
A15: 58 | B15: 蔡孟洵* | C15: 11 | D15: 2 | E15: 0 | F15: 3 | G15: 0.18181818
A16: o | B16: 吳品逸* | C16: 12 | D16: 7 | E16: 0 | F16: 0 | G16: 0.58333333
B19: 投手成績
B20: 投手名單 | C20: AB | D20: R | E20: K | F20: K Pct.
B21: 陳相睿 | C21: 65 | D21: 29 | E21: 20 | F21: =+E21/C21 -> 0.30769231
B22: 王辰光 | C22: 30 | D22: 12 | E22: 10 | F22: =+E22/C22 -> 0.33333333
