Workbook

Sheet 分組球員名單
A1: 球員名單 | B1: 背號
A2: A | D2: 投捕觀名單 | F2: 隊伍名稱
A3: 陳璽帆 | B3: 8 | D3: 駱繼宗 | F3: 閃電
A4: 黃柏欽 | B4: 4 | D4: 李裕仁 | F4: 夜魔俠
A5: 郭育廷 | B5: 21 | D5: 陳相睿 | F5: 雄霸
A6: 林育良 | B6: 99 | D6: 林春佑 | F6: 新北獵豹
A7: 林健彰 | B7: 111 | D7: 宋展宇
A8: 陳俊欽 | B8: 35 | D8: 王辰光
A9: 張御欣 | B9: 32 | D9: 游鎮維
A10: 莊詠安 | B10: 23 | D10: 江言鎧
A11: 鄭傳逸 | B11: 88 | D11: 薛沅庭
A12: 紀和成 | B12: 51 | D12: 賴君佩
A13: B | D13: 高芳伶
A14: 梁耿縉 | B14: 18 | D14: 劉維璽
A15: 勞恩以達西拔 | B15: 11 | D15: 謝仲荃
A16: 蔡存宥 | B16: 22 | D16: 游政翰
A17: 郭亦倫 | B17: 39 | D17: 林宜宏
A18: 張睿紘 | B18: 24 | D18: 林文耀
A19: 余自成 | B19: 81
A20: 蔡孟洵 | B20: 58
A21: 陳建智 | B21: 7
A22: 邱文昇 | B22: 23 | F22: 對戰分數
A23: 賴智傑 | B23: 28 | D23: 8/23(六) | F23: 閃電 | G23: 夜魔俠 | H23: 雄霸 | I23: 新北獵豹
A24: 林君達 | B24: 21 | D24: G1 09:30-11:30 | F24: 5 | G24: 17
A25: C | D25: 閃電 vs 夜魔俠
A26: 李庭旭 | B26: 11 | D26: G2 12:00-14:00 | H26: 15 | I26: 3
A27: 何昌翰 | B27: 99 | D27: 雄霸 vs 新北獵豹
A28: 陳建閔 | B28: 26 | D28: G3 14:30-16:30
A29: 許戎忠 | B29: 14 | D29: 夜魔俠 vs 雄霸 | G29: 4 | H29: 2
A30: 陳玠樸 | B30: 66 | D30: 8/24 (日)
A31: 陳昶逸 | B31: 23 | D31: G4 09:30-11:30
A32: 陳宥憲 | B32: 9 | D32: 新北獵豹 vs 閃電 | F32: 5 | I32: 4
A33: 陳偕安 | B33: 17 | D33: G5 12:00-14:00 季軍賽
A34: 王兆熙 | B34: 83 | D34: 新北獵豹 vs 閃電 | F34: 8 | I34: 7
A35: D | D35: G6 14:30-16:30 冠軍賽
A36: 李秀美 | B36: 6 | D36: 夜魔俠 vs 雄霸 | G36: 13 | H36: 2
A37: 蔡宗豪 | B37: 15 | F37: =SUM(F24:F36) -> 18 | G37: =SUM(G24:G36) -> 34 | H37: =SUM(H24:H36) -> 19 | I37: =SUM(I24:I36) -> 14
A38: 張玥琳 | B38: 29
A39: 洪韶壕 | B39: 25
A40: 古國偉 | B40: O
...

Sheet G1
B1: 加計分數 | D1: 場次 | H1: G1 | J1: 日期 | L1: 114.08.23 | Q1: =AA21 -> 17 | T1: 夜魔俠 | V1: VS | X1: 閃電 | AB1: =AA41 -> 5 | AE1: 數據
A2: 撿球 | B2: 接殺 | C2: HR | D2: 先 | E2: 背號 | F2: 球員 | G2: 1 | J2: 投 | K2: 2 | N2: 投 | O2: 3 | R2: 投 | S2: 4 | V2: 投 | W2: 5 | Z2: 投 | AA2: 6 | AD2: 投 | AE2: AB | AF2: R | AG2: Po | AH2: K | AI2: 投/捕/觀 | AK2: 背號 | AL2: 球員 | AM2: AB | AN2: R | AO2: Po | AP2: K
A3: =COUNTIF($G$23:$AC$40,E3) -> 0 | C3: =COUNTIF(G3:AC3,"HR") -> 0 | D3: 1 | E3: 18 | F3: 梁耿縉 | G3: R | K3: R | L3: R | P3: R | T3: R | AE3: =COUNTA(G3:I3,K3:M3,O3:Q3,S3:U3,W3:Y3,AA3:AC3) -> 5 | AF3: =COUNTIF(G3:AC3,"R")+(COUNTIF(G3:AC3,"HR")*2) -> 5 | AG3: =A3+B3 -> 0 | AH3: =COUNTIF(G3:AC3,"K") -> 0 | AI3: 投手 | AK3: 18 | AL3: 梁耿縉 | AM3: {=_xlfn.CHOOSECOLS(_xlfn._xlws.FILTER($F$3:$AH$20,$F$3:$F$20=AL3),26,27,28,29)} -> 5 | AN3: 5 | AO3: 0 | AP3: 0
A4: =COUNTIF($G$23:$AC$40,E4) -> 0 | C4: =COUNTIF(G4:AC4,"HR") -> 0 | AE4: =COUNTA(G4:I4,K4:M4,O4:Q4,S4:U4,W4:Y4,AA4:AC4) -> 0 | AF4: =COUNTIF(G4:AC4,"R")+(COUNTIF(G4:AC4,"HR")*2) -> 0 | AG4: =A4+B4 -> 0 | AH4: =COUNTIF(G4:AC4,"K") -> 0 | AI4: 林春佑 | AK4: 22 | AL4: 蔡存宥 | AM4: {=_xlfn.CHOOSECOLS(_xlfn._xlws.FILTER($F$3:$AH$20,$F$3:$F$20=AL4),26,27,28,29)} -> 5 | AN4: 3 | AO4: 0 | AP4: 0
A5: =COUNTIF($G$23:$AC$40,E5) -> 0 | C5: =COUNTIF(G5:AC5,"HR") -> 0 | AE5: =COUNTA(G5:I5,K5:M5,O5:Q5,S5:U5,W5:Y5,AA5:AC5) -> 0 | AF5: =COUNTIF(G5:AC5,"R")+(COUNTIF(G5:AC5,"HR")*2) -> 0 | AG5: =A5+B5 -> 0 | AH5: =COUNTIF(G5:AC5,"K") -> 0 | AK5: 23 | AL5: 邱文昇 | AM5: {=_xlfn.CHOOSECOLS(_xlfn._xlws.FILTER($F$3:$AH$20,$F$3:$F$20=AL5),26,27,28,29)} -> 5 | AN5: 2 | AO5: 3 | AP5: 0
A6: =COUNTIF($G$23:$AC$40,E6) -> 0 | C6: =COUNTIF(G6:AC6,"HR") -> 0 | D6: 2 | E6: 22 | F6: 蔡存宥 | G6: 21 | K6: R | L6: 35 | P6: R | T6: R | AE6: =COUNTA(G6:I6,K6:M6,O6:Q6,S6:U6,W6:Y6,AA6:AC6) -> 5 | AF6: =COUNTIF(G6:AC6,"R")+(COUNTIF(G6:AC6,"HR")*2) -> 3 | AG6: =A6+B6 -> 0 | AH6: =COUNTIF(G6:AC6,"K") -> 0 | AI6: 捕手 | AK6: 39 | AL6: 郭亦倫 | AM6: {=_xlfn.CHOOSECOLS(_xlfn._xlws.FILTER($F$3:$AH$20,$F$3:$F$20=AL6),26,27,28,29)} -> 5 | AN6: 3 | AO6: 0 | AP6: 0
A7: =COUNTIF($G$23:$AC$40,E7) -> 0 | C7: =COUNTIF(G7:AC7,"HR") -> 0 | AE7: =COUNTA(G7:I7,K7:M7,O7:Q7,S7:U7,W7:Y7,AA7:AC7) -> 0 | AF7: =COUNTIF(G7:AC7,"R")+(COUNTIF(G7:AC7,"HR")*2) -> 0 | AG7: =A7+B7 -> 0 | AH7: =COUNTIF(G7:AC7,"K") -> 0 | AI7: 王辰光 | AK7: 58 | AL7: 蔡孟洵 | AM7: {=_xlfn.CHOOSECOLS(_xlfn._xlws.FILTER($F$3:$AH$20,$F$3:$F$20=AL7),26,27,28,29)} -> 0 | AN7: 0 | AO7: 0 | AP7: 0
A8: =COUNTIF($G$23:$AC$40,E8) -> 0 | C8: =COUNTIF(G8:AC8,"HR") -> 0 | AE8: =COUNTA(G8:I8,K8:M8,O8:Q8,S8:U8,W8:Y8,AA8:AC8) -> 0 | AF8: =COUNTIF(G8:AC8,"R")+(COUNTIF(G8:AC8,"HR")*2) -> 0 | AG8: =A8+B8 -> 0 | AH8: =COUNTIF(G8:AC8,"K") -> 0 | AK8: 24 | AL8: 張睿紘 | AM8: {=_xlfn.CHOOSECOLS(_xlfn._xlws.FILTER($F$3:$AH$20,$F$3:$F$20=AL8),26,27,28,29)} -> 3 | AN8: 1 | AO8: 0 | AP8: 2
A9: =COUNTIF($G$23:$AC$40,E9) -> 3 | C9: =COUNTIF(G9:AC9,"HR") -> 0 | D9: 3 | E9: 23 | F9: 邱文昇 | G9: R | K9: 21 | O9: R | P9: 35 | T9: 35 | AE9: =COUNTA(G9:I9,K9:M9,O9:Q9,S9:U9,W9:Y9,AA9:AC9) -> 5 | AF9: =COUNTIF(G9:AC9,"R")+(COUNTIF(G9:AC9,"HR")*2) -> 2 | AG9: =A9+B9 -> 3 | AH9: =COUNTIF(G9:AC9,"K") -> 0 | AK9: 21 | AL9: 林君達 | AM9: {=_xlfn.CHOOSECOLS(_xlfn._xlws.FILTER($F$3:$AH$20,$F$3:$F$20=AL9),26,27,28,29)} -> 2 | AN9: 1 | AO9: 1 | AP9: 1
A10: =COUNTIF($G$23:$AC$40,E10) -> 0 | C10: =COUNTIF(G10:AC10,"HR") -> 0 | AE10: =COUNTA(G10:I10,K10:M10,O10:Q10,S10:U10,W10:Y10,AA10:AC10) -> 0 | AF10: =COUNTIF(G10:AC10,"R")+(COUNTIF(G10:AC10,"HR")*2) -> 0 | AG10: =A10+B10 -> 0 | AH10: =COUNTIF(G10:AC10,"K") -> 0 | AI10: 觀測員 | AK10: 81 | AL10: 余自成 | AM10: {=_xlfn.CHOOSECOLS(_xlfn._xlws.FILTER($F$3:$AH$20,$F$3:$F$20=AL10),26,27,28,29)} -> 1 | AN10: 0 | AO10: 0 | AP10: 0
A11: =COUNTIF($G$23:$AC$40,E11) -> 0 | C11: =COUNTIF(G11:AC11,"HR") -> 0 | AE11: =COUNTA(G11:I11,K11:M11,O11:Q11,S11:U11,W11:Y11,AA11:AC11) -> 0 | AF11: =COUNTIF(G11:AC11,"R")+(COUNTIF(G11:AC11,"HR")*2) -> 0 | AG11: =A11+B11 -> 0 | AH11: =COUNTIF(G11:AC11,"K") -> 0 | AI11: 劉維璽 | AK11: 28 | AL11: 賴智傑 | AM11: {=_xlfn.CHOOSECOLS(_xlfn._xlws.FILTER($F$3:$AH$20,$F$3:$F$20=AL11),26,27,28,29)} -> 3 | AN11: 2 | AO11: 1 | AP11: 0
A12: =COUNTIF($G$23:$AC$40,E12) -> 0 | C12: =COUNTIF(G12:AC12,"HR") -> 0 | D12: 4 | E12: 39 | F12: 郭亦倫 | G12: R | K12: R | O12: 35 | S12: R | T12: 35 | AE12: =COUNTA(G12:I12,K12:M12,O12:Q12,S12:U12,W12:Y12,AA12:AC12) -> 5 | AF12: =COUNTIF(G12:AC12,"R")+(COUNTIF(G12:AC12,"HR")*2) -> 3 | AG12: =A12+B12 -> 0 | AH12: =COUNTIF(G12:AC12,"K") -> 0
A13: =COUNTIF($G$23:$AC$40,E13) -> 0 | C13: =COUNTIF(G13:AC13,"HR") -> 0 | E13: 58 | F13: 蔡孟洵 | AE13: =COUNTA(G13:I13,K13:M13,O13:Q13,S13:U13,W13:Y13,AA13:AC13) -> 0 | AF13: =COUNTIF(G13:AC13,"R")+(COUNTIF(G13:AC13,"HR")*2) -> 0 | AG13: =A13+B13 -> 0 | AH13: =COUNTIF(G13:AC13,"K") -> 0
A14: =COUNTIF($G$23:$AC$40,E14) -> 0 | C14: =COUNTIF(G14:AC14,"HR") -> 0 | AE14: =COUNTA(G14:I14,K14:M14,O14:Q14,S14:U14,W14:Y14,AA14:AC14) -> 0 | AF14: =COUNTIF(G14:AC14,"R")+(COUNTIF(G14:AC14,"HR")*2) -> 0 | AG14: =A14+B14 -> 0 | AH14: =COUNTIF(G14:AC14,"K") -> 0 | AI14: 候補球員
A15: =COUNTIF($G$23:$AC$40,E15) -> 0 | C15: =COUNTIF(G15:AC15,"HR") -> 0 | D15: 5 | E15: 24 | F15: 張睿紘 | G15: K | K15: R | O15: K | AE15: =COUNTA(G15:I15,K15:M15,O15:Q15,S15:U15,W15:Y15,AA15:AC15) -> 3 | AF15: =COUNTIF(G15:AC15,"R")+(COUNTIF(G15:AC15,"HR")*2) -> 1 | AG15: =A15+B15 -> 0 | AH15: =COUNTIF(G15:AC15,"K") -> 2
A16: =COUNTIF($G$23:$AC$40,E16) -> 1 | C16: =COUNTIF(G16:AC16,"HR") -> 0 | E16: 21 | F16: 林君達 | S16: R | T16: K | AE16: =COUNTA(G16:I16,K16:M16,O16:Q16,S16:U16,W16:Y16,AA16:AC16) -> 2 | AF16: =COUNTIF(G16:AC16,"R")+(COUNTIF(G16:AC16,"HR")*2) -> 1 | AG16: =A16+B16 -> 1 | AH16: =COUNTIF(G16:AC16,"K") -> 1 | AM16: =SUM(AM3:AM15) -> 29 | AN16: =SUM(AN3:AN15) -> 17 | AO16: =SUM(AO3:AO15) -> 5 | AP16: =SUM(AP3:AP15) -> 3
A17: =COUNTIF($G$23:$AC$40,E17) -> 0 | C17: =COUNTIF(G17:AC17,"HR") -> 0 | AE17: =COUNTA(G17:I17,K17:M17,O17:Q17,S17:U17,W17:Y17,AA17:AC17) -> 0 | AF17: =COUNTIF(G17:AC17,"R")+(COUNTIF(G17:AC17,"HR")*2) -> 0 | AG17: =A17+B17 -> 0 | AH17: =COUNTIF(G17:AC17,"K") -> 0
A18: =COUNTIF($G$23:$AC$40,E18) -> 0 | C18: =COUNTIF(G18:AC18,"HR") -> 0 | D18: 6 | E18: 81 | F18: 余自成 | G18: 88 | AE18: =COUNTA(G18:I18,K18:M18,O18:Q18,S18:U18,W18:Y18,AA18:AC18) -> 1 | AF18: =COUNTIF(G18:AC18,"R")+(COUNTIF(G18:AC18,"HR")*2) -> 0 | AG18: =A18+B18 -> 0 | AH18: =COUNTIF(G18:AC18,"K") -> 0
A19: =COUNTIF($G$23:$AC$40,E19) -> 1 | C19: =COUNTIF(G19:AC19,"HR") -> 0 | E19: 28 | F19: 賴智傑 | K19: 8 | O19: R | S19: R | AE19: =COUNTA(G19:I19,K19:M19,O19:Q19,S19:U19,W19:Y19,AA19:AC19) -> 3 | AF19: =COUNTIF(G19:AC19,"R")+(COUNTIF(G19:AC19,"HR")*2) -> 2 | AG19: =A19+B19 -> 1 | AH19: =COUNTIF(G19:AC19,"K") -> 0
A20: =COUNTIF($G$23:$AC$40,E20) -> 0 | C20: =COUNTIF(G20:AC20,"HR") -> 0 | AE20: =COUNTA(G20:I20,K20:M20,O20:Q20,S20:U20,W20:Y20,AA20:AC20) -> 0 | AF20: =COUNTIF(G20:AC20,"R")+(COUNTIF(G20:AC20,"HR")*2) -> 0 | AG20: =A20+B20 -> 0 | AH20: =COUNTIF(G20:AC20,"K") -> 0
A21: =SUM(A3:A20) -> 5 | B21: =SUM(B3:B20) -> 0 | C21: =SUM(C3:C20) -> 0 | D21: 得分加總 | G21: =COUNTIF(G3:I20,"R")+(COUNTIF(G3:I20,"HR")*2) -> 3 | K21: =COUNTIF(K3:M20,"R")+(COUNTIF(K3:M20,"HR")*2)+G21 -> 8 | O21: =COUNTIF(O3:Q20,"R")+(COUNTIF(O3:Q20,"HR")*2)+K21 -> 12 | S21: =COUNTIF(S3:U20,"R")+(COUNTIF(S3:U20,"HR")*2)+O21 -> 17 | W21: =COUNTIF(W3:Y20,"R")+(COUNTIF(W3:Y20,"HR")*2)+S21 -> 17 | AA21: =COUNTIF(AA3:AC20,"R")+(COUNTIF(AA3:AC20,"HR")*2)+W21 -> 17 | AE21: =SUM(AE3:AE20) -> 29 | AF21: =SUM(AF3:AF20) -> 17 | AG21: =SUM(AG3:AG20) -> 5 | AH21: =SUM(AH3:AH20) -> 3
A22: 撿球 | B22: 接殺 | C22: HR | D22: 後 | E22: 背號 | F22: 球員 | G22: 1 | J22: 投 | K22: 2 | N22: 投 | O22: 3 | R22: 投 | S22: 4 | V22: 投 | W22: 5 | Z22: 投 | AA22: 6 | AD22: 投 | AE22: AB | AF22: R | AG22: Po | AH22: K | AI22: 投/捕/觀
A23: =COUNTIF($G$3:$AC$20,E23) -> 0 | C23: =COUNTIF(G23:AC23,"HR") -> 0 | D23: 1 | E23: 99 | F23: 林育良 | G23: K | L23: K | P23: K | X23: 23 | AE23: =COUNTA(G23:I23,K23:M23,O23:Q23,S23:U23,W23:Y23,AA23:AC23) -> 4 | AF23: =COUNTIF(G23:AC23,"R")+C23 -> 0 | AG23: =A23+B23 -> 0 | AH23: =COUNTIF(G23:AC23,"K") -> 3 | AI23: 投手 | AK23: 99 | AL23: 林育良 | AM23: {=_xlfn.CHOOSECOLS(_xlfn._xlws.FILTER($F$23:$AH$40,$F$23:$F$40=AL23),26,27,28,29)} -> 4 | AN23: 0 | AO23: 0 | AP23: 3
A24: =COUNTIF($G$3:$AC$20,E24) -> 0 | C24: =COUNTIF(G24:AC24,"HR") -> 0 | AE24: =COUNTA(G24:I24,K24:M24,O24:Q24,S24:U24,W24:Y24,AA24:AC24) -> 0 | AF24: =COUNTIF(G24:AC24,"R")+C24 -> 0 | AG24: =A24+B24 -> 0 | AH24: =COUNTIF(G24:AC24,"K") -> 0 | AI24: 駱繼宗 | AK24: 8 | AL24: 陳璽帆 | AM24: {=_xlfn.CHOOSECOLS(_xlfn._xlws.FILTER($F$23:$AH$40,$F$23:$F$40=AL24),26,27,28,29)} -> 2 | AN24: 1 | AO24: 1 | AP24: 1
A25: =COUNTIF($G$3:$AC$20,E25) -> 0 | C25: =COUNTIF(G25:AC25,"HR") -> 0 | AE25: =COUNTA(G25:I25,K25:M25,O25:Q25,S25:U25,W25:Y25,AA25:AC25) -> 0 | AF25: =COUNTIF(G25:AC25,"R")+C25 -> 0 | AG25: =A25+B25 -> 0 | AH25: =COUNTIF(G25:AC25,"K") -> 0 | AK25: 4 | AL25: 黃柏欽 | AM25: {=_xlfn.CHOOSECOLS(_xlfn._xlws.FILTER($F$23:$AH$40,$F$23:$F$40=AL25),26,27,28,29)} -> 2 | AN25: 0 | AO25: 0 | AP25: 2
A26: =COUNTIF($G$3:$AC$20,E26) -> 1 | C26: =COUNTIF(G26:AC26,"HR") -> 0 | D26: 2 | E26: 8 | F26: 陳璽帆 | G26: R | L26: K | AE26: =COUNTA(G26:I26,K26:M26,O26:Q26,S26:U26,W26:Y26,AA26:AC26) -> 2 | AF26: =COUNTIF(G26:AC26,"R")+C26 -> 1 | AG26: =A26+B26 -> 1 | AH26: =COUNTIF(G26:AC26,"K") -> 1 | AI26: 捕手 | AK26: 21 | AL26: 郭育廷 | AM26: {=_xlfn.CHOOSECOLS(_xlfn._xlws.FILTER($F$23:$AH$40,$F$23:$F$40=AL26),26,27,28,29)} -> 4 | AN26: 2 | AO26: 2 | AP26: 1
A27: =COUNTIF($G$3:$AC$20,E27) -> 0 | C27: =COUNTIF(G27:AC27,"HR") -> 0 | E27: 4 | F27: 黃柏欽 | S27: K | AA27: k | AE27: =COUNTA(G27:I27,K27:M27,O27:Q27,S27:U27,W27:Y27,AA27:AC27) -> 2 | AF27: =COUNTIF(G27:AC27,"R")+C27 -> 0 | AG27: =A27+B27 -> 0 | AH27: =COUNTIF(G27:AC27,"K") -> 2 | AI27: 李裕仁 | AK27: 111 | AL27: 林健彰 | AM27: {=_xlfn.CHOOSECOLS(_xlfn._xlws.FILTER($F$23:$AH$40,$F$23:$F$40=AL27),26,27,28,29)} -> 4 | AN27: 1 | AO27: 0 | AP27: 2
A28: =COUNTIF($G$3:$AC$20,E28) -> 0 | C28: =COUNTIF(G28:AC28,"HR") -> 0 | AE28: =COUNTA(G28:I28,K28:M28,O28:Q28,S28:U28,W28:Y28,AA28:AC28) -> 0 | AF28: =COUNTIF(G28:AC28,"R")+C28 -> 0 | AG28: =A28+B28 -> 0 | AH28: =COUNTIF(G28:AC28,"K") -> 0 | AK28: 88 | AL28: 鄭傳逸 | AM28: {=_xlfn.CHOOSECOLS(_xlfn._xlws.FILTER($F$23:$AH$40,$F$23:$F$40=AL28),26,27,28,29)} -> 4 | AN28: 1 | AO28: 1 | AP28: 1
A29: =COUNTIF($G$3:$AC$20,E29) -> 2 | C29: =COUNTIF(G29:AC29,"HR") -> 0 | D29: 3 | E29: 21 | F29: 郭育廷 | G29: K | O29: R | S29: 28 | AA29: R | AE29: =COUNTA(G29:I29,K29:M29,O29:Q29,S29:U29,W29:Y29,AA29:AC29) -> 4 | AF29: =COUNTIF(G29:AC29,"R")+C29 -> 2 | AG29: =A29+B29 -> 2 | AH29: =COUNTIF(G29:AC29,"K") -> 1 | AK29: 35 | AL29: 陳俊欽 | AM29: {=_xlfn.CHOOSECOLS(_xlfn._xlws.FILTER($F$23:$AH$40,$F$23:$F$40=AL29),26,27,28,29)} -> 3 | AN29: 0 | AO29: 5 | AP29: 3
A30: =COUNTIF($G$3:$AC$20,E30) -> 0 | C30: =COUNTIF(G30:AC30,"HR") -> 0 | AE30: =COUNTA(G30:I30,K30:M30,O30:Q30,S30:U30,W30:Y30,AA30:AC30) -> 0 | AF30: =COUNTIF(G30:AC30,"R")+C30 -> 0 | AG30: =A30+B30 -> 0 | AH30: =COUNTIF(G30:AC30,"K") -> 0 | AI30: 觀測員
A31: =COUNTIF($G$3:$AC$20,E31) -> 0 | C31: =COUNTIF(G31:AC31,"HR") -> 0 | AE31: =COUNTA(G31:I31,K31:M31,O31:Q31,S31:U31,W31:Y31,AA31:AC31) -> 0 | AF31: =COUNTIF(G31:AC31,"R")+C31 -> 0 | AG31: =A31+B31 -> 0 | AH31: =COUNTIF(G31:AC31,"K") -> 0 | AI31: 薛沅庭
A32: =COUNTIF($G$3:$AC$20,E32) -> 0 | C32: =COUNTIF(G32:AC32,"HR") -> 0 | D32: 4 | E32: 111 | F32: 林健彰 | G32: R | O32: K | S32: K | AA32: 21 | AE32: =COUNTA(G32:I32,K32:M32,O32:Q32,S32:U32,W32:Y32,AA32:AC32) -> 4 | AF32: =COUNTIF(G32:AC32,"R")+C32 -> 1 | AG32: =A32+B32 -> 0 | AH32: =COUNTIF(G32:AC32,"K") -> 2
A33: =COUNTIF($G$3:$AC$20,E33) -> 0 | C33: =COUNTIF(G33:AC33,"HR") -> 0 | AE33: =COUNTA(G33:I33,K33:M33,O33:Q33,S33:U33,W33:Y33,AA33:AC33) -> 0 | AF33: =COUNTIF(G33:AC33,"R")+C33 -> 0 | AG33: =A33+B33 -> 0 | AH33: =COUNTIF(G33:AC33,"K") -> 0
A34: =COUNTIF($G$3:$AC$20,E34) -> 0 | C34: =COUNTIF(G34:AC34,"HR") -> 0 | AE34: =COUNTA(G34:I34,K34:M34,O34:Q34,S34:U34,W34:Y34,AA34:AC34) -> 0 | AF34: =COUNTIF(G34:AC34,"R")+C34 -> 0 | AG34: =A34+B34 -> 0 | AH34: =COUNTIF(G34:AC34,"K") -> 0 | AI34: 候補球員
A35: =COUNTIF($G$3:$AC$20,E35) -> 1 | C35: =COUNTIF(G35:AC35,"HR") -> 0 | D35: 5 | E35: 88 | F35: 鄭傳逸 | G35: K | O35: R | W35: 23 | AA35: 23 | AE35: =COUNTA(G35:I35,K35:M35,O35:Q35,S35:U35,W35:Y35,AA35:AC35) -> 4 | AF35: =COUNTIF(G35:AC35,"R")+C35 -> 1 | AG35: =A35+B35 -> 1 | AH35: =COUNTIF(G35:AC35,"K") -> 1 | AM35: =SUM(AM23:AM32) -> 23 | AN35: =SUM(AN23:AN32) -> 5 | AO35: =SUM(AO23:AO32) -> 9 | AP35: =SUM(AP23:AP32) -> 13
A36: =COUNTIF($G$3:$AC$20,E36) -> 0 | C36: =COUNTIF(G36:AC36,"HR") -> 0 | AE36: =COUNTA(G36:I36,K36:M36,O36:Q36,S36:U36,W36:Y36,AA36:AC36) -> 0 | AF36: =COUNTIF(G36:AC36,"R")+C36 -> 0 | AG36: =A36+B36 -> 0 | AH36: =COUNTIF(G36:AC36,"K") -> 0
A37: =COUNTIF($G$3:$AC$20,E37) -> 0 | C37: =COUNTIF(G37:AC37,"HR") -> 0 | AE37: =COUNTA(G37:I37,K37:M37,O37:Q37,S37:U37,W37:Y37,AA37:AC37) -> 0 | AF37: =COUNTIF(G37:AC37,"R")+C37 -> 0 | AG37: =A37+B37 -> 0 | AH37: =COUNTIF(G37:AC37,"K") -> 0
A38: =COUNTIF($G$3:$AC$20,E38) -> 5 | C38: =COUNTIF(G38:AC38,"HR") -> 0 | D38: 6 | E38: 35 | F38: 陳俊欽 | K38: K | O38: K | W38: k | AE38: =COUNTA(G38:I38,K38:M38,O38:Q38,S38:U38,W38:Y38,AA38:AC38) -> 3 | AF38: =COUNTIF(G38:AC38,"R")+C38 -> 0 | AG38: =A38+B38 -> 5 | AH38: =COUNTIF(G38:AC38,"K") -> 3
A39: =COUNTIF($G$3:$AC$20,E39) -> 0 | C39: =COUNTIF(G39:AC39,"HR") -> 0 | AE39: =COUNTA(G39:I39,K39:M39,O39:Q39,S39:U39,W39:Y39,AA39:AC39) -> 0 | AF39: =COUNTIF(G39:AC39,"R")+C39 -> 0 | AG39: =A39+B39 -> 0 | AH39: =COUNTIF(G39:AC39,"K") -> 0
A40: =COUNTIF($G$3:$AC$20,E40) -> 0 | C40: =COUNTIF(G40:AC40,"HR") -> 0 | AE40: =COUNTA(G40:I40,K40:M40,O40:Q40,S40:U40,W40:Y40,AA40:AC40) -> 0 | AF40: =COUNTIF(G40:AC40,"R")+C40 -> 0 | AG40: =A40+B40 -> 0 | AH40: =COUNTIF(G40:AC40,"K") -> 0
...

Sheet G2
B1: 加計分數 | D1: 場次 | H1: G2 | J1: 日期 | L1: 114.08.23 | Q1: =AA21 -> 3 | T1: 新北獵豹 | V1: VS | X1: 雄霸 | AB1: =AA41 -> 15 | AE1: 數據
A2: 撿球 | B2: 接殺 | C2: HR | D2: 先 | E2: 背號 | F2: 球員 | G2: 1 | J2: 投 | K2: 2 | N2: 投 | O2: 3 | R2: 投 | S2: 4 | V2: 投 | W2: 5 | Z2: 投 | AA2: 6 | AD2: 投 | AE2: AB | AF2: R | AG2: Po | AH2: K | AI2: 投/捕/觀
A3: =COUNTIF($G$23:$AC$40,E3) -> 1 | C3: =COUNTIF(G3:AC3,"HR") -> 0 | D3: 1 | E3: 25 | F3: 洪韶壕 | G3: R | L3: 9 | T3: 9 | AA3: 9 | AE3: =COUNTA(G3:I3,K3:M3,O3:Q3,S3:U3,W3:Y3,AA3:AC3) -> 4 | AF3: =COUNTIF(G3:AC3,"R")+(COUNTIF(G3:AC3,"HR")*2) -> 1 | AG3: =A3+B3 -> 1 | AH3: =COUNTIF(G3:AC3,"K") -> 0 | AI3: 投手 | AK3: 背號 | AL3: 球員 | AM3: AB | AN3: R | AO3: Po | AP3: K
A4: =COUNTIF($G$23:$AC$40,E4) -> 0 | C4: =COUNTIF(G4:AC4,"HR") -> 0 | AE4: =COUNTA(G4:I4,K4:M4,O4:Q4,S4:U4,W4:Y4,AA4:AC4) -> 0 | AF4: =COUNTIF(G4:AC4,"R")+(COUNTIF(G4:AC4,"HR")*2) -> 0 | AG4: =A4+B4 -> 0 | AH4: =COUNTIF(G4:AC4,"K") -> 0 | AI4: 游鎮維 | AK4: 25 | AL4: 洪韶壕 | AM4: {=_xlfn.CHOOSECOLS(_xlfn._xlws.FILTER($F$3:$AH$20,$F$3:$F$20=AL4),26,27,28,29)} -> #NAME? | AN4: #NAME? | AO4: #NAME? | AP4: #NAME?
A5: =COUNTIF($G$23:$AC$40,E5) -> 0 | C5: =COUNTIF(G5:AC5,"HR") -> 0 | AE5: =COUNTA(G5:I5,K5:M5,O5:Q5,S5:U5,W5:Y5,AA5:AC5) -> 0 | AF5: =COUNTIF(G5:AC5,"R")+(COUNTIF(G5:AC5,"HR")*2) -> 0 | AG5: =A5+B5 -> 0 | AH5: =COUNTIF(G5:AC5,"K") -> 0 | AK5: 15 | AL5: 蔡宗豪 | AM5: 3 | AN5: 1 | AO5: 0 | AP5: 1
A6: =COUNTIF($G$23:$AC$40,E6) -> 0 | C6: =COUNTIF(G6:AC6,"HR") -> 0 | D6: 2 | E6: 15 | F6: 蔡宗豪 | G6: R | L6: 9 | AE6: =COUNTA(G6:I6,K6:M6,O6:Q6,S6:U6,W6:Y6,AA6:AC6) -> 2 | AF6: =COUNTIF(G6:AC6,"R")+(COUNTIF(G6:AC6,"HR")*2) -> 1 | AG6: =A6+B6 -> 0 | AH6: =COUNTIF(G6:AC6,"K") -> 0 | AI6: 捕手 | AK6: 6 | AL6: 李秀美 | AM6: {=_xlfn.CHOOSECOLS(_xlfn._xlws.FILTER($F$3:$AH$20,$F$3:$F$20=AL6),26,27,28,29)} -> #NAME? | AN6: #NAME? | AO6: #NAME? | AP6: #NAME?
A7: =COUNTIF($G$23:$AC$40,E7) -> 0 | C7: =COUNTIF(G7:AC7,"HR") -> 0 | E7: 6 | F7: 李秀美 | T7: K | AA7: K | AE7: =COUNTA(G7:I7,K7:M7,O7:Q7,S7:U7,W7:Y7,AA7:AC7) -> 2 | AF7: =COUNTIF(G7:AC7,"R")+(COUNTIF(G7:AC7,"HR")*2) -> 0 | AG7: =A7+B7 -> 0 | AH7: =COUNTIF(G7:AC7,"K") -> 2 | AI7: 江言鎧 | AK7: 28 | AL7: 陳傑閔 | AM7: {=_xlfn.CHOOSECOLS(_xlfn._xlws.FILTER($F$3:$AH$20,$F$3:$F$20=AL7),26,27,28,29)} -> #NAME? | AN7: #NAME? | AO7: #NAME? | AP7: #NAME?
A8: =COUNTIF($G$23:$AC$40,E8) -> 0 | C8: =COUNTIF(G8:AC8,"HR") -> 0 | AE8: =COUNTA(G8:I8,K8:M8,O8:Q8,S8:U8,W8:Y8,AA8:AC8) -> 0 | AF8: =COUNTIF(G8:AC8,"R")+(COUNTIF(G8:AC8,"HR")*2) -> 0 | AG8: =A8+B8 -> 0 | AH8: =COUNTIF(G8:AC8,"K") -> 0 | AK8: O | AL8: 古國偉 | AM8: {=_xlfn.CHOOSECOLS(_xlfn._xlws.FILTER($F$3:$AH$20,$F$3:$F$20=AL8),26,27,28,29)} -> #NAME? | AN8: #NAME? | AO8: #NAME? | AP8: #NAME?
A9: =COUNTIF($G$23:$AC$40,E9) -> 2 | C9: =COUNTIF(G9:AC9,"HR") -> 0 | D9: 3 | E9: 28 | F9: 陳傑閔 | G9: K | O9: 9 | AE9: =COUNTA(G9:I9,K9:M9,O9:Q9,S9:U9,W9:Y9,AA9:AC9) -> 2 | AF9: =COUNTIF(G9:AC9,"R")+(COUNTIF(G9:AC9,"HR")*2) -> 0 | AG9: =A9+B9 -> 2 | AH9: =COUNTIF(G9:AC9,"K") -> 1 | AK9: 39 | AL9: 饒賀凱 | AM9: {=_xlfn.CHOOSECOLS(_xlfn._xlws.FILTER($F$3:$AH$20,$F$3:$F$20=AL9),26,27,28,29)} -> #NAME? | AN9: #NAME? | AO9: #NAME? | AP9: #NAME?
A10: =COUNTIF($G$23:$AC$40,E10) -> 0 | C10: =COUNTIF(G10:AC10,"HR") -> 0 | E10: O | F10: 古國偉 | W10: R | AA10: K | AE10: =COUNTA(G10:I10,K10:M10,O10:Q10,S10:U10,W10:Y10,AA10:AC10) -> 2 | AF10: =COUNTIF(G10:AC10,"R")+(COUNTIF(G10:AC10,"HR")*2) -> 1 | AG10: =A10+B10 -> 0 | AH10: =COUNTIF(G10:AC10,"K") -> 1 | AI10: 觀測員 | AK10: 66 | AL10: 陳韻婷 | AM10: {=_xlfn.CHOOSECOLS(_xlfn._xlws.FILTER($F$3:$AH$20,$F$3:$F$20=AL10),26,27,28,29)} -> #NAME? | AN10: #NAME? | AO10: #NAME? | AP10: #NAME?
A11: =COUNTIF($G$23:$AC$40,E11) -> 0 | C11: =COUNTIF(G11:AC11,"HR") -> 0 | AE11: =COUNTA(G11:I11,K11:M11,O11:Q11,S11:U11,W11:Y11,AA11:AC11) -> 0 | AF11: =COUNTIF(G11:AC11,"R")+(COUNTIF(G11:AC11,"HR")*2) -> 0 | AG11: =A11+B11 -> 0 | AH11: =COUNTIF(G11:AC11,"K") -> 0 | AI11: 游鎮維 | AK11: 29 | AL11: 張玥琳 | AM11: {=_xlfn.CHOOSECOLS(_xlfn._xlws.FILTER($F$3:$AH$20,$F$3:$F$20=AL11),26,27,28,29)} -> #NAME? | AN11: #NAME? | AO11: #NAME? | AP11: #NAME?
A12: =COUNTIF($G$23:$AC$40,E12) -> 0 | C12: =COUNTIF(G12:AC12,"HR") -> 0 | D12: 4 | E12: 39 | F12: 饒賀凱 | G12: K | O12: 26 | W12: K | AE12: =COUNTA(G12:I12,K12:M12,O12:Q12,S12:U12,W12:Y12,AA12:AC12) -> 3 | AF12: =COUNTIF(G12:AC12,"R")+(COUNTIF(G12:AC12,"HR")*2) -> 0 | AG12: =A12+B12 -> 0 | AH12: =COUNTIF(G12:AC12,"K") -> 2
A13: =COUNTIF($G$23:$AC$40,E13) -> 0 | C13: =COUNTIF(G13:AC13,"HR") -> 0 | AE13: =COUNTA(G13:I13,K13:M13,O13:Q13,S13:U13,W13:Y13,AA13:AC13) -> 0 | AF13: =COUNTIF(G13:AC13,"R")+(COUNTIF(G13:AC13,"HR")*2) -> 0 | AG13: =A13+B13 -> 0 | AH13: =COUNTIF(G13:AC13,"K") -> 0
A14: =COUNTIF($G$23:$AC$40,E14) -> 0 | C14: =COUNTIF(G14:AC14,"HR") -> 0 | AE14: =COUNTA(G14:I14,K14:M14,O14:Q14,S14:U14,W14:Y14,AA14:AC14) -> 0 | AF14: =COUNTIF(G14:AC14,"R")+(COUNTIF(G14:AC14,"HR")*2) -> 0 | AG14: =A14+B14 -> 0 | AH14: =COUNTIF(G14:AC14,"K") -> 0 | AI14: 候補球員
A15: =COUNTIF($G$23:$AC$40,E15) -> 0 | C15: =COUNTIF(G15:AC15,"HR") -> 0 | D15: 5 | E15: 66 | F15: 陳韻婷 | G15: K | O15: K | AE15: =COUNTA(G15:I15,K15:M15,O15:Q15,S15:U15,W15:Y15,AA15:AC15) -> 2 | AF15: =COUNTIF(G15:AC15,"R")+(COUNTIF(G15:AC15,"HR")*2) -> 0 | AG15: =A15+B15 -> 0 | AH15: =COUNTIF(G15:AC15,"K") -> 2
A16: =COUNTIF($G$23:$AC$40,E16) -> 0 | C16: =COUNTIF(G16:AC16,"HR") -> 0 | E16: 15 | F16: 蔡宗豪 | W16: K | AE16: =COUNTA(G16:I16,K16:M16,O16:Q16,S16:U16,W16:Y16,AA16:AC16) -> 1 | AF16: =COUNTIF(G16:AC16,"R")+(COUNTIF(G16:AC16,"HR")*2) -> 0 | AG16: =A16+B16 -> 0 | AH16: =COUNTIF(G16:AC16,"K") -> 1 | AM16: =SUM(AM4:AM15) -> #NAME? | AN16: =SUM(AN4:AN15) -> #NAME? | AO16: =SUM(AO4:AO15) -> #NAME? | AP16: =SUM(AP4:AP15) -> #NAME?
A17: =COUNTIF($G$23:$AC$40,E17) -> 0 | C17: =COUNTIF(G17:AC17,"HR") -> 0 | AE17: =COUNTA(G17:I17,K17:M17,O17:Q17,S17:U17,W17:Y17,AA17:AC17) -> 0 | AF17: =COUNTIF(G17:AC17,"R")+(COUNTIF(G17:AC17,"HR")*2) -> 0 | AG17: =A17+B17 -> 0 | AH17: =COUNTIF(G17:AC17,"K") -> 0
A18: =COUNTIF($G$23:$AC$40,E18) -> 1 | C18: =COUNTIF(G18:AC18,"HR") -> 0 | D18: 6 | E18: 29 | F18: 張玥琳 | K18: 66 | S18: K | W18: K | AE18: =COUNTA(G18:I18,K18:M18,O18:Q18,S18:U18,W18:Y18,AA18:AC18) -> 3 | AF18: =COUNTIF(G18:AC18,"R")+(COUNTIF(G18:AC18,"HR")*2) -> 0 | AG18: =A18+B18 -> 1 | AH18: =COUNTIF(G18:AC18,"K") -> 2
A19: =COUNTIF($G$23:$AC$40,E19) -> 0 | C19: =COUNTIF(G19:AC19,"HR") -> 0 | AE19: =COUNTA(G19:I19,K19:M19,O19:Q19,S19:U19,W19:Y19,AA19:AC19) -> 0 | AF19: =COUNTIF(G19:AC19,"R")+(COUNTIF(G19:AC19,"HR")*2) -> 0 | AG19: =A19+B19 -> 0 | AH19: =COUNTIF(G19:AC19,"K") -> 0
A20: =COUNTIF($G$23:$AC$40,E20) -> 0 | C20: =COUNTIF(G20:AC20,"HR") -> 0 | AE20: =COUNTA(G20:I20,K20:M20,O20:Q20,S20:U20,W20:Y20,AA20:AC20) -> 0 | AF20: =COUNTIF(G20:AC20,"R")+(COUNTIF(G20:AC20,"HR")*2) -> 0 | AG20: =A20+B20 -> 0 | AH20: =COUNTIF(G20:AC20,"K") -> 0
A21: =SUM(A3:A20) -> 4 | B21: =SUM(B3:B20) -> 0 | C21: =SUM(C3:C20) -> 0 | D21: 得分加總 | G21: =COUNTIF(G3:I20,"R")+(COUNTIF(G3:I20,"HR")*2) -> 2 | K21: =COUNTIF(K3:M20,"R")+(COUNTIF(K3:M20,"HR")*2)+G21 -> 2 | O21: =COUNTIF(O3:Q20,"R")+(COUNTIF(O3:Q20,"HR")*2)+K21 -> 2 | S21: =COUNTIF(S3:U20,"R")+(COUNTIF(S3:U20,"HR")*2)+O21 -> 2 | W21: =COUNTIF(W3:Y20,"R")+(COUNTIF(W3:Y20,"HR")*2)+S21 -> 3 | AA21: =COUNTIF(AA3:AC20,"R")+(COUNTIF(AA3:AC20,"HR")*2)+W21 -> 3 | AE21: =SUM(AE3:AE20) -> 21 | AF21: =SUM(AF3:AF20) -> 3 | AG21: =SUM(AG3:AG20) -> 4 | AH21: =SUM(AH3:AH20) -> 11
A22: 撿球 | B22: 接殺 | C22: HR | D22: 後 | E22: 背號 | F22: 球員 | G22: 1 | J22: 投 | K22: 2 | N22: 投 | O22: 3 | R22: 投 | S22: 4 | V22: 投 | W22: 5 | Z22: 投 | AA22: 6 | AD22: 投 | AE22: AB | AF22: R | AG22: Po | AH22: K | AI22: 投/捕/觀
A23: =COUNTIF($G$3:$AC$20,E23) -> 1 | C23: =COUNTIF(G23:AC23,"HR") -> 0 | D23: 1 | E23: 26 | F23: 陳建閔 | G23: R | L23: R | O23: K | S23: R | W23: R | AE23: =COUNTA(G23:I23,K23:M23,O23:Q23,S23:U23,W23:Y23,AA23:AC23) -> 5 | AF23: =COUNTIF(G23:AC23,"R")+C23 -> 4 | AG23: =A23+B23 -> 1 | AH23: =COUNTIF(G23:AC23,"K") -> 1 | AI23: 投手 | AK23: 26 | AL23: 陳建閔 | AM23: {=_xlfn.CHOOSECOLS(_xlfn._xlws.FILTER($F$23:$AH$40,$F$23:$F$40=AL23),26,27,28,29)} -> #NAME? | AN23: #NAME? | AO23: #NAME? | AP23: #NAME?
A24: =COUNTIF($G$3:$AC$20,E24) -> 0 | C24: =COUNTIF(G24:AC24,"HR") -> 0 | AE24: =COUNTA(G24:I24,K24:M24,O24:Q24,S24:U24,W24:Y24,AA24:AC24) -> 0 | AF24: =COUNTIF(G24:AC24,"R")+C24 -> 0 | AG24: =A24+B24 -> 0 | AH24: =COUNTIF(G24:AC24,"K") -> 0 | AI24: 宋展宇 | AK24: 3 | AL24: 何昌翰 | AM24: {=_xlfn.CHOOSECOLS(_xlfn._xlws.FILTER($F$23:$AH$40,$F$23:$F$40=AL24),26,27,28,29)} -> #NAME? | AN24: #NAME? | AO24: #NAME? | AP24: #NAME?
A25: =COUNTIF($G$3:$AC$20,E25) -> 0 | C25: =COUNTIF(G25:AC25,"HR") -> 0 | AE25: =COUNTA(G25:I25,K25:M25,O25:Q25,S25:U25,W25:Y25,AA25:AC25) -> 0 | AF25: =COUNTIF(G25:AC25,"R")+C25 -> 0 | AG25: =A25+B25 -> 0 | AH25: =COUNTIF(G25:AC25,"K") -> 0 | AK25: 9 | AL25: 陳宥憲 | AM25: {=_xlfn.CHOOSECOLS(_xlfn._xlws.FILTER($F$23:$AH$40,$F$23:$F$40=AL25),26,27,28,29)} -> #NAME? | AN25: #NAME? | AO25: #NAME? | AP25: #NAME?
A26: =COUNTIF($G$3:$AC$20,E26) -> 0 | C26: =COUNTIF(G26:AC26,"HR") -> 0 | D26: 2 | E26: 3 | F26: 何昌翰 | G26: K | L26: R | O26: R | S26: R | W26: 28 | AE26: =COUNTA(G26:I26,K26:M26,O26:Q26,S26:U26,W26:Y26,AA26:AC26) -> 5 | AF26: =COUNTIF(G26:AC26,"R")+C26 -> 3 | AG26: =A26+B26 -> 0 | AH26: =COUNTIF(G26:AC26,"K") -> 1 | AI26: 捕手 | AK26: 66 | AL26: 陳玠樸 | AM26: {=_xlfn.CHOOSECOLS(_xlfn._xlws.FILTER($F$23:$AH$40,$F$23:$F$40=AL26),26,27,28,29)} -> #NAME? | AN26: #NAME? | AO26: #NAME? | AP26: #NAME?
A27: =COUNTIF($G$3:$AC$20,E27) -> 0 | C27: =COUNTIF(G27:AC27,"HR") -> 0 | AE27: =COUNTA(G27:I27,K27:M27,O27:Q27,S27:U27,W27:Y27,AA27:AC27) -> 0 | AF27: =COUNTIF(G27:AC27,"R")+C27 -> 0 | AG27: =A27+B27 -> 0 | AH27: =COUNTIF(G27:AC27,"K") -> 0 | AI27: 林宜宏 | AK27: 14 | AL27: 許戎忠 | AM27: {=_xlfn.CHOOSECOLS(_xlfn._xlws.FILTER($F$23:$AH$40,$F$23:$F$40=AL27),26,27,28,29)} -> #NAME? | AN27: #NAME? | AO27: #NAME? | AP27: #NAME?
A28: =COUNTIF($G$3:$AC$20,E28) -> 0 | C28: =COUNTIF(G28:AC28,"HR") -> 0 | AE28: =COUNTA(G28:I28,K28:M28,O28:Q28,S28:U28,W28:Y28,AA28:AC28) -> 0 | AF28: =COUNTIF(G28:AC28,"R")+C28 -> 0 | AG28: =A28+B28 -> 0 | AH28: =COUNTIF(G28:AC28,"K") -> 0 | AK28: 83 | AL28: 王兆熙 | AM28: {=_xlfn.CHOOSECOLS(_xlfn._xlws.FILTER($F$23:$AH$40,$F$23:$F$40=AL28),26,27,28,29)} -> #NAME? | AN28: #NAME? | AO28: #NAME? | AP28: #NAME?
A29: =COUNTIF($G$3:$AC$20,E29) -> 5 | C29: =COUNTIF(G29:AC29,"HR") -> 0 | D29: 3 | E29: 9 | F29: 陳宥憲 | G29: R | L29: R | O29: R | S29: R | W29: R | AE29: =COUNTA(G29:I29,K29:M29,O29:Q29,S29:U29,W29:Y29,AA29:AC29) -> 5 | AF29: =COUNTIF(G29:AC29,"R")+C29 -> 5 | AG29: =A29+B29 -> 5 | AH29: =COUNTIF(G29:AC29,"K") -> 0 | AK29: 11 | AL29: 李庭旭 | AM29: {=_xlfn.CHOOSECOLS(_xlfn._xlws.FILTER($F$23:$AH$40,$F$23:$F$40=AL29),26,27,28,29)} -> #NAME? | AN29: #NAME? | AO29: #NAME? | AP29: #NAME?
A30: =COUNTIF($G$3:$AC$20,E30) -> 0 | C30: =COUNTIF(G30:AC30,"HR") -> 0 | AE30: =COUNTA(G30:I30,K30:M30,O30:Q30,S30:U30,W30:Y30,AA30:AC30) -> 0 | AF30: =COUNTIF(G30:AC30,"R")+C30 -> 0 | AG30: =A30+B30 -> 0 | AH30: =COUNTIF(G30:AC30,"K") -> 0 | AI30: 觀測員
A31: =COUNTIF($G$3:$AC$20,E31) -> 0 | C31: =COUNTIF(G31:AC31,"HR") -> 0 | AE31: =COUNTA(G31:I31,K31:M31,O31:Q31,S31:U31,W31:Y31,AA31:AC31) -> 0 | AF31: =COUNTIF(G31:AC31,"R")+C31 -> 0 | AG31: =A31+B31 -> 0 | AH31: =COUNTIF(G31:AC31,"K") -> 0 | AI31: 林文耀
A32: =COUNTIF($G$3:$AC$20,E32) -> 1 | C32: =COUNTIF(G32:AC32,"HR") -> 0 | D32: 4 | E32: 66 | F32: 陳玠樸 | G32: 25 | L32: R | O32: K | S32: K | W32: R | AE32: =COUNTA(G32:I32,K32:M32,O32:Q32,S32:U32,W32:Y32,AA32:AC32) -> 5 | AF32: =COUNTIF(G32:AC32,"R")+C32 -> 2 | AG32: =A32+B32 -> 1 | AH32: =COUNTIF(G32:AC32,"K") -> 2
A33: =COUNTIF($G$3:$AC$20,E33) -> 0 | C33: =COUNTIF(G33:AC33,"HR") -> 0 | AE33: =COUNTA(G33:I33,K33:M33,O33:Q33,S33:U33,W33:Y33,AA33:AC33) -> 0 | AF33: =COUNTIF(G33:AC33,"R")+C33 -> 0 | AG33: =A33+B33 -> 0 | AH33: =COUNTIF(G33:AC33,"K") -> 0
A34: =COUNTIF($G$3:$AC$20,E34) -> 0 | C34: =COUNTIF(G34:AC34,"HR") -> 0 | AE34: =COUNTA(G34:I34,K34:M34,O34:Q34,S34:U34,W34:Y34,AA34:AC34) -> 0 | AF34: =COUNTIF(G34:AC34,"R")+C34 -> 0 | AG34: =A34+B34 -> 0 | AH34: =COUNTIF(G34:AC34,"K") -> 0 | AI34: 候補球員
A35: =COUNTIF($G$3:$AC$20,E35) -> 0 | C35: =COUNTIF(G35:AC35,"HR") -> 0 | D35: 5 | E35: 14 | F35: 許戎忠 | G35: K | L35: K | AE35: =COUNTA(G35:I35,K35:M35,O35:Q35,S35:U35,W35:Y35,AA35:AC35) -> 2 | AF35: =COUNTIF(G35:AC35,"R")+C35 -> 0 | AG35: =A35+B35 -> 0 | AH35: =COUNTIF(G35:AC35,"K") -> 2 | AM35: =SUM(AM23:AM32) -> #NAME? | AN35: =SUM(AN23:AN32) -> #NAME? | AO35: =SUM(AO23:AO32) -> #NAME? | AP35: =SUM(AP23:AP32) -> #NAME?
A36: =COUNTIF($G$3:$AC$20,E36) -> 0 | C36: =COUNTIF(G36:AC36,"HR") -> 0 | E36: 83 | F36: 王兆熙 | O36: R | S36: K | W36: rin | AE36: =COUNTA(G36:I36,K36:M36,O36:Q36,S36:U36,W36:Y36,AA36:AC36) -> 3 | AF36: =COUNTIF(G36:AC36,"R")+C36 -> 1 | AG36: =A36+B36 -> 0 | AH36: =COUNTIF(G36:AC36,"K") -> 1
A37: =COUNTIF($G$3:$AC$20,E37) -> 0 | C37: =COUNTIF(G37:AC37,"HR") -> 0 | AE37: =COUNTA(G37:I37,K37:M37,O37:Q37,S37:U37,W37:Y37,AA37:AC37) -> 0 | AF37: =COUNTIF(G37:AC37,"R")+C37 -> 0 | AG37: =A37+B37 -> 0 | AH37: =COUNTIF(G37:AC37,"K") -> 0
A38: =COUNTIF($G$3:$AC$20,E38) -> 0 | C38: =COUNTIF(G38:AC38,"HR") -> 0 | D38: 6 | E38: 11 | F38: 李庭旭 | K38: K | L38: 29 | O38: K | S38: K | W38: 28 | AE38: =COUNTA(G38:I38,K38:M38,O38:Q38,S38:U38,W38:Y38,AA38:AC38) -> 5 | AF38: =COUNTIF(G38:AC38,"R")+C38 -> 0 | AG38: =A38+B38 -> 0 | AH38: =COUNTIF(G38:AC38,"K") -> 3
A39: =COUNTIF($G$3:$AC$20,E39) -> 0 | C39: =COUNTIF(G39:AC39,"HR") -> 0 | AE39: =COUNTA(G39:I39,K39:M39,O39:Q39,S39:U39,W39:Y39,AA39:AC39) -> 0 | AF39: =COUNTIF(G39:AC39,"R")+C39 -> 0 | AG39: =A39+B39 -> 0 | AH39: =COUNTIF(G39:AC39,"K") -> 0
A40: =COUNTIF($G$3:$AC$20,E40) -> 0 | C40: =COUNTIF(G40:AC40,"HR") -> 0 | AE40: =COUNTA(G40:I40,K40:M40,O40:Q40,S40:U40,W40:Y40,AA40:AC40) -> 0 | AF40: =COUNTIF(G40:AC40,"R")+C40 -> 0 | AG40: =A40+B40 -> 0 | AH40: =COUNTIF(G40:AC40,"K") -> 0
...

Sheet G3
B1: 加計分數 | D1: 場次 | H1: G3 | J1: 日期 | L1: 114.08.23 | Q1: =AA21 -> 2 | T1: 雄霸 | V1: VS | X1: 夜魔俠 | AB1: =AA41 -> 4 | AE1: 數據
A2: 撿球 | B2: 接殺 | C2: HR | D2: 先 | E2: 背號 | F2: 球員 | G2: 1 | J2: 投 | K2: 2 | N2: 投 | O2: 3 | R2: 投 | S2: 4 | V2: 投 | W2: 5 | Z2: 投 | AA2: 6 | AD2: 投 | AE2: AB | AF2: R | AG2: Po | AH2: K | AI2: 投/捕/觀
A3: =COUNTIF($G$23:$AC$40,E3) -> 0 | C3: =COUNTIF(G3:AC3,"HR") -> 0 | D3: 1 | E3: 26 | F3: 陳建閔 | G3: K | O3: K | T3: 28 | AB3: K | AE3: =COUNTA(G3:I3,K3:M3,O3:Q3,S3:U3,W3:Y3,AA3:AC3) -> 4 | AF3: =COUNTIF(G3:AC3,"R")+(COUNTIF(G3:AC3,"HR")*2) -> 0 | AG3: =A3+B3 -> 0 | AH3: =COUNTIF(G3:AC3,"K") -> 3 | AI3: 投手 | AK3: 背號 | AL3: 球員 | AM3: AB | AN3: R | AO3: Po | AP3: K
A4: =COUNTIF($G$23:$AC$40,E4) -> 0 | C4: =COUNTIF(G4:AC4,"HR") -> 0 | AE4: =COUNTA(G4:I4,K4:M4,O4:Q4,S4:U4,W4:Y4,AA4:AC4) -> 0 | AF4: =COUNTIF(G4:AC4,"R")+(COUNTIF(G4:AC4,"HR")*2) -> 0 | AG4: =A4+B4 -> 0 | AH4: =COUNTIF(G4:AC4,"K") -> 0 | AI4: 林文耀 | AK4: 26 | AL4: 陳建閔 | AM4: {=_xlfn.CHOOSECOLS(_xlfn._xlws.FILTER($F$3:$AH$20,$F$3:$F$20=AL4),26,27,28,29)} -> 4 | AN4: 0 | AO4: 0 | AP4: 3
A5: =COUNTIF($G$23:$AC$40,E5) -> 0 | C5: =COUNTIF(G5:AC5,"HR") -> 0 | AE5: =COUNTA(G5:I5,K5:M5,O5:Q5,S5:U5,W5:Y5,AA5:AC5) -> 0 | AF5: =COUNTIF(G5:AC5,"R")+(COUNTIF(G5:AC5,"HR")*2) -> 0 | AG5: =A5+B5 -> 0 | AH5: =COUNTIF(G5:AC5,"K") -> 0 | AK5: 99 | AL5: 何昌翰 | AM5: {=_xlfn.CHOOSECOLS(_xlfn._xlws.FILTER($F$3:$AH$20,$F$3:$F$20=AL5),26,27,28,29)} -> 4 | AN5: 0 | AO5: 0 | AP5: 4
A6: =COUNTIF($G$23:$AC$40,E6) -> 0 | C6: =COUNTIF(G6:AC6,"HR") -> 0 | D6: 2 | E6: 99 | F6: 何昌翰 | G6: K | O6: K | W6: K | AB6: K | AE6: =COUNTA(G6:I6,K6:M6,O6:Q6,S6:U6,W6:Y6,AA6:AC6) -> 4 | AF6: =COUNTIF(G6:AC6,"R")+(COUNTIF(G6:AC6,"HR")*2) -> 0 | AG6: =A6+B6 -> 0 | AH6: =COUNTIF(G6:AC6,"K") -> 4 | AI6: 捕手 | AK6: 9 | AL6: 陳宥憲 | AM6: {=_xlfn.CHOOSECOLS(_xlfn._xlws.FILTER($F$3:$AH$20,$F$3:$F$20=AL6),26,27,28,29)} -> 3 | AN6: 2 | AO6: 10 | AP6: 1
A7: =COUNTIF($G$23:$AC$40,E7) -> 0 | C7: =COUNTIF(G7:AC7,"HR") -> 0 | AE7: =COUNTA(G7:I7,K7:M7,O7:Q7,S7:U7,W7:Y7,AA7:AC7) -> 0 | AF7: =COUNTIF(G7:AC7,"R")+(COUNTIF(G7:AC7,"HR")*2) -> 0 | AG7: =A7+B7 -> 0 | AH7: =COUNTIF(G7:AC7,"K") -> 0 | AI7: 林宜宏 | AK7: 14 | AL7: 許戎忠 | AM7: {=_xlfn.CHOOSECOLS(_xlfn._xlws.FILTER($F$3:$AH$20,$F$3:$F$20=AL7),26,27,28,29)} -> 3 | AN7: 0 | AO7: 0 | AP7: 2
A8: =COUNTIF($G$23:$AC$40,E8) -> 0 | C8: =COUNTIF(G8:AC8,"HR") -> 0 | AE8: =COUNTA(G8:I8,K8:M8,O8:Q8,S8:U8,W8:Y8,AA8:AC8) -> 0 | AF8: =COUNTIF(G8:AC8,"R")+(COUNTIF(G8:AC8,"HR")*2) -> 0 | AG8: =A8+B8 -> 0 | AH8: =COUNTIF(G8:AC8,"K") -> 0 | AK8: 11 | AL8: 李庭旭 | AM8: {=_xlfn.CHOOSECOLS(_xlfn._xlws.FILTER($F$3:$AH$20,$F$3:$F$20=AL8),26,27,28,29)} -> 2 | AN8: 0 | AO8: 0 | AP8: 2
A9: =COUNTIF($G$23:$AC$40,E9) -> 8 | B9: 2 | C9: =COUNTIF(G9:AC9,"HR") -> 0 | D9: 3 | E9: 9 | F9: 陳宥憲 | G9: K | O9: R | W9: R | AE9: =COUNTA(G9:I9,K9:M9,O9:Q9,S9:U9,W9:Y9,AA9:AC9) -> 3 | AF9: =COUNTIF(G9:AC9,"R")+(COUNTIF(G9:AC9,"HR")*2) -> 2 | AG9: =A9+B9 -> 10 | AH9: =COUNTIF(G9:AC9,"K") -> 1 | AK9: 66 | AL9: 陳玠樸 | AM9: {=_xlfn.CHOOSECOLS(_xlfn._xlws.FILTER($F$3:$AH$20,$F$3:$F$20=AL9),26,27,28,29)} -> 1 | AN9: 0 | AO9: 0 | AP9: 0
A10: =COUNTIF($G$23:$AC$40,E10) -> 0 | C10: =COUNTIF(G10:AC10,"HR") -> 0 | AE10: =COUNTA(G10:I10,K10:M10,O10:Q10,S10:U10,W10:Y10,AA10:AC10) -> 0 | AF10: =COUNTIF(G10:AC10,"R")+(COUNTIF(G10:AC10,"HR")*2) -> 0 | AG10: =A10+B10 -> 0 | AH10: =COUNTIF(G10:AC10,"K") -> 0 | AI10: 觀測員 | AK10: 83 | AL10: 王兆熙 | AM10: {=_xlfn.CHOOSECOLS(_xlfn._xlws.FILTER($F$3:$AH$20,$F$3:$F$20=AL10),26,27,28,29)} -> 3 | AN10: 0 | AO10: 0 | AP10: 1
A11: =COUNTIF($G$23:$AC$40,E11) -> 0 | C11: =COUNTIF(G11:AC11,"HR") -> 0 | AE11: =COUNTA(G11:I11,K11:M11,O11:Q11,S11:U11,W11:Y11,AA11:AC11) -> 0 | AF11: =COUNTIF(G11:AC11,"R")+(COUNTIF(G11:AC11,"HR")*2) -> 0 | AG11: =A11+B11 -> 0 | AH11: =COUNTIF(G11:AC11,"K") -> 0 | AI11: 宋展宇
A12: =COUNTIF($G$23:$AC$40,E12) -> 0 | C12: =COUNTIF(G12:AC12,"HR") -> 0 | D12: 4 | E12: 14 | F12: 許戎忠 | K12: K | O12: 22 | W12: K | AE12: =COUNTA(G12:I12,K12:M12,O12:Q12,S12:U12,W12:Y12,AA12:AC12) -> 3 | AF12: =COUNTIF(G12:AC12,"R")+(COUNTIF(G12:AC12,"HR")*2) -> 0 | AG12: =A12+B12 -> 0 | AH12: =COUNTIF(G12:AC12,"K") -> 2
A13: =COUNTIF($G$23:$AC$40,E13) -> 0 | C13: =COUNTIF(G13:AC13,"HR") -> 0 | AE13: =COUNTA(G13:I13,K13:M13,O13:Q13,S13:U13,W13:Y13,AA13:AC13) -> 0 | AF13: =COUNTIF(G13:AC13,"R")+(COUNTIF(G13:AC13,"HR")*2) -> 0 | AG13: =A13+B13 -> 0 | AH13: =COUNTIF(G13:AC13,"K") -> 0
A14: =COUNTIF($G$23:$AC$40,E14) -> 0 | C14: =COUNTIF(G14:AC14,"HR") -> 0 | AE14: =COUNTA(G14:I14,K14:M14,O14:Q14,S14:U14,W14:Y14,AA14:AC14) -> 0 | AF14: =COUNTIF(G14:AC14,"R")+(COUNTIF(G14:AC14,"HR")*2) -> 0 | AG14: =A14+B14 -> 0 | AH14: =COUNTIF(G14:AC14,"K") -> 0 | AI14: 候補球員
A15: =COUNTIF($G$23:$AC$40,E15) -> 0 | C15: =COUNTIF(G15:AC15,"HR") -> 0 | D15: 5 | E15: 11 | F15: 李庭旭 | K15: K | S15: K | AE15: =COUNTA(G15:I15,K15:M15,O15:Q15,S15:U15,W15:Y15,AA15:AC15) -> 2 | AF15: =COUNTIF(G15:AC15,"R")+(COUNTIF(G15:AC15,"HR")*2) -> 0 | AG15: =A15+B15 -> 0 | AH15: =COUNTIF(G15:AC15,"K") -> 2
A16: =COUNTIF($G$23:$AC$40,E16) -> 0 | C16: =COUNTIF(G16:AC16,"HR") -> 0 | E16: 66 | F16: 陳玠樸 | W16: 39 | AE16: =COUNTA(G16:I16,K16:M16,O16:Q16,S16:U16,W16:Y16,AA16:AC16) -> 1 | AF16: =COUNTIF(G16:AC16,"R")+(COUNTIF(G16:AC16,"HR")*2) -> 0 | AG16: =A16+B16 -> 0 | AH16: =COUNTIF(G16:AC16,"K") -> 0 | AM16: =SUM(AM4:AM10) -> 20 | AN16: =SUM(AN4:AN10) -> 2 | AO16: =SUM(AO4:AO10) -> 10 | AP16: =SUM(AP4:AP10) -> 13
A17: =COUNTIF($G$23:$AC$40,E17) -> 0 | C17: =COUNTIF(G17:AC17,"HR") -> 0 | AE17: =COUNTA(G17:I17,K17:M17,O17:Q17,S17:U17,W17:Y17,AA17:AC17) -> 0 | AF17: =COUNTIF(G17:AC17,"R")+(COUNTIF(G17:AC17,"HR")*2) -> 0 | AG17: =A17+B17 -> 0 | AH17: =COUNTIF(G17:AC17,"K") -> 0
A18: =COUNTIF($G$23:$AC$40,E18) -> 0 | C18: =COUNTIF(G18:AC18,"HR") -> 0 | D18: 6 | E18: 83 | F18: 王兆熙 | K18: 22 | S18: 22 | AA18: K | AE18: =COUNTA(G18:I18,K18:M18,O18:Q18,S18:U18,W18:Y18,AA18:AC18) -> 3 | AF18: =COUNTIF(G18:AC18,"R")+(COUNTIF(G18:AC18,"HR")*2) -> 0 | AG18: =A18+B18 -> 0 | AH18: =COUNTIF(G18:AC18,"K") -> 1
A19: =COUNTIF($G$23:$AC$40,E19) -> 0 | C19: =COUNTIF(G19:AC19,"HR") -> 0 | AE19: =COUNTA(G19:I19,K19:M19,O19:Q19,S19:U19,W19:Y19,AA19:AC19) -> 0 | AF19: =COUNTIF(G19:AC19,"R")+(COUNTIF(G19:AC19,"HR")*2) -> 0 | AG19: =A19+B19 -> 0 | AH19: =COUNTIF(G19:AC19,"K") -> 0
A20: =COUNTIF($G$23:$AC$40,E20) -> 0 | C20: =COUNTIF(G20:AC20,"HR") -> 0 | AE20: =COUNTA(G20:I20,K20:M20,O20:Q20,S20:U20,W20:Y20,AA20:AC20) -> 0 | AF20: =COUNTIF(G20:AC20,"R")+(COUNTIF(G20:AC20,"HR")*2) -> 0 | AG20: =A20+B20 -> 0 | AH20: =COUNTIF(G20:AC20,"K") -> 0
A21: =SUM(A3:A20) -> 8 | B21: =SUM(B3:B20) -> 2 | C21: =SUM(C3:C20) -> 0 | D21: 得分加總 | G21: =COUNTIF(G3:I20,"R")+(COUNTIF(G3:I20,"HR")*2) -> 0 | K21: =COUNTIF(K3:M20,"R")+(COUNTIF(K3:M20,"HR")*2)+G21 -> 0 | O21: =COUNTIF(O3:Q20,"R")+(COUNTIF(O3:Q20,"HR")*2)+K21 -> 1 | S21: =COUNTIF(S3:U20,"R")+(COUNTIF(S3:U20,"HR")*2)+O21 -> 1 | W21: =COUNTIF(W3:Y20,"R")+(COUNTIF(W3:Y20,"HR")*2)+S21 -> 2 | AA21: =COUNTIF(AA3:AC20,"R")+(COUNTIF(AA3:AC20,"HR")*2)+W21 -> 2 | AE21: =SUM(AE3:AE20) -> 20 | AF21: =SUM(AF3:AF20) -> 2 | AG21: =SUM(AG3:AG20) -> 10 | AH21: =SUM(AH3:AH20) -> 13
A22: 撿球 | B22: 接殺 | C22: HR | D22: 後 | E22: 背號 | F22: 球員 | G22: 1 | J22: 投 | K22: 2 | N22: 投 | O22: 3 | R22: 投 | S22: 4 | V22: 投 | W22: 5 | Z22: 投 | AA22: 6 | AD22: 投 | AE22: AB | AF22: R | AG22: Po | AH22: K | AI22: 投/捕/觀
A23: =COUNTIF($G$3:$AC$20,E23) -> 0 | C23: =COUNTIF(G23:AC23,"HR") -> 0 | D23: 1 | E23: 18 | F23: 梁耿縉 | G23: R | L23: 9 | T23: 9 | AE23: =COUNTA(G23:I23,K23:M23,O23:Q23,S23:U23,W23:Y23,AA23:AC23) -> 3 | AF23: =COUNTIF(G23:AC23,"R")+C23 -> 1 | AG23: =A23+B23 -> 0 | AH23: =COUNTIF(G23:AC23,"K") -> 0 | AI23: 投手 | AK23: 18 | AL23: 梁耿縉 | AM23: {=_xlfn.CHOOSECOLS(_xlfn._xlws.FILTER($F$23:$AH$40,$F$23:$F$40=AL23),26,27,28,29)} -> 3 | AN23: 1 | AO23: 0 | AP23: 0
A24: =COUNTIF($G$3:$AC$20,E24) -> 0 | C24: =COUNTIF(G24:AC24,"HR") -> 0 | AE24: =COUNTA(G24:I24,K24:M24,O24:Q24,S24:U24,W24:Y24,AA24:AC24) -> 0 | AF24: =COUNTIF(G24:AC24,"R")+C24 -> 0 | AG24: =A24+B24 -> 0 | AH24: =COUNTIF(G24:AC24,"K") -> 0 | AI24: 林春佑 | AK24: 22 | AL24: 蔡存宥 | AM24: {=_xlfn.CHOOSECOLS(_xlfn._xlws.FILTER($F$23:$AH$40,$F$23:$F$40=AL24),26,27,28,29)} -> 3 | AN24: 1 | AO24: 3 | AP24: 0
A25: =COUNTIF($G$3:$AC$20,E25) -> 0 | C25: =COUNTIF(G25:AC25,"HR") -> 0 | AE25: =COUNTA(G25:I25,K25:M25,O25:Q25,S25:U25,W25:Y25,AA25:AC25) -> 0 | AF25: =COUNTIF(G25:AC25,"R")+C25 -> 0 | AG25: =A25+B25 -> 0 | AH25: =COUNTIF(G25:AC25,"K") -> 0 | AI25: 陳相睿 | AK25: 23 | AL25: 邱文昇 | AM25: {=_xlfn.CHOOSECOLS(_xlfn._xlws.FILTER($F$23:$AH$40,$F$23:$F$40=AL25),26,27,28,29)} -> 3 | AN25: 0 | AO25: 0 | AP25: 0
A26: =COUNTIF($G$3:$AC$20,E26) -> 3 | C26: =COUNTIF(G26:AC26,"HR") -> 0 | D26: 2 | E26: 22 | F26: 蔡存宥 | G26: 9 | O26: 9 | T26: R | AE26: =COUNTA(G26:I26,K26:M26,O26:Q26,S26:U26,W26:Y26,AA26:AC26) -> 3 | AF26: =COUNTIF(G26:AC26,"R")+C26 -> 1 | AG26: =A26+B26 -> 3 | AH26: =COUNTIF(G26:AC26,"K") -> 0 | AI26: 捕手 | AK26: 39 | AL26: 郭亦倫 | AM26: {=_xlfn.CHOOSECOLS(_xlfn._xlws.FILTER($F$23:$AH$40,$F$23:$F$40=AL26),26,27,28,29)} -> 3 | AN26: 0 | AO26: 1 | AP26: 3
A27: =COUNTIF($G$3:$AC$20,E27) -> 0 | C27: =COUNTIF(G27:AC27,"HR") -> 0 | AE27: =COUNTA(G27:I27,K27:M27,O27:Q27,S27:U27,W27:Y27,AA27:AC27) -> 0 | AF27: =COUNTIF(G27:AC27,"R")+C27 -> 0 | AG27: =A27+B27 -> 0 | AH27: =COUNTIF(G27:AC27,"K") -> 0 | AI27: 王辰光 | AK27: 28 | AL27: 賴智傑 | AM27: {=_xlfn.CHOOSECOLS(_xlfn._xlws.FILTER($F$23:$AH$40,$F$23:$F$40=AL27),26,27,28,29)} -> 3 | AN27: 1 | AO27: 1 | AP27: 2
A28: =COUNTIF($G$3:$AC$20,E28) -> 0 | C28: =COUNTIF(G28:AC28,"HR") -> 0 | AE28: =COUNTA(G28:I28,K28:M28,O28:Q28,S28:U28,W28:Y28,AA28:AC28) -> 0 | AF28: =COUNTIF(G28:AC28,"R")+C28 -> 0 | AG28: =A28+B28 -> 0 | AH28: =COUNTIF(G28:AC28,"K") -> 0 | AK28: 24 | AL28: 張睿紘 | AM28: {=_xlfn.CHOOSECOLS(_xlfn._xlws.FILTER($F$23:$AH$40,$F$23:$F$40=AL28),26,27,28,29)} -> 3 | AN28: 1 | AO28: 0 | AP28: 1
A29: =COUNTIF($G$3:$AC$20,E29) -> 0 | C29: =COUNTIF(G29:AC29,"HR") -> 0 | D29: 3 | E29: 23 | F29: 邱文昇 | G29: 9 | O29: 9 | T29: 9 | AE29: =COUNTA(G29:I29,K29:M29,O29:Q29,S29:U29,W29:Y29,AA29:AC29) -> 3 | AF29: =COUNTIF(G29:AC29,"R")+C29 -> 0 | AG29: =A29+B29 -> 0 | AH29: =COUNTIF(G29:AC29,"K") -> 0
A30: =COUNTIF($G$3:$AC$20,E30) -> 0 | C30: =COUNTIF(G30:AC30,"HR") -> 0 | AE30: =COUNTA(G30:I30,K30:M30,O30:Q30,S30:U30,W30:Y30,AA30:AC30) -> 0 | AF30: =COUNTIF(G30:AC30,"R")+C30 -> 0 | AG30: =A30+B30 -> 0 | AH30: =COUNTIF(G30:AC30,"K") -> 0 | AI30: 觀測員
A31: =COUNTIF($G$3:$AC$20,E31) -> 0 | C31: =COUNTIF(G31:AC31,"HR") -> 0 | AE31: =COUNTA(G31:I31,K31:M31,O31:Q31,S31:U31,W31:Y31,AA31:AC31) -> 0 | AF31: =COUNTIF(G31:AC31,"R")+C31 -> 0 | AG31: =A31+B31 -> 0 | AH31: =COUNTIF(G31:AC31,"K") -> 0 | AI31: 劉維璽
A32: =COUNTIF($G$3:$AC$20,E32) -> 1 | C32: =COUNTIF(G32:AC32,"HR") -> 0 | D32: 4 | E32: 39 | F32: 郭亦倫 | G32: K | O32: K | W32: K | Z32: 天 | AE32: =COUNTA(G32:I32,K32:M32,O32:Q32,S32:U32,W32:Y32,AA32:AC32) -> 3 | AF32: =COUNTIF(G32:AC32,"R")+C32 -> 0 | AG32: =A32+B32 -> 1 | AH32: =COUNTIF(G32:AC32,"K") -> 3
A33: =COUNTIF($G$3:$AC$20,E33) -> 0 | C33: =COUNTIF(G33:AC33,"HR") -> 0 | AE33: =COUNTA(G33:I33,K33:M33,O33:Q33,S33:U33,W33:Y33,AA33:AC33) -> 0 | AF33: =COUNTIF(G33:AC33,"R")+C33 -> 0 | AG33: =A33+B33 -> 0 | AH33: =COUNTIF(G33:AC33,"K") -> 0
A34: =COUNTIF($G$3:$AC$20,E34) -> 0 | C34: =COUNTIF(G34:AC34,"HR") -> 0 | AE34: =COUNTA(G34:I34,K34:M34,O34:Q34,S34:U34,W34:Y34,AA34:AC34) -> 0 | AF34: =COUNTIF(G34:AC34,"R")+C34 -> 0 | AG34: =A34+B34 -> 0 | AH34: =COUNTIF(G34:AC34,"K") -> 0 | AI34: 候補球員
A35: =COUNTIF($G$3:$AC$20,E35) -> 1 | C35: =COUNTIF(G35:AC35,"HR") -> 0 | D35: 5 | E35: 28 | F35: 賴智傑 | K35: K | S35: R | W35: K | Z35: 天 | AE35: =COUNTA(G35:I35,K35:M35,O35:Q35,S35:U35,W35:Y35,AA35:AC35) -> 3 | AF35: =COUNTIF(G35:AC35,"R")+C35 -> 1 | AG35: =A35+B35 -> 1 | AH35: =COUNTIF(G35:AC35,"K") -> 2 | AM35: =SUM(AM23:AM32) -> 18 | AN35: =SUM(AN23:AN32) -> 4 | AO35: =SUM(AO23:AO32) -> 5 | AP35: =SUM(AP23:AP32) -> 6
A36: =COUNTIF($G$3:$AC$20,E36) -> 0 | C36: =COUNTIF(G36:AC36,"HR") -> 0 | AE36: =COUNTA(G36:I36,K36:M36,O36:Q36,S36:U36,W36:Y36,AA36:AC36) -> 0 | AF36: =COUNTIF(G36:AC36,"R")+C36 -> 0 | AG36: =A36+B36 -> 0 | AH36: =COUNTIF(G36:AC36,"K") -> 0
A37: =COUNTIF($G$3:$AC$20,E37) -> 0 | C37: =COUNTIF(G37:AC37,"HR") -> 0 | AE37: =COUNTA(G37:I37,K37:M37,O37:Q37,S37:U37,W37:Y37,AA37:AC37) -> 0 | AF37: =COUNTIF(G37:AC37,"R")+C37 -> 0 | AG37: =A37+B37 -> 0 | AH37: =COUNTIF(G37:AC37,"K") -> 0
A38: =COUNTIF($G$3:$AC$20,E38) -> 0 | C38: =COUNTIF(G38:AC38,"HR") -> 0 | D38: 6 | E38: 24 | F38: 張睿紘 | K38: 9 | S38: R | W38: K | Z38: 天 | AE38: =COUNTA(G38:I38,K38:M38,O38:Q38,S38:U38,W38:Y38,AA38:AC38) -> 3 | AF38: =COUNTIF(G38:AC38,"R")+C38 -> 1 | AG38: =A38+B38 -> 0 | AH38: =COUNTIF(G38:AC38,"K") -> 1
A39: =COUNTIF($G$3:$AC$20,E39) -> 0 | C39: =COUNTIF(G39:AC39,"HR") -> 0 | AE39: =COUNTA(G39:I39,K39:M39,O39:Q39,S39:U39,W39:Y39,AA39:AC39) -> 0 | AF39: =COUNTIF(G39:AC39,"R")+C39 -> 0 | AG39: =A39+B39 -> 0 | AH39: =COUNTIF(G39:AC39,"K") -> 0
A40: =COUNTIF($G$3:$AC$20,E40) -> 0 | C40: =COUNTIF(G40:AC40,"HR") -> 0 | AE40: =COUNTA(G40:I40,K40:M40,O40:Q40,S40:U40,W40:Y40,AA40:AC40) -> 0 | AF40: =COUNTIF(G40:AC40,"R")+C40 -> 0 | AG40: =A40+B40 -> 0 | AH40: =COUNTIF(G40:AC40,"K") -> 0
...

Sheet G4
B1: 加計分數 | D1: 場次 | H1: G4 | J1: 日期 | L1: 114.08.24 | Q1: =AA21 -> 4 | T1: 新北獵豹 | V1: VS | X1: 閃電 | AB1: =AA41 -> 5 | AE1: 數據
A2: 撿球 | B2: 接殺 | C2: HR | D2: 先 | E2: 背號 | F2: 球員 | G2: 1 | J2: 投 | K2: 2 | N2: 投 | O2: 3 | R2: 投 | S2: 4 | V2: 投 | W2: 5 | Z2: 投 | AA2: 6 | AD2: 投 | AE2: AB | AF2: R | AG2: Po | AH2: K | AI2: 投/捕/觀
A3: =COUNTIF($G$23:$AC$40,E3) -> 2 | C3: =COUNTIF(G3:AC3,"HR") -> 0 | D3: 1 | E3: 25 | F3: 洪韶壕 | G3: K | L3: K | T3: R | AA3: 51 | AE3: =COUNTA(G3:I3,K3:M3,O3:Q3,S3:U3,W3:Y3,AA3:AC3) -> 4 | AF3: =COUNTIF(G3:AC3,"R")+(COUNTIF(G3:AC3,"HR")*2) -> 1 | AG3: =A3+B3 -> 2 | AH3: =COUNTIF(G3:AC3,"K") -> 2 | AI3: 投手 | AK3: 背號 | AL3: 球員 | AM3: AB | AN3: R | AO3: Po | AP3: K
A4: =COUNTIF($G$23:$AC$40,E4) -> 0 | C4: =COUNTIF(G4:AC4,"HR") -> 0 | AE4: =COUNTA(G4:I4,K4:M4,O4:Q4,S4:U4,W4:Y4,AA4:AC4) -> 0 | AF4: =COUNTIF(G4:AC4,"R")+(COUNTIF(G4:AC4,"HR")*2) -> 0 | AG4: =A4+B4 -> 0 | AH4: =COUNTIF(G4:AC4,"K") -> 0 | AI4: 游鎮維 | AK4: 25 | AL4: 洪韶壕 | AM4: {=_xlfn.CHOOSECOLS(_xlfn._xlws.FILTER($F$3:$AH$20,$F$3:$F$20=AL4),26,27,28,29)} -> #NAME? | AN4: #NAME? | AO4: #NAME? | AP4: #NAME?
A5: =COUNTIF($G$23:$AC$40,E5) -> 0 | C5: =COUNTIF(G5:AC5,"HR") -> 0 | AE5: =COUNTA(G5:I5,K5:M5,O5:Q5,S5:U5,W5:Y5,AA5:AC5) -> 0 | AF5: =COUNTIF(G5:AC5,"R")+(COUNTIF(G5:AC5,"HR")*2) -> 0 | AG5: =A5+B5 -> 0 | AH5: =COUNTIF(G5:AC5,"K") -> 0 | AK5: O | AL5: 古國偉 | AM5: {=_xlfn.CHOOSECOLS(_xlfn._xlws.FILTER($F$3:$AH$20,$F$3:$F$20=AL5),26,27,28,29)} -> #NAME? | AN5: #NAME? | AO5: #NAME? | AP5: #NAME?
A6: =COUNTIF($G$23:$AC$40,E6) -> 0 | C6: =COUNTIF(G6:AC6,"HR") -> 0 | D6: 2 | E6: O | F6: 古國偉 | G6: R | O6: K | T6: R | AA6: R | AE6: =COUNTA(G6:I6,K6:M6,O6:Q6,S6:U6,W6:Y6,AA6:AC6) -> 4 | AF6: =COUNTIF(G6:AC6,"R")+(COUNTIF(G6:AC6,"HR")*2) -> 3 | AG6: =A6+B6 -> 0 | AH6: =COUNTIF(G6:AC6,"K") -> 1 | AI6: 捕手 | AK6: 28 | AL6: 陳傑閔 | AM6: {=_xlfn.CHOOSECOLS(_xlfn._xlws.FILTER($F$3:$AH$20,$F$3:$F$20=AL6),26,27,28,29)} -> #NAME? | AN6: #NAME? | AO6: #NAME? | AP6: #NAME?
A7: =COUNTIF($G$23:$AC$40,E7) -> 0 | C7: =COUNTIF(G7:AC7,"HR") -> 0 | AE7: =COUNTA(G7:I7,K7:M7,O7:Q7,S7:U7,W7:Y7,AA7:AC7) -> 0 | AF7: =COUNTIF(G7:AC7,"R")+(COUNTIF(G7:AC7,"HR")*2) -> 0 | AG7: =A7+B7 -> 0 | AH7: =COUNTIF(G7:AC7,"K") -> 0 | AI7: 江言鎧 | AK7: 66 | AL7: 陳韻婷 | AM7: {=_xlfn.CHOOSECOLS(_xlfn._xlws.FILTER($F$3:$AH$20,$F$3:$F$20=AL7),26,27,28,29)} -> #NAME? | AN7: #NAME? | AO7: #NAME? | AP7: #NAME?
A8: =COUNTIF($G$23:$AC$40,E8) -> 0 | C8: =COUNTIF(G8:AC8,"HR") -> 0 | AE8: =COUNTA(G8:I8,K8:M8,O8:Q8,S8:U8,W8:Y8,AA8:AC8) -> 0 | AF8: =COUNTIF(G8:AC8,"R")+(COUNTIF(G8:AC8,"HR")*2) -> 0 | AG8: =A8+B8 -> 0 | AH8: =COUNTIF(G8:AC8,"K") -> 0 | AK8: 39 | AL8: 饒賀凱 | AM8: {=_xlfn.CHOOSECOLS(_xlfn._xlws.FILTER($F$3:$AH$20,$F$3:$F$20=AL8),26,27,28,29)} -> #NAME? | AN8: #NAME? | AO8: #NAME? | AP8: #NAME?
A9: =COUNTIF($G$23:$AC$40,E9) -> 0 | C9: =COUNTIF(G9:AC9,"HR") -> 0 | D9: 3 | E9: 28 | F9: 陳傑閔 | G9: 8 | O9: K | AE9: =COUNTA(G9:I9,K9:M9,O9:Q9,S9:U9,W9:Y9,AA9:AC9) -> 2 | AF9: =COUNTIF(G9:AC9,"R")+(COUNTIF(G9:AC9,"HR")*2) -> 0 | AG9: =A9+B9 -> 0 | AH9: =COUNTIF(G9:AC9,"K") -> 1 | AK9: 29 | AL9: 張玥琳 | AM9: {=_xlfn.CHOOSECOLS(_xlfn._xlws.FILTER($F$3:$AH$20,$F$3:$F$20=AL9),26,27,28,29)} -> #NAME? | AN9: #NAME? | AO9: #NAME? | AP9: #NAME?
A10: =COUNTIF($G$23:$AC$40,E10) -> 0 | C10: =COUNTIF(G10:AC10,"HR") -> 0 | E10: 66 | F10: 陳韻婷 | T10: 35 | AA10: 35 | AE10: =COUNTA(G10:I10,K10:M10,O10:Q10,S10:U10,W10:Y10,AA10:AC10) -> 2 | AF10: =COUNTIF(G10:AC10,"R")+(COUNTIF(G10:AC10,"HR")*2) -> 0 | AG10: =A10+B10 -> 0 | AH10: =COUNTIF(G10:AC10,"K") -> 0 | AI10: 觀測員 | AK10: 421 | AL10: 黃雅苓 | AM10: {=_xlfn.CHOOSECOLS(_xlfn._xlws.FILTER($F$3:$AH$20,$F$3:$F$20=AL10),26,27,28,29)} -> #NAME? | AN10: #NAME? | AO10: #NAME? | AP10: #NAME?
A11: =COUNTIF($G$23:$AC$40,E11) -> 0 | C11: =COUNTIF(G11:AC11,"HR") -> 0 | AE11: =COUNTA(G11:I11,K11:M11,O11:Q11,S11:U11,W11:Y11,AA11:AC11) -> 0 | AF11: =COUNTIF(G11:AC11,"R")+(COUNTIF(G11:AC11,"HR")*2) -> 0 | AG11: =A11+B11 -> 0 | AH11: =COUNTIF(G11:AC11,"K") -> 0 | AI11: 游鎮維
A12: =COUNTIF($G$23:$AC$40,E12) -> 0 | C12: =COUNTIF(G12:AC12,"HR") -> 0 | D12: 4 | E12: 39 | F12: 饒賀凱 | G12: K | O12: K | W12: 4 | AA12: 111 | AE12: =COUNTA(G12:I12,K12:M12,O12:Q12,S12:U12,W12:Y12,AA12:AC12) -> 4 | AF12: =COUNTIF(G12:AC12,"R")+(COUNTIF(G12:AC12,"HR")*2) -> 0 | AG12: =A12+B12 -> 0 | AH12: =COUNTIF(G12:AC12,"K") -> 2
A13: =COUNTIF($G$23:$AC$40,E13) -> 0 | C13: =COUNTIF(G13:AC13,"HR") -> 0 | AE13: =COUNTA(G13:I13,K13:M13,O13:Q13,S13:U13,W13:Y13,AA13:AC13) -> 0 | AF13: =COUNTIF(G13:AC13,"R")+(COUNTIF(G13:AC13,"HR")*2) -> 0 | AG13: =A13+B13 -> 0 | AH13: =COUNTIF(G13:AC13,"K") -> 0
A14: =COUNTIF($G$23:$AC$40,E14) -> 0 | C14: =COUNTIF(G14:AC14,"HR") -> 0 | AE14: =COUNTA(G14:I14,K14:M14,O14:Q14,S14:U14,W14:Y14,AA14:AC14) -> 0 | AF14: =COUNTIF(G14:AC14,"R")+(COUNTIF(G14:AC14,"HR")*2) -> 0 | AG14: =A14+B14 -> 0 | AH14: =COUNTIF(G14:AC14,"K") -> 0 | AI14: 候補球員
A15: =COUNTIF($G$23:$AC$40,E15) -> 0 | C15: =COUNTIF(G15:AC15,"HR") -> 0 | D15: 5 | E15: 29 | F15: 張玥琳 | K15: K | S15: K | W15: K | AE15: =COUNTA(G15:I15,K15:M15,O15:Q15,S15:U15,W15:Y15,AA15:AC15) -> 3 | AF15: =COUNTIF(G15:AC15,"R")+(COUNTIF(G15:AC15,"HR")*2) -> 0 | AG15: =A15+B15 -> 0 | AH15: =COUNTIF(G15:AC15,"K") -> 3
A16: =COUNTIF($G$23:$AC$40,E16) -> 0 | C16: =COUNTIF(G16:AC16,"HR") -> 0 | AE16: =COUNTA(G16:I16,K16:M16,O16:Q16,S16:U16,W16:Y16,AA16:AC16) -> 0 | AF16: =COUNTIF(G16:AC16,"R")+(COUNTIF(G16:AC16,"HR")*2) -> 0 | AG16: =A16+B16 -> 0 | AH16: =COUNTIF(G16:AC16,"K") -> 0 | AM16: =SUM(AM4:AM15) -> #NAME? | AN16: =SUM(AN4:AN15) -> #NAME? | AO16: =SUM(AO4:AO15) -> #NAME? | AP16: =SUM(AP4:AP15) -> #NAME?
A17: =COUNTIF($G$23:$AC$40,E17) -> 0 | C17: =COUNTIF(G17:AC17,"HR") -> 0 | AE17: =COUNTA(G17:I17,K17:M17,O17:Q17,S17:U17,W17:Y17,AA17:AC17) -> 0 | AF17: =COUNTIF(G17:AC17,"R")+(COUNTIF(G17:AC17,"HR")*2) -> 0 | AG17: =A17+B17 -> 0 | AH17: =COUNTIF(G17:AC17,"K") -> 0
A18: =COUNTIF($G$23:$AC$40,E18) -> 0 | C18: =COUNTIF(G18:AC18,"HR") -> 0 | D18: 6 | E18: 421 | F18: 黃雅苓 | K18: K | S18: 111 | W18: K | AE18: =COUNTA(G18:I18,K18:M18,O18:Q18,S18:U18,W18:Y18,AA18:AC18) -> 3 | AF18: =COUNTIF(G18:AC18,"R")+(COUNTIF(G18:AC18,"HR")*2) -> 0 | AG18: =A18+B18 -> 0 | AH18: =COUNTIF(G18:AC18,"K") -> 2
A19: =COUNTIF($G$23:$AC$40,E19) -> 0 | C19: =COUNTIF(G19:AC19,"HR") -> 0 | AE19: =COUNTA(G19:I19,K19:M19,O19:Q19,S19:U19,W19:Y19,AA19:AC19) -> 0 | AF19: =COUNTIF(G19:AC19,"R")+(COUNTIF(G19:AC19,"HR")*2) -> 0 | AG19: =A19+B19 -> 0 | AH19: =COUNTIF(G19:AC19,"K") -> 0
A20: =COUNTIF($G$23:$AC$40,E20) -> 0 | C20: =COUNTIF(G20:AC20,"HR") -> 0 | AE20: =COUNTA(G20:I20,K20:M20,O20:Q20,S20:U20,W20:Y20,AA20:AC20) -> 0 | AF20: =COUNTIF(G20:AC20,"R")+(COUNTIF(G20:AC20,"HR")*2) -> 0 | AG20: =A20+B20 -> 0 | AH20: =COUNTIF(G20:AC20,"K") -> 0
A21: =SUM(A3:A20) -> 2 | B21: =SUM(B3:B20) -> 0 | C21: =SUM(C3:C20) -> 0 | D21: 得分加總 | G21: =COUNTIF(G3:I20,"R")+(COUNTIF(G3:I20,"HR")*2) -> 1 | K21: =COUNTIF(K3:M20,"R")+(COUNTIF(K3:M20,"HR")*2)+G21 -> 1 | O21: =COUNTIF(O3:Q20,"R")+(COUNTIF(O3:Q20,"HR")*2)+K21 -> 1 | S21: =COUNTIF(S3:U20,"R")+(COUNTIF(S3:U20,"HR")*2)+O21 -> 3 | W21: =COUNTIF(W3:Y20,"R")+(COUNTIF(W3:Y20,"HR")*2)+S21 -> 3 | AA21: =COUNTIF(AA3:AC20,"R")+(COUNTIF(AA3:AC20,"HR")*2)+W21 -> 4 | AE21: =SUM(AE3:AE20) -> 22 | AF21: =SUM(AF3:AF20) -> 4 | AG21: =SUM(AG3:AG20) -> 2 | AH21: =SUM(AH3:AH20) -> 11
A22: 撿球 | B22: 接殺 | C22: HR | D22: 後 | E22: 背號 | F22: 球員 | G22: 1 | J22: 投 | K22: 2 | N22: 投 | O22: 3 | R22: 投 | S22: 4 | V22: 投 | W22: 5 | Z22: 投 | AA22: 6 | AD22: 投 | AE22: AB | AF22: R | AG22: Po | AH22: K | AI22: 投/捕/觀
A23: =COUNTIF($G$3:$AC$20,E23) -> 1 | C23: =COUNTIF(G23:AC23,"HR") -> 0 | D23: 1 | E23: 8 | F23: 陳璽帆 | G23: K | L23: K | P23: K | X23: 25 | AE23: =COUNTA(G23:I23,K23:M23,O23:Q23,S23:U23,W23:Y23,AA23:AC23) -> 4 | AF23: =COUNTIF(G23:AC23,"R")+C23 -> 0 | AG23: =A23+B23 -> 1 | AH23: =COUNTIF(G23:AC23,"K") -> 3 | AI23: 投手 | AK23: 8 | AL23: 陳璽帆 | AM23: {=_xlfn.CHOOSECOLS(_xlfn._xlws.FILTER($F$23:$AH$40,$F$23:$F$40=AL23),26,27,28,29)} -> #NAME? | AN23: #NAME? | AO23: #NAME? | AP23: #NAME?
A24: =COUNTIF($G$3:$AC$20,E24) -> 0 | C24: =COUNTIF(G24:AC24,"HR") -> 0 | AE24: =COUNTA(G24:I24,K24:M24,O24:Q24,S24:U24,W24:Y24,AA24:AC24) -> 0 | AF24: =COUNTIF(G24:AC24,"R")+C24 -> 0 | AG24: =A24+B24 -> 0 | AH24: =COUNTIF(G24:AC24,"K") -> 0 | AI24: 李裕仁 | AK24: 111 | AL24: 林健彰 | AM24: {=_xlfn.CHOOSECOLS(_xlfn._xlws.FILTER($F$23:$AH$40,$F$23:$F$40=AL24),26,27,28,29)} -> #NAME? | AN24: #NAME? | AO24: #NAME? | AP24: #NAME?
A25: =COUNTIF($G$3:$AC$20,E25) -> 0 | C25: =COUNTIF(G25:AC25,"HR") -> 0 | AE25: =COUNTA(G25:I25,K25:M25,O25:Q25,S25:U25,W25:Y25,AA25:AC25) -> 0 | AF25: =COUNTIF(G25:AC25,"R")+C25 -> 0 | AG25: =A25+B25 -> 0 | AH25: =COUNTIF(G25:AC25,"K") -> 0 | AK25: 21 | AL25: 郭育廷 | AM25: {=_xlfn.CHOOSECOLS(_xlfn._xlws.FILTER($F$23:$AH$40,$F$23:$F$40=AL25),26,27,28,29)} -> #NAME? | AN25: #NAME? | AO25: #NAME? | AP25: #NAME?
A26: =COUNTIF($G$3:$AC$20,E26) -> 2 | C26: =COUNTIF(G26:AC26,"HR") -> 0 | D26: 2 | E26: 111 | F26: 林健彰 | G26: K | L26: 25 | S26: K | X26: rin | AE26: =COUNTA(G26:I26,K26:M26,O26:Q26,S26:U26,W26:Y26,AA26:AC26) -> 4 | AF26: =COUNTIF(G26:AC26,"R")+C26 -> 0 | AG26: =A26+B26 -> 2 | AH26: =COUNTIF(G26:AC26,"K") -> 2 | AI26: 捕手 | AK26: 35 | AL26: 陳俊欽 | AM26: {=_xlfn.CHOOSECOLS(_xlfn._xlws.FILTER($F$23:$AH$40,$F$23:$F$40=AL26),26,27,28,29)} -> #NAME? | AN26: #NAME? | AO26: #NAME? | AP26: #NAME?
A27: =COUNTIF($G$3:$AC$20,E27) -> 0 | C27: =COUNTIF(G27:AC27,"HR") -> 0 | AE27: =COUNTA(G27:I27,K27:M27,O27:Q27,S27:U27,W27:Y27,AA27:AC27) -> 0 | AF27: =COUNTIF(G27:AC27,"R")+C27 -> 0 | AG27: =A27+B27 -> 0 | AH27: =COUNTIF(G27:AC27,"K") -> 0 | AI27: 謝仲荃 | AK27: 4 | AL27: 黃柏欽 | AM27: {=_xlfn.CHOOSECOLS(_xlfn._xlws.FILTER($F$23:$AH$40,$F$23:$F$40=AL27),26,27,28,29)} -> #NAME? | AN27: #NAME? | AO27: #NAME? | AP27: #NAME?
A28: =COUNTIF($G$3:$AC$20,E28) -> 0 | C28: =COUNTIF(G28:AC28,"HR") -> 0 | AE28: =COUNTA(G28:I28,K28:M28,O28:Q28,S28:U28,W28:Y28,AA28:AC28) -> 0 | AF28: =COUNTIF(G28:AC28,"R")+C28 -> 0 | AG28: =A28+B28 -> 0 | AH28: =COUNTIF(G28:AC28,"K") -> 0 | AK28: 51 | AL28: 紀和成 | AM28: {=_xlfn.CHOOSECOLS(_xlfn._xlws.FILTER($F$23:$AH$40,$F$23:$F$40=AL28),26,27,28,29)} -> #NAME? | AN28: #NAME? | AO28: #NAME? | AP28: #NAME?
A29: =COUNTIF($G$3:$AC$20,E29) -> 0 | C29: =COUNTIF(G29:AC29,"HR") -> 0 | D29: 3 | E29: 21 | F29: 郭育廷 | G29: R | O29: K | S29: K | AE29: =COUNTA(G29:I29,K29:M29,O29:Q29,S29:U29,W29:Y29,AA29:AC29) -> 3 | AF29: =COUNTIF(G29:AC29,"R")+C29 -> 1 | AG29: =A29+B29 -> 0 | AH29: =COUNTIF(G29:AC29,"K") -> 2
A30: =COUNTIF($G$3:$AC$20,E30) -> 0 | C30: =COUNTIF(G30:AC30,"HR") -> 0 | AE30: =COUNTA(G30:I30,K30:M30,O30:Q30,S30:U30,W30:Y30,AA30:AC30) -> 0 | AF30: =COUNTIF(G30:AC30,"R")+C30 -> 0 | AG30: =A30+B30 -> 0 | AH30: =COUNTIF(G30:AC30,"K") -> 0 | AI30: 觀測員
A31: =COUNTIF($G$3:$AC$20,E31) -> 0 | C31: =COUNTIF(G31:AC31,"HR") -> 0 | AE31: =COUNTA(G31:I31,K31:M31,O31:Q31,S31:U31,W31:Y31,AA31:AC31) -> 0 | AF31: =COUNTIF(G31:AC31,"R")+C31 -> 0 | AG31: =A31+B31 -> 0 | AH31: =COUNTIF(G31:AC31,"K") -> 0 | AI31: 薛沅庭
A32: =COUNTIF($G$3:$AC$20,E32) -> 2 | C32: =COUNTIF(G32:AC32,"HR") -> 0 | D32: 4 | E32: 35 | F32: 陳俊欽 | G32: K | O32: K | S32: K | AE32: =COUNTA(G32:I32,K32:M32,O32:Q32,S32:U32,W32:Y32,AA32:AC32) -> 3 | AF32: =COUNTIF(G32:AC32,"R")+C32 -> 0 | AG32: =A32+B32 -> 2 | AH32: =COUNTIF(G32:AC32,"K") -> 3
A33: =COUNTIF($G$3:$AC$20,E33) -> 0 | C33: =COUNTIF(G33:AC33,"HR") -> 0 | AE33: =COUNTA(G33:I33,K33:M33,O33:Q33,S33:U33,W33:Y33,AA33:AC33) -> 0 | AF33: =COUNTIF(G33:AC33,"R")+C33 -> 0 | AG33: =A33+B33 -> 0 | AH33: =COUNTIF(G33:AC33,"K") -> 0
A34: =COUNTIF($G$3:$AC$20,E34) -> 0 | C34: =COUNTIF(G34:AC34,"HR") -> 0 | AE34: =COUNTA(G34:I34,K34:M34,O34:Q34,S34:U34,W34:Y34,AA34:AC34) -> 0 | AF34: =COUNTIF(G34:AC34,"R")+C34 -> 0 | AG34: =A34+B34 -> 0 | AH34: =COUNTIF(G34:AC34,"K") -> 0 | AI34: 候補球員
A35: =COUNTIF($G$3:$AC$20,E35) -> 1 | C35: =COUNTIF(G35:AC35,"HR") -> 0 | D35: 5 | E35: 4 | F35: 黃柏欽 | K35: K | O35: R | W35: K | AE35: =COUNTA(G35:I35,K35:M35,O35:Q35,S35:U35,W35:Y35,AA35:AC35) -> 3 | AF35: =COUNTIF(G35:AC35,"R")+C35 -> 1 | AG35: =A35+B35 -> 1 | AH35: =COUNTIF(G35:AC35,"K") -> 2 | AM35: =SUM(AM23:AM34) -> #NAME? | AN35: =SUM(AN23:AN34) -> #NAME? | AO35: =SUM(AO23:AO34) -> #NAME? | AP35: =SUM(AP23:AP34) -> #NAME?
A36: =COUNTIF($G$3:$AC$20,E36) -> 0 | C36: =COUNTIF(G36:AC36,"HR") -> 0 | AE36: =COUNTA(G36:I36,K36:M36,O36:Q36,S36:U36,W36:Y36,AA36:AC36) -> 0 | AF36: =COUNTIF(G36:AC36,"R")+C36 -> 0 | AG36: =A36+B36 -> 0 | AH36: =COUNTIF(G36:AC36,"K") -> 0
A37: =COUNTIF($G$3:$AC$20,E37) -> 0 | C37: =COUNTIF(G37:AC37,"HR") -> 0 | AE37: =COUNTA(G37:I37,K37:M37,O37:Q37,S37:U37,W37:Y37,AA37:AC37) -> 0 | AF37: =COUNTIF(G37:AC37,"R")+C37 -> 0 | AG37: =A37+B37 -> 0 | AH37: =COUNTIF(G37:AC37,"K") -> 0
A38: =COUNTIF($G$3:$AC$20,E38) -> 1 | C38: =COUNTIF(G38:AC38,"HR") -> 0 | D38: 6 | E38: 51 | F38: 紀和成 | K38: R | O38: R | W38: R | AE38: =COUNTA(G38:I38,K38:M38,O38:Q38,S38:U38,W38:Y38,AA38:AC38) -> 3 | AF38: =COUNTIF(G38:AC38,"R")+C38 -> 3 | AG38: =A38+B38 -> 1 | AH38: =COUNTIF(G38:AC38,"K") -> 0
A39: =COUNTIF($G$3:$AC$20,E39) -> 0 | C39: =COUNTIF(G39:AC39,"HR") -> 0 | AE39: =COUNTA(G39:I39,K39:M39,O39:Q39,S39:U39,W39:Y39,AA39:AC39) -> 0 | AF39: =COUNTIF(G39:AC39,"R")+C39 -> 0 | AG39: =A39+B39 -> 0 | AH39: =COUNTIF(G39:AC39,"K") -> 0
A40: =COUNTIF($G$3:$AC$20,E40) -> 0 | C40: =COUNTIF(G40:AC40,"HR") -> 0 | AE40: =COUNTA(G40:I40,K40:M40,O40:Q40,S40:U40,W40:Y40,AA40:AC40) -> 0 | AF40: =COUNTIF(G40:AC40,"R")+C40 -> 0 | AG40: =A40+B40 -> 0 | AH40: =COUNTIF(G40:AC40,"K") -> 0
...

Sheet G5
B1: 加計分數 | D1: 場次 | H1: G5 | J1: 日期 | L1: 114.08.24 | Q1: =AE21 -> 7 | T1: 新北獵豹 | V1: VS | X1: 閃電 | AA1: =AE41 -> 8 | AI1: 數據
A2: 撿球 | B2: 接殺 | C2: HR | D2: 先 | E2: 背號 | F2: 球員 | G2: 1 | J2: 投 | K2: 2 | N2: 投 | O2: 3 | R2: 投 | S2: 4 | V2: 投 | W2: 5 | Z2: 投 | AA2: 6 | AD2: 投 | AE2: 7 | AH2: 投 | AI2: AB | AJ2: R | AK2: Po | AL2: K | AM2: 投/捕/觀
A3: =COUNTIF($G$23:$AG$40,E3) -> 1 | C3: =COUNTIF(G3:AG3,"HR") -> 0 | D3: 1 | E3: 25 | F3: 洪韶壕 | G3: K | L3: R | S3: R | X3: R | AE3: R | AI3: =COUNTA(G3:I3,K3:M3,O3:Q3,S3:U3,W3:Y3,AA3:AC3,AE3:AG3) -> 5 | AJ3: =COUNTIF(G3:AG3,"R")+(COUNTIF(G3:AG3,"HR")*2) -> 4 | AK3: =A3+B3 -> 1 | AL3: =COUNTIF(G3:AG3,"K") -> 1 | AM3: 投手 | AO3: 背號 | AP3: 球員 | AQ3: AB | AR3: R | AS3: Po | AT3: K | AW3: 背號 | AX3: 球員 | AY3: AB | AZ3: R | BA3: Po | BB3: K
A4: =COUNTIF($G$23:$AG$40,E4) -> 0 | C4: =COUNTIF(G4:AG4,"HR") -> 0 | AI4: =COUNTA(G4:I4,K4:M4,O4:Q4,S4:U4,W4:Y4,AA4:AC4,AE4:AG4) -> 0 | AJ4: =COUNTIF(G4:AG4,"R")+(COUNTIF(G4:AG4,"HR")*2) -> 0 | AK4: =A4+B4 -> 0 | AL4: =COUNTIF(G4:AG4,"K") -> 0 | AM4: 游鎮維 | AO4: 25 | AP4: 洪韶壕 | AQ4: 5 | AR4: 4 | AS4: 1 | AT4: 1 | AW4: 25 | AX4: 洪韶壕 | AY4: {=_xlfn.CHOOSECOLS(_xlfn._xlws.FILTER($F$3:$AL$20,$F$3:$F$20=AX4),30,31,32,33)} -> 5 | AZ4: 4 | BA4: 1 | BB4: 1
A5: =COUNTIF($G$23:$AG$40,E5) -> 0 | C5: =COUNTIF(G5:AG5,"HR") -> 0 | AI5: =COUNTA(G5:I5,K5:M5,O5:Q5,S5:U5,W5:Y5,AA5:AC5,AE5:AG5) -> 0 | AJ5: =COUNTIF(G5:AG5,"R")+(COUNTIF(G5:AG5,"HR")*2) -> 0 | AK5: =A5+B5 -> 0 | AL5: =COUNTIF(G5:AG5,"K") -> 0 | AO5: O | AP5: 古國偉 | AQ5: 4 | AR5: 1 | AS5: 0 | AT5: 2 | AW5: O | AX5: 古國偉 | AY5: 4 | AZ5: 1 | BA5: 0 | BB5: 2
A6: =COUNTIF($G$23:$AG$40,E6) -> 0 | C6: =COUNTIF(G6:AG6,"HR") -> 0 | D6: 2 | E6: O | F6: 古國偉 | G6: K | L6: R | S6: K | AI6: =COUNTA(G6:I6,K6:M6,O6:Q6,S6:U6,W6:Y6,AA6:AC6,AE6:AG6) -> 3 | AJ6: =COUNTIF(G6:AG6,"R")+(COUNTIF(G6:AG6,"HR")*2) -> 1 | AK6: =A6+B6 -> 0 | AL6: =COUNTIF(G6:AG6,"K") -> 2 | AM6: 捕手 | AO6: 421 | AP6: 黃雅苓 | AQ6: 1 | AR6: 1 | AS6: 1 | AT6: 0 | AW6: 421 | AX6: 黃雅苓 | AY6: {=_xlfn.CHOOSECOLS(_xlfn._xlws.FILTER($F$3:$AL$20,$F$3:$F$20=AX6),30,31,32,33)} -> 1 | AZ6: 1 | BA6: 1 | BB6: 0
A7: =COUNTIF($G$23:$AG$40,E7) -> 1 | C7: =COUNTIF(G7:AG7,"HR") -> 0 | E7: 421 | F7: 黃雅苓 | X7: R | AI7: =COUNTA(G7:I7,K7:M7,O7:Q7,S7:U7,W7:Y7,AA7:AC7,AE7:AG7) -> 1 | AJ7: =COUNTIF(G7:AG7,"R")+(COUNTIF(G7:AG7,"HR")*2) -> 1 | AK7: =A7+B7 -> 1 | AL7: =COUNTIF(G7:AG7,"K") -> 0 | AM7: 江言鎧
A8: =COUNTIF($G$23:$AG$40,E8) -> 0 | C8: =COUNTIF(G8:AG8,"HR") -> 0 | E8: O | F8: 古國偉 | AE8: 35 | AI8: =COUNTA(G8:I8,K8:M8,O8:Q8,S8:U8,W8:Y8,AA8:AC8,AE8:AG8) -> 1 | AJ8: =COUNTIF(G8:AG8,"R")+(COUNTIF(G8:AG8,"HR")*2) -> 0 | AK8: =A8+B8 -> 0 | AL8: =COUNTIF(G8:AG8,"K") -> 0 | AO8: 28 | AP8: 陳傑閔 | AQ8: 5 | AR8: 1 | AS8: 1 | AT8: 3 | AW8: 28 | AX8: 陳傑閔 | AY8: {=_xlfn.CHOOSECOLS(_xlfn._xlws.FILTER($F$3:$AL$20,$F$3:$F$20=AX8),30,31,32,33)} -> 5 | AZ8: 1 | BA8: 1 | BB8: 3
A9: =COUNTIF($G$23:$AG$40,E9) -> 1 | C9: =COUNTIF(G9:AG9,"HR") -> 0 | D9: 3 | E9: 28 | F9: 陳傑閔 | G9: R | L9: K | S9: K | X9: 8 | AE9: K | AI9: =COUNTA(G9:I9,K9:M9,O9:Q9,S9:U9,W9:Y9,AA9:AC9,AE9:AG9) -> 5 | AJ9: =COUNTIF(G9:AG9,"R")+(COUNTIF(G9:AG9,"HR")*2) -> 1 | AK9: =A9+B9 -> 1 | AL9: =COUNTIF(G9:AG9,"K") -> 3 | AO9: 39 | AP9: 饒賀凱 | AQ9: 5 | AR9: 0 | AS9: 0 | AT9: 3 | AW9: 39 | AX9: 饒賀凱 | AY9: {=_xlfn.CHOOSECOLS(_xlfn._xlws.FILTER($F$3:$AL$20,$F$3:$F$20=AX9),30,31,32,33)} -> 5 | AZ9: 0 | BA9: 0 | BB9: 3
A10: =COUNTIF($G$23:$AG$40,E10) -> 0 | C10: =COUNTIF(G10:AG10,"HR") -> 0 | AI10: =COUNTA(G10:I10,K10:M10,O10:Q10,S10:U10,W10:Y10,AA10:AC10,AE10:AG10) -> 0 | AJ10: =COUNTIF(G10:AG10,"R")+(COUNTIF(G10:AG10,"HR")*2) -> 0 | AK10: =A10+B10 -> 0 | AL10: =COUNTIF(G10:AG10,"K") -> 0 | AM10: 觀測員 | AO10: 29 | AP10: 張玥琳 | AQ10: 4 | AR10: 0 | AS10: 0 | AT10: 0 | AW10: 29 | AX10: 張玥琳 | AY10: {=_xlfn.CHOOSECOLS(_xlfn._xlws.FILTER($F$3:$AL$20,$F$3:$F$20=AX10),30,31,32,33)} -> 4 | AZ10: 0 | BA10: 0 | BB10: 0
