Workbook

Sheet 分組球員名單
A1: 球員名單 | B1: 背號
A2: A | D2: 投捕觀名單 | F2: 隊伍名稱
A3: 陳璽帆 | B3: 8 | D3: 駱繼宗 | F3: 閃電
A4: 黃柏欽 | B4: 4 | D4: 李裕仁 | F4: 夜魔俠
A5: 郭育廷 | B5: 21 | D5: 陳相睿 | F5: 雄霸
A6: 林育良 | B6: 99 | D6: 林春佑 | F6: 新北獵豹
A7: 林健彰 | B7: 111 | D7: 宋展宇
A8: 陳俊欽 | B8: 35 | D8: 王辰光
A9: 張御欣 | B9: 32 | D9: 游鎮維
A10: 莊詠安 | B10: 23 | D10: 江言鎧
A11: 鄭傳逸 | B11: 88 | D11: 薛沅庭
A12: 紀和成 | B12: 51 | D12: 賴君佩
A13: B | D13: 高芳伶
A14: 梁耿縉 | B14: 18 | D14: 劉維璽
A15: 勞恩以達西拔 | B15: 11 | D15: 謝仲荃
A16: 蔡存宥 | B16: 22 | D16: 游政翰
A17: 郭亦倫 | B17: 39 | D17: 林宜宏
A18: 張睿紘 | B18: 24 | D18: 林文耀
A19: 余自成 | B19: 81
A20: 蔡孟洵 | B20: 58
A21: 陳建智 | B21: 7
A22: 邱文昇 | B22: 23 | F22: 對戰分數
A23: 賴智傑 | B23: 28 | D23: 8/23(六) | F23: 閃電 | G23: 夜魔俠 | H23: 雄霸 | I23: 新北獵豹
A24: 林君達 | B24: 21 | D24: G1 09:30-11:30 | F24: 5 | G24: 17
A25: C | D25: 閃電 vs 夜魔俠
A26: 李庭旭 | B26: 11 | D26: G2 12:00-14:00 | H26: 15 | I26: 3
A27: 何昌翰 | B27: 99 | D27: 雄霸 vs 新北獵豹
A28: 陳建閔 | B28: 26 | D28: G3 14:30-16:30
A29: 許戎忠 | B29: 14 | D29: 夜魔俠 vs 雄霸 | G29: 4 | H29: 2
A30: 陳玠樸 | B30: 66 | D30: 8/24 (日)
A31: 陳昶逸 | B31: 23 | D31: G4 09:30-11:30
A32: 陳宥憲 | B32: 9 | D32: 新北獵豹 vs 閃電 | F32: 5 | I32: 4
A33: 陳偕安 | B33: 17 | D33: G5 12:00-14:00 季軍賽
A34: 王兆熙 | B34: 83 | D34: 新北獵豹 vs 閃電 | F34: 8 | I34: 7
A35: D | D35: G6 14:30-16:30 冠軍賽
A36: 李秀美 | B36: 6 | D36: 夜魔俠 vs 雄霸 | G36: 13 | H36: 2
A37: 蔡宗豪 | B37: 15 | F37: =SUM(F24:F36) -> 18 | G37: =SUM(G24:G36) -> 34 | H37: =SUM(H24:H36) -> 19 | I37: =SUM(I24:I36) -> 14
A38: 張玥琳 | B38: 29
A39: 洪韶壕 | B39: 25
A40: 古國偉 | B40: O
A41: 陳傑閔 | B41: 28
A42: 賴保全 | B42: 1
A43: 蔡志雄 | B43: 37
A44: 饒賀凱 | B44: 39
A45: 張壬壤 | B45: 52
A46: 陳韻婷 | B46: 66
A47: 胡耕偉 | B47: 99
A48: 黃雅苓 | B48: 421

Sheet G1
B1: 加計分數 | D1: 場次 | H1: G1 | J1: 日期 | L1: 114.08.23 | Q1: =AA21 -> 17 | T1: 夜魔俠 | V1: VS | X1: 閃電 | AB1: =AA41 -> 5 | AE1: 數據
A2: 撿球 | B2: 接殺 | C2: HR | D2: 先 | E2: 背號 | F2: 球員 | G2: 1 | J2: 投 | K2: 2 | N2: 投 | O2: 3 | R2: 投 | S2: 4 | V2: 投 | W2: 5 | Z2: 投 | AA2: 6 | AD2: 投 | AE2: AB | AF2: R | AG2: Po | AH2: K | AI2: 投/捕/觀 | AK2: 背號 | AL2: 球員 | AM2: AB | AN2: R | AO2: Po | AP2: K
A3: =COUNTIF($G$23:$AC$40,E3) -> 0 | C3: =COUNTIF(G3:AC3,"HR") -> 0 | D3: 1 | E3: 18 | F3: 梁耿縉 | G3: R | K3: R | L3: R | P3: R | T3: R | AE3: =COUNTA(G3:I3,K3:M3,O3:Q3,S3:U3,W3:Y3,AA3:AC3) -> 5 | AF3: =COUNTIF(G3:AC3,"R")+(COUNTIF(G3:AC3,"HR")*2) -> 5 | AG3: =A3+B3 -> 0 | AH3: =COUNTIF(G3:AC3,"K") -> 0 | AI3: 投手 | AK3: 18 | AL3: 梁耿縉 | AM3: {=_xlfn.CHOOSECOLS(_xlfn._xlws.FILTER($F$3:$AH$20,$F$3:$F$20=AL3),26,27,28,29)} -> 5 | AN3: 5 | AO3: 0 | AP3: 0
A4: =COUNTIF($G$23:$AC$40,E4) -> 0 | C4: =COUNTIF(G4:AC4,"HR") -> 0 | AE4: =COUNTA(G4:I4,K4:M4,O4:Q4,S4:U4,W4:Y4,AA4:AC4) -> 0 | AF4: =COUNTIF(G4:AC4,"R")+(COUNTIF(G4:AC4,"HR")*2) -> 0 | AG4: =A4+B4 -> 0 | AH4: =COUNTIF(G4:AC4,"K") -> 0 | AI4: 林春佑 | AK4: 22 | AL4: 蔡存宥 | AM4: {=_xlfn.CHOOSECOLS(_xlfn._xlws.FILTER($F$3:$AH$20,$F$3:$F$20=AL4),26,27,28,29)} -> 5 | AN4: 3 | AO4: 0 | AP4: 0
A5: =COUNTIF($G$23:$AC$40,E5) -> 0 | C5: =COUNTIF(G5:AC5,"HR") -> 0 | AE5: =COUNTA(G5:I5,K5:M5,O5:Q5,S5:U5,W5:Y5,AA5:AC5) -> 0 | AF5: =COUNTIF(G5:AC5,"R")+(COUNTIF(G5:AC5,"HR")*2) -> 0 | AG5: =A5+B5 -> 0 | AH5: =COUNTIF(G5:AC5,"K") -> 0 | AK5: 23 | AL5: 邱文昇 | AM5: {=_xlfn.CHOOSECOLS(_xlfn._xlws.FILTER($F$3:$AH$20,$F$3:$F$20=AL5),26,27,28,29)} -> 5 | AN5: 2 | AO5: 3 | AP5: 0
A6: =COUNTIF($G$23:$AC$40,E6) -> 0 | C6: =COUNTIF(G6:AC6,"HR") -> 0 | D6: 2 | E6: 22 | F6: 蔡存宥 | G6: 21 | K6: R | L6: 35 | P6: R | T6: R | AE6: =COUNTA(G6:I6,K6:M6,O6:Q6,S6:U6,W6:Y6,AA6:AC6) -> 5 | AF6: =COUNTIF(G6:AC6,"R")+(COUNTIF(G6:AC6,"HR")*2) -> 3 | AG6: =A6+B6 -> 0 | AH6: =COUNTIF(G6:AC6,"K") -> 0 | AI6: 捕手 | AK6: 39 | AL6: 郭亦倫 | AM6: {=_xlfn.CHOOSECOLS(_xlfn._xlws.FILTER($F$3:$AH$20,$F$3:$F$20=AL6),26,27,28,29)} -> 5 | AN6: 3 | AO6: 0 | AP6: 0
A7: =COUNTIF($G$23:$AC$40,E7) -> 0 | C7: =COUNTIF(G7:AC7,"HR") -> 0 | AE7: =COUNTA(G7:I7,K7:M7,O7:Q7,S7:U7,W7:Y7,AA7:AC7) -> 0 | AF7: =COUNTIF(G7:AC7,"R")+(COUNTIF(G7:AC7,"HR")*2) -> 0 | AG7: =A7+B7 -> 0 | AH7: =COUNTIF(G7:AC7,"K") -> 0 | AI7: 王辰光 | AK7: 58 | AL7: 蔡孟洵 | AM7: {=_xlfn.CHOOSECOLS(_xlfn._xlws.FILTER($F$3:$AH$20,$F$3:$F$20=AL7),26,27,28,29)} -> 0 | AN7: 0 | AO7: 0 | AP7: 0
A8: =COUNTIF($G$23:$AC$40,E8) -> 0 | C8: =COUNTIF(G8:AC8,"HR") -> 0 | AE8: =COUNTA(G8:I8,K8:M8,O8:Q8,S8:U8,W8:Y8,AA8:AC8) -> 0 | AF8: =COUNTIF(G8:AC8,"R")+(COUNTIF(G8:AC8,"HR")*2) -> 0 | AG8: =A8+B8 -> 0 | AH8: =COUNTIF(G8:AC8,"K") -> 0 | AK8: 24 | AL8: 張睿紘 | AM8: {=_xlfn.CHOOSECOLS(_xlfn._xlws.FILTER($F$3:$AH$20,$F$3:$F$20=AL8),26,27,28,29)} -> 3 | AN8: 1 | AO8: 0 | AP8: 2
A9: =COUNTIF($G$23:$AC$40,E9) -> 3 | C9: =COUNTIF(G9:AC9,"HR") -> 0 | D9: 3 | E9: 23 | F9: 邱文昇 | G9: R | K9: 21 | O9: R | P9: 35 | T9: 35 | AE9: =COUNTA(G9:I9,K9:M9,O9:Q9,S9:U9,W9:Y9,AA9:AC9) -> 5 | AF9: =COUNTIF(G9:AC9,"R")+(COUNTIF(G9:AC9,"HR")*2) -> 2 | AG9: =A9+B9 -> 3 | AH9: =COUNTIF(G9:AC9,"K") -> 0 | AK9: 21 | AL9: 林君達 | AM9: {=_xlfn.CHOOSECOLS(_xlfn._xlws.FILTER($F$3:$AH$20,$F$3:$F$20=AL9),26,27,28,29)} -> 2 | AN9: 1 | AO9: 1 | AP9: 1
A10: =COUNTIF($G$23:$AC$40,E10) -> 0 | C10: =COUNTIF(G10:AC10,"HR") -> 0 | AE10: =COUNTA(G10:I10,K10:M10,O10:Q10,S10:U10,W10:Y10,AA10:AC10) -> 0 | AF10: =COUNTIF(G10:AC10,"R")+(COUNTIF(G10:AC10,"HR")*2) -> 0 | AG10: =A10+B10 -> 0 | AH10: =COUNTIF(G10:AC10,"K") -> 0 | AI10: 觀測員 | AK10: 81 | AL10: 余自成 | AM10: {=_xlfn.CHOOSECOLS(_xlfn._xlws.FILTER($F$3:$AH$20,$F$3:$F$20=AL10),26,27,28,29)} -> 1 | AN10: 0 | AO10: 0 | AP10: 0
A11: =COUNTIF($G$23:$AC$40,E11) -> 0 | C11: =COUNTIF(G11:AC11,"HR") -> 0 | AE11: =COUNTA(G11:I11,K11:M11,O11:Q11,S11:U11,W11:Y11,AA11:AC11) -> 0 | AF11: =COUNTIF(G11:AC11,"R")+(COUNTIF(G11:AC11,"HR")*2) -> 0 | AG11: =A11+B11 -> 0 | AH11: =COUNTIF(G11:AC11,"K") -> 0 | AI11: 劉維璽 | AK11: 28 | AL11: 賴智傑 | AM11: {=_xlfn.CHOOSECOLS(_xlfn._xlws.FILTER($F$3:$AH$20,$F$3:$F$20=AL11),26,27,28,29)} -> 3 | AN11: 2 | AO11: 1 | AP11: 0
A12: =COUNTIF($G$23:$AC$40,E12) -> 0 | C12: =COUNTIF(G12:AC12,"HR") -> 0 | D12: 4 | E12: 39 | F12: 郭亦倫 | G12: R | K12: R | O12: 35 | S12: R | T12: 35 | AE12: =COUNTA(G12:I12,K12:M12,O12:Q12,S12:U12,W12:Y12,AA12:AC12) -> 5 | AF12: =COUNTIF(G12:AC12,"R")+(COUNTIF(G12:AC12,"HR")*2) -> 3 | AG12: =A12+B12 -> 0 | AH12: =COUNTIF(G12:AC12,"K") -> 0
A13: =COUNTIF($G$23:$AC$40,E13) -> 0 | C13: =COUNTIF(G13:AC13,"HR") -> 0 | E13: 58 | F13: 蔡孟洵 | AE13: =COUNTA(G13:I13,K13:M13,O13:Q13,S13:U13,W13:Y13,AA13:AC13) -> 0 | AF13: =COUNTIF(G13:AC13,"R")+(COUNTIF(G13:AC13,"HR")*2) -> 0 | AG13: =A13+B13 -> 0 | AH13: =COUNTIF(G13:AC13,"K") -> 0
A14: =COUNTIF($G$23:$AC$40,E14) -> 0 | C14: =COUNTIF(G14:AC14,"HR") -> 0 | AE14: =COUNTA(G14:I14,K14:M14,O14:Q14,S14:U14,W14:Y14,AA14:AC14) -> 0 | AF14: =COUNTIF(G14:AC14,"R")+(COUNTIF(G14:AC14,"HR")*2) -> 0 | AG14: =A14+B14 -> 0 | AH14: =COUNTIF(G14:AC14,"K") -> 0 | AI14: 候補球員
A15: =COUNTIF($G$23:$AC$40,E15) -> 0 | C15: =COUNTIF(G15:AC15,"HR") -> 0 | D15: 5 | E15: 24 | F15: 張睿紘 | G15: K | K15: R | O15: K | AE15: =COUNTA(G15:I15,K15:M15,O15:Q15,S15:U15,W15:Y15,AA15:AC15) -> 3 | AF15: =COUNTIF(G15:AC15,"R")+(COUNTIF(G15:AC15,"HR")*2) -> 1 | AG15: =A15+B15 -> 0 | AH15: =COUNTIF(G15:AC15,"K") -> 2
A16: =COUNTIF($G$23:$AC$40,E16) -> 1 | C16: =COUNTIF(G16:AC16,"HR") -> 0 | E16: 21 | F16: 林君達 | S16: R | T16: K | AE16: =COUNTA(G16:I16,K16:M16,O16:Q16,S16:U16,W16:Y16,AA16:AC16) -> 2 | AF16: =COUNTIF(G16:AC16,"R")+(COUNTIF(G16:AC16,"HR")*2) -> 1 | AG16: =A16+B16 -> 1 | AH16: =COUNTIF(G16:AC16,"K") -> 1 | AM16: =SUM(AM3:AM15) -> 29 | AN16: =SUM(AN3:AN15) -> 17 | AO16: =SUM(AO3:AO15) -> 5 | AP16: =SUM(AP3:AP15) -> 3
A17: =COUNTIF($G$23:$AC$40,E17) -> 0 | C17: =COUNTIF(G17:AC17,"HR") -> 0 | AE17: =COUNTA(G17:I17,K17:M17,O17:Q17,S17:U17,W17:Y17,AA17:AC17) -> 0 | AF17: =COUNTIF(G17:AC17,"R")+(COUNTIF(G17:AC17,"HR")*2) -> 0 | AG17: =A17+B17 -> 0 | AH17: =COUNTIF(G17:AC17,"K") -> 0
A18: =COUNTIF($G$23:$AC$40,E18) -> 0 | C18: =COUNTIF(G18:AC18,"HR") -> 0 | D18: 6 | E18: 81 | F18: 余自成 | G18: 88 | AE18: =COUNTA(G18:I18,K18:M18,O18:Q18,S18:U18,W18:Y18,AA18:AC18) -> 1 | AF18: =COUNTIF(G18:AC18,"R")+(COUNTIF(G18:AC18,"HR")*2) -> 0 | AG18: =A18+B18 -> 0 | AH18: =COUNTIF(G18:AC18,"K") -> 0
A19: =COUNTIF($G$23:$AC$40,E19) -> 1 | C19: =COUNTIF(G19:AC19,"HR") -> 0 | E19: 28 | F19: 賴智傑 | K19: 8 | O19: R | S19: R | AE19: =COUNTA(G19:I19,K19:M19,O19:Q19,S19:U19,W19:Y19,AA19:AC19) -> 3 | AF19: =COUNTIF(G19:AC19,"R")+(COUNTIF(G19:AC19,"HR")*2) -> 2 | AG19: =A19+B19 -> 1 | AH19: =COUNTIF(G19:AC19,"K") -> 0
A20: =COUNTIF($G$23:$AC$40,E20) -> 0 | C20: =COUNTIF(G20:AC20,"HR") -> 0 | AE20: =COUNTA(G20:I20,K20:M20,O20:Q20,S20:U20,W20:Y20,AA20:AC20) -> 0 | AF20: =COUNTIF(G20:AC20,"R")+(COUNTIF(G20:AC20,"HR")*2) -> 0 | AG20: =A20+B20 -> 0 | AH20: =COUNTIF(G20:AC20,"K") -> 0
A21: =SUM(A3:A20) -> 5 | B21: =SUM(B3:B20) -> 0 | C21: =SUM(C3:C20) -> 0 | D21: 得分加總 | G21: =COUNTIF(G3:I20,"R")+(COUNTIF(G3:I20,"HR")*2) -> 3 | K21: =COUNTIF(K3:M20,"R")+(COUNTIF(K3:M20,"HR")*2)+G21 -> 8 | O21: =COUNTIF(O3:Q20,"R")+(COUNTIF(O3:Q20,"HR")*2)+K21 -> 12 | S21: =COUNTIF(S3:U20,"R")+(COUNTIF(S3:U20,"HR")*2)+O21 -> 17 | W21: =COUNTIF(W3:Y20,"R")+(COUNTIF(W3:Y20,"HR")*2)+S21 -> 17 | AA21: =COUNTIF(AA3:AC20,"R")+(COUNTIF(AA3:AC20,"HR")*2)+W21 -> 17 | AE21: =SUM(AE3:AE20) -> 29 | AF21: =SUM(AF3:AF20) -> 17 | AG21: =SUM(AG3:AG20) -> 5 | AH21: =SUM(AH3:AH20) -> 3
A22: 撿球 | B22: 接殺 | C22: HR | D22: 後 | E22: 背號 | F22: 球員 | G22: 1 | J22: 投 | K22: 2 | N22: 投 | O22: 3 | R22: 投 | S22: 4 | V22: 投 | W22: 5 | Z22: 投 | AA22: 6 | AD22: 投 | AE22: AB | AF22: R | AG22: Po | AH22: K | AI22: 投/捕/觀
A23: =COUNTIF($G$3:$AC$20,E23) -> 0 | C23: =COUNTIF(G23:AC23,"HR") -> 0 | D23: 1 | E23: 99 | F23: 林育良 | G23: K | L23: K | P23: K | X23: 23 | AE23: =COUNTA(G23:I23,K23:M23,O23:Q23,S23:U23,W23:Y23,AA23:AC23) -> 4 | AF23: =COUNTIF(G23:AC23,"R")+C23 -> 0 | AG23: =A23+B23 -> 0 | AH23: =COUNTIF(G23:AC23,"K") -> 3 | AI23: 投手 | AK23: 99 | AL23: 林育良 | AM23: {=_xlfn.CHOOSECOLS(_xlfn._xlws.FILTER($F$23:$AH$40,$F$23:$F$40=AL23),26,27,28,29)} -> 4 | AN23: 0 | AO23: 0 | AP23: 3
A24: =COUNTIF($G$3:$AC$20,E24) -> 0 | C24: =COUNTIF(G24:AC24,"HR") -> 0 | AE24: =COUNTA(G24:I24,K24:M24,O24:Q24,S24:U24,W24:Y24,AA24:AC24) -> 0 | AF24: =COUNTIF(G24:AC24,"R")+C24 -> 0 | AG24: =A24+B24 -> 0 | AH24: =COUNTIF(G24:AC24,"K") -> 0 | AI24: 駱繼宗 | AK24: 8 | AL24: 陳璽帆 | AM24: {=_xlfn.CHOOSECOLS(_xlfn._xlws.FILTER($F$23:$AH$40,$F$23:$F$40=AL24),26,27,28,29)} -> 2 | AN24: 1 | AO24: 1 | AP24: 1
A25: =COUNTIF($G$3:$AC$20,E25) -> 0 | C25: =COUNTIF(G25:AC25,"HR") -> 0 | AE25: =COUNTA(G25:I25,K25:M25,O25:Q25,S25:U25,W25:Y25,AA25:AC25) -> 0 | AF25: =COUNTIF(G25:AC25,"R")+C25 -> 0 | AG25: =A25+B25 -> 0 | AH25: =COUNTIF(G25:AC25,"K") -> 0 | AK25: 4 | AL25: 黃柏欽 | AM25: {=_xlfn.CHOOSECOLS(_xlfn._xlws.FILTER($F$23:$AH$40,$F$23:$F$40=AL25),26,27,28,29)} -> 2 | AN25: 0 | AO25: 0 | AP25: 2
A26: =COUNTIF($G$3:$AC$20,E26) -> 1 | C26: =COUNTIF(G26:AC26,"HR") -> 0 | D26: 2 | E26: 8 | F26: 陳璽帆 | G26: R | L26: K | AE26: =COUNTA(G26:I26,K26:M26,O26:Q26,S26:U26,W26:Y26,AA26:AC26) -> 2 | AF26: =COUNTIF(G26:AC26,"R")+C26 -> 1 | AG26: =A26+B26 -> 1 | AH26: =COUNTIF(G26:AC26,"K") -> 1 | AI26: 捕手 | AK26: 21 | AL26: 郭育廷 | AM26: {=_xlfn.CHOOSECOLS(_xlfn._xlws.FILTER($F$23:$AH$40,$F$23:$F$40=AL26),26,27,28,29)} -> 4 | AN26: 2 | AO26: 2 | AP26: 1
A27: =COUNTIF($G$3:$AC$20,E27) -> 0 | C27: =COUNTIF(G27:AC27,"HR") -> 0 | E27: 4 | F27: 黃柏欽 | S27: K | AA27: k | AE27: =COUNTA(G27:I27,K27:M27,O27:Q27,S27:U27,W27:Y27,AA27:AC27) -> 2 | AF27: =COUNTIF(G27:AC27,"R")+C27 -> 0 | AG27: =A27+B27 -> 0 | AH27: =COUNTIF(G27:AC27,"K") -> 2 | AI27: 李裕仁 | AK27: 111 | AL27: 林健彰 | AM27: {=_xlfn.CHOOSECOLS(_xlfn._xlws.FILTER($F$23:$AH$40,$F$23:$F$40=AL27),26,27,28,29)} -> 4 | AN27: 1 | AO27: 0 | AP27: 2
A28: =COUNTIF($G$3:$AC$20,E28) -> 0 | C28: =COUNTIF(G28:AC28,"HR") -> 0 | AE28: =COUNTA(G28:I28,K28:M28,O28:Q28,S28:U28,W28:Y28,AA28:AC28) -> 0 | AF28: =COUNTIF(G28:AC28,"R")+C28 -> 0 | AG28: =A28+B28 -> 0 | AH28: =COUNTIF(G28:AC28,"K") -> 0 | AK28: 88 | AL28: 鄭傳逸 | AM28: {=_xlfn.CHOOSECOLS(_xlfn._xlws.FILTER($F$23:$AH$40,$F$23:$F$40=AL28),26,27,28,29)} -> 4 | AN28: 1 | AO28: 1 | AP28: 1
A29: =COUNTIF($G$3:$AC$20,E29) -> 2 | C29: =COUNTIF(G29:AC29,"HR") -> 0 | D29: 3 | E29: 21 | F29: 郭育廷 | G29: K | O29: R | S29: 28 | AA29: R | AE29: =COUNTA(G29:I29,K29:M29,O29:Q29,S29:U29,W29:Y29,AA29:AC29) -> 4 | AF29: =COUNTIF(G29:AC29,"R")+C29 -> 2 | AG29: =A29+B29 -> 2 | AH29: =COUNTIF(G29:AC29,"K") -> 1 | AK29: 35 | AL29: 陳俊欽 | AM29: {=_xlfn.CHOOSECOLS(_xlfn._xlws.FILTER($F$23:$AH$40,$F$23:$F$40=AL29),26,27,28,29)} -> 3 | AN29: 0 | AO29: 5 | AP29: 3
A30: =COUNTIF($G$3:$AC$20,E30) -> 0 | C30: =COUNTIF(G30:AC30,"HR") -> 0 | AE30: =COUNTA(G30:I30,K30:M30,O30:Q30,S30:U30,W30:Y30,AA30:AC30) -> 0 | AF30: =COUNTIF(G30:AC30,"R")+C30 -> 0 | AG30: =A30+B30 -> 0 | AH30: =COUNTIF(G30:AC30,"K") -> 0 | AI30: 觀測員
A31: =COUNTIF($G$3:$AC$20,E31) -> 0 | C31: =COUNTIF(G31:AC31,"HR") -> 0 | AE31: =COUNTA(G31:I31,K31:M31,O31:Q31,S31:U31,W31:Y31,AA31:AC31) -> 0 | AF31: =COUNTIF(G31:AC31,"R")+C31 -> 0 | AG31: =A31+B31 -> 0 | AH31: =COUNTIF(G31:AC31,"K") -> 0 | AI31: 薛沅庭
A32: =COUNTIF($G$3:$AC$20,E32) -> 0 | C32: =COUNTIF(G32:AC32,"HR") -> 0 | D32: 4 | E32: 111 | F32: 林健彰 | G32: R | O32: K | S32: K | AA32: 21 | AE32: =COUNTA(G32:I32,K32:M32,O32:Q32,S32:U32,W32:Y32,AA32:AC32) -> 4 | AF32: =COUNTIF(G32:AC32,"R")+C32 -> 1 | AG32: =A32+B32 -> 0 | AH32: =COUNTIF(G32:AC32,"K") -> 2
A33: =COUNTIF($G$3:$AC$20,E33) -> 0 | C33: =COUNTIF(G33:AC33,"HR") -> 0 | AE33: =COUNTA(G33:I33,K33:M33,O33:Q33,S33:U33,W33:Y33,AA33:AC33) -> 0 | AF33: =COUNTIF(G33:AC33,"R")+C33 -> 0 | AG33: =A33+B33 -> 0 | AH33: =COUNTIF(G33:AC33,"K") -> 0
A34: =COUNTIF($G$3:$AC$20,E34) -> 0 | C34: =COUNTIF(G34:AC34,"HR") -> 0 | AE34: =COUNTA(G34:I34,K34:M34,O34:Q34,S34:U34,W34:Y34,AA34:AC34) -> 0 | AF34: =COUNTIF(G34:AC34,"R")+C34 -> 0 | AG34: =A34+B34 -> 0 | AH34: =COUNTIF(G34:AC34,"K") -> 0 | AI34: 候補球員
A35: =COUNTIF($G$3:$AC$20,E35) -> 1 | C35: =COUNTIF(G35:AC35,"HR") -> 0 | D35: 5 | E35: 88 | F35: 鄭傳逸 | G35: K | O35: R | W35: 23 | AA35: 23 | AE35: =COUNTA(G35:I35,K35:M35,O35:Q35,S35:U35,W35:Y35,AA35:AC35) -> 4 | AF35: =COUNTIF(G35:AC35,"R")+C35 -> 1 | AG35: =A35+B35 -> 1 | AH35: =COUNTIF(G35:AC35,"K") -> 1 | AM35: =SUM(AM23:AM32) -> 23 | AN35: =SUM(AN23:AN32) -> 5 | AO35: =SUM(AO23:AO32) -> 9 | AP35: =SUM(AP23:AP32) -> 13
A36: =COUNTIF($G$3:$AC$20,E36) -> 0 | C36: =COUNTIF(G36:AC36,"HR") -> 0 | AE36: =COUNTA(G36:I36,K36:M36,O36:Q36,S36:U36,W36:Y36,AA36:AC36) -> 0 | AF36: =COUNTIF(G36:AC36,"R")+C36 -> 0 | AG36: =A36+B36 -> 0 | AH36: =COUNTIF(G36:AC36,"K") -> 0
A37: =COUNTIF($G$3:$AC$20,E37) -> 0 | C37: =COUNTIF(G37:AC37,"HR") -> 0 | AE37: =COUNTA(G37:I37,K37:M37,O37:Q37,S37:U37,W37:Y37,AA37:AC37) -> 0 | AF37: =COUNTIF(G37:AC37,"R")+C37 -> 0 | AG37: =A37+B37 -> 0 | AH37: =COUNTIF(G37:AC37,"K") -> 0
A38: =COUNTIF($G$3:$AC$20,E38) -> 5 | C38: =COUNTIF(G38:AC38,"HR") -> 0 | D38: 6 | E38: 35 | F38: 陳俊欽 | K38: K | O38: K | W38: k | AE38: =COUNTA(G38:I38,K38:M38,O38:Q38,S38:U38,W38:Y38,AA38:AC38) -> 3 | AF38: =COUNTIF(G38:AC38,"R")+C38 -> 0 | AG38: =A38+B38 -> 5 | AH38: =COUNTIF(G38:AC38,"K") -> 3
A39: =COUNTIF($G$3:$AC$20,E39) -> 0 | C39: =COUNTIF(G39:AC39,"HR") -> 0 | AE39: =COUNTA(G39:I39,K39:M39,O39:Q39,S39:U39,W39:Y39,AA39:AC39) -> 0 | AF39: =COUNTIF(G39:AC39,"R")+C39 -> 0 | AG39: =A39+B39 -> 0 | AH39: =COUNTIF(G39:AC39,"K") -> 0
A40: =COUNTIF($G$3:$AC$20,E40) -> 0 | C40: =COUNTIF(G40:AC40,"HR") -> 0 | AE40: =COUNTA(G40:I40,K40:M40,O40:Q40,S40:U40,W40:Y40,AA40:AC40) -> 0 | AF40: =COUNTIF(G40:AC40,"R")+C40 -> 0 | AG40: =A40+B40 -> 0 | AH40: =COUNTIF(G40:AC40,"K") -> 0
A41: =SUM(A23:A40) -> 9 | B41: =SUM(B23:B40) -> 0 | C41: =SUM(C23:C40) -> 0 | D41: 得分加總 | G41: =COUNTIF(G23:I40,"R")+(COUNTIF(G23:I40,"HR")*2) -> 2 | K41: =COUNTIF(K23:M40,"R")+(COUNTIF(K23:M40,"HR")*2)+G41 -> 2 | O41: =COUNTIF(O23:Q40,"R")+(COUNTIF(O23:Q40,"HR")*2)+K41 -> 4 | S41: =COUNTIF(S23:U40,"R")+(COUNTIF(S23:U40,"HR")*2)+O41 -> 4 | W41: =COUNTIF(W23:Y40,"R")+(COUNTIF(W23:Y40,"HR")*2)+S41 -> 4 | AA41: =COUNTIF(AA23:AC40,"R")+(COUNTIF(AA23:AC40,"HR")*2)+W41 -> 5 | AE41: =SUM(AE23:AE40) -> 23 | AF41: =SUM(AF23:AF40) -> 5 | AG41: =SUM(AG23:AG40) -> 9 | AH41: =SUM(AH23:AH40) -> 13
S42: K

Sheet G2
B1: 加計分數 | D1: 場次 | H1: G2 | J1: 日期 | L1: 114.08.23 | Q1: =AA21 -> 3 | T1: 新北獵豹 | V1: VS | X1: 雄霸 | AB1: =AA41 -> 15 | AE1: 數據
A2: 撿球 | B2: 接殺 | C2: HR | D2: 先 | E2: 背號 | F2: 球員 | G2: 1 | J2: 投 | K2: 2 | N2: 投 | O2: 3 | R2: 投 | S2: 4 | V2: 投 | W2: 5 | Z2: 投 | AA2: 6 | AD2: 投 | AE2: AB | AF2: R | AG2: Po | AH2: K | AI2: 投/捕/觀
A3: =COUNTIF($G$23:$AC$40,E3) -> 1 | C3: =COUNTIF(G3:AC3,"HR") -> 0 | D3: 1 | E3: 25 | F3: 洪韶壕 | G3: R | L3: 9 | T3: 9 | AA3: 9 | AE3: =COUNTA(G3:I3,K3:M3,O3:Q3,S3:U3,W3:Y3,AA3:AC3) -> 4 | AF3: =COUNTIF(G3:AC3,"R")+(COUNTIF(G3:AC3,"HR")*2) -> 1 | AG3: =A3+B3 -> 1 | AH3: =COUNTIF(G3:AC3,"K") -> 0 | AI3: 投手 | AK3: 背號 | AL3: 球員 | AM3: AB | AN3: R | AO3: Po | AP3: K
A4: =COUNTIF($G$23:$AC$40,E4) -> 0 | C4: =COUNTIF(G4:AC4,"HR") -> 0 | AE4: =COUNTA(G4:I4,K4:M4,O4:Q4,S4:U4,W4:Y4,AA4:AC4) -> 0 | AF4: =COUNTIF(G4:AC4,"R")+(COUNTIF(G4:AC4,"HR")*2) -> 0 | AG4: =A4+B4 -> 0 | AH4: =COUNTIF(G4:AC4,"K") -> 0 | AI4: 游鎮維 | AK4: 25 | AL4: 洪韶壕 | AM4: {=_xlfn.CHOOSECOLS(_xlfn._xlws.FILTER($F$3:$AH$20,$F$3:$F$20=AL4),26,27,28,29)} -> #NAME? | AN4: #NAME? | AO4: #NAME? | AP4: #NAME?
A5: =COUNTIF($G$23:$AC$40,E5) -> 0 | C5: =COUNTIF(G5:AC5,"HR") -> 0 | AE5: =COUNTA(G5:I5,K5:M5,O5:Q5,S5:U5,W5:Y5,AA5:AC5) -> 0 | AF5: =COUNTIF(G5:AC5,"R")+(COUNTIF(G5:AC5,"HR")*2) -> 0 | AG5: =A5+B5 -> 0 | AH5: =COUNTIF(G5:AC5,"K") -> 0 | AK5: 15 | AL5: 蔡宗豪 | AM5: 3 | AN5: 1 | AO5: 0 | AP5: 1
A6: =COUNTIF($G$23:$AC$40,E6) -> 0 | C6: =COUNTIF(G6:AC6,"HR") -> 0 | D6: 2 | E6: 15 | F6: 蔡宗豪 | G6: R | L6: 9 | AE6: =COUNTA(G6:I6,K6:M6,O6:Q6,S6:U6,W6:Y6,AA6:AC6) -> 2 | AF6: =COUNTIF(G6:AC6,"R")+(COUNTIF(G6:AC6,"HR")*2) -> 1 | AG6: =A6+B6 -> 0 | AH6: =COUNTIF(G6:AC6,"K") -> 0 | AI6: 捕手 | AK6: 6 | AL6: 李秀美 | AM6: {=_xlfn.CHOOSECOLS(_xlfn._xlws.FILTER($F$3:$AH$20,$F$3:$F$20=AL6),26,27,28,29)} -> #NAME? | AN6: #NAME? | AO6: #NAME? | AP6: #NAME?
A7: =COUNTIF($G$23:$AC$40,E7) -> 0 | C7: =COUNTIF(G7:AC7,"HR") -> 0 | E7: 6 | F7: 李秀美 | T7: K | AA7: K | AE7: =COUNTA(G7:I7,K7:M7,O7:Q7,S7:U7,W7:Y7,AA7:AC7) -> 2 | AF7: =COUNTIF(G7:AC7,"R")+(COUNTIF(G7:AC7,"HR")*2) -> 0 | AG7: =A7+B7 -> 0 | AH7: =COUNTIF(G7:AC7,"K") -> 2 | AI7: 江言鎧 | AK7: 28 | AL7: 陳傑閔 | AM7: {=_xlfn.CHOOSECOLS(_xlfn._xlws.FILTER($F$3:$AH$20,$F$3:$F$20=AL7),26,27,28,29)} -> #NAME? | AN7: #NAME? | AO7: #NAME? | AP7: #NAME?
A8: =COUNTIF($G$23:$AC$40,E8) -> 0 | C8: =COUNTIF(G8:AC8,"HR") -> 0 | AE8: =COUNTA(G8:I8,K8:M8,O8:Q8,S8:U8,W8:Y8,AA8:AC8) -> 0 | AF8: =COUNTIF(G8:AC8,"R")+(COUNTIF(G8:AC8,"HR")*2) -> 0 | AG8: =A8+B8 -> 0 | AH8: =COUNTIF(G8:AC8,"K") -> 0 | AK8: O | AL8: 古國偉 | AM8: {=_xlfn.CHOOSECOLS(_xlfn._xlws.FILTER($F$3:$AH$20,$F$3:$F$20=AL8),26,27,28,29)} -> #NAME? | AN8: #NAME? | AO8: #NAME? | AP8: #NAME?
A9: =COUNTIF($G$23:$AC$40,E9) -> 2 | C9: =COUNTIF(G9:AC9,"HR") -> 0 | D9: 3 | E9: 28 | F9: 陳傑閔 | G9: K | O9: 9 | AE9: =COUNTA(G9:I9,K9:M9,O9:Q9,S9:U9,W9:Y9,AA9:AC9) -> 2 | AF9: =COUNTIF(G9:AC9,"R")+(COUNTIF(G9:AC9,"HR")*2) -> 0 | AG9: =A9+B9 -> 2 | AH9: =COUNTIF(G9:AC9,"K") -> 1 | AK9: 39 | AL9: 饒賀凱 | AM9: {=_xlfn.CHOOSECOLS(_xlfn._xlws.FILTER($F$3:$AH$20,$F$3:$F$20=AL9),26,27,28,29)} -> #NAME? | AN9: #NAME? | AO9: #NAME? | AP9: #NAME?
A10: =COUNTIF($G$23:$AC$40,E10) -> 0 | C10: =COUNTIF(G10:AC10,"HR") -> 0 | E10: O | F10: 古國偉 | W10: R | AA10: K | AE10: =COUNTA(G10:I10,K10:M10,O10:Q10,S10:U10,W10:Y10,AA10:AC10) -> 2 | AF10: =COUNTIF(G10:AC10,"R")+(COUNTIF(G10:AC10,"HR")*2) -> 1 | AG10: =A10+B10 -> 0 | AH10: =COUNTIF(G10:AC10,"K") -> 1 | AI10: 觀測員 | AK10: 66 | AL10: 陳韻婷 | AM10: {=_xlfn.CHOOSECOLS(_xlfn._xlws.FILTER($F$3:$AH$20,$F$3:$F$20=AL10),26,27,28,29)} -> #NAME? | AN10: #NAME? | AO10: #NAME? | AP10: #NAME?
A11: =COUNTIF($G$23:$AC$40,E11) -> 0 | C11: =COUNTIF(G11:AC11,"HR") -> 0 | AE11: =COUNTA(G11:I11,K11:M11,O11:Q11,S11:U11,W11:Y11,AA11:AC11) -> 0 | AF11: =COUNTIF(G11:AC11,"R")+(COUNTIF(G11:AC11,"HR")*2) -> 0 | AG11: =A11+B11 -> 0 | AH11: =COUNTIF(G11:AC11,"K") -> 0 | AI11: 游鎮維 | AK11: 29 | AL11: 張玥琳 | AM11: {=_xlfn.CHOOSECOLS(_xlfn._xlws.FILTER($F$3:$AH$20,$F$3:$F$20=AL11),26,27,28,29)} -> #NAME? | AN11: #NAME? | AO11: #NAME? | AP11: #NAME?
A12: =COUNTIF($G$23:$AC$40,E12) -> 0 | C12: =COUNTIF(G12:AC12,"HR") -> 0 | D12: 4 | E12: 39 | F12: 饒賀凱 | G12: K | O12: 26 | W12: K | AE12: =COUNTA(G12:I12,K12:M12,O12:Q12,S12:U12,W12:Y12,AA12:AC12) -> 3 | AF12: =COUNTIF(G12:AC12,"R")+(COUNTIF(G12:AC12,"HR")*2) -> 0 | AG12: =A12+B12 -> 0 | AH12: =COUNTIF(G12:AC12,"K") -> 2
A13: =COUNTIF($G$23:$AC$40,E13) -> 0 | C13: =COUNTIF(G13:AC13,"HR") -> 0 | AE13: =COUNTA(G13:I13,K13:M13,O13:Q13,S13:U13,W13:Y13,AA13:AC13) -> 0 | AF13: =COUNTIF(G13:AC13,"R")+(COUNTIF(G13:AC13,"HR")*2) -> 0 | AG13: =A13+B13 -> 0 | AH13: =COUNTIF(G13:AC13,"K") -> 0
A14: =COUNTIF($G$23:$AC$40,E14) -> 0 | C14: =COUNTIF(G14:AC14,"HR") -> 0 | AE14: =COUNTA(G14:I14,K14:M14,O14:Q14,S14:U14,W14:Y14,AA14:AC14) -> 0 | AF14: =COUNTIF(G14:AC14,"R")+(COUNTIF(G14:AC14,"HR")*2) -> 0 | AG14: =A14+B14 -> 0 | AH14: =COUNTIF(G14:AC14,"K") -> 0 | AI14: 候補球員
A15: =COUNTIF($G$23:$AC$40,E15) -> 0 | C15: =COUNTIF(G15:AC15,"HR") -> 0 | D15: 5 | E15: 66 | F15: 陳韻婷 | G15: K | O15: K | AE15: =COUNTA(G15:I15,K15:M15,O15:Q15,S15:U15,W15:Y15,AA15:AC15) -> 2 | AF15: =COUNTIF(G15:AC15,"R")+(COUNTIF(G15:AC15,"HR")*2) -> 0 | AG15: =A15+B15 -> 0 | AH15: =COUNTIF(G15:AC15,"K") -> 2
A16: =COUNTIF($G$23:$AC$40,E16) -> 0 | C16: =COUNTIF(G16:AC16,"HR") -> 0 | E16: 15 | F16: 蔡宗豪 | W16: K | AE16: =COUNTA(G16:I16,K16:M16,O16:Q16,S16:U16,W16:Y16,AA16:AC16) -> 1 | AF16: =COUNTIF(G16:AC16,"R")+(COUNTIF(G16:AC16,"HR")*2) -> 0 | AG16: =A16+B16 -> 0 | AH16: =COUNTIF(G16:AC16,"K") -> 1 | AM16: =SUM(AM4:AM15) -> #NAME? | AN16: =SUM(AN4:AN15) -> #NAME? | AO16: =SUM(AO4:AO15) -> #NAME? | AP16: =SUM(AP4:AP15) -> #NAME?
A17: =COUNTIF($G$23:$AC$40,E17) -> 0 | C17: =COUNTIF(G17:AC17,"HR") -> 0 | AE17: =COUNTA(G17:I17,K17:M17,O17:Q17,S17:U17,W17:Y17,AA17:AC17) -> 0 | AF17: =COUNTIF(G17:AC17,"R")+(COUNTIF(G17:AC17,"HR")*2) -> 0 | AG17: =A17+B17 -> 0 | AH17: =COUNTIF(G17:AC17,"K") -> 0
A18: =COUNTIF($G$23:$AC$40,E18) -> 1 | C18: =COUNTIF(G18:AC18,"HR") -> 0 | D18: 6 | E18: 29 | F18: 張玥琳 | K18: 66 | S18: K | W18: K | AE18: =COUNTA(G18:I18,K18:M18,O18:Q18,S18:U18,W18:Y18,AA18:AC18) -> 3 | AF18: =COUNTIF(G18:AC18,"R")+(COUNTIF(G18:AC18,"HR")*2) -> 0 | AG18: =A18+B18 -> 1 | AH18: =COUNTIF(G18:AC18,"K") -> 2
A19: =COUNTIF($G$23:$AC$40,E19) -> 0 | C19: =COUNTIF(G19:AC19,"HR") -> 0 | AE19: =COUNTA(G19:I19,K19:M19,O19:Q19,S19:U19,W19:Y19,AA19:AC19) -> 0 | AF19: =COUNTIF(G19:AC19,"R")+(COUNTIF(G19:AC19,"HR")*2) -> 0 | AG19: =A19+B19 -> 0 | AH19: =COUNTIF(G19:AC19,"K") -> 0
A20: =COUNTIF($G$23:$AC$40,E20) -> 0 | C20: =COUNTIF(G20:AC20,"HR") -> 0 | AE20: =COUNTA(G20:I20,K20:M20,O20:Q20,S20:U20,W20:Y20,AA20:AC20) -> 0 | AF20: =COUNTIF(G20:AC20,"R")+(COUNTIF(G20:AC20,"HR")*2) -> 0 | AG20: =A20+B20 -> 0 | AH20: =COUNTIF(G20:AC20,"K") -> 0
A21: =SUM(A3:A20) -> 4 | B21: =SUM(B3:B20) -> 0 | C21: =SUM(C3:C20) -> 0 | D21: 得分加總 | G21: =COUNTIF(G3:I20,"R")+(COUNTIF(G3:I20,"HR")*2) -> 2 | K21: =COUNTIF(K3:M20,"R")+(COUNTIF(K3:M20,"HR")*2)+G21 -> 2 | O21: =COUNTIF(O3:Q20,"R")+(COUNTIF(O3:Q20,"HR")*2)+K21 -> 2 | S21: =COUNTIF(S3:U20,"R")+(COUNTIF(S3:U20,"HR")*2)+O21 -> 2 | W21: =COUNTIF(W3:Y20,"R")+(COUNTIF(W3:Y20,"HR")*2)+S21 -> 3 | AA21: =COUNTIF(AA3:AC20,"R")+(COUNTIF(AA3:AC20,"HR")*2)+W21 -> 3 | AE21: =SUM(AE3:AE20) -> 21 | AF21: =SUM(AF3:AF20) -> 3 | AG21: =SUM(AG3:AG20) -> 4 | AH21: =SUM(AH3:AH20) -> 11
A22: 撿球 | B22: 接殺 | C22: HR | D22: 後 | E22: 背號 | F22: 球員 | G22: 1 | J22: 投 | K22: 2 | N22: 投 | O22: 3 | R22: 投 | S22: 4 | V22: 投 | W22: 5 | Z22: 投 | AA22: 6 | AD22: 投 | AE22: AB | AF22: R | AG22: Po | AH22: K | AI22: 投/捕/觀
A23: =COUNTIF($G$3:$AC$20,E23) -> 1 | C23: =COUNTIF(G23:AC23,"HR") -> 0 | D23: 1 | E23: 26 | F23: 陳建閔 | G23: R | L23: R | O23: K | S23: R | W23: R | AE23: =COUNTA(G23:I23,K23:M23,O23:Q23,S23:U23,W23:Y23,AA23:AC23) -> 5 | AF23: =COUNTIF(G23:AC23,"R")+C23 -> 4 | AG23: =A23+B23 -> 1 | AH23: =COUNTIF(G23:AC23,"K") -> 1 | AI23: 投手 | AK23: 26 | AL23: 陳建閔 | AM23: {=_xlfn.CHOOSECOLS(_xlfn._xlws.FILTER($F$23:$AH$40,$F$23:$F$40=AL23),26,27,28,29)} -> #NAME? | AN23: #NAME? | AO23: #NAME? | AP23: #NAME?
A24: =COUNTIF($G$3:$AC$20,E24) -> 0 | C24: =COUNTIF(G24:AC24,"HR") -> 0 | AE24: =COUNTA(G24:I24,K24:M24,O24:Q24,S24:U24,W24:Y24,AA24:AC24) -> 0 | AF24: =COUNTIF(G24:AC24,"R")+C24 -> 0 | AG24: =A24+B24 -> 0 | AH24: =COUNTIF(G24:AC24,"K") -> 0 | AI24: 宋展宇 | AK24: 3 | AL24: 何昌翰 | AM24: {=_xlfn.CHOOSECOLS(_xlfn._xlws.FILTER($F$23:$AH$40,$F$23:$F$40=AL24),26,27,28,29)} -> #NAME? | AN24: #NAME? | AO24: #NAME? | AP24: #NAME?
A25: =COUNTIF($G$3:$AC$20,E25) -> 0 | C25: =COUNTIF(G25:AC25,"HR") -> 0 | AE25: =COUNTA(G25:I25,K25:M25,O25:Q25,S25:U25,W25:Y25,AA25:AC25) -> 0 | AF25: =COUNTIF(G25:AC25,"R")+C25 -> 0 | AG25: =A25+B25 -> 0 | AH25: =COUNTIF(G25:AC25,"K") -> 0 | AK25: 9 | AL25: 陳宥憲 | AM25: {=_xlfn.CHOOSECOLS(_xlfn._xlws.FILTER($F$23:$AH$40,$F$23:$F$40=AL25),26,27,28,29)} -> #NAME? | AN25: #NAME? | AO25: #NAME? | AP25: #NAME?
A26: =COUNTIF($G$3:$AC$20,E26) -> 0 | C26: =COUNTIF(G26:AC26,"HR") -> 0 | D26: 2 | E26: 3 | F26: 何昌翰 | G26: K | L26: R | O26: R | S26: R | W26: 28 | AE26: =COUNTA(G26:I26,K26:M26,O26:Q26,S26:U26,W26:Y26,AA26:AC26) -> 5 | AF26: =COUNTIF(G26:AC26,"R")+C26 -> 3 | AG26: =A26+B26 -> 0 | AH26: =COUNTIF(G26:AC26,"K") -> 1 | AI26: 捕手 | AK26: 66 | AL26: 陳玠樸 | AM26: {=_xlfn.CHOOSECOLS(_xlfn._xlws.FILTER($F$23:$AH$40,$F$23:$F$40=AL26),26,27,28,29)} -> #NAME? | AN26: #NAME? | AO26: #NAME? | AP26: #NAME?
A27: =COUNTIF($G$3:$AC$20,E27) -> 0 | C27: =COUNTIF(G27:AC27,"HR") -> 0 | AE27: =COUNTA(G27:I27,K27:M27,O27:Q27,S27:U27,W27:Y27,AA27:AC27) -> 0 | AF27: =COUNTIF(G27:AC27,"R")+C27 -> 0 | AG27: =A27+B27 -> 0 | AH27: =COUNTIF(G27:AC27,"K") -> 0 | AI27: 林宜宏 | AK27: 14 | AL27: 許戎忠 | AM27: {=_xlfn.CHOOSECOLS(_xlfn._xlws.FILTER($F$23:$AH$40,$F$23:$F$40=AL27),26,27,28,29)} -> #NAME? | AN27: #NAME? | AO27: #NAME? | AP27: #NAME?
A28: =COUNTIF($G$3:$AC$20,E28) -> 0 | C28: =COUNTIF(G28:AC28,"HR") -> 0 | AE28: =COUNTA(G28:I28,K28:M28,O28:Q28,S28:U28,W28:Y28,AA28:AC28) -> 0 | AF28: =COUNTIF(G28:AC28,"R")+C28 -> 0 | AG28: =A28+B28 -> 0 | AH28: =COUNTIF(G28:AC28,"K") -> 0 | AK28: 83 | AL28: 王兆熙 | AM28: {=_xlfn.CHOOSECOLS(_xlfn._xlws.FILTER($F$23:$AH$40,$F$23:$F$40=AL28),26,27,28,29)} -> #NAME? | AN28: #NAME? | AO28: #NAME? | AP28: #NAME?
A29: =COUNTIF($G$3:$AC$20,E29) -> 5 | C29: =COUNTIF(G29:AC29,"HR") -> 0 | D29: 3 | E29: 9 | F29: 陳宥憲 | G29: R | L29: R | O29: R | S29: R | W29: R | AE29: =COUNTA(G29:I29,K29:M29,O29:Q29,S29:U29,W29:Y29,AA29:AC29) -> 5 | AF29: =COUNTIF(G29:AC29,"R")+C29 -> 5 | AG29: =A29+B29 -> 5 | AH29: =COUNTIF(G29:AC29,"K") -> 0 | AK29: 11 | AL29: 李庭旭 | AM29: {=_xlfn.CHOOSECOLS(_xlfn._xlws.FILTER($F$23:$AH$40,$F$23:$F$40=AL29),26,27,28,29)} -> #NAME? | AN29: #NAME? | AO29: #NAME? | AP29: #NAME?
A30: =COUNTIF($G$3:$AC$20,E30) -> 0 | C30: =COUNTIF(G30:AC30,"HR") -> 0 | AE30: =COUNTA(G30:I30,K30:M30,O30:Q30,S30:U30,W30:Y30,AA30:AC30) -> 0 | AF30: =COUNTIF(G30:AC30,"R")+C30 -> 0 | AG30: =A30+B30 -> 0 | AH30: =COUNTIF(G30:AC30,"K") -> 0 | AI30: 觀測員
A31: =COUNTIF($G$3:$AC$20,E31) -> 0 | C31: =COUNTIF(G31:AC31,"HR") -> 0 | AE31: =COUNTA(G31:I31,K31:M31,O31:Q31,S31:U31,W31:Y31,AA31:AC31) -> 0 | AF31: =COUNTIF(G31:AC31,"R")+C31 -> 0 | AG31: =A31+B31 -> 0 | AH31: =COUNTIF(G31:AC31,"K") -> 0 | AI31: 林文耀
A32: =COUNTIF($G$3:$AC$20,E32) -> 1 | C32: =COUNTIF(G32:AC32,"HR") -> 0 | D32: 4 | E32: 66 | F32: 陳玠樸 | G32: 25 | L32: R | O32: K | S32: K | W32: R | AE32: =COUNTA(G32:I32,K32:M32,O32:Q32,S32:U32,W32:Y32,AA32:AC32) -> 5 | AF32: =COUNTIF(G32:AC32,"R")+C32 -> 2 | AG32: =A32+B32 -> 1 | AH32: =COUNTIF(G32:AC32,"K") -> 2
A33: =COUNTIF($G$3:$AC$20,E33) -> 0 | C33: =COUNTIF(G33:AC33,"HR") -> 0 | AE33: =COUNTA(G33:I33,K33:M33,O33:Q33,S33:U33,W33:Y33,AA33:AC33) -> 0 | AF33: =COUNTIF(G33:AC33,"R")+C33 -> 0 | AG33: =A33+B33 -> 0 | AH33: =COUNTIF(G33:AC33,"K") -> 0
A34: =COUNTIF($G$3:$AC$20,E34) -> 0 | C34: =COUNTIF(G34:AC34,"HR") -> 0 | AE34: =COUNTA(G34:I34,K34:M34,O34:Q34,S34:U34,W34:Y34,AA34:AC34) -> 0 | AF34: =COUNTIF(G34:AC34,"R")+C34 -> 0 | AG34: =A34+B34 -> 0 | AH34: =COUNTIF(G34:AC34,"K") -> 0 | AI34: 候補球員
A35: =COUNTIF($G$3:$AC$20,E35) -> 0 | C35: =COUNTIF(G35:AC35,"HR") -> 0 | D35: 5 | E35: 14 | F35: 許戎忠 | G35: K | L35: K | AE35: =COUNTA(G35:I35,K35:M35,O35:Q35,S35:U35,W35:Y35,AA35:AC35) -> 2 | AF35: =COUNTIF(G35:AC35,"R")+C35 -> 0 | AG35: =A35+B35 -> 0 | AH35: =COUNTIF(G35:AC35,"K") -> 2 | AM35: =SUM(AM23:AM32) -> #NAME? | AN35: =SUM(AN23:AN32) -> #NAME? | AO35: =SUM(AO23:AO32) -> #NAME? | AP35: =SUM(AP23:AP32) -> #NAME?
A36: =COUNTIF($G$3:$AC$20,E36) -> 0 | C36: =COUNTIF(G36:AC36,"HR") -> 0 | E36: 83 | F36: 王兆熙 | O36: R | S36: K | W36: rin | AE36: =COUNTA(G36:I36,K36:M36,O36:Q36,S36:U36,W36:Y36,AA36:AC36) -> 3 | AF36: =COUNTIF(G36:AC36,"R")+C36 -> 1 | AG36: =A36+B36 -> 0 | AH36: =COUNTIF(G36:AC36,"K") -> 1
A37: =COUNTIF($G$3:$AC$20,E37) -> 0 | C37: =COUNTIF(G37:AC37,"HR") -> 0 | AE37: =COUNTA(G37:I37,K37:M37,O37:Q37,S37:U37,W37:Y37,AA37:AC37) -> 0 | AF37: =COUNTIF(G37:AC37,"R")+C37 -> 0 | AG37: =A37+B37 -> 0 | AH37: =COUNTIF(G37:AC37,"K") -> 0
A38: =COUNTIF($G$3:$AC$20,E38) -> 0 | C38: =COUNTIF(G38:AC38,"HR") -> 0 | D38: 6 | E38: 11 | F38: 李庭旭 | K38: K | L38: 29 | O38: K | S38: K | W38: 28 | AE38: =COUNTA(G38:I38,K38:M38,O38:Q38,S38:U38,W38:Y38,AA38:AC38) -> 5 | AF38: =COUNTIF(G38:AC38,"R")+C38 -> 0 | AG38: =A38+B38 -> 0 | AH38: =COUNTIF(G38:AC38,"K") -> 3
A39: =COUNTIF($G$3:$AC$20,E39) -> 0 | C39: =COUNTIF(G39:AC39,"HR") -> 0 | AE39: =COUNTA(G39:I39,K39:M39,O39:Q39,S39:U39,W39:Y39,AA39:AC39) -> 0 | AF39: =COUNTIF(G39:AC39,"R")+C39 -> 0 | AG39: =A39+B39 -> 0 | AH39: =COUNTIF(G39:AC39,"K") -> 0
A40: =COUNTIF($G$3:$AC$20,E40) -> 0 | C40: =COUNTIF(G40:AC40,"HR") -> 0 | AE40: =COUNTA(G40:I40,K40:M40,O40:Q40,S40:U40,W40:Y40,AA40:AC40) -> 0 | AF40: =COUNTIF(G40:AC40,"R")+C40 -> 0 | AG40: =A40+B40 -> 0 | AH40: =COUNTIF(G40:AC40,"K") -> 0
A41: =SUM(A23:A40) -> 7 | B41: =SUM(B23:B40) -> 0 | C41: =SUM(C23:C40) -> 0 | D41: 得分加總 | G41: =COUNTIF(G23:I40,"R")+(COUNTIF(G23:I40,"HR")*2) -> 2 | K41: =COUNTIF(K23:M40,"R")+(COUNTIF(K23:M40,"HR")*2)+G41 -> 6 | O41: =COUNTIF(O23:Q40,"R")+(COUNTIF(O23:Q40,"HR")*2)+K41 -> 9 | S41: =COUNTIF(S23:U40,"R")+(COUNTIF(S23:U40,"HR")*2)+O41 -> 12 | W41: =COUNTIF(W23:Y40,"R")+(COUNTIF(W23:Y40,"HR")*2)+S41 -> 15 | AA41: =COUNTIF(AA23:AC40,"R")+(COUNTIF(AA23:AC40,"HR")*2)+W41 -> 15 | AE41: =SUM(AE23:AE40) -> 30 | AF41: =SUM(AF23:AF40) -> 15 | AG41: =SUM(AG23:AG40) -> 7 | AH41: =SUM(AH23:AH40) -> 10

Sheet G3
B1: 加計分數 | D1: 場次 | H1: G3 | J1: 日期 | L1: 114.08.23 | Q1: =AA21 -> 2 | T1: 雄霸 | V1: VS | X1: 夜魔俠 | AB1: =AA41 -> 4 | AE1: 數據
A2: 撿球 | B2: 接殺 | C2: HR | D2: 先 | E2: 背號 | F2: 球員 | G2: 1 | J2: 投 | K2: 2 | N2: 投 | O2: 3 | R2: 投 | S2: 4 | V2: 投 | W2: 5 | Z2: 投 | AA2: 6 | AD2: 投 | AE2: AB | AF2: R | AG2: Po | AH2: K | AI2: 投/捕/觀
A3: =COUNTIF($G$23:$AC$40,E3) -> 0 | C3: =COUNTIF(G3:AC3,"HR") -> 0 | D3: 1 | E3: 26 | F3: 陳建閔 | G3: K | O3: K | T3: 28 | AB3: K | AE3: =COUNTA(G3:I3,K3:M3,O3:Q3,S3:U3,W3:Y3,AA3:AC3) -> 4 | AF3: =COUNTIF(G3:AC3,"R")+(COUNTIF(G3:AC3,"HR")*2) -> 0 | AG3: =A3+B3 -> 0 | AH3: =COUNTIF(G3:AC3,"K") -> 3 | AI3: 投手 | AK3: 背號 | AL3: 球員 | AM3: AB | AN3: R | AO3: Po | AP3: K
A4: =COUNTIF($G$23:$AC$40,E4) -> 0 | C4: =COUNTIF(G4:AC4,"HR") -> 0 | AE4: =COUNTA(G4:I4,K4:M4,O4:Q4,S4:U4,W4:Y4,AA4:AC4) -> 0 | AF4: =COUNTIF(G4:AC4,"R")+(COUNTIF(G4:AC4,"HR")*2) -> 0 | AG4: =A4+B4 -> 0 | AH4: =COUNTIF(G4:AC4,"K") -> 0 | AI4: 林文耀 | AK4: 26 | AL4: 陳建閔 | AM4: {=_xlfn.CHOOSECOLS(_xlfn._xlws.FILTER($F$3:$AH$20,$F$3:$F$20=AL4),26,27,28,29)} -> 4 | AN4: 0 | AO4: 0 | AP4: 3
A5: =COUNTIF($G$23:$AC$40,E5) -> 0 | C5: =COUNTIF(G5:AC5,"HR") -> 0 | AE5: =COUNTA(G5:I5,K5:M5,O5:Q5,S5:U5,W5:Y5,AA5:AC5) -> 0 | AF5: =COUNTIF(G5:AC5,"R")+(COUNTIF(G5:AC5,"HR")*2) -> 0 | AG5: =A5+B5 -> 0 | AH5: =COUNTIF(G5:AC5,"K") -> 0 | AK5: 99 | AL5: 何昌翰 | AM5: {=_xlfn.CHOOSECOLS(_xlfn._xlws.FILTER($F$3:$AH$20,$F$3:$F$20=AL5),26,27,28,29)} -> 4 | AN5: 0 | AO5: 0 | AP5: 4
A6: =COUNTIF($G$23:$AC$40,E6) -> 0 | C6: =COUNTIF(G6:AC6,"HR") -> 0 | D6: 2 | E6: 99 | F6: 何昌翰 | G6: K | O6: K | W6: K | AB6: K | AE6: =COUNTA(G6:I6,K6:M6,O6:Q6,S6:U6,W6:Y6,AA6:AC6) -> 4 | AF6: =COUNTIF(G6:AC6,"R")+(COUNTIF(G6:AC6,"HR")*2) -> 0 | AG6: =A6+B6 -> 0 | AH6: =COUNTIF(G6:AC6,"K") -> 4 | AI6: 捕手 | AK6: 9 | AL6: 陳宥憲 | AM6: {=_xlfn.CHOOSECOLS(_xlfn._xlws.FILTER($F$3:$AH$20,$F$3:$F$20=AL6),26,27,28,29)} -> 3 | AN6: 2 | AO6: 10 | AP6: 1
A7: =COUNTIF($G$23:$AC$40,E7) -> 0 | C7: =COUNTIF(G7:AC7,"HR") -> 0 | AE7: =COUNTA(G7:I7,K7:M7,O7:Q7,S7:U7,W7:Y7,AA7:AC7) -> 0 | AF7: =COUNTIF(G7:AC7,"R")+(COUNTIF(G7:AC7,"HR")*2) -> 0 | AG7: =A7+B7 -> 0 | AH7: =COUNTIF(G7:AC7,"K") -> 0 | AI7: 林宜宏 | AK7: 14 | AL7: 許戎忠 | AM7: {=_xlfn.CHOOSECOLS(_xlfn._xlws.FILTER($F$3:$AH$20,$F$3:$F$20=AL7),26,27,28,29)} -> 3 | AN7: 0 | AO7: 0 | AP7: 2
A8: =COUNTIF($G$23:$AC$40,E8) -> 0 | C8: =COUNTIF(G8:AC8,"HR") -> 0 | AE8: =COUNTA(G8:I8,K8:M8,O8:Q8,S8:U8,W8:Y8,AA8:AC8) -> 0 | AF8: =COUNTIF(G8:AC8,"R")+(COUNTIF(G8:AC8,"HR")*2) -> 0 | AG8: =A8+B8 -> 0 | AH8: =COUNTIF(G8:AC8,"K") -> 0 | AK8: 11 | AL8: 李庭旭 | AM8: {=_xlfn.CHOOSECOLS(_xlfn._xlws.FILTER($F$3:$AH$20,$F$3:$F$20=AL8),26,27,28,29)} -> 2 | AN8: 0 | AO8: 0 | AP8: 2
A9: =COUNTIF($G$23:$AC$40,E9) -> 8 | B9: 2 | C9: =COUNTIF(G9:AC9,"HR") -> 0 | D9: 3 | E9: 9 | F9: 陳宥憲 | G9: K | O9: R | W9: R | AE9: =COUNTA(G9:I9,K9:M9,O9:Q9,S9:U9,W9:Y9,AA9:AC9) -> 3 | AF9: =COUNTIF(G9:AC9,"R")+(COUNTIF(G9:AC9,"HR")*2) -> 2 | AG9: =A9+B9 -> 10 | AH9: =COUNTIF(G9:AC9,"K") -> 1 | AK9: 66 | AL9: 陳玠樸 | AM9: {=_xlfn.CHOOSECOLS(_xlfn._xlws.FILTER($F$3:$AH$20,$F$3:$F$20=AL9),26,27,28,29)} -> 1 | AN9: 0 | AO9: 0 | AP9: 0
A10: =COUNTIF($G$23:$AC$40,E10) -> 0 | C10: =COUNTIF(G10:AC10,"HR") -> 0 | AE10: =COUNTA(G10:I10,K10:M10,O10:Q10,S10:U10,W10:Y10,AA10:AC10) -> 0 | AF10: =COUNTIF(G10:AC10,"R")+(COUNTIF(G10:AC10,"HR")*2) -> 0 | AG10: =A10+B10 -> 0 | AH10: =COUNTIF(G10:AC10,"K") -> 0 | AI10: 觀測員 | AK10: 83 | AL10: 王兆熙 | AM10: {=_xlfn.CHOOSECOLS(_xlfn._xlws.FILTER($F$3:$AH$20,$F$3:$F$20=AL10),26,27,28,29)} -> 3 | AN10: 0 | AO10: 0 | AP10: 1
A11: =COUNTIF($G$23:$AC$40,E11) -> 0 | C11: =COUNTIF(G11:AC11,"HR") -> 0 | AE11: =COUNTA(G11:I11,K11:M11,O11:Q11,S11:U11,W11:Y11,AA11:AC11) -> 0 | AF11: =COUNTIF(G11:AC11,"R")+(COUNTIF(G11:AC11,"HR")*2) -> 0 | AG11: =A11+B11 -> 0 | AH11: =COUNTIF(G11:AC11,"K") -> 0 | AI11: 宋展宇
A12: =COUNTIF($G$23:$AC$40,E12) -> 0 | C12: =COUNTIF(G12:AC12,"HR") -> 0 | D12: 4 | E12: 14 | F12: 許戎忠 | K12: K | O12: 22 | W12: K | AE12: =COUNTA(G12:I12,K12:M12,O12:Q12,S12:U12,W12:Y12,AA12:AC12) -> 3 | AF12: =COUNTIF(G12:AC12,"R")+(COUNTIF(G12:AC12,"HR")*2) -> 0 | AG12: =A12+B12 -> 0 | AH12: =COUNTIF(G12:AC12,"K") -> 2
A13: =COUNTIF($G$23:$AC$40,E13) -> 0 | C13: =COUNTIF(G13:AC13,"HR") -> 0 | AE13: =COUNTA(G13:I13,K13:M13,O13:Q13,S13:U13,W13:Y13,AA13:AC13) -> 0 | AF13: =COUNTIF(G13:AC13,"R")+(COUNTIF(G13:AC13,"HR")*2) -> 0 | AG13: =A13+B13 -> 0 | AH13: =COUNTIF(G13:AC13,"K") -> 0
A14: =COUNTIF($G$23:$AC$40,E14) -> 0 | C14: =COUNTIF(G14:AC14,"HR") -> 0 | AE14: =COUNTA(G14:I14,K14:M14,O14:Q14,S14:U14,W14:Y14,AA14:AC14) -> 0 | AF14: =COUNTIF(G14:AC14,"R")+(COUNTIF(G14:AC14,"HR")*2) -> 0 | AG14: =A14+B14 -> 0 | AH14: =COUNTIF(G14:AC14,"K") -> 0 | AI14: 候補球員
A15: =COUNTIF($G$23:$AC$40,E15) -> 0 | C15: =COUNTIF(G15:AC15,"HR") -> 0 | D15: 5 | E15: 11 | F15: 李庭旭 | K15: K | S15: K | AE15: =COUNTA(G15:I15,K15:M15,O15:Q15,S15:U15,W15:Y15,AA15:AC15) -> 2 | AF15: =COUNTIF(G15:AC15,"R")+(COUNTIF(G15:AC15,"HR")*2) -> 0 | AG15: =A15+B15 -> 0 | AH15: =COUNTIF(G15:AC15,"K") -> 2
A16: =COUNTIF($G$23:$AC$40,E16) -> 0 | C16: =COUNTIF(G16:AC16,"HR") -> 0 | E16: 66 | F16: 陳玠樸 | W16: 39 | AE16: =COUNTA(G16:I16,K16:M16,O16:Q16,S16:U16,W16:Y16,AA16:AC16) -> 1 | AF16: =COUNTIF(G16:AC16,"R")+(COUNTIF(G16:AC16,"HR")*2) -> 0 | AG16: =A16+B16 -> 0 | AH16: =COUNTIF(G16:AC16,"K") -> 0 | AM16: =SUM(AM4:AM10) -> 20 | AN16: =SUM(AN4:AN10) -> 2 | AO16: =SUM(AO4:AO10) -> 10 | AP16: =SUM(AP4:AP10) -> 13
A17: =COUNTIF($G$23:$AC$40,E17) -> 0 | C17: =COUNTIF(G17:AC17,"HR") -> 0 | AE17: =COUNTA(G17:I17,K17:M17,O17:Q17,S17:U17,W17:Y17,AA17:AC17) -> 0 | AF17: =COUNTIF(G17:AC17,"R")+(COUNTIF(G17:AC17,"HR")*2) -> 0 | AG17: =A17+B17 -> 0 | AH17: =COUNTIF(G17:AC17,"K") -> 0
A18: =COUNTIF($G$23:$AC$40,E18) -> 0 | C18: =COUNTIF(G18:AC18,"HR") -> 0 | D18: 6 | E18: 83 | F18: 王兆熙 | K18: 22 | S18: 22 | AA18: K | AE18: =COUNTA(G18:I18,K18:M18,O18:Q18,S18:U18,W18:Y18,AA18:AC18) -> 3 | AF18: =COUNTIF(G18:AC18,"R")+(COUNTIF(G18:AC18,"HR")*2) -> 0 | AG18: =A18+B18 -> 0 | AH18: =COUNTIF(G18:AC18,"K") -> 1
A19: =COUNTIF($G$23:$AC$40,E19) -> 0 | C19: =COUNTIF(G19:AC19,"HR") -> 0 | AE19: =COUNTA(G19:I19,K19:M19,O19:Q19,S19:U19,W19:Y19,AA19:AC19) -> 0 | AF19: =COUNTIF(G19:AC19,"R")+(COUNTIF(G19:AC19,"HR")*2) -> 0 | AG19: =A19+B19 -> 0 | AH19: =COUNTIF(G19:AC19,"K") -> 0
A20: =COUNTIF($G$23:$AC$40,E20) -> 0 | C20: =COUNTIF(G20:AC20,"HR") -> 0 | AE20: =COUNTA(G20:I20,K20:M20,O20:Q20,S20:U20,W20:Y20,AA20:AC20) -> 0 | AF20: =COUNTIF(G20:AC20,"R")+(COUNTIF(G20:AC20,"HR")*2) -> 0 | AG20: =A20+B20 -> 0 | AH20: =COUNTIF(G20:AC20,"K") -> 0
A21: =SUM(A3:A20) -> 8 | B21: =SUM(B3:B20) -> 2 | C21: =SUM(C3:C20) -> 0 | D21: 得分加總 | G21: =COUNTIF(G3:I20,"R")+(COUNTIF(G3:I20,"HR")*2) -> 0 | K21: =COUNTIF(K3:M20,"R")+(COUNTIF(K3:M20,"HR")*2)+G21 -> 0 | O21: =COUNTIF(O3:Q20,"R")+(COUNTIF(O3:Q20,"HR")*2)+K21 -> 1 | S21: =COUNTIF(S3:U20,"R")+(COUNTIF(S3:U20,"HR")*2)+O21 -> 1 | W21: =COUNTIF(W3:Y20,"R")+(COUNTIF(W3:Y20,"HR")*2)+S21 -> 2 | AA21: =COUNTIF(AA3:AC20,"R")+(COUNTIF(AA3:AC20,"HR")*2)+W21 -> 2 | AE21: =SUM(AE3:AE20) -> 20 | AF21: =SUM(AF3:AF20) -> 2 | AG21: =SUM(AG3:AG20) -> 10 | AH21: =SUM(AH3:AH20) -> 13
A22: 撿球 | B22: 接殺 | C22: HR | D22: 後 | E22: 背號 | F22: 球員 | G22: 1 | J22: 投 | K22: 2 | N22: 投 | O22: 3 | R22: 投 | S22: 4 | V22: 投 | W22: 5 | Z22: 投 | AA22: 6 | AD22: 投 | AE22: AB | AF22: R | AG22: Po | AH22: K | AI22: 投/捕/觀
A23: =COUNTIF($G$3:$AC$20,E23) -> 0 | C23: =COUNTIF(G23:AC23,"HR") -> 0 | D23: 1 | E23: 18 | F23: 梁耿縉 | G23: R | L23: 9 | T23: 9 | AE23: =COUNTA(G23:I23,K23:M23,O23:Q23,S23:U23,W23:Y23,AA23:AC23) -> 3 | AF23: =COUNTIF(G23:AC23,"R")+C23 -> 1 | AG23: =A23+B23 -> 0 | AH23: =COUNTIF(G23:AC23,"K") -> 0 | AI23: 投手 | AK23: 18 | AL23: 梁耿縉 | AM23: {=_xlfn.CHOOSECOLS(_xlfn._xlws.FILTER($F$23:$AH$40,$F$23:$F$40=AL23),26,27,28,29)} -> 3 | AN23: 1 | AO23: 0 | AP23: 0
A24: =COUNTIF($G$3:$AC$20,E24) -> 0 | C24: =COUNTIF(G24:AC24,"HR") -> 0 | AE24: =COUNTA(G24:I24,K24:M24,O24:Q24,S24:U24,W24:Y24,AA24:AC24) -> 0 | AF24: =COUNTIF(G24:AC24,"R")+C24 -> 0 | AG24: =A24+B24 -> 0 | AH24: =COUNTIF(G24:AC24,"K") -> 0 | AI24: 林春佑 | AK24: 22 | AL24: 蔡存宥 | AM24: {=_xlfn.CHOOSECOLS(_xlfn._xlws.FILTER($F$23:$AH$40,$F$23:$F$40=AL24),26,27,28,29)} -> 3 | AN24: 1 | AO24: 3 | AP24: 0
A25: =COUNTIF($G$3:$AC$20,E25) -> 0 | C25: =COUNTIF(G25:AC25,"HR") -> 0 | AE25: =COUNTA(G25:I25,K25:M25,O25:Q25,S25:U25,W25:Y25,AA25:AC25) -> 0 | AF25: =COUNTIF(G25:AC25,"R")+C25 -> 0 | AG25: =A25+B25 -> 0 | AH25: =COUNTIF(G25:AC25,"K") -> 0 | AI25: 陳相睿 | AK25: 23 | AL25: 邱文昇 | AM25: {=_xlfn.CHOOSECOLS(_xlfn._xlws.FILTER($F$23:$AH$40,$F$23:$F$40=AL25),26,27,28,29)} -> 3 | AN25: 0 | AO25: 0 | AP25: 0
A26: =COUNTIF($G$3:$AC$20,E26) -> 3 | C26: =COUNTIF(G26:AC26,"HR") -> 0 | D26: 2 | E26: 22 | F26: 蔡存宥 | G26: 9 | O26: 9 | T26: R | AE26: =COUNTA(G26:I26,K26:M26,O26:Q26,S26:U26,W26:Y26,AA26:AC26) -> 3 | AF26: =COUNTIF(G26:AC26,"R")+C26 -> 1 | AG26: =A26+B26 -> 3 | AH26: =COUNTIF(G26:AC26,"K") -> 0 | AI26: 捕手 | AK26: 39 | AL26: 郭亦倫 | AM26: {=_xlfn.CHOOSECOLS(_xlfn._xlws.FILTER($F$23:$AH$40,$F$23:$F$40=AL26),26,27,28,29)} -> 3 | AN26: 0 | AO26: 1 | AP26: 3
A27: =COUNTIF($G$3:$AC$20,E27) -> 0 | C27: =COUNTIF(G27:AC27,"HR") -> 0 | AE27: =COUNTA(G27:I27,K27:M27,O27:Q27,S27:U27,W27:Y27,AA27:AC27) -> 0 | AF27: =COUNTIF(G27:AC27,"R")+C27 -> 0 | AG27: =A27+B27 -> 0 | AH27: =COUNTIF(G27:AC27,"K") -> 0 | AI27: 王辰光 | AK27: 28 | AL27: 賴智傑 | AM27: {=_xlfn.CHOOSECOLS(_xlfn._xlws.FILTER($F$23:$AH$40,$F$23:$F$40=AL27),26,27,28,29)} -> 3 | AN27: 1 | AO27: 1 | AP27: 2
A28: =COUNTIF($G$3:$AC$20,E28) -> 0 | C28: =COUNTIF(G28:AC28,"HR") -> 0 | AE28: =COUNTA(G28:I28,K28:M28,O28:Q28,S28:U28,W28:Y28,AA28:AC28) -> 0 | AF28: =COUNTIF(G28:AC28,"R")+C28 -> 0 | AG28: =A28+B28 -> 0 | AH28: =COUNTIF(G28:AC28,"K") -> 0 | AK28: 24 | AL28: 張睿紘 | AM28: {=_xlfn.CHOOSECOLS(_xlfn._xlws.FILTER($F$23:$AH$40,$F$23:$F$40=AL28),26,27,28,29)} -> 3 | AN28: 1 | AO28: 0 | AP28: 1
A29: =COUNTIF($G$3:$AC$20,E29) -> 0 | C29: =COUNTIF(G29:AC29,"HR") -> 0 | D29: 3 | E29: 23 | F29: 邱文昇 | G29: 9 | O29: 9 | T29: 9 | AE29: =COUNTA(G29:I29,K29:M29,O29:Q29,S29:U29,W29:Y29,AA29:AC29) -> 3 | AF29: =COUNTIF(G29:AC29,"R")+C29 -> 0 | AG29: =A29+B29 -> 0 | AH29: =COUNTIF(G29:AC29,"K") -> 0
A30: =COUNTIF($G$3:$AC$20,E30) -> 0 | C30: =COUNTIF(G30:AC30,"HR") -> 0 | AE30: =COUNTA(G30:I30,K30:M30,O30:Q30,S30:U30,W30:Y30,AA30:AC30) -> 0 | AF30: =COUNTIF(G30:AC30,"R")+C30 -> 0 | AG30: =A30+B30 -> 0 | AH30: =COUNTIF(G30:AC30,"K") -> 0 | AI30: 觀測員
A31: =COUNTIF($G$3:$AC$20,E31) -> 0 | C31: =COUNTIF(G31:AC31,"HR") -> 0 | AE31: =COUNTA(G31:I31,K31:M31,O31:Q31,S31:U31,W31:Y31,AA31:AC31) -> 0 | AF31: =COUNTIF(G31:AC31,"R")+C31 -> 0 | AG31: =A31+B31 -> 0 | AH31: =COUNTIF(G31:AC31,"K") -> 0 | AI31: 劉維璽
A32: =COUNTIF($G$3:$AC$20,E32) -> 1 | C32: =COUNTIF(G32:AC32,"HR") -> 0 | D32: 4 | E32: 39 | F32: 郭亦倫 | G32: K | O32: K | W32: K | Z32: 天 | AE32: =COUNTA(G32:I32,K32:M32,O32:Q32,S32:U32,W32:Y32,AA32:AC32) -> 3 | AF32: =COUNTIF(G32:AC32,"R")+C32 -> 0 | AG32: =A32+B32 -> 1 | AH32: =COUNTIF(G32:AC32,"K") -> 3
A33: =COUNTIF($G$3:$AC$20,E33) -> 0 | C33: =COUNTIF(G33:AC33,"HR") -> 0 | AE33: =COUNTA(G33:I33,K33:M33,O33:Q33,S33:U33,W33:Y33,AA33:AC33) -> 0 | AF33: =COUNTIF(G33:AC33,"R")+C33 -> 0 | AG33: =A33+B33 -> 0 | AH33: =COUNTIF(G33:AC33,"K") -> 0
A34: =COUNTIF($G$3:$AC$20,E34) -> 0 | C34: =COUNTIF(G34:AC34,"HR") -> 0 | AE34: =COUNTA(G34:I34,K34:M34,O34:Q34,S34:U34,W34:Y34,AA34:AC34) -> 0 | AF34: =COUNTIF(G34:AC34,"R")+C34 -> 0 | AG34: =A34+B34 -> 0 | AH34: =COUNTIF(G34:AC34,"K") -> 0 | AI34: 候補球員
A35: =COUNTIF($G$3:$AC$20,E35) -> 1 | C35: =COUNTIF(G35:AC35,"HR") -> 0 | D35: 5 | E35: 28 | F35: 賴智傑 | K35: K | S35: R | W35: K | Z35: 天 | AE35: =COUNTA(G35:I35,K35:M35,O35:Q35,S35:U35,W35:Y35,AA35:AC35) -> 3 | AF35: =COUNTIF(G35:AC35,"R")+C35 -> 1 | AG35: =A35+B35 -> 1 | AH35: =COUNTIF(G35:AC35,"K") -> 2 | AM35: =SUM(AM23:AM32) -> 18 | AN35: =SUM(AN23:AN32) -> 4 | AO35: =SUM(AO23:AO32) -> 5 | AP35: =SUM(AP23:AP32) -> 6
A36: =COUNTIF($G$3:$AC$20,E36) -> 0 | C36: =COUNTIF(G36:AC36,"HR") -> 0 | AE36: =COUNTA(G36:I36,K36:M36,O36:Q36,S36:U36,W36:Y36,AA36:AC36) -> 0 | AF36: =COUNTIF(G36:AC36,"R")+C36 -> 0 | AG36: =A36+B36 -> 0 | AH36: =COUNTIF(G36:AC36,"K") -> 0
A37: =COUNTIF($G$3:$AC$20,E37) -> 0 | C37: =COUNTIF(G37:AC37,"HR") -> 0 | AE37: =COUNTA(G37:I37,K37:M37,O37:Q37,S37:U37,W37:Y37,AA37:AC37) -> 0 | AF37: =COUNTIF(G37:AC37,"R")+C37 -> 0 | AG37: =A37+B37 -> 0 | AH37: =COUNTIF(G37:AC37,"K") -> 0
A38: =COUNTIF($G$3:$AC$20,E38) -> 0 | C38: =COUNTIF(G38:AC38,"HR") -> 0 | D38: 6 | E38: 24 | F38: 張睿紘 | K38: 9 | S38: R | W38: K | Z38: 天 | AE38: =COUNTA(G38:I38,K38:M38,O38:Q38,S38:U38,W38:Y38,AA38:AC38) -> 3 | AF38: =COUNTIF(G38:AC38,"R")+C38 -> 1 | AG38: =A38+B38 -> 0 | AH38: =COUNTIF(G38:AC38,"K") -> 1
A39: =COUNTIF($G$3:$AC$20,E39) -> 0 | C39: =COUNTIF(G39:AC39,"HR") -> 0 | AE39: =COUNTA(G39:I39,K39:M39,O39:Q39,S39:U39,W39:Y39,AA39:AC39) -> 0 | AF39: =COUNTIF(G39:AC39,"R")+C39 -> 0 | AG39: =A39+B39 -> 0 | AH39: =COUNTIF(G39:AC39,"K") -> 0
A40: =COUNTIF($G$3:$AC$20,E40) -> 0 | C40: =COUNTIF(G40:AC40,"HR") -> 0 | AE40: =COUNTA(G40:I40,K40:M40,O40:Q40,S40:U40,W40:Y40,AA40:AC40) -> 0 | AF40: =COUNTIF(G40:AC40,"R")+C40 -> 0 | AG40: =A40+B40 -> 0 | AH40: =COUNTIF(G40:AC40,"K") -> 0
A41: =SUM(A23:A40) -> 5 | B41: =SUM(B23:B40) -> 0 | C41: =SUM(C23:C40) -> 0 | D41: 得分加總 | G41: =COUNTIF(G23:I40,"R")+(COUNTIF(G23:I40,"HR")*2) -> 1 | K41: =COUNTIF(K23:M40,"R")+(COUNTIF(K23:M40,"HR")*2)+G41 -> 1 | O41: =COUNTIF(O23:Q40,"R")+(COUNTIF(O23:Q40,"HR")*2)+K41 -> 1 | S41: =COUNTIF(S23:U40,"R")+(COUNTIF(S23:U40,"HR")*2)+O41 -> 4 | W41: =COUNTIF(W23:Y40,"R")+(COUNTIF(W23:Y40,"HR")*2)+S41 -> 4 | AA41: =COUNTIF(AA23:AC40,"R")+(COUNTIF(AA23:AC40,"HR")*2)+W41 -> 4 | AE41: =SUM(AE23:AE40) -> 18 | AF41: =SUM(AF23:AF40) -> 4 | AG41: =SUM(AG23:AG40) -> 5 | AH41: =SUM(AH23:AH40) -> 6

Sheet G4
B1: 加計分數 | D1: 場次 | H1: G4 | J1: 日期 | L1: 114.08.24 | Q1: =AA21 -> 4 | T1: 新北獵豹 | V1: VS | X1: 閃電 | AB1: =AA41 -> 5 | AE1: 數據
A2: 撿球 | B2: 接殺 | C2: HR | D2: 先 | E2: 背號 | F2: 球員 | G2: 1 | J2: 投 | K2: 2 | N2: 投 | O2: 3 | R2: 投 | S2: 4 | V2: 投 | W2: 5 | Z2: 投 | AA2: 6 | AD2: 投 | AE2: AB | AF2: R | AG2: Po | AH2: K | AI2: 投/捕/觀
A3: =COUNTIF($G$23:$AC$40,E3) -> 2 | C3: =COUNTIF(G3:AC3,"HR") -> 0 | D3: 1 | E3: 25 | F3: 洪韶壕 | G3: K | L3: K | T3: R | AA3: 51 | AE3: =COUNTA(G3:I3,K3:M3,O3:Q3,S3:U3,W3:Y3,AA3:AC3) -> 4 | AF3: =COUNTIF(G3:AC3,"R")+(COUNTIF(G3:AC3,"HR")*2) -> 1 | AG3: =A3+B3 -> 2 | AH3: =COUNTIF(G3:AC3,"K") -> 2 | AI3: 投手 | AK3: 背號 | AL3: 球員 | AM3: AB | AN3: R | AO3: Po | AP3: K
A4: =COUNTIF($G$23:$AC$40,E4) -> 0 | C4: =COUNTIF(G4:AC4,"HR") -> 0 | AE4: =COUNTA(G4:I4,K4:M4,O4:Q4,S4:U4,W4:Y4,AA4:AC4) -> 0 | AF4: =COUNTIF(G4:AC4,"R")+(COUNTIF(G4:AC4,"HR")*2) -> 0 | AG4: =A4+B4 -> 0 | AH4: =COUNTIF(G4:AC4,"K") -> 0 | AI4: 游鎮維 | AK4: 25 | AL4: 洪韶壕 | AM4: {=_xlfn.CHOOSECOLS(_xlfn._xlws.FILTER($F$3:$AH$20,$F$3:$F$20=AL4),26,27,28,29)} -> #NAME? | AN4: #NAME? | AO4: #NAME? | AP4: #NAME?
A5: =COUNTIF($G$23:$AC$40,E5) -> 0 | C5: =COUNTIF(G5:AC5,"HR") -> 0 | AE5: =COUNTA(G5:I5,K5:M5,O5:Q5,S5:U5,W5:Y5,AA5:AC5) -> 0 | AF5: =COUNTIF(G5:AC5,"R")+(COUNTIF(G5:AC5,"HR")*2) -> 0 | AG5: =A5+B5 -> 0 | AH5: =COUNTIF(G5:AC5,"K") -> 0 | AK5: O | AL5: 古國偉 | AM5: {=_xlfn.CHOOSECOLS(_xlfn._xlws.FILTER($F$3:$AH$20,$F$3:$F$20=AL5),26,27,28,29)} -> #NAME? | AN5: #NAME? | AO5: #NAME? | AP5: #NAME?
A6: =COUNTIF($G$23:$AC$40,E6) -> 0 | C6: =COUNTIF(G6:AC6,"HR") -> 0 | D6: 2 | E6: O | F6: 古國偉 | G6: R | O6: K | T6: R | AA6: R | AE6: =COUNTA(G6:I6,K6:M6,O6:Q6,S6:U6,W6:Y6,AA6:AC6) -> 4 | AF6: =COUNTIF(G6:AC6,"R")+(COUNTIF(G6:AC6,"HR")*2) -> 3 | AG6: =A6+B6 -> 0 | AH6: =COUNTIF(G6:AC6,"K") -> 1 | AI6: 捕手 | AK6: 28 | AL6: 陳傑閔 | AM6: {=_xlfn.CHOOSECOLS(_xlfn._xlws.FILTER($F$3:$AH$20,$F$3:$F$20=AL6),26,27,28,29)} -> #NAME? | AN6: #NAME? | AO6: #NAME? | AP6: #NAME?
A7: =COUNTIF($G$23:$AC$40,E7) -> 0 | C7: =COUNTIF(G7:AC7,"HR") -> 0 | AE7: =COUNTA(G7:I7,K7:M7,O7:Q7,S7:U7,W7:Y7,AA7:AC7) -> 0 | AF7: =COUNTIF(G7:AC7,"R")+(COUNTIF(G7:AC7,"HR")*2) -> 0 | AG7: =A7+B7 -> 0 | AH7: =COUNTIF(G7:AC7,"K") -> 0 | AI7: 江言鎧 | AK7: 66 | AL7: 陳韻婷 | AM7: {=_xlfn.CHOOSECOLS(_xlfn._xlws.FILTER($F$3:$AH$20,$F$3:$F$20=AL7),26,27,28,29)} -> #NAME? | AN7: #NAME? | AO7: #NAME? | AP7: #NAME?
A8: =COUNTIF($G$23:$AC$40,E8) -> 0 | C8: =COUNTIF(G8:AC8,"HR") -> 0 | AE8: =COUNTA(G8:I8,K8:M8,O8:Q8,S8:U8,W8:Y8,AA8:AC8) -> 0 | AF8: =COUNTIF(G8:AC8,"R")+(COUNTIF(G8:AC8,"HR")*2) -> 0 | AG8: =A8+B8 -> 0 | AH8: =COUNTIF(G8:AC8,"K") -> 0 | AK8: 39 | AL8: 饒賀凱 | AM8: {=_xlfn.CHOOSECOLS(_xlfn._xlws.FILTER($F$3:$AH$20,$F$3:$F$20=AL8),26,27,28,29)} -> #NAME? | AN8: #NAME? | AO8: #NAME? | AP8: #NAME?
A9: =COUNTIF($G$23:$AC$40,E9) -> 0 | C9: =COUNTIF(G9:AC9,"HR") -> 0 | D9: 3 | E9: 28 | F9: 陳傑閔 | G9: 8 | O9: K | AE9: =COUNTA(G9:I9,K9:M9,O9:Q9,S9:U9,W9:Y9,AA9:AC9) -> 2 | AF9: =COUNTIF(G9:AC9,"R")+(COUNTIF(G9:AC9,"HR")*2) -> 0 | AG9: =A9+B9 -> 0 | AH9: =COUNTIF(G9:AC9,"K") -> 1 | AK9: 29 | AL9: 張玥琳 | AM9: {=_xlfn.CHOOSECOLS(_xlfn._xlws.FILTER($F$3:$AH$20,$F$3:$F$20=AL9),26,27,28,29)} -> #NAME? | AN9: #NAME? | AO9: #NAME? | AP9: #NAME?
A10: =COUNTIF($G$23:$AC$40,E10) -> 0 | C10: =COUNTIF(G10:AC10,"HR") -> 0 | E10: 66 | F10: 陳韻婷 | T10: 35 | AA10: 35 | AE10: =COUNTA(G10:I10,K10:M10,O10:Q10,S10:U10,W10:Y10,AA10:AC10) -> 2 | AF10: =COUNTIF(G10:AC10,"R")+(COUNTIF(G10:AC10,"HR")*2) -> 0 | AG10: =A10+B10 -> 0 | AH10: =COUNTIF(G10:AC10,"K") -> 0 | AI10: 觀測員 | AK10: 421 | AL10: 黃雅苓 | AM10: {=_xlfn.CHOOSECOLS(_xlfn._xlws.FILTER($F$3:$AH$20,$F$3:$F$20=AL10),26,27,28,29)} -> #NAME? | AN10: #NAME? | AO10: #NAME? | AP10: #NAME?
A11: =COUNTIF($G$23:$AC$40,E11) -> 0 | C11: =COUNTIF(G11:AC11,"HR") -> 0 | AE11: =COUNTA(G11:I11,K11:M11,O11:Q11,S11:U11,W11:Y11,AA11:AC11) -> 0 | AF11: =COUNTIF(G11:AC11,"R")+(COUNTIF(G11:AC11,"HR")*2) -> 0 | AG11: =A11+B11 -> 0 | AH11: =COUNTIF(G11:AC11,"K") -> 0 | AI11: 游鎮維
A12: =COUNTIF($G$23:$AC$40,E12) -> 0 | C12: =COUNTIF(G12:AC12,"HR") -> 0 | D12: 4 | E12: 39 | F12: 饒賀凱 | G12: K | O12: K | W12: 4 | AA12: 111 | AE12: =COUNTA(G12:I12,K12:M12,O12:Q12,S12:U12,W12:Y12,AA12:AC12) -> 4 | AF12: =COUNTIF(G12:AC12,"R")+(COUNTIF(G12:AC12,"HR")*2) -> 0 | AG12: =A12+B12 -> 0 | AH12: =COUNTIF(G12:AC12,"K") -> 2
A13: =COUNTIF($G$23:$AC$40,E13) -> 0 | C13: =COUNTIF(G13:AC13,"HR") -> 0 | AE13: =COUNTA(G13:I13,K13:M13,O13:Q13,S13:U13,W13:Y13,AA13:AC13) -> 0 | AF13: =COUNTIF(G13:AC13,"R")+(COUNTIF(G13:AC13,"HR")*2) -> 0 | AG13: =A13+B13 -> 0 | AH13: =COUNTIF(G13:AC13,"K") -> 0
A14: =COUNTIF($G$23:$AC$40,E14) -> 0 | C14: =COUNTIF(G14:AC14,"HR") -> 0 | AE14: =COUNTA(G14:I14,K14:M14,O14:Q14,S14:U14,W14:Y14,AA14:AC14) -> 0 | AF14: =COUNTIF(G14:AC14,"R")+(COUNTIF(G14:AC14,"HR")*2) -> 0 | AG14: =A14+B14 -> 0 | AH14: =COUNTIF(G14:AC14,"K") -> 0 | AI14: 候補球員
A15: =COUNTIF($G$23:$AC$40,E15) -> 0 | C15: =COUNTIF(G15:AC15,"HR") -> 0 | D15: 5 | E15: 29 | F15: 張玥琳 | K15: K | S15: K | W15: K | AE15: =COUNTA(G15:I15,K15:M15,O15:Q15,S15:U15,W15:Y15,AA15:AC15) -> 3 | AF15: =COUNTIF(G15:AC15,"R")+(COUNTIF(G15:AC15,"HR")*2) -> 0 | AG15: =A15+B15 -> 0 | AH15: =COUNTIF(G15:AC15,"K") -> 3
A16: =COUNTIF($G$23:$AC$40,E16) -> 0 | C16: =COUNTIF(G16:AC16,"HR") -> 0 | AE16: =COUNTA(G16:I16,K16:M16,O16:Q16,S16:U16,W16:Y16,AA16:AC16) -> 0 | AF16: =COUNTIF(G16:AC16,"R")+(COUNTIF(G16:AC16,"HR")*2) -> 0 | AG16: =A16+B16 -> 0 | AH16: =COUNTIF(G16:AC16,"K") -> 0 | AM16: =SUM(AM4:AM15) -> #NAME? | AN16: =SUM(AN4:AN15) -> #NAME? | AO16: =SUM(AO4:AO15) -> #NAME? | AP16: =SUM(AP4:AP15) -> #NAME?
A17: =COUNTIF($G$23:$AC$40,E17) -> 0 | C17: =COUNTIF(G17:AC17,"HR") -> 0 | AE17: =COUNTA(G17:I17,K17:M17,O17:Q17,S17:U17,W17:Y17,AA17:AC17) -> 0 | AF17: =COUNTIF(G17:AC17,"R")+(COUNTIF(G17:AC17,"HR")*2) -> 0 | AG17: =A17+B17 -> 0 | AH17: =COUNTIF(G17:AC17,"K") -> 0
A18: =COUNTIF($G$23:$AC$40,E18) -> 0 | C18: =COUNTIF(G18:AC18,"HR") -> 0 | D18: 6 | E18: 421 | F18: 黃雅苓 | K18: K | S18: 111 | W18: K | AE18: =COUNTA(G18:I18,K18:M18,O18:Q18,S18:U18,W18:Y18,AA18:AC18) -> 3 | AF18: =COUNTIF(G18:AC18,"R")+(COUNTIF(G18:AC18,"HR")*2) -> 0 | AG18: =A18+B18 -> 0 | AH18: =COUNTIF(G18:AC18,"K") -> 2
A19: =COUNTIF($G$23:$AC$40,E19) -> 0 | C19: =COUNTIF(G19:AC19,"HR") -> 0 | AE19: =COUNTA(G19:I19,K19:M19,O19:Q19,S19:U19,W19:Y19,AA19:AC19) -> 0 | AF19: =COUNTIF(G19:AC19,"R")+(COUNTIF(G19:AC19,"HR")*2) -> 0 | AG19: =A19+B19 -> 0 | AH19: =COUNTIF(G19:AC19,"K") -> 0
A20: =COUNTIF($G$23:$AC$40,E20) -> 0 | C20: =COUNTIF(G20:AC20,"HR") -> 0 | AE20: =COUNTA(G20:I20,K20:M20,O20:Q20,S20:U20,W20:Y20,AA20:AC20) -> 0 | AF20: =COUNTIF(G20:AC20,"R")+(COUNTIF(G20:AC20,"HR")*2) -> 0 | AG20: =A20+B20 -> 0 | AH20: =COUNTIF(G20:AC20,"K") -> 0
A21: =SUM(A3:A20) -> 2 | B21: =SUM(B3:B20) -> 0 | C21: =SUM(C3:C20) -> 0 | D21: 得分加總 | G21: =COUNTIF(G3:I20,"R")+(COUNTIF(G3:I20,"HR")*2) -> 1 | K21: =COUNTIF(K3:M20,"R")+(COUNTIF(K3:M20,"HR")*2)+G21 -> 1 | O21: =COUNTIF(O3:Q20,"R")+(COUNTIF(O3:Q20,"HR")*2)+K21 -> 1 | S21: =COUNTIF(S3:U20,"R")+(COUNTIF(S3:U20,"HR")*2)+O21 -> 3 | W21: =COUNTIF(W3:Y20,"R")+(COUNTIF(W3:Y20,"HR")*2)+S21 -> 3 | AA21: =COUNTIF(AA3:AC20,"R")+(COUNTIF(AA3:AC20,"HR")*2)+W21 -> 4 | AE21: =SUM(AE3:AE20) -> 22 | AF21: =SUM(AF3:AF20) -> 4 | AG21: =SUM(AG3:AG20) -> 2 | AH21: =SUM(AH3:AH20) -> 11
A22: 撿球 | B22: 接殺 | C22: HR | D22: 後 | E22: 背號 | F22: 球員 | G22: 1 | J22: 投 | K22: 2 | N22: 投 | O22: 3 | R22: 投 | S22: 4 | V22: 投 | W22: 5 | Z22: 投 | AA22: 6 | AD22: 投 | AE22: AB | AF22: R | AG22: Po | AH22: K | AI22: 投/捕/觀
A23: =COUNTIF($G$3:$AC$20,E23) -> 1 | C23: =COUNTIF(G23:AC23,"HR") -> 0 | D23: 1 | E23: 8 | F23: 陳璽帆 | G23: K | L23: K | P23: K | X23: 25 | AE23: =COUNTA(G23:I23,K23:M23,O23:Q23,S23:U23,W23:Y23,AA23:AC23) -> 4 | AF23: =COUNTIF(G23:AC23,"R")+C23 -> 0 | AG23: =A23+B23 -> 1 | AH23: =COUNTIF(G23:AC23,"K") -> 3 | AI23: 投手 | AK23: 8 | AL23: 陳璽帆 | AM23: {=_xlfn.CHOOSECOLS(_xlfn._xlws.FILTER($F$23:$AH$40,$F$23:$F$40=AL23),26,27,28,29)} -> #NAME? | AN23: #NAME? | AO23: #NAME? | AP23: #NAME?
A24: =COUNTIF($G$3:$AC$20,E24) -> 0 | C24: =COUNTIF(G24:AC24,"HR") -> 0 | AE24: =COUNTA(G24:I24,K24:M24,O24:Q24,S24:U24,W24:Y24,AA24:AC24) -> 0 | AF24: =COUNTIF(G24:AC24,"R")+C24 -> 0 | AG24: =A24+B24 -> 0 | AH24: =COUNTIF(G24:AC24,"K") -> 0 | AI24: 李裕仁 | AK24: 111 | AL24: 林健彰 | AM24: {=_xlfn.CHOOSECOLS(_xlfn._xlws.FILTER($F$23:$AH$40,$F$23:$F$40=AL24),26,27,28,29)} -> #NAME? | AN24: #NAME? | AO24: #NAME? | AP24: #NAME?
A25: =COUNTIF($G$3:$AC$20,E25) -> 0 | C25: =COUNTIF(G25:AC25,"HR") -> 0 | AE25: =COUNTA(G25:I25,K25:M25,O25:Q25,S25:U25,W25:Y25,AA25:AC25) -> 0 | AF25: =COUNTIF(G25:AC25,"R")+C25 -> 0 | AG25: =A25+B25 -> 0 | AH25: =COUNTIF(G25:AC25,"K") -> 0 | AK25: 21 | AL25: 郭育廷 | AM25: {=_xlfn.CHOOSECOLS(_xlfn._xlws.FILTER($F$23:$AH$40,$F$23:$F$40=AL25),26,27,28,29)} -> #NAME? | AN25: #NAME? | AO25: #NAME? | AP25: #NAME?
A26: =COUNTIF($G$3:$AC$20,E26) -> 2 | C26: =COUNTIF(G26:AC26,"HR") -> 0 | D26: 2 | E26: 111 | F26: 林健彰 | G26: K | L26: 25 | S26: K | X26: rin | AE26: =COUNTA(G26:I26,K26:M26,O26:Q26,S26:U26,W26:Y26,AA26:AC26) -> 4 | AF26: =COUNTIF(G26:AC26,"R")+C26 -> 0 | AG26: =A26+B26 -> 2 | AH26: =COUNTIF(G26:AC26,"K") -> 2 | AI26: 捕手 | AK26: 35 | AL26: 陳俊欽 | AM26: {=_xlfn.CHOOSECOLS(_xlfn._xlws.FILTER($F$23:$AH$40,$F$23:$F$40=AL26),26,27,28,29)} -> #NAME? | AN26: #NAME? | AO26: #NAME? | AP26: #NAME?
A27: =COUNTIF($G$3:$AC$20,E27) -> 0 | C27: =COUNTIF(G27:AC27,"HR") -> 0 | AE27: =COUNTA(G27:I27,K27:M27,O27:Q27,S27:U27,W27:Y27,AA27:AC27) -> 0 | AF27: =COUNTIF(G27:AC27,"R")+C27 -> 0 | AG27: =A27+B27 -> 0 | AH27: =COUNTIF(G27:AC27,"K") -> 0 | AI27: 謝仲荃 | AK27: 4 | AL27: 黃柏欽 | AM27: {=_xlfn.CHOOSECOLS(_xlfn._xlws.FILTER($F$23:$AH$40,$F$23:$F$40=AL27),26,27,28,29)} -> #NAME? | AN27: #NAME? | AO27: #NAME? | AP27: #NAME?
A28: =COUNTIF($G$3:$AC$20,E28) -> 0 | C28: =COUNTIF(G28:AC28,"HR") -> 0 | AE28: =COUNTA(G28:I28,K28:M28,O28:Q28,S28:U28,W28:Y28,AA28:AC28) -> 0 | AF28: =COUNTIF(G28:AC28,"R")+C28 -> 0 | AG28: =A28+B28 -> 0 | AH28: =COUNTIF(G28:AC28,"K") -> 0 | AK28: 51 | AL28: 紀和成 | AM28: {=_xlfn.CHOOSECOLS(_xlfn._xlws.FILTER($F$23:$AH$40,$F$23:$F$40=AL28),26,27,28,29)} -> #NAME? | AN28: #NAME? | AO28: #NAME? | AP28: #NAME?
A29: =COUNTIF($G$3:$AC$20,E29) -> 0 | C29: =COUNTIF(G29:AC29,"HR") -> 0 | D29: 3 | E29: 21 | F29: 郭育廷 | G29: R | O29: K | S29: K | AE29: =COUNTA(G29:I29,K29:M29,O29:Q29,S29:U29,W29:Y29,AA29:AC29) -> 3 | AF29: =COUNTIF(G29:AC29,"R")+C29 -> 1 | AG29: =A29+B29 -> 0 | AH29: =COUNTIF(G29:AC29,"K") -> 2
A30: =COUNTIF($G$3:$AC$20,E30) -> 0 | C30: =COUNTIF(G30:AC30,"HR") -> 0 | AE30: =COUNTA(G30:I30,K30:M30,O30:Q30,S30:U30,W30:Y30,AA30:AC30) -> 0 | AF30: =COUNTIF(G30:AC30,"R")+C30 -> 0 | AG30: =A30+B30 -> 0 | AH30: =COUNTIF(G30:AC30,"K") -> 0 | AI30: 觀測員
A31: =COUNTIF($G$3:$AC$20,E31) -> 0 | C31: =COUNTIF(G31:AC31,"HR") -> 0 | AE31: =COUNTA(G31:I31,K31:M31,O31:Q31,S31:U31,W31:Y31,AA31:AC31) -> 0 | AF31: =COUNTIF(G31:AC31,"R")+C31 -> 0 | AG31: =A31+B31 -> 0 | AH31: =COUNTIF(G31:AC31,"K") -> 0 | AI31: 薛沅庭
A32: =COUNTIF($G$3:$AC$20,E32) -> 2 | C32: =COUNTIF(G32:AC32,"HR") -> 0 | D32: 4 | E32: 35 | F32: 陳俊欽 | G32: K | O32: K | S32: K | AE32: =COUNTA(G32:I32,K32:M32,O32:Q32,S32:U32,W32:Y32,AA32:AC32) -> 3 | AF32: =COUNTIF(G32:AC32,"R")+C32 -> 0 | AG32: =A32+B32 -> 2 | AH32: =COUNTIF(G32:AC32,"K") -> 3
A33: =COUNTIF($G$3:$AC$20,E33) -> 0 | C33: =COUNTIF(G33:AC33,"HR") -> 0 | AE33: =COUNTA(G33:I33,K33:M33,O33:Q33,S33:U33,W33:Y33,AA33:AC33) -> 0 | AF33: =COUNTIF(G33:AC33,"R")+C33 -> 0 | AG33: =A33+B33 -> 0 | AH33: =COUNTIF(G33:AC33,"K") -> 0
A34: =COUNTIF($G$3:$AC$20,E34) -> 0 | C34: =COUNTIF(G34:AC34,"HR") -> 0 | AE34: =COUNTA(G34:I34,K34:M34,O34:Q34,S34:U34,W34:Y34,AA34:AC34) -> 0 | AF34: =COUNTIF(G34:AC34,"R")+C34 -> 0 | AG34: =A34+B34 -> 0 | AH34: =COUNTIF(G34:AC34,"K") -> 0 | AI34: 候補球員
A35: =COUNTIF($G$3:$AC$20,E35) -> 1 | C35: =COUNTIF(G35:AC35,"HR") -> 0 | D35: 5 | E35: 4 | F35: 黃柏欽 | K35: K | O35: R | W35: K | AE35: =COUNTA(G35:I35,K35:M35,O35:Q35,S35:U35,W35:Y35,AA35:AC35) -> 3 | AF35: =COUNTIF(G35:AC35,"R")+C35 -> 1 | AG35: =A35+B35 -> 1 | AH35: =COUNTIF(G35:AC35,"K") -> 2 | AM35: =SUM(AM23:AM34) -> #NAME? | AN35: =SUM(AN23:AN34) -> #NAME? | AO35: =SUM(AO23:AO34) -> #NAME? | AP35: =SUM(AP23:AP34) -> #NAME?
A36: =COUNTIF($G$3:$AC$20,E36) -> 0 | C36: =COUNTIF(G36:AC36,"HR") -> 0 | AE36: =COUNTA(G36:I36,K36:M36,O36:Q36,S36:U36,W36:Y36,AA36:AC36) -> 0 | AF36: =COUNTIF(G36:AC36,"R")+C36 -> 0 | AG36: =A36+B36 -> 0 | AH36: =COUNTIF(G36:AC36,"K") -> 0
A37: =COUNTIF($G$3:$AC$20,E37) -> 0 | C37: =COUNTIF(G37:AC37,"HR") -> 0 | AE37: =COUNTA(G37:I37,K37:M37,O37:Q37,S37:U37,W37:Y37,AA37:AC37) -> 0 | AF37: =COUNTIF(G37:AC37,"R")+C37 -> 0 | AG37: =A37+B37 -> 0 | AH37: =COUNTIF(G37:AC37,"K") -> 0
A38: =COUNTIF($G$3:$AC$20,E38) -> 1 | C38: =COUNTIF(G38:AC38,"HR") -> 0 | D38: 6 | E38: 51 | F38: 紀和成 | K38: R | O38: R | W38: R | AE38: =COUNTA(G38:I38,K38:M38,O38:Q38,S38:U38,W38:Y38,AA38:AC38) -> 3 | AF38: =COUNTIF(G38:AC38,"R")+C38 -> 3 | AG38: =A38+B38 -> 1 | AH38: =COUNTIF(G38:AC38,"K") -> 0
A39: =COUNTIF($G$3:$AC$20,E39) -> 0 | C39: =COUNTIF(G39:AC39,"HR") -> 0 | AE39: =COUNTA(G39:I39,K39:M39,O39:Q39,S39:U39,W39:Y39,AA39:AC39) -> 0 | AF39: =COUNTIF(G39:AC39,"R")+C39 -> 0 | AG39: =A39+B39 -> 0 | AH39: =COUNTIF(G39:AC39,"K") -> 0
A40: =COUNTIF($G$3:$AC$20,E40) -> 0 | C40: =COUNTIF(G40:AC40,"HR") -> 0 | AE40: =COUNTA(G40:I40,K40:M40,O40:Q40,S40:U40,W40:Y40,AA40:AC40) -> 0 | AF40: =COUNTIF(G40:AC40,"R")+C40 -> 0 | AG40: =A40+B40 -> 0 | AH40: =COUNTIF(G40:AC40,"K") -> 0
A41: =SUM(A23:A40) -> 7 | B41: =SUM(B23:B40) -> 0 | C41: =SUM(C23:C40) -> 0 | D41: 得分加總 | G41: =COUNTIF(G23:I40,"R")+(COUNTIF(G23:I40,"HR")*2) -> 1 | K41: =COUNTIF(K23:M40,"R")+(COUNTIF(K23:M40,"HR")*2)+G41 -> 2 | O41: =COUNTIF(O23:Q40,"R")+(COUNTIF(O23:Q40,"HR")*2)+K41 -> 4 | S41: =COUNTIF(S23:U40,"R")+(COUNTIF(S23:U40,"HR")*2)+O41 -> 4 | W41: =COUNTIF(W23:Y40,"R")+(COUNTIF(W23:Y40,"HR")*2)+S41 -> 5 | AA41: =COUNTIF(AA23:AC40,"R")+(COUNTIF(AA23:AC40,"HR")*2)+W41 -> 5 | AE41: =SUM(AE23:AE40) -> 20 | AF41: =SUM(AF23:AF40) -> 5 | AG41: =SUM(AG23:AG40) -> 7 | AH41: =SUM(AH23:AH40) -> 12

Sheet G5
B1: 加計分數 | D1: 場次 | H1: G5 | J1: 日期 | L1: 114.08.24 | Q1: =AE21 -> 7 | T1: 新北獵豹 | V1: VS | X1: 閃電 | AA1: =AE41 -> 8 | AI1: 數據
A2: 撿球 | B2: 接殺 | C2: HR | D2: 先 | E2: 背號 | F2: 球員 | G2: 1 | J2: 投 | K2: 2 | N2: 投 | O2: 3 | R2: 投 | S2: 4 | V2: 投 | W2: 5 | Z2: 投 | AA2: 6 | AD2: 投 | AE2: 7 | AH2: 投 | AI2: AB | AJ2: R | AK2: Po | AL2: K | AM2: 投/捕/觀
A3: =COUNTIF($G$23:$AG$40,E3) -> 1 | C3: =COUNTIF(G3:AG3,"HR") -> 0 | D3: 1 | E3: 25 | F3: 洪韶壕 | G3: K | L3: R | S3: R | X3: R | AE3: R | AI3: =COUNTA(G3:I3,K3:M3,O3:Q3,S3:U3,W3:Y3,AA3:AC3,AE3:AG3) -> 5 | AJ3: =COUNTIF(G3:AG3,"R")+(COUNTIF(G3:AG3,"HR")*2) -> 4 | AK3: =A3+B3 -> 1 | AL3: =COUNTIF(G3:AG3,"K") -> 1 | AM3: 投手 | AO3: 背號 | AP3: 球員 | AQ3: AB | AR3: R | AS3: Po | AT3: K | AW3: 背號 | AX3: 球員 | AY3: AB | AZ3: R | BA3: Po | BB3: K
A4: =COUNTIF($G$23:$AG$40,E4) -> 0 | C4: =COUNTIF(G4:AG4,"HR") -> 0 | AI4: =COUNTA(G4:I4,K4:M4,O4:Q4,S4:U4,W4:Y4,AA4:AC4,AE4:AG4) -> 0 | AJ4: =COUNTIF(G4:AG4,"R")+(COUNTIF(G4:AG4,"HR")*2) -> 0 | AK4: =A4+B4 -> 0 | AL4: =COUNTIF(G4:AG4,"K") -> 0 | AM4: 游鎮維 | AO4: 25 | AP4: 洪韶壕 | AQ4: 5 | AR4: 4 | AS4: 1 | AT4: 1 | AW4: 25 | AX4: 洪韶壕 | AY4: {=_xlfn.CHOOSECOLS(_xlfn._xlws.FILTER($F$3:$AL$20,$F$3:$F$20=AX4),30,31,32,33)} -> 5 | AZ4: 4 | BA4: 1 | BB4: 1
A5: =COUNTIF($G$23:$AG$40,E5) -> 0 | C5: =COUNTIF(G5:AG5,"HR") -> 0 | AI5: =COUNTA(G5:I5,K5:M5,O5:Q5,S5:U5,W5:Y5,AA5:AC5,AE5:AG5) -> 0 | AJ5: =COUNTIF(G5:AG5,"R")+(COUNTIF(G5:AG5,"HR")*2) -> 0 | AK5: =A5+B5 -> 0 | AL5: =COUNTIF(G5:AG5,"K") -> 0 | AO5: O | AP5: 古國偉 | AQ5: 4 | AR5: 1 | AS5: 0 | AT5: 2 | AW5: O | AX5: 古國偉 | AY5: 4 | AZ5: 1 | BA5: 0 | BB5: 2
A6: =COUNTIF($G$23:$AG$40,E6) -> 0 | C6: =COUNTIF(G6:AG6,"HR") -> 0 | D6: 2 | E6: O | F6: 古國偉 | G6: K | L6: R | S6: K | AI6: =COUNTA(G6:I6,K6:M6,O6:Q6,S6:U6,W6:Y6,AA6:AC6,AE6:AG6) -> 3 | AJ6: =COUNTIF(G6:AG6,"R")+(COUNTIF(G6:AG6,"HR")*2) -> 1 | AK6: =A6+B6 -> 0 | AL6: =COUNTIF(G6:AG6,"K") -> 2 | AM6: 捕手 | AO6: 421 | AP6: 黃雅苓 | AQ6: 1 | AR6: 1 | AS6: 1 | AT6: 0 | AW6: 421 | AX6: 黃雅苓 | AY6: {=_xlfn.CHOOSECOLS(_xlfn._xlws.FILTER($F$3:$AL$20,$F$3:$F$20=AX6),30,31,32,33)} -> 1 | AZ6: 1 | BA6: 1 | BB6: 0
A7: =COUNTIF($G$23:$AG$40,E7) -> 1 | C7: =COUNTIF(G7:AG7,"HR") -> 0 | E7: 421 | F7: 黃雅苓 | X7: R | AI7: =COUNTA(G7:I7,K7:M7,O7:Q7,S7:U7,W7:Y7,AA7:AC7,AE7:AG7) -> 1 | AJ7: =COUNTIF(G7:AG7,"R")+(COUNTIF(G7:AG7,"HR")*2) -> 1 | AK7: =A7+B7 -> 1 | AL7: =COUNTIF(G7:AG7,"K") -> 0 | AM7: 江言鎧
A8: =COUNTIF($G$23:$AG$40,E8) -> 0 | C8: =COUNTIF(G8:AG8,"HR") -> 0 | E8: O | F8: 古國偉 | AE8: 35 | AI8: =COUNTA(G8:I8,K8:M8,O8:Q8,S8:U8,W8:Y8,AA8:AC8,AE8:AG8) -> 1 | AJ8: =COUNTIF(G8:AG8,"R")+(COUNTIF(G8:AG8,"HR")*2) -> 0 | AK8: =A8+B8 -> 0 | AL8: =COUNTIF(G8:AG8,"K") -> 0 | AO8: 28 | AP8: 陳傑閔 | AQ8: 5 | AR8: 1 | AS8: 1 | AT8: 3 | AW8: 28 | AX8: 陳傑閔 | AY8: {=_xlfn.CHOOSECOLS(_xlfn._xlws.FILTER($F$3:$AL$20,$F$3:$F$20=AX8),30,31,32,33)} -> 5 | AZ8: 1 | BA8: 1 | BB8: 3
A9: =COUNTIF($G$23:$AG$40,E9) -> 1 | C9: =COUNTIF(G9:AG9,"HR") -> 0 | D9: 3 | E9: 28 | F9: 陳傑閔 | G9: R | L9: K | S9: K | X9: 8 | AE9: K | AI9: =COUNTA(G9:I9,K9:M9,O9:Q9,S9:U9,W9:Y9,AA9:AC9,AE9:AG9) -> 5 | AJ9: =COUNTIF(G9:AG9,"R")+(COUNTIF(G9:AG9,"HR")*2) -> 1 | AK9: =A9+B9 -> 1 | AL9: =COUNTIF(G9:AG9,"K") -> 3 | AO9: 39 | AP9: 饒賀凱 | AQ9: 5 | AR9: 0 | AS9: 0 | AT9: 3 | AW9: 39 | AX9: 饒賀凱 | AY9: {=_xlfn.CHOOSECOLS(_xlfn._xlws.FILTER($F$3:$AL$20,$F$3:$F$20=AX9),30,31,32,33)} -> 5 | AZ9: 0 | BA9: 0 | BB9: 3
A10: =COUNTIF($G$23:$AG$40,E10) -> 0 | C10: =COUNTIF(G10:AG10,"HR") -> 0 | AI10: =COUNTA(G10:I10,K10:M10,O10:Q10,S10:U10,W10:Y10,AA10:AC10,AE10:AG10) -> 0 | AJ10: =COUNTIF(G10:AG10,"R")+(COUNTIF(G10:AG10,"HR")*2) -> 0 | AK10: =A10+B10 -> 0 | AL10: =COUNTIF(G10:AG10,"K") -> 0 | AM10: 觀測員 | AO10: 29 | AP10: 張玥琳 | AQ10: 4 | AR10: 0 | AS10: 0 | AT10: 0 | AW10: 29 | AX10: 張玥琳 | AY10: {=_xlfn.CHOOSECOLS(_xlfn._xlws.FILTER($F$3:$AL$20,$F$3:$F$20=AX10),30,31,32,33)} -> 4 | AZ10: 0 | BA10: 0 | BB10: 0
A11: =COUNTIF($G$23:$AG$40,E11) -> 0 | C11: =COUNTIF(G11:AG11,"HR") -> 0 | AI11: =COUNTA(G11:I11,K11:M11,O11:Q11,S11:U11,W11:Y11,AA11:AC11,AE11:AG11) -> 0 | AJ11: =COUNTIF(G11:AG11,"R")+(COUNTIF(G11:AG11,"HR")*2) -> 0 | AK11: =A11+B11 -> 0 | AL11: =COUNTIF(G11:AG11,"K") -> 0 | AM11: 游鎮維 | AO11: 66 | AP11: 陳韻婷 | AQ11: 4 | AR11: 0 | AS11: 0 | AT11: 2 | AW11: 66 | AX11: 陳韻婷 | AY11: {=_xlfn.CHOOSECOLS(_xlfn._xlws.FILTER($F$3:$AL$20,$F$3:$F$20=AX11),30,31,32,33)} -> 4 | AZ11: 0 | BA11: 0 | BB11: 2
A12: =COUNTIF($G$23:$AG$40,E12) -> 0 | C12: =COUNTIF(G12:AG12,"HR") -> 0 | D12: 4 | E12: 39 | F12: 饒賀凱 | G12: K | O12: 21 | S12: 35 | AA12: K | AE12: K | AI12: =COUNTA(G12:I12,K12:M12,O12:Q12,S12:U12,W12:Y12,AA12:AC12,AE12:AG12) -> 5 | AJ12: =COUNTIF(G12:AG12,"R")+(COUNTIF(G12:AG12,"HR")*2) -> 0 | AK12: =A12+B12 -> 0 | AL12: =COUNTIF(G12:AG12,"K") -> 3 | AY12: =SUM(AY4:AY11) -> 28 | AZ12: =SUM(AZ4:AZ11) -> 7 | BA12: =SUM(BA4:BA11) -> 3 | BB12: =SUM(BB4:BB11) -> 11
A13: =COUNTIF($G$23:$AG$40,E13) -> 0 | C13: =COUNTIF(G13:AG13,"HR") -> 0 | AI13: =COUNTA(G13:I13,K13:M13,O13:Q13,S13:U13,W13:Y13,AA13:AC13,AE13:AG13) -> 0 | AJ13: =COUNTIF(G13:AG13,"R")+(COUNTIF(G13:AG13,"HR")*2) -> 0 | AK13: =A13+B13 -> 0 | AL13: =COUNTIF(G13:AG13,"K") -> 0
A14: =COUNTIF($G$23:$AG$40,E14) -> 0 | C14: =COUNTIF(G14:AG14,"HR") -> 0 | AI14: =COUNTA(G14:I14,K14:M14,O14:Q14,S14:U14,W14:Y14,AA14:AC14,AE14:AG14) -> 0 | AJ14: =COUNTIF(G14:AG14,"R")+(COUNTIF(G14:AG14,"HR")*2) -> 0 | AK14: =A14+B14 -> 0 | AL14: =COUNTIF(G14:AG14,"K") -> 0 | AM14: 候補球員
A15: =COUNTIF($G$23:$AG$40,E15) -> 0 | C15: =COUNTIF(G15:AG15,"HR") -> 0 | D15: 5 | E15: 29 | F15: 張玥琳 | K15: 8 | O15: 111 | W15: 21 | AA15: 51 | AI15: =COUNTA(G15:I15,K15:M15,O15:Q15,S15:U15,W15:Y15,AA15:AC15,AE15:AG15) -> 4 | AJ15: =COUNTIF(G15:AG15,"R")+(COUNTIF(G15:AG15,"HR")*2) -> 0 | AK15: =A15+B15 -> 0 | AL15: =COUNTIF(G15:AG15,"K") -> 0
A16: =COUNTIF($G$23:$AG$40,E16) -> 0 | C16: =COUNTIF(G16:AG16,"HR") -> 0 | AI16: =COUNTA(G16:I16,K16:M16,O16:Q16,S16:U16,W16:Y16,AA16:AC16,AE16:AG16) -> 0 | AJ16: =COUNTIF(G16:AG16,"R")+(COUNTIF(G16:AG16,"HR")*2) -> 0 | AK16: =A16+B16 -> 0 | AL16: =COUNTIF(G16:AG16,"K") -> 0 | AQ16: =SUM(AQ3:AQ15) -> 28 | AR16: =SUM(AR3:AR15) -> 7 | AS16: =SUM(AS3:AS15) -> 3 | AT16: =SUM(AT3:AT15) -> 11
A17: =COUNTIF($G$23:$AG$40,E17) -> 0 | C17: =COUNTIF(G17:AG17,"HR") -> 0 | AI17: =COUNTA(G17:I17,K17:M17,O17:Q17,S17:U17,W17:Y17,AA17:AC17,AE17:AG17) -> 0 | AJ17: =COUNTIF(G17:AG17,"R")+(COUNTIF(G17:AG17,"HR")*2) -> 0 | AK17: =A17+B17 -> 0 | AL17: =COUNTIF(G17:AG17,"K") -> 0
A18: =COUNTIF($G$23:$AG$40,E18) -> 0 | C18: =COUNTIF(G18:AG18,"HR") -> 0 | D18: 6 | E18: 66 | F18: 陳韻婷 | K18: K | O18: 21 | W18: K | AA18: 35 | AI18: =COUNTA(G18:I18,K18:M18,O18:Q18,S18:U18,W18:Y18,AA18:AC18,AE18:AG18) -> 4 | AJ18: =COUNTIF(G18:AG18,"R")+(COUNTIF(G18:AG18,"HR")*2) -> 0 | AK18: =A18+B18 -> 0 | AL18: =COUNTIF(G18:AG18,"K") -> 2
A19: =COUNTIF($G$23:$AG$40,E19) -> 0 | C19: =COUNTIF(G19:AG19,"HR") -> 0 | AI19: =COUNTA(G19:I19,K19:M19,O19:Q19,S19:U19,W19:Y19,AA19:AC19,AE19:AG19) -> 0 | AJ19: =COUNTIF(G19:AG19,"R")+(COUNTIF(G19:AG19,"HR")*2) -> 0 | AK19: =A19+B19 -> 0 | AL19: =COUNTIF(G19:AG19,"K") -> 0
A20: =COUNTIF($G$23:$AG$40,E20) -> 0 | C20: =COUNTIF(G20:AG20,"HR") -> 0 | AI20: =COUNTA(G20:I20,K20:M20,O20:Q20,S20:U20,W20:Y20,AA20:AC20,AE20:AG20) -> 0 | AJ20: =COUNTIF(G20:AG20,"R")+(COUNTIF(G20:AG20,"HR")*2) -> 0 | AK20: =A20+B20 -> 0 | AL20: =COUNTIF(G20:AG20,"K") -> 0
A21: =SUM(A3:A20) -> 3 | B21: =SUM(B3:B20) -> 0 | C21: =SUM(C3:C20) -> 0 | D21: 得分加總 | G21: =COUNTIF(G3:I20,"R")+(COUNTIF(G3:I20,"HR")*2) -> 1 | K21: =COUNTIF(K3:M20,"R")+(COUNTIF(K3:M20,"HR")*2)+G21 -> 3 | O21: =COUNTIF(O3:Q20,"R")+(COUNTIF(O3:Q20,"HR")*2)+K21 -> 3 | S21: =COUNTIF(S3:U20,"R")+(COUNTIF(S3:U20,"HR")*2)+O21 -> 4 | W21: =COUNTIF(W3:Y20,"R")+(COUNTIF(W3:Y20,"HR")*2)+S21 -> 6 | AE21: =COUNTIF(AE3:AG20,"R")+(COUNTIF(AE3:AG20,"HR")*2)+W21 -> 7 | AI21: =SUM(AI3:AI20) -> 28 | AJ21: =SUM(AJ3:AJ20) -> 7 | AK21: =SUM(AK3:AK20) -> 3 | AL21: =SUM(AL3:AL20) -> 11
A22: 撿球 | B22: 接殺 | C22: HR | D22: 後 | E22: 背號 | F22: 球員 | G22: 1 | J22: 投 | K22: 2 | N22: 投 | O22: 3 | R22: 投 | S22: 4 | V22: 投 | W22: 5 | Z22: 投 | AA22: 6 | AD22: 投 | AE22: 7 | AH22: 投 | AI22: AB | AJ22: R | AK22: Po | AL22: K | AM22: 投/捕/觀 | AW22: 背號 | AX22: 球員 | AY22: AB | AZ22: R | BA22: Po | BB22: K
A23: =COUNTIF($G$3:$AG$20,E23) -> 0 | C23: =COUNTIF(G23:AG23,"HR") -> 0 | D23: 1 | E23: 99 | F23: 林育良 | G23: K | J23: 仁 | L23: K | N23: 仁 | S23: R | AI23: =COUNTA(G23:I23,K23:M23,O23:Q23,S23:U23,W23:Y23,AA23:AC23,AE23:AG23) -> 3 | AJ23: =COUNTIF(G23:AG23,"R")+C23 -> 1 | AK23: =A23+B23 -> 0 | AL23: =COUNTIF(G23:AG23,"K") -> 2 | AM23: 投手 | AO23: 99 | AP23: 林育良 | AQ23: 4 | AR23: 2 | AS23: 0 | AT23: 2 | AW23: 99 | AX23: 林育良 | AY23: 4 | AZ23: 2 | BA23: 0 | BB23: 2
A24: =COUNTIF($G$3:$AG$20,E24) -> 1 | C24: =COUNTIF(G24:AG24,"HR") -> 0 | E24: 51 | F24: 紀和成 | X24: R | Z24: 駱 | AE24: K | AH24: 駱 | AI24: =COUNTA(G24:I24,K24:M24,O24:Q24,S24:U24,W24:Y24,AA24:AC24,AE24:AG24) -> 2 | AJ24: =COUNTIF(G24:AG24,"R")+C24 -> 1 | AK24: =A24+B24 -> 1 | AL24: =COUNTIF(G24:AG24,"K") -> 1 | AM24: 李裕仁 | AO24: 51 | AP24: 紀和成 | AQ24: 2 | AR24: 1 | AS24: 1 | AT24: 1 | AW24: 51 | AX24: 紀和成 | AY24: {=_xlfn.CHOOSECOLS(_xlfn._xlws.FILTER($F$23:$AL$40,$F$23:$F$40=AX24),30,31,32,33)} -> 2 | AZ24: 1 | BA24: 1 | BB24: 1
A25: =COUNTIF($G$3:$AG$20,E25) -> 0 | C25: =COUNTIF(G25:AG25,"HR") -> 0 | AI25: =COUNTA(G25:I25,K25:M25,O25:Q25,S25:U25,W25:Y25,AA25:AC25,AE25:AG25) -> 0 | AJ25: =COUNTIF(G25:AG25,"R")+C25 -> 0 | AK25: =A25+B25 -> 0 | AL25: =COUNTIF(G25:AG25,"K") -> 0 | AM25: 駱繼宗 | AO25: 4 | AP25: 黃柏欽 | AQ25: 3 | AR25: 3 | AS25: 0 | AT25: 0 | AW25: 4 | AX25: 黃柏欽 | AY25: {=_xlfn.CHOOSECOLS(_xlfn._xlws.FILTER($F$23:$AL$40,$F$23:$F$40=AX25),30,31,32,33)} -> 3 | AZ25: 3 | BA25: 0 | BB25: 0
A26: =COUNTIF($G$3:$AG$20,E26) -> 0 | C26: =COUNTIF(G26:AG26,"HR") -> 0 | D26: 2 | E26: 4 | F26: 黃柏欽 | G26: R | J26: 仁 | O26: R | R26: 駱 | S26: R | AI26: =COUNTA(G26:I26,K26:M26,O26:Q26,S26:U26,W26:Y26,AA26:AC26,AE26:AG26) -> 3 | AJ26: =COUNTIF(G26:AG26,"R")+C26 -> 3 | AK26: =A26+B26 -> 0 | AL26: =COUNTIF(G26:AG26,"K") -> 0 | AM26: 捕手 | AO26: 88 | AP26: 鄭傳逸 | AQ26: 2 | AR26: 0 | AS26: 0 | AT26: 2 | AW26: 88 | AX26: 鄭傳逸 | AY26: {=_xlfn.CHOOSECOLS(_xlfn._xlws.FILTER($F$23:$AL$40,$F$23:$F$40=AX26),30,31,32,33)} -> 2 | AZ26: 0 | BA26: 0 | BB26: 2
A27: =COUNTIF($G$3:$AG$20,E27) -> 0 | C27: =COUNTIF(G27:AG27,"HR") -> 0 | E27: 88 | F27: 鄭傳逸 | X27: K | Z27: 駱 | AE27: K | AH27: 駱 | AI27: =COUNTA(G27:I27,K27:M27,O27:Q27,S27:U27,W27:Y27,AA27:AC27,AE27:AG27) -> 2 | AJ27: =COUNTIF(G27:AG27,"R")+C27 -> 0 | AK27: =A27+B27 -> 0 | AL27: =COUNTIF(G27:AG27,"K") -> 2 | AM27: 謝仲荃 | AO27: 21 | AP27: 郭育廷 | AQ27: 5 | AR27: 2 | AS27: 3 | AT27: 3 | AW27: 21 | AX27: 郭育廷 | AY27: {=_xlfn.CHOOSECOLS(_xlfn._xlws.FILTER($F$23:$AL$40,$F$23:$F$40=AX27),30,31,32,33)} -> 5 | AZ27: 2 | BA27: 3 | BB27: 3
A28: =COUNTIF($G$3:$AG$20,E28) -> 0 | C28: =COUNTIF(G28:AG28,"HR") -> 0 | AI28: =COUNTA(G28:I28,K28:M28,O28:Q28,S28:U28,W28:Y28,AA28:AC28,AE28:AG28) -> 0 | AJ28: =COUNTIF(G28:AG28,"R")+C28 -> 0 | AK28: =A28+B28 -> 0 | AL28: =COUNTIF(G28:AG28,"K") -> 0 | AO28: 111 | AP28: 林健彰 | AQ28: 4 | AR28: 0 | AS28: 1 | AT28: 3 | AW28: 111 | AX28: 林健彰 | AY28: {=_xlfn.CHOOSECOLS(_xlfn._xlws.FILTER($F$23:$AL$40,$F$23:$F$40=AX28),30,31,32,33)} -> 4 | AZ28: 0 | BA28: 1 | BB28: 3
A29: =COUNTIF($G$3:$AG$20,E29) -> 3 | C29: =COUNTIF(G29:AG29,"HR") -> 0 | D29: 3 | E29: 21 | F29: 郭育廷 | G29: K | J29: 仁 | O29: R | R29: 駱 | S29: K | X29: K | Z29: 駱 | AE29: R | AH29: 駱 | AI29: =COUNTA(G29:I29,K29:M29,O29:Q29,S29:U29,W29:Y29,AA29:AC29,AE29:AG29) -> 5 | AJ29: =COUNTIF(G29:AG29,"R")+C29 -> 2 | AK29: =A29+B29 -> 3 | AL29: =COUNTIF(G29:AG29,"K") -> 3 | AO29: 8 | AP29: 陳璽帆 | AQ29: 4 | AR29: 0 | AS29: 2 | AT29: 4 | AW29: 8 | AX29: 陳璽帆 | AY29: {=_xlfn.CHOOSECOLS(_xlfn._xlws.FILTER($F$23:$AL$40,$F$23:$F$40=AX29),30,31,32,33)} -> 4 | AZ29: 0 | BA29: 2 | BB29: 4
A30: =COUNTIF($G$3:$AG$20,E30) -> 0 | C30: =COUNTIF(G30:AG30,"HR") -> 0 | AI30: =COUNTA(G30:I30,K30:M30,O30:Q30,S30:U30,W30:Y30,AA30:AC30,AE30:AG30) -> 0 | AJ30: =COUNTIF(G30:AG30,"R")+C30 -> 0 | AK30: =A30+B30 -> 0 | AL30: =COUNTIF(G30:AG30,"K") -> 0 | AM30: 觀測員 | AO30: 35 | AP30: 陳俊欽 | AQ30: 4 | AR30: 0 | AS30: 3 | AT30: 2 | AW30: 35 | AX30: 陳俊欽 | AY30: {=_xlfn.CHOOSECOLS(_xlfn._xlws.FILTER($F$23:$AL$40,$F$23:$F$40=AX30),30,31,32,33)} -> 4 | AZ30: 0 | BA30: 3 | BB30: 2
A31: =COUNTIF($G$3:$AG$20,E31) -> 0 | C31: =COUNTIF(G31:AG31,"HR") -> 0 | AI31: =COUNTA(G31:I31,K31:M31,O31:Q31,S31:U31,W31:Y31,AA31:AC31,AE31:AG31) -> 0 | AJ31: =COUNTIF(G31:AG31,"R")+C31 -> 0 | AK31: =A31+B31 -> 0 | AL31: =COUNTIF(G31:AG31,"K") -> 0 | AM31: 薛沅庭 | AY31: =SUM(AY23:AY30) -> 28 | AZ31: =SUM(AZ23:AZ30) -> 8 | BA31: =SUM(BA23:BA30) -> 10 | BB31: =SUM(BB23:BB30) -> 17
A32: =COUNTIF($G$3:$AG$20,E32) -> 1 | C32: =COUNTIF(G32:AG32,"HR") -> 0 | D32: 4 | E32: 111 | F32: 林健彰 | G32: K | J32: 仁 | O32: K | R32: 駱 | S32: 25 | AA32: K | AD32: 駱 | AI32: =COUNTA(G32:I32,K32:M32,O32:Q32,S32:U32,W32:Y32,AA32:AC32,AE32:AG32) -> 4 | AJ32: =COUNTIF(G32:AG32,"R")+C32 -> 0 | AK32: =A32+B32 -> 1 | AL32: =COUNTIF(G32:AG32,"K") -> 3
A33: =COUNTIF($G$3:$AG$20,E33) -> 0 | C33: =COUNTIF(G33:AG33,"HR") -> 0 | E33: 99 | F33: 林育良 | AE33: R | AH33: 駱 | AI33: =COUNTA(G33:I33,K33:M33,O33:Q33,S33:U33,W33:Y33,AA33:AC33,AE33:AG33) -> 1 | AJ33: =COUNTIF(G33:AG33,"R")+C33 -> 1 | AK33: =A33+B33 -> 0 | AL33: =COUNTIF(G33:AG33,"K") -> 0
A34: =COUNTIF($G$3:$AG$20,E34) -> 0 | C34: =COUNTIF(G34:AG34,"HR") -> 0 | AI34: =COUNTA(G34:I34,K34:M34,O34:Q34,S34:U34,W34:Y34,AA34:AC34,AE34:AG34) -> 0 | AJ34: =COUNTIF(G34:AG34,"R")+C34 -> 0 | AK34: =A34+B34 -> 0 | AL34: =COUNTIF(G34:AG34,"K") -> 0 | AM34: 候補球員
A35: =COUNTIF($G$3:$AG$20,E35) -> 2 | C35: =COUNTIF(G35:AG35,"HR") -> 0 | D35: 5 | E35: 8 | F35: 陳璽帆 | K35: K | N35: 仁 | O35: K | R35: 駱 | S35: K | AA35: K | AD35: 駱 | AI35: =COUNTA(G35:I35,K35:M35,O35:Q35,S35:U35,W35:Y35,AA35:AC35,AE35:AG35) -> 4 | AJ35: =COUNTIF(G35:AG35,"R")+C35 -> 0 | AK35: =A35+B35 -> 2 | AL35: =COUNTIF(G35:AG35,"K") -> 4 | AQ35: =SUM(AQ23:AQ34) -> 28 | AR35: =SUM(AR23:AR34) -> 8 | AS35: =SUM(AS23:AS34) -> 10 | AT35: =SUM(AT23:AT34) -> 17
A36: =COUNTIF($G$3:$AG$20,E36) -> 0 | C36: =COUNTIF(G36:AG36,"HR") -> 0 | AI36: =COUNTA(G36:I36,K36:M36,O36:Q36,S36:U36,W36:Y36,AA36:AC36,AE36:AG36) -> 0 | AJ36: =COUNTIF(G36:AG36,"R")+C36 -> 0 | AK36: =A36+B36 -> 0 | AL36: =COUNTIF(G36:AG36,"K") -> 0
A37: =COUNTIF($G$3:$AG$20,E37) -> 0 | C37: =COUNTIF(G37:AG37,"HR") -> 0 | AI37: =COUNTA(G37:I37,K37:M37,O37:Q37,S37:U37,W37:Y37,AA37:AC37,AE37:AG37) -> 0 | AJ37: =COUNTIF(G37:AG37,"R")+C37 -> 0 | AK37: =A37+B37 -> 0 | AL37: =COUNTIF(G37:AG37,"K") -> 0
A38: =COUNTIF($G$3:$AG$20,E38) -> 3 | C38: =COUNTIF(G38:AG38,"HR") -> 0 | D38: 6 | E38: 35 | F38: 陳俊欽 | K38: K | N38: 仁 | O38: 28 | R38: 駱 | W38: 421 | Z38: 駱 | AA38: K | AD38: 駱 | AI38: =COUNTA(G38:I38,K38:M38,O38:Q38,S38:U38,W38:Y38,AA38:AC38,AE38:AG38) -> 4 | AJ38: =COUNTIF(G38:AG38,"R")+C38 -> 0 | AK38: =A38+B38 -> 3 | AL38: =COUNTIF(G38:AG38,"K") -> 2
A39: =COUNTIF($G$3:$AG$20,E39) -> 0 | C39: =COUNTIF(G39:AG39,"HR") -> 0 | AI39: =COUNTA(G39:I39,K39:M39,O39:Q39,S39:U39,W39:Y39,AA39:AC39,AE39:AG39) -> 0 | AJ39: =COUNTIF(G39:AG39,"R")+C39 -> 0 | AK39: =A39+B39 -> 0 | AL39: =COUNTIF(G39:AG39,"K") -> 0
A40: =COUNTIF($G$3:$AG$20,E40) -> 0 | C40: =COUNTIF(G40:AG40,"HR") -> 0 | AI40: =COUNTA(G40:I40,K40:M40,O40:Q40,S40:U40,W40:Y40,AE40:AG40) -> 0 | AJ40: =COUNTIF(G40:AG40,"R")+C40 -> 0 | AK40: =A40+B40 -> 0 | AL40: =COUNTIF(G40:AG40,"K") -> 0
A41: =SUM(A23:A40) -> 10 | B41: =SUM(B23:B40) -> 0 | C41: =SUM(C23:C40) -> 0 | D41: 得分加總 | G41: =COUNTIF(G23:I40,"R")+(COUNTIF(G23:I40,"HR")*2) -> 1 | K41: =COUNTIF(K23:M40,"R")+(COUNTIF(K23:M40,"HR")*2)+G41 -> 1 | O41: =COUNTIF(O23:Q40,"R")+(COUNTIF(O23:Q40,"HR")*2)+K41 -> 3 | S41: =COUNTIF(S23:U40,"R")+(COUNTIF(S23:U40,"HR")*2)+O41 -> 5 | W41: =COUNTIF(W23:Y40,"R")+(COUNTIF(W23:Y40,"HR")*2)+S41 -> 6 | AA41: =COUNTIF(AA23:AC40,"R")+(COUNTIF(AA23:AC40,"HR")*2)+W41 -> 6 | AE41: =COUNTIF(AE23:AG40,"R")+(COUNTIF(AE23:AG40,"HR")*2)+AA41 -> 8 | AI41: =SUM(AI23:AI40) -> 28 | AJ41: =SUM(AJ23:AJ40) -> 8 | AK41: =SUM(AK23:AK40) -> 10 | AL41: =SUM(AL23:AL40) -> 17

Sheet G6
B1: 加計分數 | D1: 場次 | H1: G6 | J1: 日期 | L1: 114.08.24 | Q1: =AA21 -> 2 | T1: 雄霸 | V1: VS | X1: 夜魔俠 | AB1: =AA41 -> 13 | AE1: 數據
A2: 撿球 | B2: 接殺 | C2: HR | D2: 先 | E2: 背號 | F2: 球員 | G2: 1 | J2: 投 | K2: 2 | N2: 投 | O2: 3 | R2: 投 | S2: 4 | V2: 投 | W2: 5 | Z2: 投 | AA2: 6 | AD2: 投 | AE2: AB | AF2: R | AG2: Po | AH2: K | AI2: 投/捕/觀
A3: =COUNTIF($G$23:$AC$40,E3) -> 2 | C3: =COUNTIF(G3:AC3,"HR") -> 0 | D3: 1 | E3: 26 | F3: 陳建閔 | G3: K | L3: R | T3: 22 | AB3: K | AE3: =COUNTA(G3:I3,K3:M3,O3:Q3,S3:U3,W3:Y3,AA3:AC3) -> 4 | AF3: =COUNTIF(G3:AC3,"R")+(COUNTIF(G3:AC3,"HR")*2) -> 1 | AG3: =A3+B3 -> 2 | AH3: =COUNTIF(G3:AC3,"K") -> 2 | AI3: 投手 | AK3: 背號 | AL3: 球員 | AM3: AB | AN3: R | AO3: Po | AP3: K
A4: =COUNTIF($G$23:$AC$40,E4) -> 0 | C4: =COUNTIF(G4:AC4,"HR") -> 0 | AE4: =COUNTA(G4:I4,K4:M4,O4:Q4,S4:U4,W4:Y4,AA4:AC4) -> 0 | AF4: =COUNTIF(G4:AC4,"R")+(COUNTIF(G4:AC4,"HR")*2) -> 0 | AG4: =A4+B4 -> 0 | AH4: =COUNTIF(G4:AC4,"K") -> 0 | AI4: 宋展宇 | AK4: 26 | AL4: 陳建閔 | AM4: {=_xlfn.CHOOSECOLS(_xlfn._xlws.FILTER($F$3:$AH$20,$F$3:$F$20=AL4),26,27,28,29)} -> 4 | AN4: 1 | AO4: 2 | AP4: 2
A5: =COUNTIF($G$23:$AC$40,E5) -> 0 | C5: =COUNTIF(G5:AC5,"HR") -> 0 | AE5: =COUNTA(G5:I5,K5:M5,O5:Q5,S5:U5,W5:Y5,AA5:AC5) -> 0 | AF5: =COUNTIF(G5:AC5,"R")+(COUNTIF(G5:AC5,"HR")*2) -> 0 | AG5: =A5+B5 -> 0 | AH5: =COUNTIF(G5:AC5,"K") -> 0 | AI5: 林文耀 | AK5: 99 | AL5: 何昌翰 | AM5: {=_xlfn.CHOOSECOLS(_xlfn._xlws.FILTER($F$3:$AH$20,$F$3:$F$20=AL5),26,27,28,29)} -> 4 | AN5: 1 | AO5: 1 | AP5: 3
A6: =COUNTIF($G$23:$AC$40,E6) -> 1 | C6: =COUNTIF(G6:AC6,"HR") -> 0 | D6: 2 | E6: 99 | F6: 何昌翰 | G6: R | L6: K | T6: K | AB6: K | AE6: =COUNTA(G6:I6,K6:M6,O6:Q6,S6:U6,W6:Y6,AA6:AC6) -> 4 | AF6: =COUNTIF(G6:AC6,"R")+(COUNTIF(G6:AC6,"HR")*2) -> 1 | AG6: =A6+B6 -> 1 | AH6: =COUNTIF(G6:AC6,"K") -> 3 | AI6: 捕手 | AK6: 66 | AL6: 陳玠樸 | AM6: {=_xlfn.CHOOSECOLS(_xlfn._xlws.FILTER($F$3:$AH$20,$F$3:$F$20=AL6),26,27,28,29)} -> 3 | AN6: 0 | AO6: 0 | AP6: 1
A7: =COUNTIF($G$23:$AC$40,E7) -> 0 | C7: =COUNTIF(G7:AC7,"HR") -> 0 | AE7: =COUNTA(G7:I7,K7:M7,O7:Q7,S7:U7,W7:Y7,AA7:AC7) -> 0 | AF7: =COUNTIF(G7:AC7,"R")+(COUNTIF(G7:AC7,"HR")*2) -> 0 | AG7: =A7+B7 -> 0 | AH7: =COUNTIF(G7:AC7,"K") -> 0 | AI7: 林宜宏 | AK7: 14 | AL7: 許戎忠 | AM7: {=_xlfn.CHOOSECOLS(_xlfn._xlws.FILTER($F$3:$AH$20,$F$3:$F$20=AL7),26,27,28,29)} -> 3 | AN7: 0 | AO7: 0 | AP7: 2
A8: =COUNTIF($G$23:$AC$40,E8) -> 0 | C8: =COUNTIF(G8:AC8,"HR") -> 0 | AE8: =COUNTA(G8:I8,K8:M8,O8:Q8,S8:U8,W8:Y8,AA8:AC8) -> 0 | AF8: =COUNTIF(G8:AC8,"R")+(COUNTIF(G8:AC8,"HR")*2) -> 0 | AG8: =A8+B8 -> 0 | AH8: =COUNTIF(G8:AC8,"K") -> 0 | AK8: 11 | AL8: 李庭旭 | AM8: {=_xlfn.CHOOSECOLS(_xlfn._xlws.FILTER($F$3:$AH$20,$F$3:$F$20=AL8),26,27,28,29)} -> 3 | AN8: 0 | AO8: 0 | AP8: 2
A9: =COUNTIF($G$23:$AC$40,E9) -> 0 | C9: =COUNTIF(G9:AC9,"HR") -> 0 | D9: 3 | E9: 66 | F9: 陳玠樸 | G9: 39 | O9: 21 | W9: K | AE9: =COUNTA(G9:I9,K9:M9,O9:Q9,S9:U9,W9:Y9,AA9:AC9) -> 3 | AF9: =COUNTIF(G9:AC9,"R")+(COUNTIF(G9:AC9,"HR")*2) -> 0 | AG9: =A9+B9 -> 0 | AH9: =COUNTIF(G9:AC9,"K") -> 1 | AK9: 83 | AL9: 王兆熙 | AM9: {=_xlfn.CHOOSECOLS(_xlfn._xlws.FILTER($F$3:$AH$20,$F$3:$F$20=AL9),26,27,28,29)} -> 3 | AN9: 0 | AO9: 0 | AP9: 1
A10: =COUNTIF($G$23:$AC$40,E10) -> 0 | C10: =COUNTIF(G10:AC10,"HR") -> 0 | AE10: =COUNTA(G10:I10,K10:M10,O10:Q10,S10:U10,W10:Y10,AA10:AC10) -> 0 | AF10: =COUNTIF(G10:AC10,"R")+(COUNTIF(G10:AC10,"HR")*2) -> 0 | AG10: =A10+B10 -> 0 | AH10: =COUNTIF(G10:AC10,"K") -> 0 | AI10: 觀測員
A11: =COUNTIF($G$23:$AC$40,E11) -> 0 | C11: =COUNTIF(G11:AC11,"HR") -> 0 | AE11: =COUNTA(G11:I11,K11:M11,O11:Q11,S11:U11,W11:Y11,AA11:AC11) -> 0 | AF11: =COUNTIF(G11:AC11,"R")+(COUNTIF(G11:AC11,"HR")*2) -> 0 | AG11: =A11+B11 -> 0 | AH11: =COUNTIF(G11:AC11,"K") -> 0 | AI11: 林文耀
A12: =COUNTIF($G$23:$AC$40,E12) -> 0 | C12: =COUNTIF(G12:AC12,"HR") -> 0 | D12: 4 | E12: 14 | F12: 許戎忠 | G12: K | O12: K | W12: 23 | Z12: 耀 | AE12: =COUNTA(G12:I12,K12:M12,O12:Q12,S12:U12,W12:Y12,AA12:AC12) -> 3 | AF12: =COUNTIF(G12:AC12,"R")+(COUNTIF(G12:AC12,"HR")*2) -> 0 | AG12: =A12+B12 -> 0 | AH12: =COUNTIF(G12:AC12,"K") -> 2
A13: =COUNTIF($G$23:$AC$40,E13) -> 0 | C13: =COUNTIF(G13:AC13,"HR") -> 0 | AE13: =COUNTA(G13:I13,K13:M13,O13:Q13,S13:U13,W13:Y13,AA13:AC13) -> 0 | AF13: =COUNTIF(G13:AC13,"R")+(COUNTIF(G13:AC13,"HR")*2) -> 0 | AG13: =A13+B13 -> 0 | AH13: =COUNTIF(G13:AC13,"K") -> 0
A14: =COUNTIF($G$23:$AC$40,E14) -> 0 | C14: =COUNTIF(G14:AC14,"HR") -> 0 | AE14: =COUNTA(G14:I14,K14:M14,O14:Q14,S14:U14,W14:Y14,AA14:AC14) -> 0 | AF14: =COUNTIF(G14:AC14,"R")+(COUNTIF(G14:AC14,"HR")*2) -> 0 | AG14: =A14+B14 -> 0 | AH14: =COUNTIF(G14:AC14,"K") -> 0 | AI14: 候補球員
A15: =COUNTIF($G$23:$AC$40,E15) -> 0 | C15: =COUNTIF(G15:AC15,"HR") -> 0 | D15: 5 | E15: 11 | F15: 李庭旭 | K15: 24 | O15: K | W15: K | AE15: =COUNTA(G15:I15,K15:M15,O15:Q15,S15:U15,W15:Y15,AA15:AC15) -> 3 | AF15: =COUNTIF(G15:AC15,"R")+(COUNTIF(G15:AC15,"HR")*2) -> 0 | AG15: =A15+B15 -> 0 | AH15: =COUNTIF(G15:AC15,"K") -> 2
A16: =COUNTIF($G$23:$AC$40,E16) -> 0 | C16: =COUNTIF(G16:AC16,"HR") -> 0 | AE16: =COUNTA(G16:I16,K16:M16,O16:Q16,S16:U16,W16:Y16,AA16:AC16) -> 0 | AF16: =COUNTIF(G16:AC16,"R")+(COUNTIF(G16:AC16,"HR")*2) -> 0 | AG16: =A16+B16 -> 0 | AH16: =COUNTIF(G16:AC16,"K") -> 0 | AM16: =SUM(AM4:AM10) -> 20 | AN16: =SUM(AN4:AN10) -> 2 | AO16: =SUM(AO4:AO10) -> 3 | AP16: =SUM(AP4:AP10) -> 11
A17: =COUNTIF($G$23:$AC$40,E17) -> 0 | C17: =COUNTIF(G17:AC17,"HR") -> 0 | AE17: =COUNTA(G17:I17,K17:M17,O17:Q17,S17:U17,W17:Y17,AA17:AC17) -> 0 | AF17: =COUNTIF(G17:AC17,"R")+(COUNTIF(G17:AC17,"HR")*2) -> 0 | AG17: =A17+B17 -> 0 | AH17: =COUNTIF(G17:AC17,"K") -> 0
A18: =COUNTIF($G$23:$AC$40,E18) -> 0 | C18: =COUNTIF(G18:AC18,"HR") -> 0 | D18: 6 | E18: 83 | F18: 王兆熙 | K18: 22 | S18: 23 | AA18: K | AE18: =COUNTA(G18:I18,K18:M18,O18:Q18,S18:U18,W18:Y18,AA18:AC18) -> 3 | AF18: =COUNTIF(G18:AC18,"R")+(COUNTIF(G18:AC18,"HR")*2) -> 0 | AG18: =A18+B18 -> 0 | AH18: =COUNTIF(G18:AC18,"K") -> 1
A19: =COUNTIF($G$23:$AC$40,E19) -> 0 | C19: =COUNTIF(G19:AC19,"HR") -> 0 | AE19: =COUNTA(G19:I19,K19:M19,O19:Q19,S19:U19,W19:Y19,AA19:AC19) -> 0 | AF19: =COUNTIF(G19:AC19,"R")+(COUNTIF(G19:AC19,"HR")*2) -> 0 | AG19: =A19+B19 -> 0 | AH19: =COUNTIF(G19:AC19,"K") -> 0
A20: =COUNTIF($G$23:$AC$40,E20) -> 0 | C20: =COUNTIF(G20:AC20,"HR") -> 0 | AE20: =COUNTA(G20:I20,K20:M20,O20:Q20,S20:U20,W20:Y20,AA20:AC20) -> 0 | AF20: =COUNTIF(G20:AC20,"R")+(COUNTIF(G20:AC20,"HR")*2) -> 0 | AG20: =A20+B20 -> 0 | AH20: =COUNTIF(G20:AC20,"K") -> 0
A21: =SUM(A3:A20) -> 3 | B21: =SUM(B3:B20) -> 0 | C21: =SUM(C3:C20) -> 0 | D21: 得分加總 | G21: =COUNTIF(G3:I20,"R")+(COUNTIF(G3:I20,"HR")*2) -> 1 | K21: =COUNTIF(K3:M20,"R")+(COUNTIF(K3:M20,"HR")*2)+G21 -> 2 | O21: =COUNTIF(O3:Q20,"R")+(COUNTIF(O3:Q20,"HR")*2)+K21 -> 2 | S21: =COUNTIF(S3:U20,"R")+(COUNTIF(S3:U20,"HR")*2)+O21 -> 2 | W21: =COUNTIF(W3:Y20,"R")+(COUNTIF(W3:Y20,"HR")*2)+S21 -> 2 | AA21: =COUNTIF(AA3:AC20,"R")+(COUNTIF(AA3:AC20,"HR")*2)+W21 -> 2 | AE21: =SUM(AE3:AE20) -> 20 | AF21: =SUM(AF3:AF20) -> 2 | AG21: =SUM(AG3:AG20) -> 3 | AH21: =SUM(AH3:AH20) -> 11
A22: 撿球 | B22: 接殺 | C22: HR | D22: 後 | E22: 背號 | F22: 球員 | G22: 1 | J22: 投 | K22: 2 | N22: 投 | O22: 3 | R22: 投 | S22: 4 | V22: 投 | W22: 5 | Z22: 投 | AA22: 6 | AD22: 投 | AE22: AB | AF22: R | AG22: Po | AH22: K | AI22: 投/捕/觀
A23: =COUNTIF($G$3:$AC$20,E23) -> 0 | C23: =COUNTIF(G23:AC23,"HR") -> 0 | D23: 1 | E23: 18 | F23: 梁耿縉 | G23: R | J23: 天 | L23: K | N23: 天 | O23: R | R23: 佑 | S23: R | V23: 佑 | X23: R | Z23: 佑 | AE23: =COUNTA(G23:I23,K23:M23,O23:Q23,S23:U23,W23:Y23,AA23:AC23) -> 5 | AF23: =COUNTIF(G23:AC23,"R")+C23 -> 4 | AG23: =A23+B23 -> 0 | AH23: =COUNTIF(G23:AC23,"K") -> 1 | AI23: 投手 | AK23: 18 | AL23: 梁耿縉 | AM23: {=_xlfn.CHOOSECOLS(_xlfn._xlws.FILTER($F$23:$AH$40,$F$23:$F$40=AL23),26,27,28,29)} -> 5 | AN23: 4 | AO23: 0 | AP23: 1
A24: =COUNTIF($G$3:$AC$20,E24) -> 0 | C24: =COUNTIF(G24:AC24,"HR") -> 0 | AE24: =COUNTA(G24:I24,K24:M24,O24:Q24,S24:U24,W24:Y24,AA24:AC24) -> 0 | AF24: =COUNTIF(G24:AC24,"R")+C24 -> 0 | AG24: =A24+B24 -> 0 | AH24: =COUNTIF(G24:AC24,"K") -> 0 | AI24: 陳相睿 | AK24: 22 | AL24: 蔡存宥 | AM24: {=_xlfn.CHOOSECOLS(_xlfn._xlws.FILTER($F$23:$AH$40,$F$23:$F$40=AL24),26,27,28,29)} -> 5 | AN24: 4 | AO24: 2 | AP24: 1
A25: =COUNTIF($G$3:$AC$20,E25) -> 0 | C25: =COUNTIF(G25:AC25,"HR") -> 0 | AE25: =COUNTA(G25:I25,K25:M25,O25:Q25,S25:U25,W25:Y25,AA25:AC25) -> 0 | AF25: =COUNTIF(G25:AC25,"R")+C25 -> 0 | AG25: =A25+B25 -> 0 | AH25: =COUNTIF(G25:AC25,"K") -> 0 | AI25: 林春佑 | AK25: 39 | AL25: 郭亦倫 | AM25: {=_xlfn.CHOOSECOLS(_xlfn._xlws.FILTER($F$23:$AH$40,$F$23:$F$40=AL25),26,27,28,29)} -> 4 | AN25: 1 | AO25: 1 | AP25: 2
A26: =COUNTIF($G$3:$AC$20,E26) -> 2 | C26: =COUNTIF(G26:AC26,"HR") -> 0 | D26: 2 | E26: 22 | F26: 蔡存宥 | G26: R | J26: 天 | L26: R | N26: 天 | O26: K | R26: 天 | S26: R | V26: 佑 | X26: R | Z26: 佑 | AE26: =COUNTA(G26:I26,K26:M26,O26:Q26,S26:U26,W26:Y26,AA26:AC26) -> 5 | AF26: =COUNTIF(G26:AC26,"R")+C26 -> 4 | AG26: =A26+B26 -> 2 | AH26: =COUNTIF(G26:AC26,"K") -> 1 | AI26: 捕手 | AK26: 11 | AL26: 勞恩以達西拔 | AM26: {=_xlfn.CHOOSECOLS(_xlfn._xlws.FILTER($F$23:$AH$40,$F$23:$F$40=AL26),26,27,28,29)} -> 1 | AN26: 0 | AO26: 0 | AP26: 1
A27: =COUNTIF($G$3:$AC$20,E27) -> 0 | C27: =COUNTIF(G27:AC27,"HR") -> 0 | AE27: =COUNTA(G27:I27,K27:M27,O27:Q27,S27:U27,W27:Y27,AA27:AC27) -> 0 | AF27: =COUNTIF(G27:AC27,"R")+C27 -> 0 | AG27: =A27+B27 -> 0 | AH27: =COUNTIF(G27:AC27,"K") -> 0 | AI27: 王辰光 | AK27: 81 | AL27: 余自成 | AM27: {=_xlfn.CHOOSECOLS(_xlfn._xlws.FILTER($F$23:$AH$40,$F$23:$F$40=AL27),26,27,28,29)} -> 2 | AN27: 1 | AO27: 0 | AP27: 1
A28: =COUNTIF($G$3:$AC$20,E28) -> 0 | C28: =COUNTIF(G28:AC28,"HR") -> 0 | AE28: =COUNTA(G28:I28,K28:M28,O28:Q28,S28:U28,W28:Y28,AA28:AC28) -> 0 | AF28: =COUNTIF(G28:AC28,"R")+C28 -> 0 | AG28: =A28+B28 -> 0 | AH28: =COUNTIF(G28:AC28,"K") -> 0 | AK28: 28 | AL28: 賴智傑 | AM28: {=_xlfn.CHOOSECOLS(_xlfn._xlws.FILTER($F$23:$AH$40,$F$23:$F$40=AL28),26,27,28,29)} -> 3 | AN28: 1 | AO28: 0 | AP28: 1
A29: =COUNTIF($G$3:$AC$20,E29) -> 1 | C29: =COUNTIF(G29:AC29,"HR") -> 0 | D29: 3 | E29: 39 | F29: 郭亦倫 | G29: 26 | J29: 天 | L29: R | N29: 天 | O29: K | R29: 天 | S29: K | V29: 佑 | AE29: =COUNTA(G29:I29,K29:M29,O29:Q29,S29:U29,W29:Y29,AA29:AC29) -> 4 | AF29: =COUNTIF(G29:AC29,"R")+C29 -> 1 | AG29: =A29+B29 -> 1 | AH29: =COUNTIF(G29:AC29,"K") -> 2 | AK29: 24 | AL29: 張睿紘 | AM29: {=_xlfn.CHOOSECOLS(_xlfn._xlws.FILTER($F$23:$AH$40,$F$23:$F$40=AL29),26,27,28,29)} -> 1 | AN29: 0 | AO29: 1 | AP29: 1
A30: =COUNTIF($G$3:$AC$20,E30) -> 0 | C30: =COUNTIF(G30:AC30,"HR") -> 0 | E30: 11 | F30: 勞恩以達西拔 | X30: K | Z30: 佑 | AE30: =COUNTA(G30:I30,K30:M30,O30:Q30,S30:U30,W30:Y30,AA30:AC30) -> 1 | AF30: =COUNTIF(G30:AC30,"R")+C30 -> 0 | AG30: =A30+B30 -> 0 | AH30: =COUNTIF(G30:AC30,"K") -> 1 | AI30: 觀測員 | AK30: 21 | AL30: 林君達 | AM30: {=_xlfn.CHOOSECOLS(_xlfn._xlws.FILTER($F$23:$AH$40,$F$23:$F$40=AL30),26,27,28,29)} -> 3 | AN30: 2 | AO30: 1 | AP30: 1
A31: =COUNTIF($G$3:$AC$20,E31) -> 0 | C31: =COUNTIF(G31:AC31,"HR") -> 0 | AE31: =COUNTA(G31:I31,K31:M31,O31:Q31,S31:U31,W31:Y31,AA31:AC31) -> 0 | AF31: =COUNTIF(G31:AC31,"R")+C31 -> 0 | AG31: =A31+B31 -> 0 | AH31: =COUNTIF(G31:AC31,"K") -> 0 | AI31: 劉維璽 | AK31: 58 | AL31: 蔡孟洵 | AM31: {=_xlfn.CHOOSECOLS(_xlfn._xlws.FILTER($F$23:$AH$40,$F$23:$F$40=AL31),26,27,28,29)} -> 3 | AN31: 0 | AO31: 0 | AP31: 3
A32: =COUNTIF($G$3:$AC$20,E32) -> 0 | C32: =COUNTIF(G32:AC32,"HR") -> 0 | D32: 4 | E32: 81 | F32: 余自成 | G32: K | J32: 天 | L32: R | N32: 天 | AE32: =COUNTA(G32:I32,K32:M32,O32:Q32,S32:U32,W32:Y32,AA32:AC32) -> 2 | AF32: =COUNTIF(G32:AC32,"R")+C32 -> 1 | AG32: =A32+B32 -> 0 | AH32: =COUNTIF(G32:AC32,"K") -> 1 | AK32: 23 | AL32: 邱文昇 | AM32: {=_xlfn.CHOOSECOLS(_xlfn._xlws.FILTER($F$23:$AH$40,$F$23:$F$40=AL32),26,27,28,29)} -> 1 | AN32: 0 | AO32: 2 | AP32: 0
A33: =COUNTIF($G$3:$AC$20,E33) -> 0 | C33: =COUNTIF(G33:AC33,"HR") -> 0 | E33: 28 | F33: 賴智傑 | O33: R | R33: 天 | S33: K | V33: 佑 | X33: 99 | Z33: 佑 | AE33: =COUNTA(G33:I33,K33:M33,O33:Q33,S33:U33,W33:Y33,AA33:AC33) -> 3 | AF33: =COUNTIF(G33:AC33,"R")+C33 -> 1 | AG33: =A33+B33 -> 0 | AH33: =COUNTIF(G33:AC33,"K") -> 1
A34: =COUNTIF($G$3:$AC$20,E34) -> 0 | C34: =COUNTIF(G34:AC34,"HR") -> 0 | AE34: =COUNTA(G34:I34,K34:M34,O34:Q34,S34:U34,W34:Y34,AA34:AC34) -> 0 | AF34: =COUNTIF(G34:AC34,"R")+C34 -> 0 | AG34: =A34+B34 -> 0 | AH34: =COUNTIF(G34:AC34,"K") -> 0 | AI34: 候補球員
A35: =COUNTIF($G$3:$AC$20,E35) -> 1 | C35: =COUNTIF(G35:AC35,"HR") -> 0 | D35: 5 | E35: 24 | F35: 張睿紘 | G35: K | J35: 天 | AE35: =COUNTA(G35:I35,K35:M35,O35:Q35,S35:U35,W35:Y35,AA35:AC35) -> 1 | AF35: =COUNTIF(G35:AC35,"R")+C35 -> 0 | AG35: =A35+B35 -> 1 | AH35: =COUNTIF(G35:AC35,"K") -> 1 | AM35: =SUM(AM23:AM32) -> 28 | AN35: =SUM(AN23:AN32) -> 13 | AO35: =SUM(AO23:AO32) -> 7 | AP35: =SUM(AP23:AP32) -> 12
A36: =COUNTIF($G$3:$AC$20,E36) -> 1 | C36: =COUNTIF(G36:AC36,"HR") -> 0 | E36: 21 | F36: 林君達 | L36: R | N36: 天 | O36: R | R36: 天 | S36: K | V36: 佑 | Z36: 佑 | AE36: =COUNTA(G36:I36,K36:M36,O36:Q36,S36:U36,W36:Y36,AA36:AC36) -> 3 | AF36: =COUNTIF(G36:AC36,"R")+C36 -> 2 | AG36: =A36+B36 -> 1 | AH36: =COUNTIF(G36:AC36,"K") -> 1
A37: =COUNTIF($G$3:$AC$20,E37) -> 0 | C37: =COUNTIF(G37:AC37,"HR") -> 0 | AE37: =COUNTA(G37:I37,K37:M37,O37:Q37,S37:U37,W37:Y37,AA37:AC37) -> 0 | AF37: =COUNTIF(G37:AC37,"R")+C37 -> 0 | AG37: =A37+B37 -> 0 | AH37: =COUNTIF(G37:AC37,"K") -> 0
A38: =COUNTIF($G$3:$AC$20,E38) -> 0 | C38: =COUNTIF(G38:AC38,"HR") -> 0 | D38: 6 | E38: 58 | F38: 蔡孟洵 | K38: K | L38: K | N38: 天 | O38: K | R38: 天 | AE38: =COUNTA(G38:I38,K38:M38,O38:Q38,S38:U38,W38:Y38,AA38:AC38) -> 3 | AF38: =COUNTIF(G38:AC38,"R")+C38 -> 0 | AG38: =A38+B38 -> 0 | AH38: =COUNTIF(G38:AC38,"K") -> 3
A39: =COUNTIF($G$3:$AC$20,E39) -> 2 | C39: =COUNTIF(G39:AC39,"HR") -> 0 | E39: 23 | F39: 邱文昇 | V39: 佑 | W39: 26 | Z39: 佑 | AE39: =COUNTA(G39:I39,K39:M39,O39:Q39,S39:U39,W39:Y39,AA39:AC39) -> 1 | AF39: =COUNTIF(G39:AC39,"R")+C39 -> 0 | AG39: =A39+B39 -> 2 | AH39: =COUNTIF(G39:AC39,"K") -> 0
A40: =COUNTIF($G$3:$AC$20,E40) -> 0 | C40: =COUNTIF(G40:AC40,"HR") -> 0 | AE40: =COUNTA(G40:I40,K40:M40,O40:Q40,S40:U40,W40:Y40,AA40:AC40) -> 0 | AF40: =COUNTIF(G40:AC40,"R")+C40 -> 0 | AG40: =A40+B40 -> 0 | AH40: =COUNTIF(G40:AC40,"K") -> 0
A41: =SUM(A23:A40) -> 7 | B41: =SUM(B23:B40) -> 0 | C41: =SUM(C23:C40) -> 0 | D41: 得分加總 | G41: =COUNTIF(G23:I40,"R")+(COUNTIF(G23:I40,"HR")*2) -> 2 | K41: =COUNTIF(K23:M40,"R")+(COUNTIF(K23:M40,"HR")*2)+G41 -> 6 | O41: =COUNTIF(O23:Q40,"R")+(COUNTIF(O23:Q40,"HR")*2)+K41 -> 9 | S41: =COUNTIF(S23:U40,"R")+(COUNTIF(S23:U40,"HR")*2)+O41 -> 11 | W41: =COUNTIF(W23:Y40,"R")+(COUNTIF(W23:Y40,"HR")*2)+S41 -> 13 | AA41: =COUNTIF(AA23:AC40,"R")+(COUNTIF(AA23:AC40,"HR")*2)+W41 -> 13 | AE41: =SUM(AE23:AE40) -> 28 | AF41: =SUM(AF23:AF40) -> 13 | AG41: =SUM(AG23:AG40) -> 7 | AH41: =SUM(AH23:AH40) -> 12

Sheet 成績匯總 (函數)
A3: A | B3: 閃電 | C3: G1 | G3: G2 | K3: G3 | O3: G4 | S3: G5 | W3: G6 | AA3: 數據
A4: 背號 | B4: 姓名 | C4: AB | D4: R | E4: Po | F4: K | G4: AB | H4: R | I4: Po | J4: K | K4: AB | L4: R | M4: Po | N4: K | O4: AB | P4: R | Q4: Po | R4: K | S4: AB | T4: R | U4: Po | V4: K | W4: AB | X4: R | Y4: Po | Z4: K | AA4: AB | AB4: R | AC4: Po | AD4: K | AE4: 打擊率 (R/AB)
A5: 8 | B5: 陳璽帆 | C5: {=IFERROR(_xlfn.XLOOKUP(B5,'G1'!$AL$3:$AL$34,'G1'!$AM$3:$AP$34),0)} -> 2 | D5: 1 | E5: 1 | F5: 1 | G5: {=IFERROR(_xlfn.XLOOKUP(B5,'G2'!$AL$4:$AL$34,'G2'!$AM$4:$AP$34),0)} -> 0 | K5: {=IFERROR(_xlfn.XLOOKUP(B5,'G3'!$AL$4:$AL$34,'G3'!$AM$4:$AP$34),0)} -> 0 | O5: {=IFERROR(_xlfn.XLOOKUP(B5,'G4'!$AL$4:$AL$34,'G4'!$AM$4:$AP$34),0)} -> 0 | P5: 0 | Q5: 0 | R5: 0 | S5: {=IFERROR(_xlfn.XLOOKUP(B5,'G5'!$AP$4:$AP$34,'G5'!$AQ$4:$AT$34),0)} -> 4 | T5: 0 | U5: 2 | V5: 4 | W5: {=IFERROR(_xlfn.XLOOKUP(B5,'G6'!$AL$4:$AL$34,'G6'!$AM$4:$AP$34),0)} -> 0 | AA5: =+C5+G5+K5+O5+S5+W5 -> 6 | AB5: =+D5+H5+L5+P5+T5+X5 -> 1 | AC5: =+E5+I5+M5+Q5+U5+Y5 -> 3 | AD5: =+F5+J5+N5+R5+V5+Z5 -> 5 | AE5: =+AB5/AA5 -> 0.16666667
A6: 4 | B6: 黃柏欽 | C6: {=IFERROR(_xlfn.XLOOKUP(B6,'G1'!$AL$3:$AL$34,'G1'!$AM$3:$AP$34),0)} -> 2 | D6: 0 | E6: 0 | F6: 2 | G6: {=IFERROR(_xlfn.XLOOKUP(B6,'G2'!$AL$4:$AL$34,'G2'!$AM$4:$AP$34),0)} -> 0 | K6: {=IFERROR(_xlfn.XLOOKUP(B6,'G3'!$AL$4:$AL$34,'G3'!$AM$4:$AP$34),0)} -> 0 | O6: {=IFERROR(_xlfn.XLOOKUP(B6,'G4'!$AL$4:$AL$34,'G4'!$AM$4:$AP$34),0)} -> 0 | P6: 0 | Q6: 0 | R6: 0 | S6: {=IFERROR(_xlfn.XLOOKUP(B6,'G5'!$AP$4:$AP$34,'G5'!$AQ$4:$AT$34),0)} -> 3 | T6: 3 | U6: 0 | V6: 0 | W6: {=IFERROR(_xlfn.XLOOKUP(B6,'G6'!$AL$4:$AL$34,'G6'!$AM$4:$AP$34),0)} -> 0 | AA6: =+C6+G6+K6+O6+S6+W6 -> 5 | AB6: =+D6+H6+L6+P6+T6+X6 -> 3 | AC6: =+E6+I6+M6+Q6+U6+Y6 -> 0 | AD6: =+F6+J6+N6+R6+V6+Z6 -> 2 | AE6: =+AB6/AA6 -> 0.6
A7: 21 | B7: 郭育廷 | C7: {=IFERROR(_xlfn.XLOOKUP(B7,'G1'!$AL$3:$AL$34,'G1'!$AM$3:$AP$34),0)} -> 4 | D7: 2 | E7: 2 | F7: 1 | G7: {=IFERROR(_xlfn.XLOOKUP(B7,'G2'!$AL$4:$AL$34,'G2'!$AM$4:$AP$34),0)} -> 0 | K7: {=IFERROR(_xlfn.XLOOKUP(B7,'G3'!$AL$4:$AL$34,'G3'!$AM$4:$AP$34),0)} -> 0 | O7: {=IFERROR(_xlfn.XLOOKUP(B7,'G4'!$AL$4:$AL$34,'G4'!$AM$4:$AP$34),0)} -> 0 | P7: 0 | Q7: 0 | R7: 0 | S7: {=IFERROR(_xlfn.XLOOKUP(B7,'G5'!$AP$4:$AP$34,'G5'!$AQ$4:$AT$34),0)} -> 5 | T7: 2 | U7: 3 | V7: 3 | W7: {=IFERROR(_xlfn.XLOOKUP(B7,'G6'!$AL$4:$AL$34,'G6'!$AM$4:$AP$34),0)} -> 0 | AA7: =+C7+G7+K7+O7+S7+W7 -> 9 | AB7: =+D7+H7+L7+P7+T7+X7 -> 4 | AC7: =+E7+I7+M7+Q7+U7+Y7 -> 5 | AD7: =+F7+J7+N7+R7+V7+Z7 -> 4 | AE7: =+AB7/AA7 -> 0.44444444
A8: 99 | B8: 林育良 | C8: {=IFERROR(_xlfn.XLOOKUP(B8,'G1'!$AL$3:$AL$34,'G1'!$AM$3:$AP$34),0)} -> 4 | D8: 0 | E8: 0 | F8: 3 | G8: {=IFERROR(_xlfn.XLOOKUP(B8,'G2'!$AL$4:$AL$34,'G2'!$AM$4:$AP$34),0)} -> 0 | K8: {=IFERROR(_xlfn.XLOOKUP(B8,'G3'!$AL$4:$AL$34,'G3'!$AM$4:$AP$34),0)} -> 0 | O8: {=IFERROR(_xlfn.XLOOKUP(B8,'G4'!$AL$4:$AL$34,'G4'!$AM$4:$AP$34),0)} -> 0 | S8: {=IFERROR(_xlfn.XLOOKUP(B8,'G5'!$AP$4:$AP$34,'G5'!$AQ$4:$AT$34),0)} -> 4 | T8: 2 | U8: 0 | V8: 2 | W8: {=IFERROR(_xlfn.XLOOKUP(B8,'G6'!$AL$4:$AL$34,'G6'!$AM$4:$AP$34),0)} -> 0 | AA8: =+C8+G8+K8+O8+S8+W8 -> 8 | AB8: =+D8+H8+L8+P8+T8+X8 -> 2 | AC8: =+E8+I8+M8+Q8+U8+Y8 -> 0 | AD8: =+F8+J8+N8+R8+V8+Z8 -> 5 | AE8: =+AB8/AA8 -> 0.25
A9: 111 | B9: 林健彰 | C9: {=IFERROR(_xlfn.XLOOKUP(B9,'G1'!$AL$3:$AL$34,'G1'!$AM$3:$AP$34),0)} -> 4 | D9: 1 | E9: 0 | F9: 2 | G9: {=IFERROR(_xlfn.XLOOKUP(B9,'G2'!$AL$4:$AL$34,'G2'!$AM$4:$AP$34),0)} -> 0 | K9: {=IFERROR(_xlfn.XLOOKUP(B9,'G3'!$AL$4:$AL$34,'G3'!$AM$4:$AP$34),0)} -> 0 | O9: {=IFERROR(_xlfn.XLOOKUP(B9,'G4'!$AL$4:$AL$34,'G4'!$AM$4:$AP$34),0)} -> 0 | P9: 0 | Q9: 0 | R9: 0 | S9: {=IFERROR(_xlfn.XLOOKUP(B9,'G5'!$AP$4:$AP$34,'G5'!$AQ$4:$AT$34),0)} -> 4 | T9: 0 | U9: 1 | V9: 3 | W9: {=IFERROR(_xlfn.XLOOKUP(B9,'G6'!$AL$4:$AL$34,'G6'!$AM$4:$AP$34),0)} -> 0 | AA9: =+C9+G9+K9+O9+S9+W9 -> 8 | AB9: =+D9+H9+L9+P9+T9+X9 -> 1 | AC9: =+E9+I9+M9+Q9+U9+Y9 -> 1 | AD9: =+F9+J9+N9+R9+V9+Z9 -> 5 | AE9: =+AB9/AA9 -> 0.125
A10: 35 | B10: 陳俊欽 | C10: {=IFERROR(_xlfn.XLOOKUP(B10,'G1'!$AL$3:$AL$34,'G1'!$AM$3:$AP$34),0)} -> 3 | D10: 0 | E10: 5 | F10: 3 | G10: {=IFERROR(_xlfn.XLOOKUP(B10,'G2'!$AL$4:$AL$34,'G2'!$AM$4:$AP$34),0)} -> 0 | K10: {=IFERROR(_xlfn.XLOOKUP(B10,'G3'!$AL$4:$AL$34,'G3'!$AM$4:$AP$34),0)} -> 0 | O10: {=IFERROR(_xlfn.XLOOKUP(B10,'G4'!$AL$4:$AL$34,'G4'!$AM$4:$AP$34),0)} -> 0 | P10: 0 | Q10: 0 | R10: 0 | S10: {=IFERROR(_xlfn.XLOOKUP(B10,'G5'!$AP$4:$AP$34,'G5'!$AQ$4:$AT$34),0)} -> 4 | T10: 0 | U10: 3 | V10: 2 | W10: {=IFERROR(_xlfn.XLOOKUP(B10,'G6'!$AL$4:$AL$34,'G6'!$AM$4:$AP$34),0)} -> 0 | AA10: =+C10+G10+K10+O10+S10+W10 -> 7 | AB10: =+D10+H10+L10+P10+T10+X10 -> 0 | AC10: =+E10+I10+M10+Q10+U10+Y10 -> 8 | AD10: =+F10+J10+N10+R10+V10+Z10 -> 5 | AE10: =+AB10/AA10 -> 0
A11: 88 | B11: 鄭傳逸 | C11: {=IFERROR(_xlfn.XLOOKUP(B11,'G1'!$AL$3:$AL$34,'G1'!$AM$3:$AP$34),0)} -> 4 | D11: 1 | E11: 1 | F11: 1 | G11: {=IFERROR(_xlfn.XLOOKUP(B11,'G2'!$AL$4:$AL$34,'G2'!$AM$4:$AP$34),0)} -> 0 | K11: {=IFERROR(_xlfn.XLOOKUP(B11,'G3'!$AL$4:$AL$34,'G3'!$AM$4:$AP$34),0)} -> 0 | O11: {=IFERROR(_xlfn.XLOOKUP(B11,'G4'!$AL$4:$AL$34,'G4'!$AM$4:$AP$34),0)} -> 0 | S11: {=IFERROR(_xlfn.XLOOKUP(B11,'G5'!$AP$4:$AP$34,'G5'!$AQ$4:$AT$34),0)} -> 2 | T11: 0 | U11: 0 | V11: 2 | W11: {=IFERROR(_xlfn.XLOOKUP(B11,'G6'!$AL$4:$AL$34,'G6'!$AM$4:$AP$34),0)} -> 0 | AA11: =+C11+G11+K11+O11+S11+W11 -> 6 | AB11: =+D11+H11+L11+P11+T11+X11 -> 1 | AC11: =+E11+I11+M11+Q11+U11+Y11 -> 1 | AD11: =+F11+J11+N11+R11+V11+Z11 -> 3 | AE11: =+AB11/AA11 -> 0.16666667
A12: 51 | B12: 紀和成 | C12: {=IFERROR(_xlfn.XLOOKUP(B12,'G1'!$AL$3:$AL$34,'G1'!$AM$3:$AP$34),0)} -> 0 | G12: {=IFERROR(_xlfn.XLOOKUP(B12,'G2'!$AL$4:$AL$34,'G2'!$AM$4:$AP$34),0)} -> 0 | K12: {=IFERROR(_xlfn.XLOOKUP(B12,'G3'!$AL$4:$AL$34,'G3'!$AM$4:$AP$34),0)} -> 0 | O12: {=IFERROR(_xlfn.XLOOKUP(B12,'G4'!$AL$4:$AL$34,'G4'!$AM$4:$AP$34),0)} -> 0 | P12: 0 | Q12: 0 | R12: 0 | S12: {=IFERROR(_xlfn.XLOOKUP(B12,'G5'!$AP$4:$AP$34,'G5'!$AQ$4:$AT$34),0)} -> 2 | T12: 1 | U12: 1 | V12: 1 | W12: {=IFERROR(_xlfn.XLOOKUP(B12,'G6'!$AL$4:$AL$34,'G6'!$AM$4:$AP$34),0)} -> 0 | AA12: =+C12+G12+K12+O12+S12+W12 -> 2 | AB12: =+D12+H12+L12+P12+T12+X12 -> 1 | AC12: =+E12+I12+M12+Q12+U12+Y12 -> 1 | AD12: =+F12+J12+N12+R12+V12+Z12 -> 1 | AE12: =+AB12/AA12 -> 0.5
C13: =SUM(C5:C12) -> 23 | D13: =SUM(D5:D12) -> 5 | E13: =SUM(E5:E12) -> 9 | F13: =SUM(F5:F12) -> 13 | G13: =SUM(G5:G12) -> 0 | H13: =SUM(H5:H12) -> 0 | I13: =SUM(I5:I12) -> 0 | J13: =SUM(J5:J12) -> 0 | ... AD13: =SUM(AD5:AD12) -> 30 | AE13: =+AB13/AA13 -> 0.25490196
A15: B | B15: 夜魔俠 | C15: G1 | G15: G2 | K15: G3 | O15: G4 | S15: G5 | W15: G6 | AA15: 數據
A16: 背號 | B16: 姓名 | C16: AB | D16: R | E16: Po | F16: K | G16: AB | H16: R | I16: Po | J16: K | K16: AB | L16: R | M16: Po | N16: K | O16: AB | P16: R | Q16: Po | R16: K | S16: AB | T16: R | U16: Po | V16: K | W16: AB | X16: R | Y16: Po | Z16: K | AA16: AB | AB16: R | AC16: Po | AD16: K | AE16: 打擊率 (R/AB)
A17: 18 | B17: 梁耿縉 | C17: {=IFERROR(_xlfn.XLOOKUP(B17,'G1'!$AL$3:$AL$34,'G1'!$AM$3:$AP$34),0)} -> 5 | D17: 5 | E17: 0 | F17: 0 | G17: {=IFERROR(_xlfn.XLOOKUP(B17,'G2'!$AL$4:$AL$34,'G2'!$AM$4:$AP$34),0)} -> 0 | K17: {=IFERROR(_xlfn.XLOOKUP(B17,'G3'!$AL$4:$AL$34,'G3'!$AM$4:$AP$34),0)} -> 3 | L17: 1 | M17: 0 | N17: 0 | O17: {=IFERROR(_xlfn.XLOOKUP(B17,'G4'!$AL$4:$AL$34,'G4'!$AM$4:$AP$34),0)} -> 0 | S17: {=IFERROR(_xlfn.XLOOKUP(B17,'G5'!$AP$4:$AP$34,'G5'!$AQ$4:$AT$34),0)} -> 0 | W17: {=IFERROR(_xlfn.XLOOKUP(B17,'G6'!$AL$4:$AL$34,'G6'!$AM$4:$AP$34),0)} -> 5 | X17: 4 | Y17: 0 | Z17: 1 | AA17: =+C17+G17+K17+O17+S17+W17 -> 13 | AB17: =+D17+H17+L17+P17+T17+X17 -> 10 | AC17: =+E17+I17+M17+Q17+U17+Y17 -> 0 | AD17: =+F17+J17+N17+R17+V17+Z17 -> 1 | AE17: =+AB17/AA17 -> 0.76923077
A18: 11 | B18: 勞恩以達西拔 | C18: {=IFERROR(_xlfn.XLOOKUP(B18,'G1'!$AL$3:$AL$34,'G1'!$AM$3:$AP$34),0)} -> 0 | G18: {=IFERROR(_xlfn.XLOOKUP(B18,'G2'!$AL$4:$AL$34,'G2'!$AM$4:$AP$34),0)} -> 0 | K18: {=IFERROR(_xlfn.XLOOKUP(B18,'G3'!$AL$4:$AL$34,'G3'!$AM$4:$AP$34),0)} -> 0 | O18: {=IFERROR(_xlfn.XLOOKUP(B18,'G4'!$AL$4:$AL$34,'G4'!$AM$4:$AP$34),0)} -> 0 | S18: {=IFERROR(_xlfn.XLOOKUP(B18,'G5'!$AP$4:$AP$34,'G5'!$AQ$4:$AT$34),0)} -> 0 | W18: {=IFERROR(_xlfn.XLOOKUP(B18,'G6'!$AL$4:$AL$34,'G6'!$AM$4:$AP$34),0)} -> 1 | X18: 0 | Y18: 0 | Z18: 1 | AA18: =+C18+G18+K18+O18+S18+W18 -> 1 | AB18: =+D18+H18+L18+P18+T18+X18 -> 0 | AC18: =+E18+I18+M18+Q18+U18+Y18 -> 0 | AD18: =+F18+J18+N18+R18+V18+Z18 -> 1 | AE18: =+AB18/AA18 -> 0
A19: 22 | B19: 蔡存宥 | C19: {=IFERROR(_xlfn.XLOOKUP(B19,'G1'!$AL$3:$AL$34,'G1'!$AM$3:$AP$34),0)} -> 5 | D19: 3 | E19: 0 | F19: 0 | G19: {=IFERROR(_xlfn.XLOOKUP(B19,'G2'!$AL$4:$AL$34,'G2'!$AM$4:$AP$34),0)} -> 0 | K19: {=IFERROR(_xlfn.XLOOKUP(B19,'G3'!$AL$4:$AL$34,'G3'!$AM$4:$AP$34),0)} -> 3 | L19: 1 | M19: 3 | N19: 0 | O19: {=IFERROR(_xlfn.XLOOKUP(B19,'G4'!$AL$4:$AL$34,'G4'!$AM$4:$AP$34),0)} -> 0 | S19: {=IFERROR(_xlfn.XLOOKUP(B19,'G5'!$AP$4:$AP$34,'G5'!$AQ$4:$AT$34),0)} -> 0 | W19: {=IFERROR(_xlfn.XLOOKUP(B19,'G6'!$AL$4:$AL$34,'G6'!$AM$4:$AP$34),0)} -> 5 | X19: 4 | Y19: 2 | Z19: 1 | AA19: =+C19+G19+K19+O19+S19+W19 -> 13 | AB19: =+D19+H19+L19+P19+T19+X19 -> 8 | AC19: =+E19+I19+M19+Q19+U19+Y19 -> 5 | AD19: =+F19+J19+N19+R19+V19+Z19 -> 1 | AE19: =+AB19/AA19 -> 0.61538462
A20: 39 | B20: 郭亦倫 | C20: {=IFERROR(_xlfn.XLOOKUP(B20,'G1'!$AL$3:$AL$34,'G1'!$AM$3:$AP$34),0)} -> 5 | D20: 3 | E20: 0 | F20: 0 | G20: {=IFERROR(_xlfn.XLOOKUP(B20,'G2'!$AL$4:$AL$34,'G2'!$AM$4:$AP$34),0)} -> 0 | K20: {=IFERROR(_xlfn.XLOOKUP(B20,'G3'!$AL$4:$AL$34,'G3'!$AM$4:$AP$34),0)} -> 3 | L20: 0 | M20: 1 | N20: 3 | O20: {=IFERROR(_xlfn.XLOOKUP(B20,'G4'!$AL$4:$AL$34,'G4'!$AM$4:$AP$34),0)} -> 0 | S20: {=IFERROR(_xlfn.XLOOKUP(B20,'G5'!$AP$4:$AP$34,'G5'!$AQ$4:$AT$34),0)} -> 0 | W20: {=IFERROR(_xlfn.XLOOKUP(B20,'G6'!$AL$4:$AL$34,'G6'!$AM$4:$AP$34),0)} -> 4 | X20: 1 | Y20: 1 | Z20: 2 | AA20: =+C20+G20+K20+O20+S20+W20 -> 12 | AB20: =+D20+H20+L20+P20+T20+X20 -> 4 | AC20: =+E20+I20+M20+Q20+U20+Y20 -> 2 | AD20: =+F20+J20+N20+R20+V20+Z20 -> 5 | AE20: =+AB20/AA20 -> 0.33333333
A21: 24 | B21: 張睿紘 | C21: {=IFERROR(_xlfn.XLOOKUP(B21,'G1'!$AL$3:$AL$34,'G1'!$AM$3:$AP$34),0)} -> 3 | D21: 1 | E21: 0 | F21: 2 | G21: {=IFERROR(_xlfn.XLOOKUP(B21,'G2'!$AL$4:$AL$34,'G2'!$AM$4:$AP$34),0)} -> 0 | K21: {=IFERROR(_xlfn.XLOOKUP(B21,'G3'!$AL$4:$AL$34,'G3'!$AM$4:$AP$34),0)} -> 3 | L21: 1 | M21: 0 | N21: 1 | O21: {=IFERROR(_xlfn.XLOOKUP(B21,'G4'!$AL$4:$AL$34,'G4'!$AM$4:$AP$34),0)} -> 0 | S21: {=IFERROR(_xlfn.XLOOKUP(B21,'G5'!$AP$4:$AP$34,'G5'!$AQ$4:$AT$34),0)} -> 0 | W21: {=IFERROR(_xlfn.XLOOKUP(B21,'G6'!$AL$4:$AL$34,'G6'!$AM$4:$AP$34),0)} -> 1 | X21: 0 | Y21: 1 | Z21: 1 | AA21: =+C21+G21+K21+O21+S21+W21 -> 7 | AB21: =+D21+H21+L21+P21+T21+X21 -> 2 | AC21: =+E21+I21+M21+Q21+U21+Y21 -> 1 | AD21: =+F21+J21+N21+R21+V21+Z21 -> 4 | AE21: =+AB21/AA21 -> 0.28571429
A22: 81 | B22: 余自成 | C22: {=IFERROR(_xlfn.XLOOKUP(B22,'G1'!$AL$3:$AL$34,'G1'!$AM$3:$AP$34),0)} -> 1 | D22: 0 | E22: 0 | F22: 0 | G22: {=IFERROR(_xlfn.XLOOKUP(B22,'G2'!$AL$4:$AL$34,'G2'!$AM$4:$AP$34),0)} -> 0 | K22: {=IFERROR(_xlfn.XLOOKUP(B22,'G3'!$AL$4:$AL$34,'G3'!$AM$4:$AP$34),0)} -> 0 | O22: {=IFERROR(_xlfn.XLOOKUP(B22,'G4'!$AL$4:$AL$34,'G4'!$AM$4:$AP$34),0)} -> 0 | S22: {=IFERROR(_xlfn.XLOOKUP(B22,'G5'!$AP$4:$AP$34,'G5'!$AQ$4:$AT$34),0)} -> 0 | W22: {=IFERROR(_xlfn.XLOOKUP(B22,'G6'!$AL$4:$AL$34,'G6'!$AM$4:$AP$34),0)} -> 2 | X22: 1 | Y22: 0 | Z22: 1 | AA22: =+C22+G22+K22+O22+S22+W22 -> 3 | AB22: =+D22+H22+L22+P22+T22+X22 -> 1 | AC22: =+E22+I22+M22+Q22+U22+Y22 -> 0 | AD22: =+F22+J22+N22+R22+V22+Z22 -> 1 | AE22: =+AB22/AA22 -> 0.33333333
A23: 58 | B23: 蔡孟洵 | C23: {=IFERROR(_xlfn.XLOOKUP(B23,'G1'!$AL$3:$AL$34,'G1'!$AM$3:$AP$34),0)} -> 0 | D23: 0 | E23: 0 | F23: 0 | G23: {=IFERROR(_xlfn.XLOOKUP(B23,'G2'!$AL$4:$AL$34,'G2'!$AM$4:$AP$34),0)} -> 0 | K23: {=IFERROR(_xlfn.XLOOKUP(B23,'G3'!$AL$4:$AL$34,'G3'!$AM$4:$AP$34),0)} -> 0 | O23: {=IFERROR(_xlfn.XLOOKUP(B23,'G4'!$AL$4:$AL$34,'G4'!$AM$4:$AP$34),0)} -> 0 | S23: {=IFERROR(_xlfn.XLOOKUP(B23,'G5'!$AP$4:$AP$34,'G5'!$AQ$4:$AT$34),0)} -> 0 | W23: {=IFERROR(_xlfn.XLOOKUP(B23,'G6'!$AL$4:$AL$34,'G6'!$AM$4:$AP$34),0)} -> 3 | X23: 0 | Y23: 0 | Z23: 3 | AA23: =+C23+G23+K23+O23+S23+W23 -> 3 | AB23: =+D23+H23+L23+P23+T23+X23 -> 0 | AC23: =+E23+I23+M23+Q23+U23+Y23 -> 0 | AD23: =+F23+J23+N23+R23+V23+Z23 -> 3 | AE23: =+AB23/AA23 -> 0
A24: 7 | B24: 陳建智 | C24: {=IFERROR(_xlfn.XLOOKUP(B24,'G1'!$AL$3:$AL$34,'G1'!$AM$3:$AP$34),0)} -> 0 | G24: {=IFERROR(_xlfn.XLOOKUP(B24,'G2'!$AL$4:$AL$34,'G2'!$AM$4:$AP$34),0)} -> 0 | K24: {=IFERROR(_xlfn.XLOOKUP(B24,'G3'!$AL$4:$AL$34,'G3'!$AM$4:$AP$34),0)} -> 0 | O24: {=IFERROR(_xlfn.XLOOKUP(B24,'G4'!$AL$4:$AL$34,'G4'!$AM$4:$AP$34),0)} -> 0 | S24: {=IFERROR(_xlfn.XLOOKUP(B24,'G5'!$AP$4:$AP$34,'G5'!$AQ$4:$AT$34),0)} -> 0 | W24: {=IFERROR(_xlfn.XLOOKUP(B24,'G6'!$AL$4:$AL$34,'G6'!$AM$4:$AP$34),0)} -> 0 | AA24: =+C24+G24+K24+O24+S24+W24 -> 0 | AB24: =+D24+H24+L24+P24+T24+X24 -> 0 | AC24: =+E24+I24+M24+Q24+U24+Y24 -> 0 | AD24: =+F24+J24+N24+R24+V24+Z24 -> 0 | AE24: =+AB24/AA24 -> #DIV/0!
A25: 23 | B25: 邱文昇 | C25: {=IFERROR(_xlfn.XLOOKUP(B25,'G1'!$AL$3:$AL$34,'G1'!$AM$3:$AP$34),0)} -> 5 | D25: 2 | E25: 3 | F25: 0 | G25: {=IFERROR(_xlfn.XLOOKUP(B25,'G2'!$AL$4:$AL$34,'G2'!$AM$4:$AP$34),0)} -> 0 | K25: {=IFERROR(_xlfn.XLOOKUP(B25,'G3'!$AL$4:$AL$34,'G3'!$AM$4:$AP$34),0)} -> 3 | L25: 0 | M25: 0 | N25: 0 | O25: {=IFERROR(_xlfn.XLOOKUP(B25,'G4'!$AL$4:$AL$34,'G4'!$AM$4:$AP$34),0)} -> 0 | S25: {=IFERROR(_xlfn.XLOOKUP(B25,'G5'!$AP$4:$AP$34,'G5'!$AQ$4:$AT$34),0)} -> 0 | W25: {=IFERROR(_xlfn.XLOOKUP(B25,'G6'!$AL$4:$AL$34,'G6'!$AM$4:$AP$34),0)} -> 1 | X25: 0 | Y25: 2 | Z25: 0 | AA25: =+C25+G25+K25+O25+S25+W25 -> 9 | AB25: =+D25+H25+L25+P25+T25+X25 -> 2 | AC25: =+E25+I25+M25+Q25+U25+Y25 -> 5 | AD25: =+F25+J25+N25+R25+V25+Z25 -> 0 | AE25: =+AB25/AA25 -> 0.22222222
A26: 28 | B26: 賴智傑 | C26: {=IFERROR(_xlfn.XLOOKUP(B26,'G1'!$AL$3:$AL$34,'G1'!$AM$3:$AP$34),0)} -> 3 | D26: 2 | E26: 1 | F26: 0 | G26: {=IFERROR(_xlfn.XLOOKUP(B26,'G2'!$AL$4:$AL$34,'G2'!$AM$4:$AP$34),0)} -> 0 | K26: {=IFERROR(_xlfn.XLOOKUP(B26,'G3'!$AL$4:$AL$34,'G3'!$AM$4:$AP$34),0)} -> 3 | L26: 1 | M26: 1 | N26: 2 | O26: {=IFERROR(_xlfn.XLOOKUP(B26,'G4'!$AL$4:$AL$34,'G4'!$AM$4:$AP$34),0)} -> 0 | S26: {=IFERROR(_xlfn.XLOOKUP(B26,'G5'!$AP$4:$AP$34,'G5'!$AQ$4:$AT$34),0)} -> 0 | W26: {=IFERROR(_xlfn.XLOOKUP(B26,'G6'!$AL$4:$AL$34,'G6'!$AM$4:$AP$34),0)} -> 3 | X26: 1 | Y26: 0 | Z26: 1 | AA26: =+C26+G26+K26+O26+S26+W26 -> 9 | AB26: =+D26+H26+L26+P26+T26+X26 -> 4 | AC26: =+E26+I26+M26+Q26+U26+Y26 -> 2 | AD26: =+F26+J26+N26+R26+V26+Z26 -> 3 | AE26: =+AB26/AA26 -> 0.44444444
A27: 21 | B27: 林君達 | C27: {=IFERROR(_xlfn.XLOOKUP(B27,'G1'!$AL$3:$AL$34,'G1'!$AM$3:$AP$34),0)} -> 2 | D27: 1 | E27: 1 | F27: 1 | G27: {=IFERROR(_xlfn.XLOOKUP(B27,'G2'!$AL$4:$AL$34,'G2'!$AM$4:$AP$34),0)} -> 0 | K27: {=IFERROR(_xlfn.XLOOKUP(B27,'G3'!$AL$4:$AL$34,'G3'!$AM$4:$AP$34),0)} -> 0 | O27: {=IFERROR(_xlfn.XLOOKUP(B27,'G4'!$AL$4:$AL$34,'G4'!$AM$4:$AP$34),0)} -> 0 | S27: {=IFERROR(_xlfn.XLOOKUP(B27,'G5'!$AP$4:$AP$34,'G5'!$AQ$4:$AT$34),0)} -> 0 | W27: {=IFERROR(_xlfn.XLOOKUP(B27,'G6'!$AL$4:$AL$34,'G6'!$AM$4:$AP$34),0)} -> 3 | X27: 2 | Y27: 1 | Z27: 1 | AA27: =+C27+G27+K27+O27+S27+W27 -> 5 | AB27: =+D27+H27+L27+P27+T27+X27 -> 3 | AC27: =+E27+I27+M27+Q27+U27+Y27 -> 2 | AD27: =+F27+J27+N27+R27+V27+Z27 -> 2 | AE27: =+AB27/AA27 -> 0.6
C28: =SUM(C17:C27) -> 29 | D28: =SUM(D17:D27) -> 17 | E28: =SUM(E17:E27) -> 5 | F28: =SUM(F17:F27) -> 3 | G28: =SUM(G17:G27) -> 0 | H28: =SUM(H17:H27) -> 0 | I28: =SUM(I17:I27) -> 0 | J28: =SUM(J17:J27) -> 0 | ... AD28: =SUM(AD17:AD27) -> 21 | AE28: =+AB28/AA28 -> 0.45333333
A30: C | B30: 雄霸 | C30: G1 | G30: G2 | K30: G3 | O30: G4 | S30: G5 | W30: G6 | AA30: 數據
A31: 背號 | B31: 姓名 | C31: AB | D31: R | E31: Po | F31: K | G31: AB | H31: R | I31: Po | J31: K | K31: AB | L31: R | M31: Po | N31: K | O31: AB | P31: R | Q31: Po | R31: K | S31: AB | T31: R | U31: Po | V31: K | W31: AB | X31: R | Y31: Po | Z31: K | AA31: AB | AB31: R | AC31: Po | AD31: K | AE31: 打擊率 (R/AB)
A32: 11 | B32: 李庭旭 | C32: {=IFERROR(_xlfn.XLOOKUP(B32,'G1'!$AL$3:$AL$34,'G1'!$AM$3:$AP$34),0)} -> 0 | G32: {=IFERROR(_xlfn.XLOOKUP(B32,'G2'!$AL$4:$AL$34,'G2'!$AM$4:$AP$34),0)} -> 0 | H32: 0 | I32: 0 | J32: 0 | K32: {=IFERROR(_xlfn.XLOOKUP(B32,'G3'!$AL$4:$AL$34,'G3'!$AM$4:$AP$34),0)} -> 2 | L32: 0 | M32: 0 | N32: 2 | O32: {=IFERROR(_xlfn.XLOOKUP(B32,'G4'!$AL$4:$AL$34,'G4'!$AM$4:$AP$34),0)} -> 0 | S32: {=IFERROR(_xlfn.XLOOKUP(B32,'G5'!$AP$4:$AP$34,'G5'!$AQ$4:$AT$34),0)} -> 0 | W32: {=IFERROR(_xlfn.XLOOKUP(B32,'G6'!$AL$4:$AL$34,'G6'!$AM$4:$AP$34),0)} -> 3 | X32: 0 | Y32: 0 | Z32: 2 | AA32: =+C32+G32+K32+O32+S32+W32 -> 5 | AB32: =+D32+H32+L32+P32+T32+X32 -> 0 | AC32: =+E32+I32+M32+Q32+U32+Y32 -> 0 | AD32: =+F32+J32+N32+R32+V32+Z32 -> 4 | AE32: =+AB32/AA32 -> 0
A33: 99 | B33: 何昌翰 | C33: {=IFERROR(_xlfn.XLOOKUP(B33,'G1'!$AL$3:$AL$34,'G1'!$AM$3:$AP$34),0)} -> 0 | G33: {=IFERROR(_xlfn.XLOOKUP(B33,'G2'!$AL$4:$AL$34,'G2'!$AM$4:$AP$34),0)} -> 0 | H33: 0 | I33: 0 | J33: 0 | K33: {=IFERROR(_xlfn.XLOOKUP(B33,'G3'!$AL$4:$AL$34,'G3'!$AM$4:$AP$34),0)} -> 4 | L33: 0 | M33: 0 | N33: 4 | O33: {=IFERROR(_xlfn.XLOOKUP(B33,'G4'!$AL$4:$AL$34,'G4'!$AM$4:$AP$34),0)} -> 0 | S33: {=IFERROR(_xlfn.XLOOKUP(B33,'G5'!$AP$4:$AP$34,'G5'!$AQ$4:$AT$34),0)} -> 0 | W33: {=IFERROR(_xlfn.XLOOKUP(B33,'G6'!$AL$4:$AL$34,'G6'!$AM$4:$AP$34),0)} -> 4 | X33: 1 | Y33: 1 | Z33: 3 | AA33: =+C33+G33+K33+O33+S33+W33 -> 8 | AB33: =+D33+H33+L33+P33+T33+X33 -> 1 | AC33: =+E33+I33+M33+Q33+U33+Y33 -> 1 | AD33: =+F33+J33+N33+R33+V33+Z33 -> 7 | AE33: =+AB33/AA33 -> 0.125
A34: 26 | B34: 陳建閔 | C34: {=IFERROR(_xlfn.XLOOKUP(B34,'G1'!$AL$3:$AL$34,'G1'!$AM$3:$AP$34),0)} -> 0 | G34: {=IFERROR(_xlfn.XLOOKUP(B34,'G2'!$AL$4:$AL$34,'G2'!$AM$4:$AP$34),0)} -> 0 | H34: 0 | I34: 0 | J34: 0 | K34: {=IFERROR(_xlfn.XLOOKUP(B34,'G3'!$AL$4:$AL$34,'G3'!$AM$4:$AP$34),0)} -> 4 | L34: 0 | M34: 0 | N34: 3 | O34: {=IFERROR(_xlfn.XLOOKUP(B34,'G4'!$AL$4:$AL$34,'G4'!$AM$4:$AP$34),0)} -> 0 | S34: {=IFERROR(_xlfn.XLOOKUP(B34,'G5'!$AP$4:$AP$34,'G5'!$AQ$4:$AT$34),0)} -> 0 | W34: {=IFERROR(_xlfn.XLOOKUP(B34,'G6'!$AL$4:$AL$34,'G6'!$AM$4:$AP$34),0)} -> 4 | X34: 1 | Y34: 2 | Z34: 2 | AA34: =+C34+G34+K34+O34+S34+W34 -> 8 | AB34: =+D34+H34+L34+P34+T34+X34 -> 1 | AC34: =+E34+I34+M34+Q34+U34+Y34 -> 2 | AD34: =+F34+J34+N34+R34+V34+Z34 -> 5 | AE34: =+AB34/AA34 -> 0.125
A35: 14 | B35: 許戎忠 | C35: {=IFERROR(_xlfn.XLOOKUP(B35,'G1'!$AL$3:$AL$34,'G1'!$AM$3:$AP$34),0)} -> 0 | G35: {=IFERROR(_xlfn.XLOOKUP(B35,'G2'!$AL$4:$AL$34,'G2'!$AM$4:$AP$34),0)} -> 0 | H35: 0 | I35: 0 | J35: 0 | K35: {=IFERROR(_xlfn.XLOOKUP(B35,'G3'!$AL$4:$AL$34,'G3'!$AM$4:$AP$34),0)} -> 3 | L35: 0 | M35: 0 | N35: 2 | O35: {=IFERROR(_xlfn.XLOOKUP(B35,'G4'!$AL$4:$AL$34,'G4'!$AM$4:$AP$34),0)} -> 0 | S35: {=IFERROR(_xlfn.XLOOKUP(B35,'G5'!$AP$4:$AP$34,'G5'!$AQ$4:$AT$34),0)} -> 0 | W35: {=IFERROR(_xlfn.XLOOKUP(B35,'G6'!$AL$4:$AL$34,'G6'!$AM$4:$AP$34),0)} -> 3 | X35: 0 | Y35: 0 | Z35: 2 | AA35: =+C35+G35+K35+O35+S35+W35 -> 6 | AB35: =+D35+H35+L35+P35+T35+X35 -> 0 | AC35: =+E35+I35+M35+Q35+U35+Y35 -> 0 | AD35: =+F35+J35+N35+R35+V35+Z35 -> 4 | AE35: =+AB35/AA35 -> 0
A36: 66 | B36: 陳玠樸 | C36: {=IFERROR(_xlfn.XLOOKUP(B36,'G1'!$AL$3:$AL$34,'G1'!$AM$3:$AP$34),0)} -> 0 | G36: {=IFERROR(_xlfn.XLOOKUP(B36,'G2'!$AL$4:$AL$34,'G2'!$AM$4:$AP$34),0)} -> 0 | H36: 0 | I36: 0 | J36: 0 | K36: {=IFERROR(_xlfn.XLOOKUP(B36,'G3'!$AL$4:$AL$34,'G3'!$AM$4:$AP$34),0)} -> 1 | L36: 0 | M36: 0 | N36: 0 | O36: {=IFERROR(_xlfn.XLOOKUP(B36,'G4'!$AL$4:$AL$34,'G4'!$AM$4:$AP$34),0)} -> 0 | S36: {=IFERROR(_xlfn.XLOOKUP(B36,'G5'!$AP$4:$AP$34,'G5'!$AQ$4:$AT$34),0)} -> 0 | W36: {=IFERROR(_xlfn.XLOOKUP(B36,'G6'!$AL$4:$AL$34,'G6'!$AM$4:$AP$34),0)} -> 3 | X36: 0 | Y36: 0 | Z36: 1 | AA36: =+C36+G36+K36+O36+S36+W36 -> 4 | AB36: =+D36+H36+L36+P36+T36+X36 -> 0 | AC36: =+E36+I36+M36+Q36+U36+Y36 -> 0 | AD36: =+F36+J36+N36+R36+V36+Z36 -> 1 | AE36: =+AB36/AA36 -> 0
A37: 9 | B37: 陳宥憲 | C37: {=IFERROR(_xlfn.XLOOKUP(B37,'G1'!$AL$3:$AL$34,'G1'!$AM$3:$AP$34),0)} -> 0 | G37: {=IFERROR(_xlfn.XLOOKUP(B37,'G2'!$AL$4:$AL$34,'G2'!$AM$4:$AP$34),0)} -> 0 | H37: 0 | I37: 0 | J37: 0 | K37: {=IFERROR(_xlfn.XLOOKUP(B37,'G3'!$AL$4:$AL$34,'G3'!$AM$4:$AP$34),0)} -> 3 | L37: 2 | M37: 10 | N37: 1 | O37: {=IFERROR(_xlfn.XLOOKUP(B37,'G4'!$AL$4:$AL$34,'G4'!$AM$4:$AP$34),0)} -> 0 | S37: {=IFERROR(_xlfn.XLOOKUP(B37,'G5'!$AP$4:$AP$34,'G5'!$AQ$4:$AT$34),0)} -> 0 | W37: {=IFERROR(_xlfn.XLOOKUP(B37,'G6'!$AL$4:$AL$34,'G6'!$AM$4:$AP$34),0)} -> 0 | AA37: =+C37+G37+K37+O37+S37+W37 -> 3 | AB37: =+D37+H37+L37+P37+T37+X37 -> 2 | AC37: =+E37+I37+M37+Q37+U37+Y37 -> 10 | AD37: =+F37+J37+N37+R37+V37+Z37 -> 1 | AE37: =+AB37/AA37 -> 0.66666667
A38: 83 | B38: 王兆熙 | C38: {=IFERROR(_xlfn.XLOOKUP(B38,'G1'!$AL$3:$AL$34,'G1'!$AM$3:$AP$34),0)} -> 0 | G38: {=IFERROR(_xlfn.XLOOKUP(B38,'G2'!$AL$4:$AL$34,'G2'!$AM$4:$AP$34),0)} -> 0 | H38: 0 | I38: 0 | J38: 0 | K38: {=IFERROR(_xlfn.XLOOKUP(B38,'G3'!$AL$4:$AL$34,'G3'!$AM$4:$AP$34),0)} -> 3 | L38: 0 | M38: 0 | N38: 1 | O38: {=IFERROR(_xlfn.XLOOKUP(B38,'G4'!$AL$4:$AL$34,'G4'!$AM$4:$AP$34),0)} -> 0 | S38: {=IFERROR(_xlfn.XLOOKUP(B38,'G5'!$AP$4:$AP$34,'G5'!$AQ$4:$AT$34),0)} -> 0 | W38: {=IFERROR(_xlfn.XLOOKUP(B38,'G6'!$AL$4:$AL$34,'G6'!$AM$4:$AP$34),0)} -> 3 | X38: 0 | Y38: 0 | Z38: 1 | AA38: =+C38+G38+K38+O38+S38+W38 -> 6 | AB38: =+D38+H38+L38+P38+T38+X38 -> 0 | AC38: =+E38+I38+M38+Q38+U38+Y38 -> 0 | AD38: =+F38+J38+N38+R38+V38+Z38 -> 2 | AE38: =+AB38/AA38 -> 0
C39: =SUM(C32:C38) -> 0 | D39: =SUM(D32:D38) -> 0 | E39: =SUM(E32:E38) -> 0 | F39: =SUM(F32:F38) -> 0 | G39: =SUM(G32:G38) -> 0 | H39: =SUM(H32:H38) -> 0 | I39: =SUM(I32:I38) -> 0 | J39: =SUM(J32:J38) -> 0 | ... AD39: =SUM(AD32:AD38) -> 24 | AE39: =+AB39/AA39 -> 0.1
A41: D | B41: 新北獵豹 | C41: G1 | G41: G2 | K41: G3 | O41: G4 | S41: G5 | W41: G6 | AA41: 數據
A42: 背號 | B42: 姓名 | C42: AB | D42: R | E42: Po | F42: K | G42: AB | H42: R | I42: Po | J42: K | K42: AB | L42: R | M42: Po | N42: K | O42: AB | P42: R | Q42: Po | R42: K | S42: AB | T42: R | U42: Po | V42: K | W42: AB | X42: R | Y42: Po | Z42: K | AA42: AB | AB42: R | AC42: Po | AD42: K | AE42: 打擊率 (R/AB)
A43: 6 | B43: 李秀美 | C43: {=IFERROR(_xlfn.XLOOKUP(B43,'G1'!$AL$3:$AL$34,'G1'!$AM$3:$AP$34),0)} -> 0 | G43: {=IFERROR(_xlfn.XLOOKUP(B43,'G2'!$AL$4:$AL$34,'G2'!$AM$4:$AP$34),0)} -> 0 | H43: 0 | I43: 0 | J43: 0 | K43: {=IFERROR(_xlfn.XLOOKUP(B43,'G3'!$AL$4:$AL$34,'G3'!$AM$4:$AP$34),0)} -> 0 | O43: {=IFERROR(_xlfn.XLOOKUP(B43,'G4'!$AL$4:$AL$34,'G4'!$AM$4:$AP$34),0)} -> 0 | S43: {=IFERROR(_xlfn.XLOOKUP(B43,'G5'!$AP$4:$AP$34,'G5'!$AQ$4:$AT$34),0)} -> 0 | W43: {=IFERROR(_xlfn.XLOOKUP(B43,'G6'!$AL$4:$AL$34,'G6'!$AM$4:$AP$34),0)} -> 0 | AA43: =+C43+G43+K43+O43+S43+W43 -> 0 | AB43: =+D43+H43+L43+P43+T43+X43 -> 0 | AC43: =+E43+I43+M43+Q43+U43+Y43 -> 0 | AD43: =+F43+J43+N43+R43+V43+Z43 -> 0 | AE43: =+AB43/AA43 -> #DIV/0!
A44: 15 | B44: 蔡宗豪 | C44: {=IFERROR(_xlfn.XLOOKUP(B44,'G1'!$AL$3:$AL$34,'G1'!$AM$3:$AP$34),0)} -> 0 | G44: {=IFERROR(_xlfn.XLOOKUP(B44,'G2'!$AL$4:$AL$34,'G2'!$AM$4:$AP$34),0)} -> 0 | H44: 0 | I44: 0 | J44: 0 | K44: {=IFERROR(_xlfn.XLOOKUP(B44,'G3'!$AL$4:$AL$34,'G3'!$AM$4:$AP$34),0)} -> 0 | O44: {=IFERROR(_xlfn.XLOOKUP(B44,'G4'!$AL$4:$AL$34,'G4'!$AM$4:$AP$34),0)} -> 0 | S44: {=IFERROR(_xlfn.XLOOKUP(B44,'G5'!$AP$4:$AP$34,'G5'!$AQ$4:$AT$34),0)} -> 0 | W44: {=IFERROR(_xlfn.XLOOKUP(B44,'G6'!$AL$4:$AL$34,'G6'!$AM$4:$AP$34),0)} -> 0 | AA44: =+C44+G44+K44+O44+S44+W44 -> 0 | AB44: =+D44+H44+L44+P44+T44+X44 -> 0 | AC44: =+E44+I44+M44+Q44+U44+Y44 -> 0 | AD44: =+F44+J44+N44+R44+V44+Z44 -> 0 | AE44: =+AB44/AA44 -> #DIV/0!
A45: 29 | B45: 張玥琳 | C45: {=IFERROR(_xlfn.XLOOKUP(B45,'G1'!$AL$3:$AL$34,'G1'!$AM$3:$AP$34),0)} -> 0 | G45: {=IFERROR(_xlfn.XLOOKUP(B45,'G2'!$AL$4:$AL$34,'G2'!$AM$4:$AP$34),0)} -> 0 | H45: 0 | I45: 0 | J45: 0 | K45: {=IFERROR(_xlfn.XLOOKUP(B45,'G3'!$AL$4:$AL$34,'G3'!$AM$4:$AP$34),0)} -> 0 | O45: {=IFERROR(_xlfn.XLOOKUP(B45,'G4'!$AL$4:$AL$34,'G4'!$AM$4:$AP$34),0)} -> 0 | P45: 0 | Q45: 0 | R45: 0 | S45: {=IFERROR(_xlfn.XLOOKUP(B45,'G5'!$AP$4:$AP$34,'G5'!$AQ$4:$AT$34),0)} -> 4 | T45: 0 | U45: 0 | V45: 0 | W45: {=IFERROR(_xlfn.XLOOKUP(B45,'G6'!$AL$4:$AL$34,'G6'!$AM$4:$AP$34),0)} -> 0 | AA45: =+C45+G45+K45+O45+S45+W45 -> 4 | AB45: =+D45+H45+L45+P45+T45+X45 -> 0 | AC45: =+E45+I45+M45+Q45+U45+Y45 -> 0 | AD45: =+F45+J45+N45+R45+V45+Z45 -> 0 | AE45: =+AB45/AA45 -> 0
A46: 25 | B46: 洪韶壕 | C46: {=IFERROR(_xlfn.XLOOKUP(B46,'G1'!$AL$3:$AL$34,'G1'!$AM$3:$AP$34),0)} -> 0 | G46: {=IFERROR(_xlfn.XLOOKUP(B46,'G2'!$AL$4:$AL$34,'G2'!$AM$4:$AP$34),0)} -> 0 | H46: 0 | I46: 0 | J46: 0 | K46: {=IFERROR(_xlfn.XLOOKUP(B46,'G3'!$AL$4:$AL$34,'G3'!$AM$4:$AP$34),0)} -> 0 | O46: {=IFERROR(_xlfn.XLOOKUP(B46,'G4'!$AL$4:$AL$34,'G4'!$AM$4:$AP$34),0)} -> 0 | P46: 0 | Q46: 0 | R46: 0 | S46: {=IFERROR(_xlfn.XLOOKUP(B46,'G5'!$AP$4:$AP$34,'G5'!$AQ$4:$AT$34),0)} -> 5 | T46: 4 | U46: 1 | V46: 1 | W46: {=IFERROR(_xlfn.XLOOKUP(B46,'G6'!$AL$4:$AL$34,'G6'!$AM$4:$AP$34),0)} -> 0 | AA46: =+C46+G46+K46+O46+S46+W46 -> 5 | AB46: =+D46+H46+L46+P46+T46+X46 -> 4 | AC46: =+E46+I46+M46+Q46+U46+Y46 -> 1 | AD46: =+F46+J46+N46+R46+V46+Z46 -> 1 | AE46: =+AB46/AA46 -> 0.8
A47: O | B47: 古國偉 | C47: {=IFERROR(_xlfn.XLOOKUP(B47,'G1'!$AL$3:$AL$34,'G1'!$AM$3:$AP$34),0)} -> 0 | G47: {=IFERROR(_xlfn.XLOOKUP(B47,'G2'!$AL$4:$AL$34,'G2'!$AM$4:$AP$34),0)} -> 0 | H47: 0 | I47: 0 | J47: 0 | K47: {=IFERROR(_xlfn.XLOOKUP(B47,'G3'!$AL$4:$AL$34,'G3'!$AM$4:$AP$34),0)} -> 0 | O47: {=IFERROR(_xlfn.XLOOKUP(B47,'G4'!$AL$4:$AL$34,'G4'!$AM$4:$AP$34),0)} -> 0 | P47: 0 | Q47: 0 | R47: 0 | S47: {=IFERROR(_xlfn.XLOOKUP(B47,'G5'!$AP$4:$AP$34,'G5'!$AQ$4:$AT$34),0)} -> 4 | T47: 1 | U47: 0 | V47: 2 | W47: {=IFERROR(_xlfn.XLOOKUP(B47,'G6'!$AL$4:$AL$34,'G6'!$AM$4:$AP$34),0)} -> 0 | AA47: =+C47+G47+K47+O47+S47+W47 -> 4 | AB47: =+D47+H47+L47+P47+T47+X47 -> 1 | AC47: =+E47+I47+M47+Q47+U47+Y47 -> 0 | AD47: =+F47+J47+N47+R47+V47+Z47 -> 2 | AE47: =+AB47/AA47 -> 0.25
A48: 28 | B48: 陳傑閔 | C48: {=IFERROR(_xlfn.XLOOKUP(B48,'G1'!$AL$3:$AL$34,'G1'!$AM$3:$AP$34),0)} -> 0 | G48: {=IFERROR(_xlfn.XLOOKUP(B48,'G2'!$AL$4:$AL$34,'G2'!$AM$4:$AP$34),0)} -> 0 | H48: 0 | I48: 0 | J48: 0 | K48: {=IFERROR(_xlfn.XLOOKUP(B48,'G3'!$AL$4:$AL$34,'G3'!$AM$4:$AP$34),0)} -> 0 | O48: {=IFERROR(_xlfn.XLOOKUP(B48,'G4'!$AL$4:$AL$34,'G4'!$AM$4:$AP$34),0)} -> 0 | P48: 0 | Q48: 0 | R48: 0 | S48: {=IFERROR(_xlfn.XLOOKUP(B48,'G5'!$AP$4:$AP$34,'G5'!$AQ$4:$AT$34),0)} -> 5 | T48: 1 | U48: 1 | V48: 3 | W48: {=IFERROR(_xlfn.XLOOKUP(B48,'G6'!$AL$4:$AL$34,'G6'!$AM$4:$AP$34),0)} -> 0 | AA48: =+C48+G48+K48+O48+S48+W48 -> 5 | AB48: =+D48+H48+L48+P48+T48+X48 -> 1 | AC48: =+E48+I48+M48+Q48+U48+Y48 -> 1 | AD48: =+F48+J48+N48+R48+V48+Z48 -> 3 | AE48: =+AB48/AA48 -> 0.2
A49: 1 | B49: 賴保全 | C49: {=IFERROR(_xlfn.XLOOKUP(B49,'G1'!$AL$3:$AL$34,'G1'!$AM$3:$AP$34),0)} -> 0 | G49: {=IFERROR(_xlfn.XLOOKUP(B49,'G2'!$AL$4:$AL$34,'G2'!$AM$4:$AP$34),0)} -> 0 | K49: {=IFERROR(_xlfn.XLOOKUP(B49,'G3'!$AL$4:$AL$34,'G3'!$AM$4:$AP$34),0)} -> 0 | O49: {=IFERROR(_xlfn.XLOOKUP(B49,'G4'!$AL$4:$AL$34,'G4'!$AM$4:$AP$34),0)} -> 0 | S49: {=IFERROR(_xlfn.XLOOKUP(B49,'G5'!$AP$4:$AP$34,'G5'!$AQ$4:$AT$34),0)} -> 0 | W49: {=IFERROR(_xlfn.XLOOKUP(B49,'G6'!$AL$4:$AL$34,'G6'!$AM$4:$AP$34),0)} -> 0 | AA49: =+C49+G49+K49+O49+S49+W49 -> 0 | AB49: =+D49+H49+L49+P49+T49+X49 -> 0 | AC49: =+E49+I49+M49+Q49+U49+Y49 -> 0 | AD49: =+F49+J49+N49+R49+V49+Z49 -> 0 | AE49: =+AB49/AA49 -> #DIV/0!
A50: 37 | B50: 蔡志雄 | C50: {=IFERROR(_xlfn.XLOOKUP(B50,'G1'!$AL$3:$AL$34,'G1'!$AM$3:$AP$34),0)} -> 0 | G50: {=IFERROR(_xlfn.XLOOKUP(B50,'G2'!$AL$4:$AL$34,'G2'!$AM$4:$AP$34),0)} -> 0 | K50: {=IFERROR(_xlfn.XLOOKUP(B50,'G3'!$AL$4:$AL$34,'G3'!$AM$4:$AP$34),0)} -> 0 | O50: {=IFERROR(_xlfn.XLOOKUP(B50,'G4'!$AL$4:$AL$34,'G4'!$AM$4:$AP$34),0)} -> 0 | S50: {=IFERROR(_xlfn.XLOOKUP(B50,'G5'!$AP$4:$AP$34,'G5'!$AQ$4:$AT$34),0)} -> 0 | W50: {=IFERROR(_xlfn.XLOOKUP(B50,'G6'!$AL$4:$AL$34,'G6'!$AM$4:$AP$34),0)} -> 0 | AA50: =+C50+G50+K50+O50+S50+W50 -> 0 | AB50: =+D50+H50+L50+P50+T50+X50 -> 0 | AC50: =+E50+I50+M50+Q50+U50+Y50 -> 0 | AD50: =+F50+J50+N50+R50+V50+Z50 -> 0 | AE50: =+AB50/AA50 -> #DIV/0!
A51: 39 | B51: 饒賀凱 | C51: {=IFERROR(_xlfn.XLOOKUP(B51,'G1'!$AL$3:$AL$34,'G1'!$AM$3:$AP$34),0)} -> 0 | G51: {=IFERROR(_xlfn.XLOOKUP(B51,'G2'!$AL$4:$AL$34,'G2'!$AM$4:$AP$34),0)} -> 0 | H51: 0 | I51: 0 | J51: 0 | K51: {=IFERROR(_xlfn.XLOOKUP(B51,'G3'!$AL$4:$AL$34,'G3'!$AM$4:$AP$34),0)} -> 0 | O51: {=IFERROR(_xlfn.XLOOKUP(B51,'G4'!$AL$4:$AL$34,'G4'!$AM$4:$AP$34),0)} -> 0 | P51: 0 | Q51: 0 | R51: 0 | S51: {=IFERROR(_xlfn.XLOOKUP(B51,'G5'!$AP$4:$AP$34,'G5'!$AQ$4:$AT$34),0)} -> 5 | T51: 0 | U51: 0 | V51: 3 | W51: {=IFERROR(_xlfn.XLOOKUP(B51,'G6'!$AL$4:$AL$34,'G6'!$AM$4:$AP$34),0)} -> 0 | AA51: =+C51+G51+K51+O51+S51+W51 -> 5 | AB51: =+D51+H51+L51+P51+T51+X51 -> 0 | AC51: =+E51+I51+M51+Q51+U51+Y51 -> 0 | AD51: =+F51+J51+N51+R51+V51+Z51 -> 3 | AE51: =+AB51/AA51 -> 0
A52: 52 | B52: 張壬壤 | C52: {=IFERROR(_xlfn.XLOOKUP(B52,'G1'!$AL$3:$AL$34,'G1'!$AM$3:$AP$34),0)} -> 0 | G52: {=IFERROR(_xlfn.XLOOKUP(B52,'G2'!$AL$4:$AL$34,'G2'!$AM$4:$AP$34),0)} -> 0 | K52: {=IFERROR(_xlfn.XLOOKUP(B52,'G3'!$AL$4:$AL$34,'G3'!$AM$4:$AP$34),0)} -> 0 | O52: {=IFERROR(_xlfn.XLOOKUP(B52,'G4'!$AL$4:$AL$34,'G4'!$AM$4:$AP$34),0)} -> 0 | S52: {=IFERROR(_xlfn.XLOOKUP(B52,'G5'!$AP$4:$AP$34,'G5'!$AQ$4:$AT$34),0)} -> 0 | W52: {=IFERROR(_xlfn.XLOOKUP(B52,'G6'!$AL$4:$AL$34,'G6'!$AM$4:$AP$34),0)} -> 0 | AA52: =+C52+G52+K52+O52+S52+W52 -> 0 | AB52: =+D52+H52+L52+P52+T52+X52 -> 0 | AC52: =+E52+I52+M52+Q52+U52+Y52 -> 0 | AD52: =+F52+J52+N52+R52+V52+Z52 -> 0 | AE52: =+AB52/AA52 -> #DIV/0!
A53: 66 | B53: 陳韻婷 | C53: {=IFERROR(_xlfn.XLOOKUP(B53,'G1'!$AL$3:$AL$34,'G1'!$AM$3:$AP$34),0)} -> 0 | G53: {=IFERROR(_xlfn.XLOOKUP(B53,'G2'!$AL$4:$AL$34,'G2'!$AM$4:$AP$34),0)} -> 0 | H53: 0 | I53: 0 | J53: 0 | K53: {=IFERROR(_xlfn.XLOOKUP(B53,'G3'!$AL$4:$AL$34,'G3'!$AM$4:$AP$34),0)} -> 0 | O53: {=IFERROR(_xlfn.XLOOKUP(B53,'G4'!$AL$4:$AL$34,'G4'!$AM$4:$AP$34),0)} -> 0 | P53: 0 | Q53: 0 | R53: 0 | S53: {=IFERROR(_xlfn.XLOOKUP(B53,'G5'!$AP$4:$AP$34,'G5'!$AQ$4:$AT$34),0)} -> 4 | T53: 0 | U53: 0 | V53: 2 | W53: {=IFERROR(_xlfn.XLOOKUP(B53,'G6'!$AL$4:$AL$34,'G6'!$AM$4:$AP$34),0)} -> 0 | AA53: =+C53+G53+K53+O53+S53+W53 -> 4 | AB53: =+D53+H53+L53+P53+T53+X53 -> 0 | AC53: =+E53+I53+M53+Q53+U53+Y53 -> 0 | AD53: =+F53+J53+N53+R53+V53+Z53 -> 2 | AE53: =+AB53/AA53 -> 0
A54: 99 | B54: 胡耕偉 | C54: {=IFERROR(_xlfn.XLOOKUP(B54,'G1'!$AL$3:$AL$34,'G1'!$AM$3:$AP$34),0)} -> 0 | G54: {=IFERROR(_xlfn.XLOOKUP(B54,'G2'!$AL$4:$AL$34,'G2'!$AM$4:$AP$34),0)} -> 0 | K54: {=IFERROR(_xlfn.XLOOKUP(B54,'G3'!$AL$4:$AL$34,'G3'!$AM$4:$AP$34),0)} -> 0 | O54: {=IFERROR(_xlfn.XLOOKUP(B54,'G4'!$AL$4:$AL$34,'G4'!$AM$4:$AP$34),0)} -> 0 | S54: {=IFERROR(_xlfn.XLOOKUP(B54,'G5'!$AP$4:$AP$34,'G5'!$AQ$4:$AT$34),0)} -> 0 | W54: {=IFERROR(_xlfn.XLOOKUP(B54,'G6'!$AL$4:$AL$34,'G6'!$AM$4:$AP$34),0)} -> 0 | AA54: =+C54+G54+K54+O54+S54+W54 -> 0 | AB54: =+D54+H54+L54+P54+T54+X54 -> 0 | AC54: =+E54+I54+M54+Q54+U54+Y54 -> 0 | AD54: =+F54+J54+N54+R54+V54+Z54 -> 0 | AE54: =+AB54/AA54 -> #DIV/0!
A55: 421 | B55: 黃雅苓 | C55: {=IFERROR(_xlfn.XLOOKUP(B55,'G1'!$AL$3:$AL$34,'G1'!$AM$3:$AP$34),0)} -> 0 | G55: {=IFERROR(_xlfn.XLOOKUP(B55,'G2'!$AL$4:$AL$34,'G2'!$AM$4:$AP$34),0)} -> 0 | K55: {=IFERROR(_xlfn.XLOOKUP(B55,'G3'!$AL$4:$AL$34,'G3'!$AM$4:$AP$34),0)} -> 0 | O55: {=IFERROR(_xlfn.XLOOKUP(B55,'G4'!$AL$4:$AL$34,'G4'!$AM$4:$AP$34),0)} -> 0 | P55: 0 | Q55: 0 | R55: 0 | S55: {=IFERROR(_xlfn.XLOOKUP(B55,'G5'!$AP$4:$AP$34,'G5'!$AQ$4:$AT$34),0)} -> 1 | T55: 1 | U55: 1 | V55: 0 | W55: {=IFERROR(_xlfn.XLOOKUP(B55,'G6'!$AL$4:$AL$34,'G6'!$AM$4:$AP$34),0)} -> 0 | AA55: =+C55+G55+K55+O55+S55+W55 -> 1 | AB55: =+D55+H55+L55+P55+T55+X55 -> 1 | AC55: =+E55+I55+M55+Q55+U55+Y55 -> 1 | AD55: =+F55+J55+N55+R55+V55+Z55 -> 0 | AE55: =+AB55/AA55 -> 1
C56: =SUM(C43:C55) -> 0 | D56: =SUM(D43:D55) -> 0 | E56: =SUM(E43:E55) -> 0 | F56: =SUM(F43:F55) -> 0 | G56: =SUM(G43:G55) -> 0 | H56: =SUM(H43:H55) -> 0 | I56: =SUM(I43:I55) -> 0 | J56: =SUM(J43:J55) -> 0 | ... AD56: =SUM(AD43:AD55) -> 11 | AE56: =+AB56/AA56 -> 0.25

Sheet 總表排名
I2: IF(C4<=9,"",D4/C4)
A3: 守備位置 | B3: 隊名 | C3: 姓名 | D3: AB | E3: R | F3: PO | G3: K | H3: Def_G(場數) | I3: BA(打擊率) | J3: PO/G(防守率) | K3: 打擊排行 | L3: 防守排行
A4: M | B4: 閃電 | C4: {=_xlfn.CHOOSECOLS('成績匯總 (函數)'!$B$5:$AD$12,1,26,27,28,29)} -> #NAME? | D4: #NAME? | E4: #NAME? | F4: #NAME? | G4: #NAME? | H4: 3 | I4: =IF(D4<=8,"",E4/D4) -> #NAME? | J4: =F4/H4 -> #NAME? | K4: =_xlfn.RANK.EQ(I4,$I$4:$I$48) -> #NAME? | L4: =_xlfn.RANK.EQ(J4,$J$4:$J$52) -> #NAME?
A5: M | B5: 閃電 | C5: #NAME? | D5: #NAME? | E5: #NAME? | F5: #NAME? | G5: #NAME? | H5: 3 | I5: =IF(D5<=8,"",E5/D5) -> #NAME? | J5: =F5/H5 -> #NAME? | L5: =_xlfn.RANK.EQ(J5,$J$4:$J$52) -> #NAME?
A6: M | B6: 閃電 | C6: #NAME? | D6: #NAME? | E6: #NAME? | F6: #NAME? | G6: #NAME? | H6: 3 | I6: =IF(D6<=8,"",E6/D6) -> #NAME? | J6: =F6/H6 -> #NAME? | K6: =_xlfn.RANK.EQ(I6,$I$4:$I$48) -> #NAME? | L6: =_xlfn.RANK.EQ(J6,$J$4:$J$52) -> #NAME?
A7: D | B7: 閃電 | C7: #NAME? | D7: #NAME? | E7: #NAME? | F7: #NAME? | G7: #NAME? | H7: 3 | I7: =IF(D7<=8,"",E7/D7) -> #NAME? | J7: =F7/H7 -> #NAME? | L7: =_xlfn.RANK.EQ(J7,$J$4:$J$52) -> #NAME?
A8: S | B8: 閃電 | C8: #NAME? | D8: #NAME? | E8: #NAME? | F8: #NAME? | G8: #NAME? | H8: 3 | I8: =IF(D8<=8,"",E8/D8) -> #NAME? | J8: =F8/H8 -> #NAME? | K8: =_xlfn.RANK.EQ(I8,$I$4:$I$48) -> #NAME? | L8: =_xlfn.RANK.EQ(J8,$J$4:$J$52) -> #NAME?
A9: S | B9: 閃電 | C9: #NAME? | D9: #NAME? | E9: #NAME? | F9: #NAME? | G9: #NAME? | H9: 3 | I9: =IF(D9<=8,"",E9/D9) -> #NAME? | J9: =F9/H9 -> #NAME? | K9: =_xlfn.RANK.EQ(I9,$I$4:$I$48) -> #NAME? | L9: =_xlfn.RANK.EQ(J9,$J$4:$J$52) -> #NAME?
A10: M | B10: 閃電 | C10: #NAME? | D10: #NAME? | E10: #NAME? | F10: #NAME? | G10: #NAME? | H10: 3 | I10: =IF(D10<=8,"",E10/D10) -> #NAME? | J10: =F10/H10 -> #NAME? | L10: =_xlfn.RANK.EQ(J10,$J$4:$J$52) -> #NAME?
A11: D | B11: 閃電 | C11: #NAME? | D11: #NAME? | E11: #NAME? | F11: #NAME? | G11: #NAME? | H11: 2 | I11: =IF(D11<=8,"",E11/D11) -> #NAME? | J11: =F11/H11 -> #NAME? | L11: =_xlfn.RANK.EQ(J11,$J$4:$J$52) -> #NAME?
I12: =IF(D12<=8,"",E12/D12)
I13: =IF(D13<=8,"",E13/D13)
A14: D | B14: 夜魔俠 | C14: {=_xlfn.CHOOSECOLS('成績匯總 (函數)'!$B$17:$AD$27,1,26,27,28,29)} -> #NAME? | D14: #NAME? | E14: #NAME? | F14: #NAME? | G14: #NAME? | H14: 3 | I14: =IF(D14<=8,"",E14/D14) -> #NAME? | J14: =F14/H14 -> #NAME? | K14: =_xlfn.RANK.EQ(I14,$I$4:$I$48) -> #NAME? | L14: =_xlfn.RANK.EQ(J14,$J$4:$J$52) -> #NAME?
A15: M | B15: 夜魔俠 | C15: #NAME? | D15: #NAME? | E15: #NAME? | F15: #NAME? | G15: #NAME? | H15: 1 | I15: =IF(D15<=8,"",E15/D15) -> #NAME?
A16: M | B16: 夜魔俠 | C16: #NAME? | D16: #NAME? | E16: #NAME? | F16: #NAME? | G16: #NAME? | H16: 3 | I16: =IF(D16<=8,"",E16/D16) -> #NAME? | J16: =F16/H16 -> #NAME? | K16: =_xlfn.RANK.EQ(I16,$I$4:$I$48) -> #NAME? | L16: =_xlfn.RANK.EQ(J16,$J$4:$J$52) -> #NAME?
A17: M | B17: 夜魔俠 | C17: #NAME? | D17: #NAME? | E17: #NAME? | F17: #NAME? | G17: #NAME? | H17: 3 | I17: =IF(D17<=8,"",E17/D17) -> #NAME? | J17: =F17/H17 -> #NAME? | K17: =_xlfn.RANK.EQ(I17,$I$4:$I$48) -> #NAME? | L17: =_xlfn.RANK.EQ(J17,$J$4:$J$52) -> #NAME?
A18: S | B18: 夜魔俠 | C18: #NAME? | D18: #NAME? | E18: #NAME? | F18: #NAME? | G18: #NAME? | H18: 3 | I18: =IF(D18<=8,"",E18/D18) -> #NAME? | J18: =F18/H18 -> #NAME? | L18: =_xlfn.RANK.EQ(J18,$J$4:$J$52) -> #NAME?
A19: S | B19: 夜魔俠 | C19: #NAME? | D19: #NAME? | E19: #NAME? | F19: #NAME? | G19: #NAME? | H19: 2 | I19: =IF(D19<=8,"",E19/D19) -> #NAME? | J19: =F19/H19 -> #NAME?
A20: D | B20: 夜魔俠 | C20: #NAME? | D20: #NAME? | E20: #NAME? | F20: #NAME? | G20: #NAME? | H20: 2 | I20: =IF(D20<=8,"",E20/D20) -> #NAME? | J20: =F20/H20 -> #NAME?
B21: 夜魔俠 | C21: #NAME? | D21: #NAME? | E21: #NAME? | F21: #NAME? | G21: #NAME? | I21: =IF(D21<=8,"",E21/D21) -> #NAME?
A22: M | B22: 夜魔俠 | C22: #NAME? | D22: #NAME? | E22: #NAME? | F22: #NAME? | G22: #NAME? | H22: 3 | I22: =IF(D22<=8,"",E22/D22) -> #NAME? | J22: =F22/H22 -> #NAME? | K22: =_xlfn.RANK.EQ(I22,$I$4:$I$48) -> #NAME? | L22: =_xlfn.RANK.EQ(J22,$J$4:$J$52) -> #NAME?
A23: S | B23: 夜魔俠 | C23: #NAME? | D23: #NAME? | E23: #NAME? | F23: #NAME? | G23: #NAME? | H23: 3 | I23: =IF(D23<=8,"",E23/D23) -> #NAME? | J23: =F23/H23 -> #NAME? | K23: =_xlfn.RANK.EQ(I23,$I$4:$I$48) -> #NAME? | L23: =_xlfn.RANK.EQ(J23,$J$4:$J$52) -> #NAME?
A24: S | B24: 夜魔俠 | C24: #NAME? | D24: #NAME? | E24: #NAME? | F24: #NAME? | G24: #NAME? | H24: 3 | I24: =IF(D24<=8,"",E24/D24) -> #NAME? | J24: =F24/H24 -> #NAME? | L24: =_xlfn.RANK.EQ(J24,$J$4:$J$52) -> #NAME?
A27: M | B27: 雄霸 | C27: {=_xlfn.CHOOSECOLS('成績匯總 (函數)'!$B$32:$AD$38,1,26,27,28,29)} -> #NAME? | D27: #NAME? | E27: #NAME? | F27: #NAME? | G27: #NAME? | H27: 3 | I27: =IF(D27<=8,"",E27/D27) -> #NAME? | J27: =F27/H27 -> #NAME? | K27: =_xlfn.RANK.EQ(I27,$I$4:$I$48) -> #NAME? | L27: =_xlfn.RANK.EQ(J27,$J$4:$J$52) -> #NAME?
A28: M | B28: 雄霸 | C28: #NAME? | D28: #NAME? | E28: #NAME? | F28: #NAME? | G28: #NAME? | H28: 3 | I28: =IF(D28<=8,"",E28/D28) -> #NAME? | J28: =F28/H28 -> #NAME? | K28: =_xlfn.RANK.EQ(I28,$I$4:$I$48) -> #NAME? | L28: =_xlfn.RANK.EQ(J28,$J$4:$J$52) -> #NAME?
A29: S | B29: 雄霸 | C29: #NAME? | D29: #NAME? | E29: #NAME? | F29: #NAME? | G29: #NAME? | H29: 3 | I29: =IF(D29<=8,"",E29/D29) -> #NAME? | J29: =F29/H29 -> #NAME? | K29: =_xlfn.RANK.EQ(I29,$I$4:$I$48) -> #NAME? | L29: =_xlfn.RANK.EQ(J29,$J$4:$J$52) -> #NAME?
A30: S | B30: 雄霸 | C30: #NAME? | D30: #NAME? | E30: #NAME? | F30: #NAME? | G30: #NAME? | H30: 3 | I30: =IF(D30<=8,"",E30/D30) -> #NAME? | J30: =F30/H30 -> #NAME? | L30: =_xlfn.RANK.EQ(J30,$J$4:$J$52) -> #NAME?
A31: M | B31: 雄霸 | C31: #NAME? | D31: #NAME? | E31: #NAME? | F31: #NAME? | G31: #NAME? | H31: 3 | I31: =IF(D31<=8,"",E31/D31) -> #NAME? | J31: =F31/H31 -> #NAME? | K31: =_xlfn.RANK.EQ(I31,$I$4:$I$48) -> #NAME? | L31: =_xlfn.RANK.EQ(J31,$J$4:$J$52) -> #NAME?
A32: D | B32: 雄霸 | C32: #NAME? | D32: #NAME? | E32: #NAME? | F32: #NAME? | G32: #NAME? | H32: 2 | I32: =IF(D32<=8,"",E32/D32) -> #NAME? | J32: =F32/H32 -> #NAME? | L32: =_xlfn.RANK.EQ(J32,$J$4:$J$52) -> #NAME? | M32: 2次雙殺
A33: M | B33: 雄霸 | C33: #NAME? | D33: #NAME? | E33: #NAME? | F33: #NAME? | G33: #NAME? | H33: 3 | I33: =IF(D33<=8,"",E33/D33) -> #NAME? | J33: =F33/H33 -> #NAME? | K33: =_xlfn.RANK.EQ(I33,$I$4:$I$48) -> #NAME? | L33: =_xlfn.RANK.EQ(J33,$J$4:$J$52) -> #NAME?
I34: =IF(D34<=8,"",E34/D34)
I35: =IF(D35<=8,"",E35/D35)
A36: M | B36: 新北獵豹 | C36: {=_xlfn.CHOOSECOLS('成績匯總 (函數)'!$B$43:$AD$55,1,26,27,28,29)} -> #NAME? | D36: #NAME? | E36: #NAME? | F36: #NAME? | G36: #NAME? | H36: 1 | I36: =IF(D36<=8,"",E36/D36) -> #NAME? | J36: =F36/H36 -> #NAME?
A37: M | B37: 新北獵豹 | C37: #NAME? | D37: #NAME? | E37: #NAME? | F37: #NAME? | G37: #NAME? | H37: 3 | I37: =IF(D37<=8,"",E37/D37) -> #NAME? | J37: =F37/H37 -> #NAME?
A38: M | B38: 新北獵豹 | C38: #NAME? | D38: #NAME? | E38: #NAME? | F38: #NAME? | G38: #NAME? | H38: 3 | I38: =IF(D38<=8,"",E38/D38) -> #NAME? | J38: =F38/H38 -> #NAME? | K38: =_xlfn.RANK.EQ(I38,$I$4:$I$48) -> #NAME? | L38: =_xlfn.RANK.EQ(J38,$J$4:$J$52) -> #NAME?
A39: S | B39: 新北獵豹 | C39: #NAME? | D39: #NAME? | E39: #NAME? | F39: #NAME? | G39: #NAME? | H39: 3 | I39: =IF(D39<=8,"",E39/D39) -> #NAME? | J39: =F39/H39 -> #NAME? | K39: =_xlfn.RANK.EQ(I39,$I$4:$I$48) -> #NAME? | L39: =_xlfn.RANK.EQ(J39,$J$4:$J$52) -> #NAME?
A40: M | B40: 新北獵豹 | C40: #NAME? | D40: #NAME? | E40: #NAME? | F40: #NAME? | G40: #NAME? | H40: 3 | I40: =IF(D40<=8,"",E40/D40) -> #NAME? | J40: =F40/H40 -> #NAME? | K40: =_xlfn.RANK.EQ(I40,$I$4:$I$48) -> #NAME? | L40: =_xlfn.RANK.EQ(J40,$J$4:$J$52) -> #NAME?
A41: M | B41: 新北獵豹 | C41: #NAME? | D41: #NAME? | E41: #NAME? | F41: #NAME? | G41: #NAME? | H41: 3 | I41: =IF(D41<=8,"",E41/D41) -> #NAME? | J41: =F41/H41 -> #NAME? | K41: =_xlfn.RANK.EQ(I41,$I$4:$I$48) -> #NAME? | L41: =_xlfn.RANK.EQ(J41,$J$4:$J$52) -> #NAME?
B42: 新北獵豹 | C42: #NAME? | D42: #NAME? | E42: #NAME? | F42: #NAME? | G42: #NAME? | I42: =IF(D42<=8,"",E42/D42) -> #NAME?
B43: 新北獵豹 | C43: #NAME? | D43: #NAME? | E43: #NAME? | F43: #NAME? | G43: #NAME? | I43: =IF(D43<=8,"",E43/D43) -> #NAME?
A44: S | B44: 新北獵豹 | C44: #NAME? | D44: #NAME? | E44: #NAME? | F44: #NAME? | G44: #NAME? | H44: 3 | I44: =IF(D44<=8,"",E44/D44) -> #NAME? | J44: =F44/H44 -> #NAME? | K44: =_xlfn.RANK.EQ(I44,$I$4:$I$48) -> #NAME? | L44: =_xlfn.RANK.EQ(J44,$J$4:$J$52) -> #NAME?
B45: 新北獵豹 | C45: #NAME? | D45: #NAME? | E45: #NAME? | F45: #NAME? | G45: #NAME? | I45: =IF(D45<=8,"",E45/D45) -> #NAME? | L45: =_xlfn.RANK.EQ(J45,$J$4:$J$52) -> #NAME?
A46: D | B46: 新北獵豹 | C46: #NAME? | D46: #NAME? | E46: #NAME? | F46: #NAME? | G46: #NAME? | H46: 3 | I46: =IF(D46<=8,"",E46/D46) -> #NAME? | J46: =F46/H46 -> #NAME? | L46: =_xlfn.RANK.EQ(J46,$J$4:$J$52) -> #NAME?
B47: 新北獵豹 | C47: #NAME? | D47: #NAME? | E47: #NAME? | F47: #NAME? | G47: #NAME? | I47: =IF(D47<=8,"",E47/D47) -> #NAME? | L47: =_xlfn.RANK.EQ(J47,$J$4:$J$52) -> #NAME?
A48: D | B48: 新北獵豹 | C48: #NAME? | D48: #NAME? | E48: #NAME? | F48: #NAME? | G48: #NAME? | H48: 2 | I48: =IF(D48<=8,"",E48/D48) -> #NAME? | J48: =F48/H48 -> #NAME? | L48: =_xlfn.RANK.EQ(J48,$J$4:$J$52) -> #NAME?
C51: 團隊防守成績
B52: 積分(不含決賽) | C52: 隊伍名稱 | D52: AB | E52: R | F52: PO | G52: K | H52: LOST | I52: Fielding | J52: 防守排行 | K52: 淨得分
B53: 2 | C53: 閃電 | D53: {='成績匯總 (函數)'!AA13:AD13} -> 51 | E53: 13 | F53: 19 | G53: 30 | H53: 28 | I53: =+F53/(F53+H53) -> 0.40425532 | J53: =_xlfn.RANK.EQ(I53,$I$53:$I$56) -> 2 | K53: =+E53-H53 -> -15
B54: 4 | C54: 夜魔俠 | D54: {='成績匯總 (函數)'!AA28:AD28} -> 75 | E54: 34 | F54: 17 | G54: 21 | H54: 9 | I54: =+F54/(F54+H54) -> 0.65384615 | J54: =_xlfn.RANK.EQ(I54,$I$53:$I$56) -> 1 | K54: =+E54-H54 -> 25
B55: 2 | C55: 雄霸 | D55: {='成績匯總 (函數)'!AA39:AD39} -> 40 | E55: 4 | F55: 13 | G55: 24 | H55: 20 | I55: =+F55/(F55+H55) -> 0.39393939 | J55: =_xlfn.RANK.EQ(I55,$I$53:$I$56) -> 3 | K55: =+E55-H55 -> -16
B56: 0 | C56: 新北獵豹 | D56: {='成績匯總 (函數)'!AA56:AD56} -> 28 | E56: 7 | F56: 3 | G56: 11 | H56: 28 | I56: =+F56/(F56+H56) -> 0.096774194 | J56: =_xlfn.RANK.EQ(I56,$I$53:$I$56) -> 4 | K56: =+E56-H56 -> -21
B58: 投手成績
B59: 投手名單 | C59: AB | D59: R | E59: K | F59: K Pct. | G59: K率排行(小)
B60: 駱繼宗 | C60: 44 | D60: 12 | E60: 24 | F60: =+E60/C60 -> 0.54545455 | G60: =_xlfn.RANK.EQ(F60,$F$60:$F$66,1) -> 4
B61: 李裕仁 | C61: 27 | D61: 6 | E61: 18 | F61: =+E61/C61 -> 0.66666667 | G61: =_xlfn.RANK.EQ(F61,$F$60:$F$66,1) -> 7
B62: 陳相睿 | C62: 20 | D62: 8 | E62: 11 | F62: =+E62/C62 -> 0.55 | G62: =_xlfn.RANK.EQ(F62,$F$60:$F$66,1) -> 5
B63: 林春佑 | C63: 55 | D63: 26 | E63: 10 | F63: =+E63/C63 -> 0.18181818 | G63: =_xlfn.RANK.EQ(F63,$F$60:$F$66,1) -> 1
B64: 宋展宇 | C64: 49 | D64: 17 | E64: 21 | F64: =+E64/C64 -> 0.42857143 | G64: =_xlfn.RANK.EQ(F64,$F$60:$F$66,1) -> 2
B65: 林文耀 | C65: 21 | D65: 2 | E65: 13 | F65: =+E65/C65 -> 0.61904762 | G65: =_xlfn.RANK.EQ(F65,$F$60:$F$66,1) -> 6
B66: 游鎮維 | C66: 71 | D66: 14 | E66: 33 | F66: =+E66/C66 -> 0.46478873 | G66: =_xlfn.RANK.EQ(F66,$F$60:$F$66,1) -> 3
A71: S | B71: 前排守備 | F71: M | G71: 中排守備 | K71: D | L71: 後排守備
A72: 守備位置 | B72: 隊名 | C72: 姓名 | D72: PO/G | E72: 排行 | F72: 守備位置 | G72: 隊名 | H72: 姓名 | I72: PO/G | J72: 排行 | K72: 守備位置 | L72: 隊名 | M72: 姓名 | N72: PO/G | O72: 排行
A73: {=_xlfn.CHOOSECOLS(_xlfn._xlws.FILTER($A$4:$J$49,$A$4:$A$49=A71,""),1,2,3,10)} -> #NAME? | B73: #NAME? | C73: #NAME? | D73: #NAME? | E73: =_xlfn.RANK.EQ(D73,$D$73:$D$82) -> #NAME? | F73: {=_xlfn.CHOOSECOLS(_xlfn._xlws.FILTER($A$4:$J$49,$A$4:$A$49=F71,""),1,2,3,10)} -> #NAME? | G73: #NAME? | H73: #NAME? | I73: #NAME? | J73: =_xlfn.RANK.EQ(I73,$I$73:$I$90) -> #NAME? | K73: {=_xlfn.CHOOSECOLS(_xlfn._xlws.FILTER($A$4:$J$49,$A$4:$A$49=K71,""),1,2,3,10)} -> #NAME? | L73: #NAME? | M73: #NAME? | N73: #NAME? | O73: =_xlfn.RANK.EQ(N73,$N$73:$N$79) -> #NAME?
A74: #NAME? | B74: #NAME? | C74: #NAME? | D74: #NAME? | E74: =_xlfn.RANK.EQ(D74,$D$73:$D$82) -> #NAME? | F74: #NAME? | G74: #NAME? | H74: #NAME? | I74: #NAME? | J74: =_xlfn.RANK.EQ(I74,$I$73:$I$90) -> #NAME? | K74: #NAME? | L74: #NAME? | M74: #NAME? | N74: #NAME? | O74: =_xlfn.RANK.EQ(N74,$N$73:$N$79) -> #NAME?
A75: #NAME? | B75: #NAME? | C75: #NAME? | D75: #NAME? | E75: =_xlfn.RANK.EQ(D75,$D$73:$D$82) -> #NAME? | F75: #NAME? | G75: #NAME? | H75: #NAME? | I75: #NAME? | J75: =_xlfn.RANK.EQ(I75,$I$73:$I$90) -> #NAME? | K75: #NAME? | L75: #NAME? | M75: #NAME? | N75: #NAME? | O75: =_xlfn.RANK.EQ(N75,$N$73:$N$79) -> #NAME?
A76: #NAME? | B76: #NAME? | C76: #NAME? | D76: #NAME? | E76: =_xlfn.RANK.EQ(D76,$D$73:$D$82) -> #NAME? | F76: #NAME? | G76: #NAME? | H76: #NAME? | I76: #NAME? | J76: =_xlfn.RANK.EQ(I76,$I$73:$I$90) -> #NAME? | K76: #NAME? | L76: #NAME? | M76: #NAME? | N76: #NAME? | O76: =_xlfn.RANK.EQ(N76,$N$73:$N$79) -> #NAME?
A77: #NAME? | B77: #NAME? | C77: #NAME? | D77: #NAME? | E77: =_xlfn.RANK.EQ(D77,$D$73:$D$82) -> #NAME? | F77: #NAME? | G77: #NAME? | H77: #NAME? | I77: #NAME? | J77: =_xlfn.RANK.EQ(I77,$I$73:$I$90) -> #NAME? | K77: #NAME? | L77: #NAME? | M77: #NAME? | N77: #NAME? | O77: =_xlfn.RANK.EQ(N77,$N$73:$N$79) -> #NAME? | P77: 2次雙殺
A78: #NAME? | B78: #NAME? | C78: #NAME? | D78: #NAME? | E78: =_xlfn.RANK.EQ(D78,$D$73:$D$82) -> #NAME? | F78: #NAME? | G78: #NAME? | H78: #NAME? | I78: #NAME? | J78: =_xlfn.RANK.EQ(I78,$I$73:$I$90) -> #NAME? | K78: #NAME? | L78: #NAME? | M78: #NAME? | N78: #NAME? | O78: =_xlfn.RANK.EQ(N78,$N$73:$N$79) -> #NAME?
A79: #NAME? | B79: #NAME? | C79: #NAME? | D79: #NAME? | E79: =_xlfn.RANK.EQ(D79,$D$73:$D$82) -> #NAME? | F79: #NAME? | G79: #NAME? | H79: #NAME? | I79: #NAME? | J79: =_xlfn.RANK.EQ(I79,$I$73:$I$90) -> #NAME? | K79: #NAME? | L79: #NAME? | M79: #NAME? | N79: #NAME? | O79: =_xlfn.RANK.EQ(N79,$N$73:$N$79) -> #NAME?
A80: #NAME? | B80: #NAME? | C80: #NAME? | D80: #NAME? | E80: =_xlfn.RANK.EQ(D80,$D$73:$D$82) -> #NAME? | F80: #NAME? | G80: #NAME? | H80: #NAME? | I80: #NAME? | J80: =_xlfn.RANK.EQ(I80,$I$73:$I$90) -> #NAME?
A81: #NAME? | B81: #NAME? | C81: #NAME? | D81: #NAME? | E81: =_xlfn.RANK.EQ(D81,$D$73:$D$82) -> #NAME? | F81: #NAME? | G81: #NAME? | H81: #NAME? | I81: #NAME? | J81: =_xlfn.RANK.EQ(I81,$I$73:$I$90) -> #NAME?
A82: #NAME? | B82: #NAME? | C82: #NAME? | D82: #NAME? | E82: =_xlfn.RANK.EQ(D82,$D$73:$D$82) -> #NAME? | F82: #NAME? | G82: #NAME? | H82: #NAME? | I82: #NAME? | J82: =_xlfn.RANK.EQ(I82,$I$73:$I$90) -> #NAME?
F83: #NAME? | G83: #NAME? | H83: #NAME? | I83: #NAME? | J83: =_xlfn.RANK.EQ(I83,$I$73:$I$90) -> #NAME?
F84: #NAME? | G84: #NAME? | H84: #NAME? | I84: #NAME? | J84: =_xlfn.RANK.EQ(I84,$I$73:$I$90) -> #NAME?
F85: #NAME? | G85: #NAME? | H85: #NAME? | I85: #NAME? | J85: =_xlfn.RANK.EQ(I85,$I$73:$I$90) -> #NAME?
F86: #NAME? | G86: #NAME? | H86: #NAME? | I86: #NAME? | J86: =_xlfn.RANK.EQ(I86,$I$73:$I$90) -> #NAME?
F87: #NAME? | G87: #NAME? | H87: #NAME? | I87: #NAME? | J87: =_xlfn.RANK.EQ(I87,$I$73:$I$90) -> #NAME?
F88: #NAME? | G88: #NAME? | H88: #NAME? | I88: #NAME? | J88: =_xlfn.RANK.EQ(I88,$I$73:$I$90) -> #NAME?
F89: #NAME? | G89: #NAME? | H89: #NAME? | I89: #NAME? | J89: =_xlfn.RANK.EQ(I89,$I$73:$I$90) -> #NAME?
