Workbook

Sheet 分組球員名單
A1: 球員名單 | B1: 背號
A2: A | B2: 閃電隊 | D2: 投捕觀名單 | F2: 隊伍名稱
A3: 陳璽帆 | B3: 8 | D3: 李裕仁 | F3: 閃電隊
A4: 莊詠安 | B4: 23 | D4: 張凱傑 | F4: LEOPARD
A5: 顏士翔 | B5: 131 | D5: 駱繼宗 | F5: 夜魔俠
A6: 張御欣 | B6: 32 | D6: 游鎮維 | F6: 游擊隊
A7: 胡文秋 | B7: 33 | D7: 江言鎧
A8: 陳俊欽 | B8: 35 | D8: 王辰光
A9: 紀和成 | B9: 51 | D9: 陳相睿 | G9: 場次 | H9: 對戰組合 | J9: 開始時間 | K9: 結束時間
A10: 鄭傳逸 | B10: 88 | D10: 林春佑 | G10: G1 | H10: 閃電 | I10: LEO | J10: 0.41666667 | K10: 0.5
A11: 林育良 | B11: 99 | D11: 宋展宇 | G11: G2 | H11: 夜魔俠 | I11: 游擊 | J11: 0.51388889 | K11: 0.59722222
A12: 林健彰 | B12: 111 | D12: 謝緯成 | G12: G3 | H12: 閃電 | I12: 夜魔俠 | J12: 0.61111111 | K12: 0.69444444
A13: B | B13: LEOPARD | D13: 許慶德 | G13: G4 | H13: LEO | I13: 游擊 | J13: 0.375 | K13: 0.45833333
A14: 賴保全 | B14: 1 | D14: 楊鎮瑋 | G14: G5 | H14: 游擊 | I14: 閃電 | J14: 0.47222222 | K14: 0.55555556
A15: 李秀美 | B15: 6 | D15: 薛沅庭 | G15: G6 | H15: 夜魔俠 | I15: LEO | J15: 0.56944444 | K15: 0.65277778
A16: 蔡宗豪 | B16: 15 | D16: 賴君佩 | G16: 閉幕式 | J16: 0.66666667 | K16: 0.6875
A17: 張睿紘 | B17: 17 | D17: 劉維璽
A18: 周志忠 | B18: 23 | D18: 高芳伶
A19: 洪韶壕 | B19: 25 | D19: 賴相存
A20: 陳傑閔 | B20: 28
A21: 陳建閔 | B21: 29 | G21: 對戰分數
A22: 黃雅苓 | B22: 30 | D22: 球種 | F22: 閃電隊 | G22: =F37-G37 -> 2 | H22: LEOPARD | I22: =H37-I37 -> -24 | J22: 夜魔俠 | K22: =J37-K37 -> -6 | L22: 游擊隊 | M22: =L37-M37 -> 28
A23: 劉家溫 | B23: 31 | C23: 高飛 | D23: ⌢ | F23: 得分 | G23: 失分 | H23: 得分 | I23: 失分 | J23: 得分 | K23: 失分 | L23: 得分 | M23: 失分
A24: 許慶德 | B24: 34 | C24: 滾地 | D24: ⌣ | E24: G1 | F24: 9 | G24: 1 | H24: 1 | I24: 9
A25: 蔡志雄 | B25: 37 | C25: 彈跳 | D25: ⌵
A26: 饒賀凱 | B26: 39 | C26: 平飛 | D26: － | E26: G2 | J26: 7 | K26: 13 | L26: 13 | M26: 7
A27: 陳韻婷 | B27: 66
E28: G3 | F28: 5 | G28: 6 | J28: 6 | K28: 5
A29: C | B29: 夜魔俠
A30: 梁耿縉 | B30: 18 | E30: G4 | H30: 5 | I30: 22 | L30: 22 | M30: 5
A31: 勞恩以達西拔 | B31: 11
A32: 郭亦倫 | B32: 39 | E32: G5 | F32: 7 | G32: 12 | L32: 12 | M32: 7
A33: 蔡存宥 | B33: 22
A34: 古國偉 | B34: 37 | E34: G6 | H34: 6 | I34: 5 | J34: 5 | K34: 6
A35: 余自成 | B35: 81
A36: 蔡孟洵 | B36: 58
A37: 吳品逸 | B37: 0 | F37: =SUM(F24:F36) -> 21 | G37: =SUM(G24:G36) -> 19 | H37: =SUM(H24:H36) -> 12 | I37: =SUM(I24:I36) -> 36 | J37: =SUM(J24:J36) -> 18 | K37: =SUM(K24:K36) -> 24 | L37: =SUM(L24:L36) -> 47 | M37: =SUM(M24:M36) -> 19
A38: 張雅恩 | B38: 36
A39: 李怡慧 | B39: 26
A40: 宋晴天 | B40: 10 | E40: 游擊隊 | F40: 冠軍 | G40: 6000
...

Sheet G1
B1: 加計分數 | D1: 場次 | H1: G1 | J1: 日期 | L1: 115.10.31 | Q1: =AE21 -> 1 | T1: LEOPARD | V1: VS | X1: 閃電隊 | AA1: =AE41 -> 9 | AI1: 數據
A2: 撿球 | B2: 接殺 | C2: HR | D2: 先 | E2: 背號 | F2: 球員 | G2: 1 | J2: 投 | K2: 2 | N2: 投 | O2: 3 | R2: 投 | S2: 4 | V2: 投 | W2: 5 | Z2: 投 | AA2: 6 | AD2: 投 | AE2: 7 | AH2: 投 | AI2: AB | AJ2: R | AK2: K | AL2: P | AM2: 投/捕/觀
A3: =IF($E3="",0,SUMPRODUCT(--(SUBSTITUTE(SUBSTITUTE(SUBSTITUTE(SUBSTITUTE(SUBSTITUTE(SUBSTITUTE(SUBSTITUTE(UPPER($G$23:$I$40&""),"⌢",""),"⌣",""),"⌵",""),"－",""),"-","")," ","")," ","")=UPPER($E3&"")))+SUMPRODUCT(--(SUBSTITUTE(SUBSTITUTE(SUBSTITUTE(SUBSTITUTE(SUBSTITUTE(SUBSTITUTE(SUBSTITUTE(UPPER($G$23:$I$40&""),"⌢",""),"⌣",""),"⌵",""),"－",""),"-","")," ","")," ","")=UPPER($E3&"")&"DP"))*2+SUMPRODUCT(--(SUBSTITUTE(SUBSTITUTE(SUBSTITUTE(SUBSTITUTE(SUBSTITUTE(SUBSTITUTE(SUBSTITUTE(UPPER($G$23:$I$40&""),"⌢",""),"⌣",""),"⌵",""),"－",""),"-","")," ","")," ","")="DP"&UPPER($E3&"")))*2+SUMPRODUCT(--(SUBSTITUTE(SUBSTITUTE(SUBSTITUTE(SUBSTITUTE(SUBSTITUTE(SUBSTITUTE(SUBSTITUTE(UPPER($G$23:$I$40&""),"⌢",""),"⌣",""),"⌵",""),"－",""),"-","")," ","")," ","")=UPPER($E3&"")&"TP"))*3+SUMPRODUCT(--(SUBSTITUTE(SUBSTITUTE(SUBSTITUTE(SUBSTITUTE(SUBSTITUTE(SUBSTITUTE(SUBSTITUTE(UPPER($G$23:$I$40&""),"⌢",""),"⌣",""),"⌵",""),"－",""),"-","")," ","")," ","")="TP"&UPPER($E3&"")))*3+SUMPRODUCT(--(SUBSTITUTE(SUBSTITUTE(SUBSTITUTE(SUBSTITUTE(SUBSTITUTE(SUBSTITUTE(SUBSTITUTE(UPPER($K$23:$M$40&""),"⌢",""),"⌣",""),"⌵",""),"－",""),"-","")," ","")," ","")=UPPER($E3&"")))+SUMPRODUCT(--(SUBSTITUTE(SUBSTITUTE(SUBSTITUTE(SUBSTITUTE(SUBSTITUTE(SUBSTITUTE(SUBSTITUTE(UPPER($K$23:$M$40&""),"⌢",""),"⌣",""),"⌵",""),"－",""),"-","")," ","")," ","")=UPPER($E3&"")&"DP"))*2+SUMPRODUCT(--(SUBSTITUTE(SUBSTITUTE(SUBSTITUTE(SUBSTITUTE(SUBSTITUTE(SUBSTITUTE(SUBSTITUTE(UPPER($K$23:$M$40&""),"⌢",""),"⌣",""),"⌵",""),"－",""),"-","")," ","")," ","")="DP"&UPPER($E3&"")))*2+SUMPRODUCT(--(SUBSTITUTE(SUBSTITUTE(SUBSTITUTE(SUBSTITUTE(SUBSTITUTE(SUBSTITUTE(SUBSTITUTE(UPPER($K$23:$M$40&""),"⌢",""),"⌣",""),"⌵",""),"－",""),"-","")," ","")," ","")=UPPER($E3&"")&"TP"))*3+SUMPRODUCT(--(SUBSTITUTE(SUBSTITUTE(SUBSTITUTE(SUBSTITUTE(SUBSTITUTE(SUBSTITUTE(SUBSTITUTE(UPPER($K$23:$M$40&""),"⌢",""),"⌣",""),"⌵",""),"－",""),"-","")," ","")," ","")="TP"&UPPER($E3&"")))*3+SUMPRODUCT(--(SUBSTITUTE(SUBSTITUTE(SUBSTITUTE(SUBSTITUTE(SUBSTITUTE(SUBSTITUTE(SUBSTITUTE(UPPER($O$23:$Q$40&""),"⌢",""),"⌣",""),"⌵",""),"－",""),"-","")," ","")," ","")=UPPER($E3&"")))+SUMPRODUCT(--(SUBSTITUTE(SUBSTITUTE(SUBSTITUTE(SUBSTITUTE(SUBSTITUTE(SUBSTITUTE(SUBSTITUTE(UPPER($O$23:$Q$40&""),"⌢",""),"⌣",""),"⌵",""),"－",""),"-","")," ","")," ","")=UPPER($E3&"")&"DP"))*2+SUMPRODUCT(--(SUBSTITUTE(SUBSTITUTE(SUBSTITUTE(SUBSTITUTE(SUBSTITUTE(SUBSTITUTE(SUBSTITUTE(UPPER($O$23:$Q$40&""),"⌢",""),"⌣",""),"⌵",""),"－",""),"-","")," ","")," ","")="DP"&UPPER($E3&"")))*2+SUMPRODUCT(--(SUBSTITUTE(SUBSTITUTE(SUBSTITUTE(SUBSTITUTE(SUBSTITUTE(SUBSTITUTE(SUBSTITUTE(UPPER($O$23:$Q$40&""),"⌢",""),"⌣",""),"⌵",""),"－",""),"-","")," ","")," ","")=UPPER($E3&"")&"TP"))*3+SUMPRODUCT(--(SUBSTITUTE(SUBSTITUTE(SUBSTITUTE(SUBSTITUTE(SUBSTITUTE(SUBSTITUTE(SUBSTITUTE(UPPER($O$23:$Q$40&""),"⌢",""),"⌣",""),"⌵",""),"－",""),"-","")," ","")," ","")="TP"&UPPER($E3&"")))*3+SUMPRODUCT(--(SUBSTITUTE(SUBSTITUTE(SUBSTITUTE(SUBSTITUTE(SUBSTITUTE(SUBSTITUTE(SUBSTITUTE(UPPER($S$23:$U$40&""),"⌢",""),"⌣",""),"⌵",""),"－",""),"-","")," ","")," ","")=UPPER($E3&"")))+SUMPRODUCT(--(SUBSTITUTE(SUBSTITUTE(SUBSTITUTE(SUBSTITUTE(SUBSTITUTE(SUBSTITUTE(SUBSTITUTE(UPPER($S$23:$U$40&""),"⌢",""),"⌣",""),"⌵",""),"－",""),"-","")," ","")," ","")=UPPER($E3&"")&"DP"))*2+SUMPRODUCT(--(SUBSTITUTE(SUBSTITUTE(SUBSTITUTE(SUBSTITUTE(SUBSTITUTE(SUBSTITUTE(SUBSTITUTE(UPPER($S$23:$U$40&""),"⌢",""),"⌣",""),"⌵",""),"－",""),"-","")," ","")," ","")="DP"&UPPER($E3&"")))*2+SUMPRODUCT(--(SUBSTITUTE(SUBSTITUTE(SUBSTITUTE(SUBSTITUTE(SUBSTITUTE(SUBSTITUTE(SUBSTITUTE(UPPER($S$23:$U$40&""),"⌢",""),"⌣",""),"⌵",""),"－",""),"-","")," ","")," ","")=UPPER($E3&"")&"TP"))*3+SUMPRODUCT(--(SUBSTITUTE(SUBSTITUTE(SUBSTITUTE(SUBSTITUTE(SUBSTITUTE(SUBSTITUTE(SUBSTITUTE(UPPER($S$23:$U$40&""),"⌢",""),"⌣",""),"⌵",""),"－",""),"-","")," ","")," ","")="TP"&UPPER($E3&"")))*3+SUMPRODUCT(--(SUBSTITUTE(SUBSTITUTE(SUBSTITUTE(SUBSTITUTE(SUBSTITUTE(SUBSTITUTE(SUBSTITUTE(UPPER($W$23:$Y$40&""),"⌢",""),"⌣",""),"⌵",""),"－",""),"-","")," ","")," ","")=UPPER($E3&"")))+SUMPRODUCT(--(SUBSTITUTE(SUBSTITUTE(SUBSTITUTE(SUBSTITUTE(SUBSTITUTE(SUBSTITUTE(SUBSTITUTE(UPPER($W$23:$Y$40&""),"⌢",""),"⌣",""),"⌵",""),"－",""),"-","")," ","")," ","")=UPPER($E3&"")&"DP"))*2+SUMPRODUCT(--(SUBSTITUTE(SUBSTITUTE(SUBSTITUTE(SUBSTITUTE(SUBSTITUTE(SUBSTITUTE(SUBSTITUTE(UPPER($W$23:$Y$40&""),"⌢",""),"⌣",""),"⌵",""),"－",""),"-","")," ","")," ","")="DP"&UPPER($E3&"")))*2+SUMPRODUCT(--(SUBSTITUTE(SUBSTITUTE(SUBSTITUTE(SUBSTITUTE(SUBSTITUTE(SUBSTITUTE(SUBSTITUTE(UPPER($W$23:$Y$40&""),"⌢",""),"⌣",""),"⌵",""),"－",""),"-","")," ","")," ","")=UPPER($E3&"")&"TP"))*3+SUMPRODUCT(--(SUBSTITUTE(SUBSTITUTE(SUBSTITUTE(SUBSTITUTE(SUBSTITUTE(SUBSTITUTE(SUBSTITUTE(UPPER($W$23:$Y$40&""),"⌢",""),"⌣",""),"⌵",""),"－",""),"-","")," ","")," ","")="TP"&UPPER($E3&"")))*3+SUMPRODUCT(--(SUBSTITUTE(SUBSTITUTE(SUBSTITUTE(SUBSTITUTE(SUBSTITUTE(SUBSTITUTE(SUBSTITUTE(UPPER($AA$23:$AC$40&""),"⌢",""),"⌣",""),"⌵",""),"－",""),"-","")," ","")," ","")=UPPER($E3&"")))+SUMPRODUCT(--(SUBSTITUTE(SUBSTITUTE(SUBSTITUTE(SUBSTITUTE(SUBSTITUTE(SUBSTITUTE(SUBSTITUTE(UPPER($AA$23:$AC$40&""),"⌢",""),"⌣",""),"⌵",""),"－",""),"-","")," ","")," ","")=UPPER($E3&"")&"DP"))*2+SUMPRODUCT(--(SUBSTITUTE(SUBSTITUTE(SUBSTITUTE(SUBSTITUTE(SUBSTITUTE(SUBSTITUTE(SUBSTITUTE(UPPER($AA$23:$AC$40&""),"⌢",""),"⌣",""),"⌵",""),"－",""),"-","")," ","")," ","")="DP"&UPPER($E3&"")))*2+SUMPRODUCT(--(SUBSTITUTE(SUBSTITUTE(SUBSTITUTE(SUBSTITUTE(SUBSTITUTE(SUBSTITUTE(SUBSTITUTE(UPPER($AA$23:$AC$40&""),"⌢",""),"⌣",""),"⌵",""),"－",""),"-","")," ","")," ","")=UPPER($E3&"")&"TP"))*3+SUMPRODUCT(--(SUBSTITUTE(SUBSTITUTE(SUBSTITUTE(SUBSTITUTE(SUBSTITUTE(SUBSTITUTE(SUBSTITUTE(UPPER($AA$23:$AC$40&""),"⌢",""),"⌣",""),"⌵",""),"－",""),"-","")," ","")," ","")="TP"&UPPER($E3&"")))*3+SUMPRODUCT(--(SUBSTITUTE(SUBSTITUTE(SUBSTITUTE(SUBSTITUTE(SUBSTITUTE(SUBSTITUTE(SUBSTITUTE(UPPER($AE$23:$AG$40&""),"⌢",""),"⌣",""),"⌵",""),"－",""),"-","")," ","")," ","")=UPPER($E3&"")))+SUMPRODUCT(--(SUBSTITUTE(SUBSTITUTE(SUBSTITUTE(SUBSTITUTE(SUBSTITUTE(SUBSTITUTE(SUBSTITUTE(UPPER($AE$23:$AG$40&""),"⌢",""),"⌣",""),"⌵",""),"－",""),"-","")," ","")," ","")=UPPER($E3&"")&"DP"))*2+SUMPRODUCT(--(SUBSTITUTE(SUBSTITUTE(SUBSTITUTE(SUBSTITUTE(SUBSTITUTE(SUBSTITUTE(SUBSTITUTE(UPPER($AE$23:$AG$40&""),"⌢",""),"⌣",""),"⌵",""),"－",""),"-","")," ","")," ","")="DP"&UPPER($E3&"")))*2+SUMPRODUCT(--(SUBSTITUTE(SUBSTITUTE(SUBSTITUTE(SUBSTITUTE(SUBSTITUTE(SUBSTITUTE(SUBSTITUTE(UPPER($AE$23:$AG$40&""),"⌢",""),"⌣",""),"⌵",""),"－",""),"-","")," ","")," ","")=UPPER($E3&"")&"TP"))*3+SUMPRODUCT(--(SUBSTITUTE(SUBSTITUTE(SUBSTITUTE(SUBSTITUTE(SUBSTITUTE(SUBSTITUTE(SUBSTITUTE(UPPER($AE$23:$AG$40&""),"⌢",""),"⌣",""),"⌵",""),"－",""),"-","")," ","")," ","")="TP"&UPPER($E3&"")))*3) -> 0 | D3: 1 | E3: 6 | F3: 李秀美 | G3: K | O3: K | AI3: =COUNTA(G3:I3,K3:M3,O3:Q3,S3:U3,W3:Y3,AA3:AC3,AE3:AG3) -> 2 | AJ3: =SUMPRODUCT(--(SUBSTITUTE(SUBSTITUTE(SUBSTITUTE(SUBSTITUTE(SUBSTITUTE(SUBSTITUTE(SUBSTITUTE(UPPER(G3:AG3&""),"⌢",""),"⌣",""),"⌵",""),"－",""),"-","")," ","")," ","")="R"))+SUMPRODUCT(--(SUBSTITUTE(SUBSTITUTE(SUBSTITUTE(SUBSTITUTE(SUBSTITUTE(SUBSTITUTE(SUBSTITUTE(UPPER(G3:AG3&""),"⌢",""),"⌣",""),"⌵",""),"－",""),"-","")," ","")," ","")="HR"))*2 -> 0 | AK3: =COUNTIF(G3:AG3,"K") -> 2 | AL3: =$A3 -> 0 | AM3: 投手 | AN3: RIN | AO3: 背號 | AP3: 球員 | AQ3: AB | AR3: R | AS3: K | AT3: P | AV3: 投手成績統計 | AX3: (手動輸入)
A4: =IF($E4="",0,SUMPRODUCT(--(SUBSTITUTE(SUBSTITUTE(SUBSTITUTE(SUBSTITUTE(SUBSTITUTE(SUBSTITUTE(SUBSTITUTE(UPPER($G$23:$I$40&""),"⌢",""),"⌣",""),"⌵",""),"－",""),"-","")," ","")," ","")=UPPER($E4&"")))+SUMPRODUCT(--(SUBSTITUTE(SUBSTITUTE(SUBSTITUTE(SUBSTITUTE(SUBSTITUTE(SUBSTITUTE(SUBSTITUTE(UPPER($G$23:$I$40&""),"⌢",""),"⌣",""),"⌵",""),"－",""),"-","")," ","")," ","")=UPPER($E4&"")&"DP"))*2+SUMPRODUCT(--(SUBSTITUTE(SUBSTITUTE(SUBSTITUTE(SUBSTITUTE(SUBSTITUTE(SUBSTITUTE(SUBSTITUTE(UPPER($G$23:$I$40&""),"⌢",""),"⌣",""),"⌵",""),"－",""),"-","")," ","")," ","")="DP"&UPPER($E4&"")))*2+SUMPRODUCT(--(SUBSTITUTE(SUBSTITUTE(SUBSTITUTE(SUBSTITUTE(SUBSTITUTE(SUBSTITUTE(SUBSTITUTE(UPPER($G$23:$I$40&""),"⌢",""),"⌣",""),"⌵",""),"－",""),"-","")," ","")," ","")=UPPER($E4&"")&"TP"))*3+SUMPRODUCT(--(SUBSTITUTE(SUBSTITUTE(SUBSTITUTE(SUBSTITUTE(SUBSTITUTE(SUBSTITUTE(SUBSTITUTE(UPPER($G$23:$I$40&""),"⌢",""),"⌣",""),"⌵",""),"－",""),"-","")," ","")," ","")="TP"&UPPER($E4&"")))*3+SUMPRODUCT(--(SUBSTITUTE(SUBSTITUTE(SUBSTITUTE(SUBSTITUTE(SUBSTITUTE(SUBSTITUTE(SUBSTITUTE(UPPER($K$23:$M$40&""),"⌢",""),"⌣",""),"⌵",""),"－",""),"-","")," ","")," ","")=UPPER($E4&"")))+SUMPRODUCT(--(SUBSTITUTE(SUBSTITUTE(SUBSTITUTE(SUBSTITUTE(SUBSTITUTE(SUBSTITUTE(SUBSTITUTE(UPPER($K$23:$M$40&""),"⌢",""),"⌣",""),"⌵",""),"－",""),"-","")," ","")," ","")=UPPER($E4&"")&"DP"))*2+SUMPRODUCT(--(SUBSTITUTE(SUBSTITUTE(SUBSTITUTE(SUBSTITUTE(SUBSTITUTE(SUBSTITUTE(SUBSTITUTE(UPPER($K$23:$M$40&""),"⌢",""),"⌣",""),"⌵",""),"－",""),"-","")," ","")," ","")="DP"&UPPER($E4&"")))*2+SUMPRODUCT(--(SUBSTITUTE(SUBSTITUTE(SUBSTITUTE(SUBSTITUTE(SUBSTITUTE(SUBSTITUTE(SUBSTITUTE(UPPER($K$23:$M$40&""),"⌢",""),"⌣",""),"⌵",""),"－",""),"-","")," ","")," ","")=UPPER($E4&"")&"TP"))*3+SUMPRODUCT(--(SUBSTITUTE(SUBSTITUTE(SUBSTITUTE(SUBSTITUTE(SUBSTITUTE(SUBSTITUTE(SUBSTITUTE(UPPER($K$23:$M$40&""),"⌢",""),"⌣",""),"⌵",""),"－",""),"-","")," ","")," ","")="TP"&UPPER($E4&"")))*3+SUMPRODUCT(--(SUBSTITUTE(SUBSTITUTE(SUBSTITUTE(SUBSTITUTE(SUBSTITUTE(SUBSTITUTE(SUBSTITUTE(UPPER($O$23:$Q$40&""),"⌢",""),"⌣",""),"⌵",""),"－",""),"-","")," ","")," ","")=UPPER($E4&"")))+SUMPRODUCT(--(SUBSTITUTE(SUBSTITUTE(SUBSTITUTE(SUBSTITUTE(SUBSTITUTE(SUBSTITUTE(SUBSTITUTE(UPPER($O$23:$Q$40&""),"⌢",""),"⌣",""),"⌵",""),"－",""),"-","")," ","")," ","")=UPPER($E4&"")&"DP"))*2+SUMPRODUCT(--(SUBSTITUTE(SUBSTITUTE(SUBSTITUTE(SUBSTITUTE(SUBSTITUTE(SUBSTITUTE(SUBSTITUTE(UPPER($O$23:$Q$40&""),"⌢",""),"⌣",""),"⌵",""),"－",""),"-","")," ","")," ","")="DP"&UPPER($E4&"")))*2+SUMPRODUCT(--(SUBSTITUTE(SUBSTITUTE(SUBSTITUTE(SUBSTITUTE(SUBSTITUTE(SUBSTITUTE(SUBSTITUTE(UPPER($O$23:$Q$40&""),"⌢",""),"⌣",""),"⌵",""),"－",""),"-","")," ","")," ","")=UPPER($E4&"")&"TP"))*3+SUMPRODUCT(--(SUBSTITUTE(SUBSTITUTE(SUBSTITUTE(SUBSTITUTE(SUBSTITUTE(SUBSTITUTE(SUBSTITUTE(UPPER($O$23:$Q$40&""),"⌢",""),"⌣",""),"⌵",""),"－",""),"-","")," ","")," ","")="TP"&UPPER($E4&"")))*3+SUMPRODUCT(--(SUBSTITUTE(SUBSTITUTE(SUBSTITUTE(SUBSTITUTE(SUBSTITUTE(SUBSTITUTE(SUBSTITUTE(UPPER($S$23:$U$40&""),"⌢",""),"⌣",""),"⌵",""),"－",""),"-","")," ","")," ","")=UPPER($E4&"")))+SUMPRODUCT(--(SUBSTITUTE(SUBSTITUTE(SUBSTITUTE(SUBSTITUTE(SUBSTITUTE(SUBSTITUTE(SUBSTITUTE(UPPER($S$23:$U$40&""),"⌢",""),"⌣",""),"⌵",""),"－",""),"-","")," ","")," ","")=UPPER($E4&"")&"DP"))*2+SUMPRODUCT(--(SUBSTITUTE(SUBSTITUTE(SUBSTITUTE(SUBSTITUTE(SUBSTITUTE(SUBSTITUTE(SUBSTITUTE(UPPER($S$23:$U$40&""),"⌢",""),"⌣",""),"⌵",""),"－",""),"-","")," ","")," ","")="DP"&UPPER($E4&"")))*2+SUMPRODUCT(--(SUBSTITUTE(SUBSTITUTE(SUBSTITUTE(SUBSTITUTE(SUBSTITUTE(SUBSTITUTE(SUBSTITUTE(UPPER($S$23:$U$40&""),"⌢",""),"⌣",""),"⌵",""),"－",""),"-","")," ","")," ","")=UPPER($E4&"")&"TP"))*3+SUMPRODUCT(--(SUBSTITUTE(SUBSTITUTE(SUBSTITUTE(SUBSTITUTE(SUBSTITUTE(SUBSTITUTE(SUBSTITUTE(UPPER($S$23:$U$40&""),"⌢",""),"⌣",""),"⌵",""),"－",""),"-","")," ","")," ","")="TP"&UPPER($E4&"")))*3+SUMPRODUCT(--(SUBSTITUTE(SUBSTITUTE(SUBSTITUTE(SUBSTITUTE(SUBSTITUTE(SUBSTITUTE(SUBSTITUTE(UPPER($W$23:$Y$40&""),"⌢",""),"⌣",""),"⌵",""),"－",""),"-","")," ","")," ","")=UPPER($E4&"")))+SUMPRODUCT(--(SUBSTITUTE(SUBSTITUTE(SUBSTITUTE(SUBSTITUTE(SUBSTITUTE(SUBSTITUTE(SUBSTITUTE(UPPER($W$23:$Y$40&""),"⌢",""),"⌣",""),"⌵",""),"－",""),"-","")," ","")," ","")=UPPER($E4&"")&"DP"))*2+SUMPRODUCT(--(SUBSTITUTE(SUBSTITUTE(SUBSTITUTE(SUBSTITUTE(SUBSTITUTE(SUBSTITUTE(SUBSTITUTE(UPPER($W$23:$Y$40&""),"⌢",""),"⌣",""),"⌵",""),"－",""),"-","")," ","")," ","")="DP"&UPPER($E4&"")))*2+SUMPRODUCT(--(SUBSTITUTE(SUBSTITUTE(SUBSTITUTE(SUBSTITUTE(SUBSTITUTE(SUBSTITUTE(SUBSTITUTE(UPPER($W$23:$Y$40&""),"⌢",""),"⌣",""),"⌵",""),"－",""),"-","")," ","")," ","")=UPPER($E4&"")&"TP"))*3+SUMPRODUCT(--(SUBSTITUTE(SUBSTITUTE(SUBSTITUTE(SUBSTITUTE(SUBSTITUTE(SUBSTITUTE(SUBSTITUTE(UPPER($W$23:$Y$40&""),"⌢",""),"⌣",""),"⌵",""),"－",""),"-","")," ","")," ","")="TP"&UPPER($E4&"")))*3+SUMPRODUCT(--(SUBSTITUTE(SUBSTITUTE(SUBSTITUTE(SUBSTITUTE(SUBSTITUTE(SUBSTITUTE(SUBSTITUTE(UPPER($AA$23:$AC$40&""),"⌢",""),"⌣",""),"⌵",""),"－",""),"-","")," ","")," ","")=UPPER($E4&"")))+SUMPRODUCT(--(SUBSTITUTE(SUBSTITUTE(SUBSTITUTE(SUBSTITUTE(SUBSTITUTE(SUBSTITUTE(SUBSTITUTE(UPPER($AA$23:$AC$40&""),"⌢",""),"⌣",""),"⌵",""),"－",""),"-","")," ","")," ","")=UPPER($E4&"")&"DP"))*2+SUMPRODUCT(--(SUBSTITUTE(SUBSTITUTE(SUBSTITUTE(SUBSTITUTE(SUBSTITUTE(SUBSTITUTE(SUBSTITUTE(UPPER($AA$23:$AC$40&""),"⌢",""),"⌣",""),"⌵",""),"－",""),"-","")," ","")," ","")="DP"&UPPER($E4&"")))*2+SUMPRODUCT(--(SUBSTITUTE(SUBSTITUTE(SUBSTITUTE(SUBSTITUTE(SUBSTITUTE(SUBSTITUTE(SUBSTITUTE(UPPER($AA$23:$AC$40&""),"⌢",""),"⌣",""),"⌵",""),"－",""),"-","")," ","")," ","")=UPPER($E4&"")&"TP"))*3+SUMPRODUCT(--(SUBSTITUTE(SUBSTITUTE(SUBSTITUTE(SUBSTITUTE(SUBSTITUTE(SUBSTITUTE(SUBSTITUTE(UPPER($AA$23:$AC$40&""),"⌢",""),"⌣",""),"⌵",""),"－",""),"-","")," ","")," ","")="TP"&UPPER($E4&"")))*3+SUMPRODUCT(--(SUBSTITUTE(SUBSTITUTE(SUBSTITUTE(SUBSTITUTE(SUBSTITUTE(SUBSTITUTE(SUBSTITUTE(UPPER($AE$23:$AG$40&""),"⌢",""),"⌣",""),"⌵",""),"－",""),"-","")," ","")," ","")=UPPER($E4&"")))+SUMPRODUCT(--(SUBSTITUTE(SUBSTITUTE(SUBSTITUTE(SUBSTITUTE(SUBSTITUTE(SUBSTITUTE(SUBSTITUTE(UPPER($AE$23:$AG$40&""),"⌢",""),"⌣",""),"⌵",""),"－",""),"-","")," ","")," ","")=UPPER($E4&"")&"DP"))*2+SUMPRODUCT(--(SUBSTITUTE(SUBSTITUTE(SUBSTITUTE(SUBSTITUTE(SUBSTITUTE(SUBSTITUTE(SUBSTITUTE(UPPER($AE$23:$AG$40&""),"⌢",""),"⌣",""),"⌵",""),"－",""),"-","")," ","")," ","")="DP"&UPPER($E4&"")))*2+SUMPRODUCT(--(SUBSTITUTE(SUBSTITUTE(SUBSTITUTE(SUBSTITUTE(SUBSTITUTE(SUBSTITUTE(SUBSTITUTE(UPPER($AE$23:$AG$40&""),"⌢",""),"⌣",""),"⌵",""),"－",""),"-","")," ","")," ","")=UPPER($E4&"")&"TP"))*3+SUMPRODUCT(--(SUBSTITUTE(SUBSTITUTE(SUBSTITUTE(SUBSTITUTE(SUBSTITUTE(SUBSTITUTE(SUBSTITUTE(UPPER($AE$23:$AG$40&""),"⌢",""),"⌣",""),"⌵",""),"－",""),"-","")," ","")," ","")="TP"&UPPER($E4&"")))*3) -> 0 | E4: 66 | F4: 陳韻婷 | T4: K | AB4: 33 ⌣ | AI4: =COUNTA(G4:I4,K4:M4,O4:Q4,S4:U4,W4:Y4,AA4:AC4,AE4:AG4) -> 2 | AJ4: =SUMPRODUCT(--(SUBSTITUTE(SUBSTITUTE(SUBSTITUTE(SUBSTITUTE(SUBSTITUTE(SUBSTITUTE(SUBSTITUTE(UPPER(G4:AG4&""),"⌢",""),"⌣",""),"⌵",""),"－",""),"-","")," ","")," ","")="R"))+SUMPRODUCT(--(SUBSTITUTE(SUBSTITUTE(SUBSTITUTE(SUBSTITUTE(SUBSTITUTE(SUBSTITUTE(SUBSTITUTE(UPPER(G4:AG4&""),"⌢",""),"⌣",""),"⌵",""),"－",""),"-","")," ","")," ","")="HR"))*2 -> 0 | AK4: =COUNTIF(G4:AG4,"K") -> 1 | AL4: =$A4 -> 0 | AM4: 江言鎧 | AO4: 6 | AP4: {=_xlfn.UNIQUE(SUBSTITUTE(SUBSTITUTE(F3:F20," DF",""),"DF",""))} -> 李秀美 | AQ4: =SUMIF($F$3:$F$20,AP4,$AI$3:$AI$20)+SUMIF($F$3:$F$20,AP4&" DF",$AI$3:$AI$20)+SUMIF($F$3:$F$20,AP4&"DF",$AI$3:$AI$20) -> 2 | AR4: =SUMIF($F$3:$F$20,AP4,$AJ$3:$AJ$20)+SUMIF($F$3:$F$20,AP4&" DF",$AJ$3:$AJ$20)+SUMIF($F$3:$F$20,AP4&"DF",$AJ$3:$AJ$20) -> 0 | AS4: =SUMIF($F$3:$F$20,AP4,$AK$3:$AK$20)+SUMIF($F$3:$F$20,AP4&" DF",$AK$3:$AK$20)+SUMIF($F$3:$F$20,AP4&"DF",$AK$3:$AK$20) -> 2 | AT4: =SUMIF($F$3:$F$20,AP4,$AL$3:$AL$20)+SUMIF($F$3:$F$20,AP4&" DF",$AL$3:$AL$20)+SUMIF($F$3:$F$20,AP4&"DF",$AL$3:$AL$20) -> 0 | AV4: 姓名 | AW4: AB | AX4: R | AY4: K
A5: =IF($E5="",0,SUMPRODUCT(--(SUBSTITUTE(SUBSTITUTE(SUBSTITUTE(SUBSTITUTE(SUBSTITUTE(SUBSTITUTE(SUBSTITUTE(UPPER($G$23:$I$40&""),"⌢",""),"⌣",""),"⌵",""),"－",""),"-","")," ","")," ","")=UPPER($E5&"")))+SUMPRODUCT(--(SUBSTITUTE(SUBSTITUTE(SUBSTITUTE(SUBSTITUTE(SUBSTITUTE(SUBSTITUTE(SUBSTITUTE(UPPER($G$23:$I$40&""),"⌢",""),"⌣",""),"⌵",""),"－",""),"-","")," ","")," ","")=UPPER($E5&"")&"DP"))*2+SUMPRODUCT(--(SUBSTITUTE(SUBSTITUTE(SUBSTITUTE(SUBSTITUTE(SUBSTITUTE(SUBSTITUTE(SUBSTITUTE(UPPER($G$23:$I$40&""),"⌢",""),"⌣",""),"⌵",""),"－",""),"-","")," ","")," ","")="DP"&UPPER($E5&"")))*2+SUMPRODUCT(--(SUBSTITUTE(SUBSTITUTE(SUBSTITUTE(SUBSTITUTE(SUBSTITUTE(SUBSTITUTE(SUBSTITUTE(UPPER($G$23:$I$40&""),"⌢",""),"⌣",""),"⌵",""),"－",""),"-","")," ","")," ","")=UPPER($E5&"")&"TP"))*3+SUMPRODUCT(--(SUBSTITUTE(SUBSTITUTE(SUBSTITUTE(SUBSTITUTE(SUBSTITUTE(SUBSTITUTE(SUBSTITUTE(UPPER($G$23:$I$40&""),"⌢",""),"⌣",""),"⌵",""),"－",""),"-","")," ","")," ","")="TP"&UPPER($E5&"")))*3+SUMPRODUCT(--(SUBSTITUTE(SUBSTITUTE(SUBSTITUTE(SUBSTITUTE(SUBSTITUTE(SUBSTITUTE(SUBSTITUTE(UPPER($K$23:$M$40&""),"⌢",""),"⌣",""),"⌵",""),"－",""),"-","")," ","")," ","")=UPPER($E5&"")))+SUMPRODUCT(--(SUBSTITUTE(SUBSTITUTE(SUBSTITUTE(SUBSTITUTE(SUBSTITUTE(SUBSTITUTE(SUBSTITUTE(UPPER($K$23:$M$40&""),"⌢",""),"⌣",""),"⌵",""),"－",""),"-","")," ","")," ","")=UPPER($E5&"")&"DP"))*2+SUMPRODUCT(--(SUBSTITUTE(SUBSTITUTE(SUBSTITUTE(SUBSTITUTE(SUBSTITUTE(SUBSTITUTE(SUBSTITUTE(UPPER($K$23:$M$40&""),"⌢",""),"⌣",""),"⌵",""),"－",""),"-","")," ","")," ","")="DP"&UPPER($E5&"")))*2+SUMPRODUCT(--(SUBSTITUTE(SUBSTITUTE(SUBSTITUTE(SUBSTITUTE(SUBSTITUTE(SUBSTITUTE(SUBSTITUTE(UPPER($K$23:$M$40&""),"⌢",""),"⌣",""),"⌵",""),"－",""),"-","")," ","")," ","")=UPPER($E5&"")&"TP"))*3+SUMPRODUCT(--(SUBSTITUTE(SUBSTITUTE(SUBSTITUTE(SUBSTITUTE(SUBSTITUTE(SUBSTITUTE(SUBSTITUTE(UPPER($K$23:$M$40&""),"⌢",""),"⌣",""),"⌵",""),"－",""),"-","")," ","")," ","")="TP"&UPPER($E5&"")))*3+SUMPRODUCT(--(SUBSTITUTE(SUBSTITUTE(SUBSTITUTE(SUBSTITUTE(SUBSTITUTE(SUBSTITUTE(SUBSTITUTE(UPPER($O$23:$Q$40&""),"⌢",""),"⌣",""),"⌵",""),"－",""),"-","")," ","")," ","")=UPPER($E5&"")))+SUMPRODUCT(--(SUBSTITUTE(SUBSTITUTE(SUBSTITUTE(SUBSTITUTE(SUBSTITUTE(SUBSTITUTE(SUBSTITUTE(UPPER($O$23:$Q$40&""),"⌢",""),"⌣",""),"⌵",""),"－",""),"-","")," ","")," ","")=UPPER($E5&"")&"DP"))*2+SUMPRODUCT(--(SUBSTITUTE(SUBSTITUTE(SUBSTITUTE(SUBSTITUTE(SUBSTITUTE(SUBSTITUTE(SUBSTITUTE(UPPER($O$23:$Q$40&""),"⌢",""),"⌣",""),"⌵",""),"－",""),"-","")," ","")," ","")="DP"&UPPER($E5&"")))*2+SUMPRODUCT(--(SUBSTITUTE(SUBSTITUTE(SUBSTITUTE(SUBSTITUTE(SUBSTITUTE(SUBSTITUTE(SUBSTITUTE(UPPER($O$23:$Q$40&""),"⌢",""),"⌣",""),"⌵",""),"－",""),"-","")," ","")," ","")=UPPER($E5&"")&"TP"))*3+SUMPRODUCT(--(SUBSTITUTE(SUBSTITUTE(SUBSTITUTE(SUBSTITUTE(SUBSTITUTE(SUBSTITUTE(SUBSTITUTE(UPPER($O$23:$Q$40&""),"⌢",""),"⌣",""),"⌵",""),"－",""),"-","")," ","")," ","")="TP"&UPPER($E5&"")))*3+SUMPRODUCT(--(SUBSTITUTE(SUBSTITUTE(SUBSTITUTE(SUBSTITUTE(SUBSTITUTE(SUBSTITUTE(SUBSTITUTE(UPPER($S$23:$U$40&""),"⌢",""),"⌣",""),"⌵",""),"－",""),"-","")," ","")," ","")=UPPER($E5&"")))+SUMPRODUCT(--(SUBSTITUTE(SUBSTITUTE(SUBSTITUTE(SUBSTITUTE(SUBSTITUTE(SUBSTITUTE(SUBSTITUTE(UPPER($S$23:$U$40&""),"⌢",""),"⌣",""),"⌵",""),"－",""),"-","")," ","")," ","")=UPPER($E5&"")&"DP"))*2+SUMPRODUCT(--(SUBSTITUTE(SUBSTITUTE(SUBSTITUTE(SUBSTITUTE(SUBSTITUTE(SUBSTITUTE(SUBSTITUTE(UPPER($S$23:$U$40&""),"⌢",""),"⌣",""),"⌵",""),"－",""),"-","")," ","")," ","")="DP"&UPPER($E5&"")))*2+SUMPRODUCT(--(SUBSTITUTE(SUBSTITUTE(SUBSTITUTE(SUBSTITUTE(SUBSTITUTE(SUBSTITUTE(SUBSTITUTE(UPPER($S$23:$U$40&""),"⌢",""),"⌣",""),"⌵",""),"－",""),"-","")," ","")," ","")=UPPER($E5&"")&"TP"))*3+SUMPRODUCT(--(SUBSTITUTE(SUBSTITUTE(SUBSTITUTE(SUBSTITUTE(SUBSTITUTE(SUBSTITUTE(SUBSTITUTE(UPPER($S$23:$U$40&""),"⌢",""),"⌣",""),"⌵",""),"－",""),"-","")," ","")," ","")="TP"&UPPER($E5&"")))*3+SUMPRODUCT(--(SUBSTITUTE(SUBSTITUTE(SUBSTITUTE(SUBSTITUTE(SUBSTITUTE(SUBSTITUTE(SUBSTITUTE(UPPER($W$23:$Y$40&""),"⌢",""),"⌣",""),"⌵",""),"－",""),"-","")," ","")," ","")=UPPER($E5&"")))+SUMPRODUCT(--(SUBSTITUTE(SUBSTITUTE(SUBSTITUTE(SUBSTITUTE(SUBSTITUTE(SUBSTITUTE(SUBSTITUTE(UPPER($W$23:$Y$40&""),"⌢",""),"⌣",""),"⌵",""),"－",""),"-","")," ","")," ","")=UPPER($E5&"")&"DP"))*2+SUMPRODUCT(--(SUBSTITUTE(SUBSTITUTE(SUBSTITUTE(SUBSTITUTE(SUBSTITUTE(SUBSTITUTE(SUBSTITUTE(UPPER($W$23:$Y$40&""),"⌢",""),"⌣",""),"⌵",""),"－",""),"-","")," ","")," ","")="DP"&UPPER($E5&"")))*2+SUMPRODUCT(--(SUBSTITUTE(SUBSTITUTE(SUBSTITUTE(SUBSTITUTE(SUBSTITUTE(SUBSTITUTE(SUBSTITUTE(UPPER($W$23:$Y$40&""),"⌢",""),"⌣",""),"⌵",""),"－",""),"-","")," ","")," ","")=UPPER($E5&"")&"TP"))*3+SUMPRODUCT(--(SUBSTITUTE(SUBSTITUTE(SUBSTITUTE(SUBSTITUTE(SUBSTITUTE(SUBSTITUTE(SUBSTITUTE(UPPER($W$23:$Y$40&""),"⌢",""),"⌣",""),"⌵",""),"－",""),"-","")," ","")," ","")="TP"&UPPER($E5&"")))*3+SUMPRODUCT(--(SUBSTITUTE(SUBSTITUTE(SUBSTITUTE(SUBSTITUTE(SUBSTITUTE(SUBSTITUTE(SUBSTITUTE(UPPER($AA$23:$AC$40&""),"⌢",""),"⌣",""),"⌵",""),"－",""),"-","")," ","")," ","")=UPPER($E5&"")))+SUMPRODUCT(--(SUBSTITUTE(SUBSTITUTE(SUBSTITUTE(SUBSTITUTE(SUBSTITUTE(SUBSTITUTE(SUBSTITUTE(UPPER($AA$23:$AC$40&""),"⌢",""),"⌣",""),"⌵",""),"－",""),"-","")," ","")," ","")=UPPER($E5&"")&"DP"))*2+SUMPRODUCT(--(SUBSTITUTE(SUBSTITUTE(SUBSTITUTE(SUBSTITUTE(SUBSTITUTE(SUBSTITUTE(SUBSTITUTE(UPPER($AA$23:$AC$40&""),"⌢",""),"⌣",""),"⌵",""),"－",""),"-","")," ","")," ","")="DP"&UPPER($E5&"")))*2+SUMPRODUCT(--(SUBSTITUTE(SUBSTITUTE(SUBSTITUTE(SUBSTITUTE(SUBSTITUTE(SUBSTITUTE(SUBSTITUTE(UPPER($AA$23:$AC$40&""),"⌢",""),"⌣",""),"⌵",""),"－",""),"-","")," ","")," ","")=UPPER($E5&"")&"TP"))*3+SUMPRODUCT(--(SUBSTITUTE(SUBSTITUTE(SUBSTITUTE(SUBSTITUTE(SUBSTITUTE(SUBSTITUTE(SUBSTITUTE(UPPER($AA$23:$AC$40&""),"⌢",""),"⌣",""),"⌵",""),"－",""),"-","")," ","")," ","")="TP"&UPPER($E5&"")))*3+SUMPRODUCT(--(SUBSTITUTE(SUBSTITUTE(SUBSTITUTE(SUBSTITUTE(SUBSTITUTE(SUBSTITUTE(SUBSTITUTE(UPPER($AE$23:$AG$40&""),"⌢",""),"⌣",""),"⌵",""),"－",""),"-","")," ","")," ","")=UPPER($E5&"")))+SUMPRODUCT(--(SUBSTITUTE(SUBSTITUTE(SUBSTITUTE(SUBSTITUTE(SUBSTITUTE(SUBSTITUTE(SUBSTITUTE(UPPER($AE$23:$AG$40&""),"⌢",""),"⌣",""),"⌵",""),"－",""),"-","")," ","")," ","")=UPPER($E5&"")&"DP"))*2+SUMPRODUCT(--(SUBSTITUTE(SUBSTITUTE(SUBSTITUTE(SUBSTITUTE(SUBSTITUTE(SUBSTITUTE(SUBSTITUTE(UPPER($AE$23:$AG$40&""),"⌢",""),"⌣",""),"⌵",""),"－",""),"-","")," ","")," ","")="DP"&UPPER($E5&"")))*2+SUMPRODUCT(--(SUBSTITUTE(SUBSTITUTE(SUBSTITUTE(SUBSTITUTE(SUBSTITUTE(SUBSTITUTE(SUBSTITUTE(UPPER($AE$23:$AG$40&""),"⌢",""),"⌣",""),"⌵",""),"－",""),"-","")," ","")," ","")=UPPER($E5&"")&"TP"))*3+SUMPRODUCT(--(SUBSTITUTE(SUBSTITUTE(SUBSTITUTE(SUBSTITUTE(SUBSTITUTE(SUBSTITUTE(SUBSTITUTE(UPPER($AE$23:$AG$40&""),"⌢",""),"⌣",""),"⌵",""),"－",""),"-","")," ","")," ","")="TP"&UPPER($E5&"")))*3) -> 0 | AI5: =COUNTA(G5:I5,K5:M5,O5:Q5,S5:U5,W5:Y5,AA5:AC5,AE5:AG5) -> 0 | AJ5: =SUMPRODUCT(--(SUBSTITUTE(SUBSTITUTE(SUBSTITUTE(SUBSTITUTE(SUBSTITUTE(SUBSTITUTE(SUBSTITUTE(UPPER(G5:AG5&""),"⌢",""),"⌣",""),"⌵",""),"－",""),"-","")," ","")," ","")="R"))+SUMPRODUCT(--(SUBSTITUTE(SUBSTITUTE(SUBSTITUTE(SUBSTITUTE(SUBSTITUTE(SUBSTITUTE(SUBSTITUTE(UPPER(G5:AG5&""),"⌢",""),"⌣",""),"⌵",""),"－",""),"-","")," ","")," ","")="HR"))*2 -> 0 | AK5: =COUNTIF(G5:AG5,"K") -> 0 | AL5: =$A5 -> 0 | AO5: 66 | AP5: 陳韻婷 | AQ5: =SUMIF($F$3:$F$20,AP5,$AI$3:$AI$20)+SUMIF($F$3:$F$20,AP5&" DF",$AI$3:$AI$20)+SUMIF($F$3:$F$20,AP5&"DF",$AI$3:$AI$20) -> 3 | AR5: =SUMIF($F$3:$F$20,AP5,$AJ$3:$AJ$20)+SUMIF($F$3:$F$20,AP5&" DF",$AJ$3:$AJ$20)+SUMIF($F$3:$F$20,AP5&"DF",$AJ$3:$AJ$20) -> 0 | AS5: =SUMIF($F$3:$F$20,AP5,$AK$3:$AK$20)+SUMIF($F$3:$F$20,AP5&" DF",$AK$3:$AK$20)+SUMIF($F$3:$F$20,AP5&"DF",$AK$3:$AK$20) -> 2 | AT5: =SUMIF($F$3:$F$20,AP5,$AL$3:$AL$20)+SUMIF($F$3:$F$20,AP5&" DF",$AL$3:$AL$20)+SUMIF($F$3:$F$20,AP5&"DF",$AL$3:$AL$20) -> 0 | AV5: {=_xlfn.UNIQUE(AM4:AM5)} -> 江言鎧 | AW5: 19 | AX5: 1 | AY5: 13
A6: =IF($E6="",0,SUMPRODUCT(--(SUBSTITUTE(SUBSTITUTE(SUBSTITUTE(SUBSTITUTE(SUBSTITUTE(SUBSTITUTE(SUBSTITUTE(UPPER($G$23:$I$40&""),"⌢",""),"⌣",""),"⌵",""),"－",""),"-","")," ","")," ","")=UPPER($E6&"")))+SUMPRODUCT(--(SUBSTITUTE(SUBSTITUTE(SUBSTITUTE(SUBSTITUTE(SUBSTITUTE(SUBSTITUTE(SUBSTITUTE(UPPER($G$23:$I$40&""),"⌢",""),"⌣",""),"⌵",""),"－",""),"-","")," ","")," ","")=UPPER($E6&"")&"DP"))*2+SUMPRODUCT(--(SUBSTITUTE(SUBSTITUTE(SUBSTITUTE(SUBSTITUTE(SUBSTITUTE(SUBSTITUTE(SUBSTITUTE(UPPER($G$23:$I$40&""),"⌢",""),"⌣",""),"⌵",""),"－",""),"-","")," ","")," ","")="DP"&UPPER($E6&"")))*2+SUMPRODUCT(--(SUBSTITUTE(SUBSTITUTE(SUBSTITUTE(SUBSTITUTE(SUBSTITUTE(SUBSTITUTE(SUBSTITUTE(UPPER($G$23:$I$40&""),"⌢",""),"⌣",""),"⌵",""),"－",""),"-","")," ","")," ","")=UPPER($E6&"")&"TP"))*3+SUMPRODUCT(--(SUBSTITUTE(SUBSTITUTE(SUBSTITUTE(SUBSTITUTE(SUBSTITUTE(SUBSTITUTE(SUBSTITUTE(UPPER($G$23:$I$40&""),"⌢",""),"⌣",""),"⌵",""),"－",""),"-","")," ","")," ","")="TP"&UPPER($E6&"")))*3+SUMPRODUCT(--(SUBSTITUTE(SUBSTITUTE(SUBSTITUTE(SUBSTITUTE(SUBSTITUTE(SUBSTITUTE(SUBSTITUTE(UPPER($K$23:$M$40&""),"⌢",""),"⌣",""),"⌵",""),"－",""),"-","")," ","")," ","")=UPPER($E6&"")))+SUMPRODUCT(--(SUBSTITUTE(SUBSTITUTE(SUBSTITUTE(SUBSTITUTE(SUBSTITUTE(SUBSTITUTE(SUBSTITUTE(UPPER($K$23:$M$40&""),"⌢",""),"⌣",""),"⌵",""),"－",""),"-","")," ","")," ","")=UPPER($E6&"")&"DP"))*2+SUMPRODUCT(--(SUBSTITUTE(SUBSTITUTE(SUBSTITUTE(SUBSTITUTE(SUBSTITUTE(SUBSTITUTE(SUBSTITUTE(UPPER($K$23:$M$40&""),"⌢",""),"⌣",""),"⌵",""),"－",""),"-","")," ","")," ","")="DP"&UPPER($E6&"")))*2+SUMPRODUCT(--(SUBSTITUTE(SUBSTITUTE(SUBSTITUTE(SUBSTITUTE(SUBSTITUTE(SUBSTITUTE(SUBSTITUTE(UPPER($K$23:$M$40&""),"⌢",""),"⌣",""),"⌵",""),"－",""),"-","")," ","")," ","")=UPPER($E6&"")&"TP"))*3+SUMPRODUCT(--(SUBSTITUTE(SUBSTITUTE(SUBSTITUTE(SUBSTITUTE(SUBSTITUTE(SUBSTITUTE(SUBSTITUTE(UPPER($K$23:$M$40&""),"⌢",""),"⌣",""),"⌵",""),"－",""),"-","")," ","")," ","")="TP"&UPPER($E6&"")))*3+SUMPRODUCT(--(SUBSTITUTE(SUBSTITUTE(SUBSTITUTE(SUBSTITUTE(SUBSTITUTE(SUBSTITUTE(SUBSTITUTE(UPPER($O$23:$Q$40&""),"⌢",""),"⌣",""),"⌵",""),"－",""),"-","")," ","")," ","")=UPPER($E6&"")))+SUMPRODUCT(--(SUBSTITUTE(SUBSTITUTE(SUBSTITUTE(SUBSTITUTE(SUBSTITUTE(SUBSTITUTE(SUBSTITUTE(UPPER($O$23:$Q$40&""),"⌢",""),"⌣",""),"⌵",""),"－",""),"-","")," ","")," ","")=UPPER($E6&"")&"DP"))*2+SUMPRODUCT(--(SUBSTITUTE(SUBSTITUTE(SUBSTITUTE(SUBSTITUTE(SUBSTITUTE(SUBSTITUTE(SUBSTITUTE(UPPER($O$23:$Q$40&""),"⌢",""),"⌣",""),"⌵",""),"－",""),"-","")," ","")," ","")="DP"&UPPER($E6&"")))*2+SUMPRODUCT(--(SUBSTITUTE(SUBSTITUTE(SUBSTITUTE(SUBSTITUTE(SUBSTITUTE(SUBSTITUTE(SUBSTITUTE(UPPER($O$23:$Q$40&""),"⌢",""),"⌣",""),"⌵",""),"－",""),"-","")," ","")," ","")=UPPER($E6&"")&"TP"))*3+SUMPRODUCT(--(SUBSTITUTE(SUBSTITUTE(SUBSTITUTE(SUBSTITUTE(SUBSTITUTE(SUBSTITUTE(SUBSTITUTE(UPPER($O$23:$Q$40&""),"⌢",""),"⌣",""),"⌵",""),"－",""),"-","")," ","")," ","")="TP"&UPPER($E6&"")))*3+SUMPRODUCT(--(SUBSTITUTE(SUBSTITUTE(SUBSTITUTE(SUBSTITUTE(SUBSTITUTE(SUBSTITUTE(SUBSTITUTE(UPPER($S$23:$U$40&""),"⌢",""),"⌣",""),"⌵",""),"－",""),"-","")," ","")," ","")=UPPER($E6&"")))+SUMPRODUCT(--(SUBSTITUTE(SUBSTITUTE(SUBSTITUTE(SUBSTITUTE(SUBSTITUTE(SUBSTITUTE(SUBSTITUTE(UPPER($S$23:$U$40&""),"⌢",""),"⌣",""),"⌵",""),"－",""),"-","")," ","")," ","")=UPPER($E6&"")&"DP"))*2+SUMPRODUCT(--(SUBSTITUTE(SUBSTITUTE(SUBSTITUTE(SUBSTITUTE(SUBSTITUTE(SUBSTITUTE(SUBSTITUTE(UPPER($S$23:$U$40&""),"⌢",""),"⌣",""),"⌵",""),"－",""),"-","")," ","")," ","")="DP"&UPPER($E6&"")))*2+SUMPRODUCT(--(SUBSTITUTE(SUBSTITUTE(SUBSTITUTE(SUBSTITUTE(SUBSTITUTE(SUBSTITUTE(SUBSTITUTE(UPPER($S$23:$U$40&""),"⌢",""),"⌣",""),"⌵",""),"－",""),"-","")," ","")," ","")=UPPER($E6&"")&"TP"))*3+SUMPRODUCT(--(SUBSTITUTE(SUBSTITUTE(SUBSTITUTE(SUBSTITUTE(SUBSTITUTE(SUBSTITUTE(SUBSTITUTE(UPPER($S$23:$U$40&""),"⌢",""),"⌣",""),"⌵",""),"－",""),"-","")," ","")," ","")="TP"&UPPER($E6&"")))*3+SUMPRODUCT(--(SUBSTITUTE(SUBSTITUTE(SUBSTITUTE(SUBSTITUTE(SUBSTITUTE(SUBSTITUTE(SUBSTITUTE(UPPER($W$23:$Y$40&""),"⌢",""),"⌣",""),"⌵",""),"－",""),"-","")," ","")," ","")=UPPER($E6&"")))+SUMPRODUCT(--(SUBSTITUTE(SUBSTITUTE(SUBSTITUTE(SUBSTITUTE(SUBSTITUTE(SUBSTITUTE(SUBSTITUTE(UPPER($W$23:$Y$40&""),"⌢",""),"⌣",""),"⌵",""),"－",""),"-","")," ","")," ","")=UPPER($E6&"")&"DP"))*2+SUMPRODUCT(--(SUBSTITUTE(SUBSTITUTE(SUBSTITUTE(SUBSTITUTE(SUBSTITUTE(SUBSTITUTE(SUBSTITUTE(UPPER($W$23:$Y$40&""),"⌢",""),"⌣",""),"⌵",""),"－",""),"-","")," ","")," ","")="DP"&UPPER($E6&"")))*2+SUMPRODUCT(--(SUBSTITUTE(SUBSTITUTE(SUBSTITUTE(SUBSTITUTE(SUBSTITUTE(SUBSTITUTE(SUBSTITUTE(UPPER($W$23:$Y$40&""),"⌢",""),"⌣",""),"⌵",""),"－",""),"-","")," ","")," ","")=UPPER($E6&"")&"TP"))*3+SUMPRODUCT(--(SUBSTITUTE(SUBSTITUTE(SUBSTITUTE(SUBSTITUTE(SUBSTITUTE(SUBSTITUTE(SUBSTITUTE(UPPER($W$23:$Y$40&""),"⌢",""),"⌣",""),"⌵",""),"－",""),"-","")," ","")," ","")="TP"&UPPER($E6&"")))*3+SUMPRODUCT(--(SUBSTITUTE(SUBSTITUTE(SUBSTITUTE(SUBSTITUTE(SUBSTITUTE(SUBSTITUTE(SUBSTITUTE(UPPER($AA$23:$AC$40&""),"⌢",""),"⌣",""),"⌵",""),"－",""),"-","")," ","")," ","")=UPPER($E6&"")))+SUMPRODUCT(--(SUBSTITUTE(SUBSTITUTE(SUBSTITUTE(SUBSTITUTE(SUBSTITUTE(SUBSTITUTE(SUBSTITUTE(UPPER($AA$23:$AC$40&""),"⌢",""),"⌣",""),"⌵",""),"－",""),"-","")," ","")," ","")=UPPER($E6&"")&"DP"))*2+SUMPRODUCT(--(SUBSTITUTE(SUBSTITUTE(SUBSTITUTE(SUBSTITUTE(SUBSTITUTE(SUBSTITUTE(SUBSTITUTE(UPPER($AA$23:$AC$40&""),"⌢",""),"⌣",""),"⌵",""),"－",""),"-","")," ","")," ","")="DP"&UPPER($E6&"")))*2+SUMPRODUCT(--(SUBSTITUTE(SUBSTITUTE(SUBSTITUTE(SUBSTITUTE(SUBSTITUTE(SUBSTITUTE(SUBSTITUTE(UPPER($AA$23:$AC$40&""),"⌢",""),"⌣",""),"⌵",""),"－",""),"-","")," ","")," ","")=UPPER($E6&"")&"TP"))*3+SUMPRODUCT(--(SUBSTITUTE(SUBSTITUTE(SUBSTITUTE(SUBSTITUTE(SUBSTITUTE(SUBSTITUTE(SUBSTITUTE(UPPER($AA$23:$AC$40&""),"⌢",""),"⌣",""),"⌵",""),"－",""),"-","")," ","")," ","")="TP"&UPPER($E6&"")))*3+SUMPRODUCT(--(SUBSTITUTE(SUBSTITUTE(SUBSTITUTE(SUBSTITUTE(SUBSTITUTE(SUBSTITUTE(SUBSTITUTE(UPPER($AE$23:$AG$40&""),"⌢",""),"⌣",""),"⌵",""),"－",""),"-","")," ","")," ","")=UPPER($E6&"")))+SUMPRODUCT(--(SUBSTITUTE(SUBSTITUTE(SUBSTITUTE(SUBSTITUTE(SUBSTITUTE(SUBSTITUTE(SUBSTITUTE(UPPER($AE$23:$AG$40&""),"⌢",""),"⌣",""),"⌵",""),"－",""),"-","")," ","")," ","")=UPPER($E6&"")&"DP"))*2+SUMPRODUCT(--(SUBSTITUTE(SUBSTITUTE(SUBSTITUTE(SUBSTITUTE(SUBSTITUTE(SUBSTITUTE(SUBSTITUTE(UPPER($AE$23:$AG$40&""),"⌢",""),"⌣",""),"⌵",""),"－",""),"-","")," ","")," ","")="DP"&UPPER($E6&"")))*2+SUMPRODUCT(--(SUBSTITUTE(SUBSTITUTE(SUBSTITUTE(SUBSTITUTE(SUBSTITUTE(SUBSTITUTE(SUBSTITUTE(UPPER($AE$23:$AG$40&""),"⌢",""),"⌣",""),"⌵",""),"－",""),"-","")," ","")," ","")=UPPER($E6&"")&"TP"))*3+SUMPRODUCT(--(SUBSTITUTE(SUBSTITUTE(SUBSTITUTE(SUBSTITUTE(SUBSTITUTE(SUBSTITUTE(SUBSTITUTE(UPPER($AE$23:$AG$40&""),"⌢",""),"⌣",""),"⌵",""),"－",""),"-","")," ","")," ","")="TP"&UPPER($E6&"")))*3) -> 0 | D6: 2 | E6: 66 | F6: 陳韻婷 | G6: K | AI6: =COUNTA(G6:I6,K6:M6,O6:Q6,S6:U6,W6:Y6,AA6:AC6,AE6:AG6) -> 1 | AJ6: =SUMPRODUCT(--(SUBSTITUTE(SUBSTITUTE(SUBSTITUTE(SUBSTITUTE(SUBSTITUTE(SUBSTITUTE(SUBSTITUTE(UPPER(G6:AG6&""),"⌢",""),"⌣",""),"⌵",""),"－",""),"-","")," ","")," ","")="R"))+SUMPRODUCT(--(SUBSTITUTE(SUBSTITUTE(SUBSTITUTE(SUBSTITUTE(SUBSTITUTE(SUBSTITUTE(SUBSTITUTE(UPPER(G6:AG6&""),"⌢",""),"⌣",""),"⌵",""),"－",""),"-","")," ","")," ","")="HR"))*2 -> 0 | AK6: =COUNTIF(G6:AG6,"K") -> 1 | AL6: =$A6 -> 0 | AM6: 捕手 | AQ6: =SUMIF($F$3:$F$20,AP6,$AI$3:$AI$20)+SUMIF($F$3:$F$20,AP6&" DF",$AI$3:$AI$20)+SUMIF($F$3:$F$20,AP6&"DF",$AI$3:$AI$20) -> 0 | AR6: =SUMIF($F$3:$F$20,AP6,$AJ$3:$AJ$20)+SUMIF($F$3:$F$20,AP6&" DF",$AJ$3:$AJ$20)+SUMIF($F$3:$F$20,AP6&"DF",$AJ$3:$AJ$20) -> 0 | AS6: =SUMIF($F$3:$F$20,AP6,$AK$3:$AK$20)+SUMIF($F$3:$F$20,AP6&" DF",$AK$3:$AK$20)+SUMIF($F$3:$F$20,AP6&"DF",$AK$3:$AK$20) -> 0 | AT6: =SUMIF($F$3:$F$20,AP6,$AL$3:$AL$20)+SUMIF($F$3:$F$20,AP6&" DF",$AL$3:$AL$20)+SUMIF($F$3:$F$20,AP6&"DF",$AL$3:$AL$20) -> 0 | AV6: 0
A7: =IF($E7="",0,SUMPRODUCT(--(SUBSTITUTE(SUBSTITUTE(SUBSTITUTE(SUBSTITUTE(SUBSTITUTE(SUBSTITUTE(SUBSTITUTE(UPPER($G$23:$I$40&""),"⌢",""),"⌣",""),"⌵",""),"－",""),"-","")," ","")," ","")=UPPER($E7&"")))+SUMPRODUCT(--(SUBSTITUTE(SUBSTITUTE(SUBSTITUTE(SUBSTITUTE(SUBSTITUTE(SUBSTITUTE(SUBSTITUTE(UPPER($G$23:$I$40&""),"⌢",""),"⌣",""),"⌵",""),"－",""),"-","")," ","")," ","")=UPPER($E7&"")&"DP"))*2+SUMPRODUCT(--(SUBSTITUTE(SUBSTITUTE(SUBSTITUTE(SUBSTITUTE(SUBSTITUTE(SUBSTITUTE(SUBSTITUTE(UPPER($G$23:$I$40&""),"⌢",""),"⌣",""),"⌵",""),"－",""),"-","")," ","")," ","")="DP"&UPPER($E7&"")))*2+SUMPRODUCT(--(SUBSTITUTE(SUBSTITUTE(SUBSTITUTE(SUBSTITUTE(SUBSTITUTE(SUBSTITUTE(SUBSTITUTE(UPPER($G$23:$I$40&""),"⌢",""),"⌣",""),"⌵",""),"－",""),"-","")," ","")," ","")=UPPER($E7&"")&"TP"))*3+SUMPRODUCT(--(SUBSTITUTE(SUBSTITUTE(SUBSTITUTE(SUBSTITUTE(SUBSTITUTE(SUBSTITUTE(SUBSTITUTE(UPPER($G$23:$I$40&""),"⌢",""),"⌣",""),"⌵",""),"－",""),"-","")," ","")," ","")="TP"&UPPER($E7&"")))*3+SUMPRODUCT(--(SUBSTITUTE(SUBSTITUTE(SUBSTITUTE(SUBSTITUTE(SUBSTITUTE(SUBSTITUTE(SUBSTITUTE(UPPER($K$23:$M$40&""),"⌢",""),"⌣",""),"⌵",""),"－",""),"-","")," ","")," ","")=UPPER($E7&"")))+SUMPRODUCT(--(SUBSTITUTE(SUBSTITUTE(SUBSTITUTE(SUBSTITUTE(SUBSTITUTE(SUBSTITUTE(SUBSTITUTE(UPPER($K$23:$M$40&""),"⌢",""),"⌣",""),"⌵",""),"－",""),"-","")," ","")," ","")=UPPER($E7&"")&"DP"))*2+SUMPRODUCT(--(SUBSTITUTE(SUBSTITUTE(SUBSTITUTE(SUBSTITUTE(SUBSTITUTE(SUBSTITUTE(SUBSTITUTE(UPPER($K$23:$M$40&""),"⌢",""),"⌣",""),"⌵",""),"－",""),"-","")," ","")," ","")="DP"&UPPER($E7&"")))*2+SUMPRODUCT(--(SUBSTITUTE(SUBSTITUTE(SUBSTITUTE(SUBSTITUTE(SUBSTITUTE(SUBSTITUTE(SUBSTITUTE(UPPER($K$23:$M$40&""),"⌢",""),"⌣",""),"⌵",""),"－",""),"-","")," ","")," ","")=UPPER($E7&"")&"TP"))*3+SUMPRODUCT(--(SUBSTITUTE(SUBSTITUTE(SUBSTITUTE(SUBSTITUTE(SUBSTITUTE(SUBSTITUTE(SUBSTITUTE(UPPER($K$23:$M$40&""),"⌢",""),"⌣",""),"⌵",""),"－",""),"-","")," ","")," ","")="TP"&UPPER($E7&"")))*3+SUMPRODUCT(--(SUBSTITUTE(SUBSTITUTE(SUBSTITUTE(SUBSTITUTE(SUBSTITUTE(SUBSTITUTE(SUBSTITUTE(UPPER($O$23:$Q$40&""),"⌢",""),"⌣",""),"⌵",""),"－",""),"-","")," ","")," ","")=UPPER($E7&"")))+SUMPRODUCT(--(SUBSTITUTE(SUBSTITUTE(SUBSTITUTE(SUBSTITUTE(SUBSTITUTE(SUBSTITUTE(SUBSTITUTE(UPPER($O$23:$Q$40&""),"⌢",""),"⌣",""),"⌵",""),"－",""),"-","")," ","")," ","")=UPPER($E7&"")&"DP"))*2+SUMPRODUCT(--(SUBSTITUTE(SUBSTITUTE(SUBSTITUTE(SUBSTITUTE(SUBSTITUTE(SUBSTITUTE(SUBSTITUTE(UPPER($O$23:$Q$40&""),"⌢",""),"⌣",""),"⌵",""),"－",""),"-","")," ","")," ","")="DP"&UPPER($E7&"")))*2+SUMPRODUCT(--(SUBSTITUTE(SUBSTITUTE(SUBSTITUTE(SUBSTITUTE(SUBSTITUTE(SUBSTITUTE(SUBSTITUTE(UPPER($O$23:$Q$40&""),"⌢",""),"⌣",""),"⌵",""),"－",""),"-","")," ","")," ","")=UPPER($E7&"")&"TP"))*3+SUMPRODUCT(--(SUBSTITUTE(SUBSTITUTE(SUBSTITUTE(SUBSTITUTE(SUBSTITUTE(SUBSTITUTE(SUBSTITUTE(UPPER($O$23:$Q$40&""),"⌢",""),"⌣",""),"⌵",""),"－",""),"-","")," ","")," ","")="TP"&UPPER($E7&"")))*3+SUMPRODUCT(--(SUBSTITUTE(SUBSTITUTE(SUBSTITUTE(SUBSTITUTE(SUBSTITUTE(SUBSTITUTE(SUBSTITUTE(UPPER($S$23:$U$40&""),"⌢",""),"⌣",""),"⌵",""),"－",""),"-","")," ","")," ","")=UPPER($E7&"")))+SUMPRODUCT(--(SUBSTITUTE(SUBSTITUTE(SUBSTITUTE(SUBSTITUTE(SUBSTITUTE(SUBSTITUTE(SUBSTITUTE(UPPER($S$23:$U$40&""),"⌢",""),"⌣",""),"⌵",""),"－",""),"-","")," ","")," ","")=UPPER($E7&"")&"DP"))*2+SUMPRODUCT(--(SUBSTITUTE(SUBSTITUTE(SUBSTITUTE(SUBSTITUTE(SUBSTITUTE(SUBSTITUTE(SUBSTITUTE(UPPER($S$23:$U$40&""),"⌢",""),"⌣",""),"⌵",""),"－",""),"-","")," ","")," ","")="DP"&UPPER($E7&"")))*2+SUMPRODUCT(--(SUBSTITUTE(SUBSTITUTE(SUBSTITUTE(SUBSTITUTE(SUBSTITUTE(SUBSTITUTE(SUBSTITUTE(UPPER($S$23:$U$40&""),"⌢",""),"⌣",""),"⌵",""),"－",""),"-","")," ","")," ","")=UPPER($E7&"")&"TP"))*3+SUMPRODUCT(--(SUBSTITUTE(SUBSTITUTE(SUBSTITUTE(SUBSTITUTE(SUBSTITUTE(SUBSTITUTE(SUBSTITUTE(UPPER($S$23:$U$40&""),"⌢",""),"⌣",""),"⌵",""),"－",""),"-","")," ","")," ","")="TP"&UPPER($E7&"")))*3+SUMPRODUCT(--(SUBSTITUTE(SUBSTITUTE(SUBSTITUTE(SUBSTITUTE(SUBSTITUTE(SUBSTITUTE(SUBSTITUTE(UPPER($W$23:$Y$40&""),"⌢",""),"⌣",""),"⌵",""),"－",""),"-","")," ","")," ","")=UPPER($E7&"")))+SUMPRODUCT(--(SUBSTITUTE(SUBSTITUTE(SUBSTITUTE(SUBSTITUTE(SUBSTITUTE(SUBSTITUTE(SUBSTITUTE(UPPER($W$23:$Y$40&""),"⌢",""),"⌣",""),"⌵",""),"－",""),"-","")," ","")," ","")=UPPER($E7&"")&"DP"))*2+SUMPRODUCT(--(SUBSTITUTE(SUBSTITUTE(SUBSTITUTE(SUBSTITUTE(SUBSTITUTE(SUBSTITUTE(SUBSTITUTE(UPPER($W$23:$Y$40&""),"⌢",""),"⌣",""),"⌵",""),"－",""),"-","")," ","")," ","")="DP"&UPPER($E7&"")))*2+SUMPRODUCT(--(SUBSTITUTE(SUBSTITUTE(SUBSTITUTE(SUBSTITUTE(SUBSTITUTE(SUBSTITUTE(SUBSTITUTE(UPPER($W$23:$Y$40&""),"⌢",""),"⌣",""),"⌵",""),"－",""),"-","")," ","")," ","")=UPPER($E7&"")&"TP"))*3+SUMPRODUCT(--(SUBSTITUTE(SUBSTITUTE(SUBSTITUTE(SUBSTITUTE(SUBSTITUTE(SUBSTITUTE(SUBSTITUTE(UPPER($W$23:$Y$40&""),"⌢",""),"⌣",""),"⌵",""),"－",""),"-","")," ","")," ","")="TP"&UPPER($E7&"")))*3+SUMPRODUCT(--(SUBSTITUTE(SUBSTITUTE(SUBSTITUTE(SUBSTITUTE(SUBSTITUTE(SUBSTITUTE(SUBSTITUTE(UPPER($AA$23:$AC$40&""),"⌢",""),"⌣",""),"⌵",""),"－",""),"-","")," ","")," ","")=UPPER($E7&"")))+SUMPRODUCT(--(SUBSTITUTE(SUBSTITUTE(SUBSTITUTE(SUBSTITUTE(SUBSTITUTE(SUBSTITUTE(SUBSTITUTE(UPPER($AA$23:$AC$40&""),"⌢",""),"⌣",""),"⌵",""),"－",""),"-","")," ","")," ","")=UPPER($E7&"")&"DP"))*2+SUMPRODUCT(--(SUBSTITUTE(SUBSTITUTE(SUBSTITUTE(SUBSTITUTE(SUBSTITUTE(SUBSTITUTE(SUBSTITUTE(UPPER($AA$23:$AC$40&""),"⌢",""),"⌣",""),"⌵",""),"－",""),"-","")," ","")," ","")="DP"&UPPER($E7&"")))*2+SUMPRODUCT(--(SUBSTITUTE(SUBSTITUTE(SUBSTITUTE(SUBSTITUTE(SUBSTITUTE(SUBSTITUTE(SUBSTITUTE(UPPER($AA$23:$AC$40&""),"⌢",""),"⌣",""),"⌵",""),"－",""),"-","")," ","")," ","")=UPPER($E7&"")&"TP"))*3+SUMPRODUCT(--(SUBSTITUTE(SUBSTITUTE(SUBSTITUTE(SUBSTITUTE(SUBSTITUTE(SUBSTITUTE(SUBSTITUTE(UPPER($AA$23:$AC$40&""),"⌢",""),"⌣",""),"⌵",""),"－",""),"-","")," ","")," ","")="TP"&UPPER($E7&"")))*3+SUMPRODUCT(--(SUBSTITUTE(SUBSTITUTE(SUBSTITUTE(SUBSTITUTE(SUBSTITUTE(SUBSTITUTE(SUBSTITUTE(UPPER($AE$23:$AG$40&""),"⌢",""),"⌣",""),"⌵",""),"－",""),"-","")," ","")," ","")=UPPER($E7&"")))+SUMPRODUCT(--(SUBSTITUTE(SUBSTITUTE(SUBSTITUTE(SUBSTITUTE(SUBSTITUTE(SUBSTITUTE(SUBSTITUTE(UPPER($AE$23:$AG$40&""),"⌢",""),"⌣",""),"⌵",""),"－",""),"-","")," ","")," ","")=UPPER($E7&"")&"DP"))*2+SUMPRODUCT(--(SUBSTITUTE(SUBSTITUTE(SUBSTITUTE(SUBSTITUTE(SUBSTITUTE(SUBSTITUTE(SUBSTITUTE(UPPER($AE$23:$AG$40&""),"⌢",""),"⌣",""),"⌵",""),"－",""),"-","")," ","")," ","")="DP"&UPPER($E7&"")))*2+SUMPRODUCT(--(SUBSTITUTE(SUBSTITUTE(SUBSTITUTE(SUBSTITUTE(SUBSTITUTE(SUBSTITUTE(SUBSTITUTE(UPPER($AE$23:$AG$40&""),"⌢",""),"⌣",""),"⌵",""),"－",""),"-","")," ","")," ","")=UPPER($E7&"")&"TP"))*3+SUMPRODUCT(--(SUBSTITUTE(SUBSTITUTE(SUBSTITUTE(SUBSTITUTE(SUBSTITUTE(SUBSTITUTE(SUBSTITUTE(UPPER($AE$23:$AG$40&""),"⌢",""),"⌣",""),"⌵",""),"－",""),"-","")," ","")," ","")="TP"&UPPER($E7&"")))*3) -> 2 | E7: 1 | F7: 賴保全 | O7: R ⌢ | W7: 35 ⌢ | AI7: =COUNTA(G7:I7,K7:M7,O7:Q7,S7:U7,W7:Y7,AA7:AC7,AE7:AG7) -> 2 | AJ7: =SUMPRODUCT(--(SUBSTITUTE(SUBSTITUTE(SUBSTITUTE(SUBSTITUTE(SUBSTITUTE(SUBSTITUTE(SUBSTITUTE(UPPER(G7:AG7&""),"⌢",""),"⌣",""),"⌵",""),"－",""),"-","")," ","")," ","")="R"))+SUMPRODUCT(--(SUBSTITUTE(SUBSTITUTE(SUBSTITUTE(SUBSTITUTE(SUBSTITUTE(SUBSTITUTE(SUBSTITUTE(UPPER(G7:AG7&""),"⌢",""),"⌣",""),"⌵",""),"－",""),"-","")," ","")," ","")="HR"))*2 -> 1 | AK7: =COUNTIF(G7:AG7,"K") -> 0 | AL7: =$A7 -> 2 | AM7: 許慶德 | AO7: 1 | AP7: 賴保全 | AQ7: =SUMIF($F$3:$F$20,AP7,$AI$3:$AI$20)+SUMIF($F$3:$F$20,AP7&" DF",$AI$3:$AI$20)+SUMIF($F$3:$F$20,AP7&"DF",$AI$3:$AI$20) -> 2 | AR7: =SUMIF($F$3:$F$20,AP7,$AJ$3:$AJ$20)+SUMIF($F$3:$F$20,AP7&" DF",$AJ$3:$AJ$20)+SUMIF($F$3:$F$20,AP7&"DF",$AJ$3:$AJ$20) -> 1 | AS7: =SUMIF($F$3:$F$20,AP7,$AK$3:$AK$20)+SUMIF($F$3:$F$20,AP7&" DF",$AK$3:$AK$20)+SUMIF($F$3:$F$20,AP7&"DF",$AK$3:$AK$20) -> 0 | AT7: =SUMIF($F$3:$F$20,AP7,$AL$3:$AL$20)+SUMIF($F$3:$F$20,AP7&" DF",$AL$3:$AL$20)+SUMIF($F$3:$F$20,AP7&"DF",$AL$3:$AL$20) -> 2
A8: =IF($E8="",0,SUMPRODUCT(--(SUBSTITUTE(SUBSTITUTE(SUBSTITUTE(SUBSTITUTE(SUBSTITUTE(SUBSTITUTE(SUBSTITUTE(UPPER($G$23:$I$40&""),"⌢",""),"⌣",""),"⌵",""),"－",""),"-","")," ","")," ","")=UPPER($E8&"")))+SUMPRODUCT(--(SUBSTITUTE(SUBSTITUTE(SUBSTITUTE(SUBSTITUTE(SUBSTITUTE(SUBSTITUTE(SUBSTITUTE(UPPER($G$23:$I$40&""),"⌢",""),"⌣",""),"⌵",""),"－",""),"-","")," ","")," ","")=UPPER($E8&"")&"DP"))*2+SUMPRODUCT(--(SUBSTITUTE(SUBSTITUTE(SUBSTITUTE(SUBSTITUTE(SUBSTITUTE(SUBSTITUTE(SUBSTITUTE(UPPER($G$23:$I$40&""),"⌢",""),"⌣",""),"⌵",""),"－",""),"-","")," ","")," ","")="DP"&UPPER($E8&"")))*2+SUMPRODUCT(--(SUBSTITUTE(SUBSTITUTE(SUBSTITUTE(SUBSTITUTE(SUBSTITUTE(SUBSTITUTE(SUBSTITUTE(UPPER($G$23:$I$40&""),"⌢",""),"⌣",""),"⌵",""),"－",""),"-","")," ","")," ","")=UPPER($E8&"")&"TP"))*3+SUMPRODUCT(--(SUBSTITUTE(SUBSTITUTE(SUBSTITUTE(SUBSTITUTE(SUBSTITUTE(SUBSTITUTE(SUBSTITUTE(UPPER($G$23:$I$40&""),"⌢",""),"⌣",""),"⌵",""),"－",""),"-","")," ","")," ","")="TP"&UPPER($E8&"")))*3+SUMPRODUCT(--(SUBSTITUTE(SUBSTITUTE(SUBSTITUTE(SUBSTITUTE(SUBSTITUTE(SUBSTITUTE(SUBSTITUTE(UPPER($K$23:$M$40&""),"⌢",""),"⌣",""),"⌵",""),"－",""),"-","")," ","")," ","")=UPPER($E8&"")))+SUMPRODUCT(--(SUBSTITUTE(SUBSTITUTE(SUBSTITUTE(SUBSTITUTE(SUBSTITUTE(SUBSTITUTE(SUBSTITUTE(UPPER($K$23:$M$40&""),"⌢",""),"⌣",""),"⌵",""),"－",""),"-","")," ","")," ","")=UPPER($E8&"")&"DP"))*2+SUMPRODUCT(--(SUBSTITUTE(SUBSTITUTE(SUBSTITUTE(SUBSTITUTE(SUBSTITUTE(SUBSTITUTE(SUBSTITUTE(UPPER($K$23:$M$40&""),"⌢",""),"⌣",""),"⌵",""),"－",""),"-","")," ","")," ","")="DP"&UPPER($E8&"")))*2+SUMPRODUCT(--(SUBSTITUTE(SUBSTITUTE(SUBSTITUTE(SUBSTITUTE(SUBSTITUTE(SUBSTITUTE(SUBSTITUTE(UPPER($K$23:$M$40&""),"⌢",""),"⌣",""),"⌵",""),"－",""),"-","")," ","")," ","")=UPPER($E8&"")&"TP"))*3+SUMPRODUCT(--(SUBSTITUTE(SUBSTITUTE(SUBSTITUTE(SUBSTITUTE(SUBSTITUTE(SUBSTITUTE(SUBSTITUTE(UPPER($K$23:$M$40&""),"⌢",""),"⌣",""),"⌵",""),"－",""),"-","")," ","")," ","")="TP"&UPPER($E8&"")))*3+SUMPRODUCT(--(SUBSTITUTE(SUBSTITUTE(SUBSTITUTE(SUBSTITUTE(SUBSTITUTE(SUBSTITUTE(SUBSTITUTE(UPPER($O$23:$Q$40&""),"⌢",""),"⌣",""),"⌵",""),"－",""),"-","")," ","")," ","")=UPPER($E8&"")))+SUMPRODUCT(--(SUBSTITUTE(SUBSTITUTE(SUBSTITUTE(SUBSTITUTE(SUBSTITUTE(SUBSTITUTE(SUBSTITUTE(UPPER($O$23:$Q$40&""),"⌢",""),"⌣",""),"⌵",""),"－",""),"-","")," ","")," ","")=UPPER($E8&"")&"DP"))*2+SUMPRODUCT(--(SUBSTITUTE(SUBSTITUTE(SUBSTITUTE(SUBSTITUTE(SUBSTITUTE(SUBSTITUTE(SUBSTITUTE(UPPER($O$23:$Q$40&""),"⌢",""),"⌣",""),"⌵",""),"－",""),"-","")," ","")," ","")="DP"&UPPER($E8&"")))*2+SUMPRODUCT(--(SUBSTITUTE(SUBSTITUTE(SUBSTITUTE(SUBSTITUTE(SUBSTITUTE(SUBSTITUTE(SUBSTITUTE(UPPER($O$23:$Q$40&""),"⌢",""),"⌣",""),"⌵",""),"－",""),"-","")," ","")," ","")=UPPER($E8&"")&"TP"))*3+SUMPRODUCT(--(SUBSTITUTE(SUBSTITUTE(SUBSTITUTE(SUBSTITUTE(SUBSTITUTE(SUBSTITUTE(SUBSTITUTE(UPPER($O$23:$Q$40&""),"⌢",""),"⌣",""),"⌵",""),"－",""),"-","")," ","")," ","")="TP"&UPPER($E8&"")))*3+SUMPRODUCT(--(SUBSTITUTE(SUBSTITUTE(SUBSTITUTE(SUBSTITUTE(SUBSTITUTE(SUBSTITUTE(SUBSTITUTE(UPPER($S$23:$U$40&""),"⌢",""),"⌣",""),"⌵",""),"－",""),"-","")," ","")," ","")=UPPER($E8&"")))+SUMPRODUCT(--(SUBSTITUTE(SUBSTITUTE(SUBSTITUTE(SUBSTITUTE(SUBSTITUTE(SUBSTITUTE(SUBSTITUTE(UPPER($S$23:$U$40&""),"⌢",""),"⌣",""),"⌵",""),"－",""),"-","")," ","")," ","")=UPPER($E8&"")&"DP"))*2+SUMPRODUCT(--(SUBSTITUTE(SUBSTITUTE(SUBSTITUTE(SUBSTITUTE(SUBSTITUTE(SUBSTITUTE(SUBSTITUTE(UPPER($S$23:$U$40&""),"⌢",""),"⌣",""),"⌵",""),"－",""),"-","")," ","")," ","")="DP"&UPPER($E8&"")))*2+SUMPRODUCT(--(SUBSTITUTE(SUBSTITUTE(SUBSTITUTE(SUBSTITUTE(SUBSTITUTE(SUBSTITUTE(SUBSTITUTE(UPPER($S$23:$U$40&""),"⌢",""),"⌣",""),"⌵",""),"－",""),"-","")," ","")," ","")=UPPER($E8&"")&"TP"))*3+SUMPRODUCT(--(SUBSTITUTE(SUBSTITUTE(SUBSTITUTE(SUBSTITUTE(SUBSTITUTE(SUBSTITUTE(SUBSTITUTE(UPPER($S$23:$U$40&""),"⌢",""),"⌣",""),"⌵",""),"－",""),"-","")," ","")," ","")="TP"&UPPER($E8&"")))*3+SUMPRODUCT(--(SUBSTITUTE(SUBSTITUTE(SUBSTITUTE(SUBSTITUTE(SUBSTITUTE(SUBSTITUTE(SUBSTITUTE(UPPER($W$23:$Y$40&""),"⌢",""),"⌣",""),"⌵",""),"－",""),"-","")," ","")," ","")=UPPER($E8&"")))+SUMPRODUCT(--(SUBSTITUTE(SUBSTITUTE(SUBSTITUTE(SUBSTITUTE(SUBSTITUTE(SUBSTITUTE(SUBSTITUTE(UPPER($W$23:$Y$40&""),"⌢",""),"⌣",""),"⌵",""),"－",""),"-","")," ","")," ","")=UPPER($E8&"")&"DP"))*2+SUMPRODUCT(--(SUBSTITUTE(SUBSTITUTE(SUBSTITUTE(SUBSTITUTE(SUBSTITUTE(SUBSTITUTE(SUBSTITUTE(UPPER($W$23:$Y$40&""),"⌢",""),"⌣",""),"⌵",""),"－",""),"-","")," ","")," ","")="DP"&UPPER($E8&"")))*2+SUMPRODUCT(--(SUBSTITUTE(SUBSTITUTE(SUBSTITUTE(SUBSTITUTE(SUBSTITUTE(SUBSTITUTE(SUBSTITUTE(UPPER($W$23:$Y$40&""),"⌢",""),"⌣",""),"⌵",""),"－",""),"-","")," ","")," ","")=UPPER($E8&"")&"TP"))*3+SUMPRODUCT(--(SUBSTITUTE(SUBSTITUTE(SUBSTITUTE(SUBSTITUTE(SUBSTITUTE(SUBSTITUTE(SUBSTITUTE(UPPER($W$23:$Y$40&""),"⌢",""),"⌣",""),"⌵",""),"－",""),"-","")," ","")," ","")="TP"&UPPER($E8&"")))*3+SUMPRODUCT(--(SUBSTITUTE(SUBSTITUTE(SUBSTITUTE(SUBSTITUTE(SUBSTITUTE(SUBSTITUTE(SUBSTITUTE(UPPER($AA$23:$AC$40&""),"⌢",""),"⌣",""),"⌵",""),"－",""),"-","")," ","")," ","")=UPPER($E8&"")))+SUMPRODUCT(--(SUBSTITUTE(SUBSTITUTE(SUBSTITUTE(SUBSTITUTE(SUBSTITUTE(SUBSTITUTE(SUBSTITUTE(UPPER($AA$23:$AC$40&""),"⌢",""),"⌣",""),"⌵",""),"－",""),"-","")," ","")," ","")=UPPER($E8&"")&"DP"))*2+SUMPRODUCT(--(SUBSTITUTE(SUBSTITUTE(SUBSTITUTE(SUBSTITUTE(SUBSTITUTE(SUBSTITUTE(SUBSTITUTE(UPPER($AA$23:$AC$40&""),"⌢",""),"⌣",""),"⌵",""),"－",""),"-","")," ","")," ","")="DP"&UPPER($E8&"")))*2+SUMPRODUCT(--(SUBSTITUTE(SUBSTITUTE(SUBSTITUTE(SUBSTITUTE(SUBSTITUTE(SUBSTITUTE(SUBSTITUTE(UPPER($AA$23:$AC$40&""),"⌢",""),"⌣",""),"⌵",""),"－",""),"-","")," ","")," ","")=UPPER($E8&"")&"TP"))*3+SUMPRODUCT(--(SUBSTITUTE(SUBSTITUTE(SUBSTITUTE(SUBSTITUTE(SUBSTITUTE(SUBSTITUTE(SUBSTITUTE(UPPER($AA$23:$AC$40&""),"⌢",""),"⌣",""),"⌵",""),"－",""),"-","")," ","")," ","")="TP"&UPPER($E8&"")))*3+SUMPRODUCT(--(SUBSTITUTE(SUBSTITUTE(SUBSTITUTE(SUBSTITUTE(SUBSTITUTE(SUBSTITUTE(SUBSTITUTE(UPPER($AE$23:$AG$40&""),"⌢",""),"⌣",""),"⌵",""),"－",""),"-","")," ","")," ","")=UPPER($E8&"")))+SUMPRODUCT(--(SUBSTITUTE(SUBSTITUTE(SUBSTITUTE(SUBSTITUTE(SUBSTITUTE(SUBSTITUTE(SUBSTITUTE(UPPER($AE$23:$AG$40&""),"⌢",""),"⌣",""),"⌵",""),"－",""),"-","")," ","")," ","")=UPPER($E8&"")&"DP"))*2+SUMPRODUCT(--(SUBSTITUTE(SUBSTITUTE(SUBSTITUTE(SUBSTITUTE(SUBSTITUTE(SUBSTITUTE(SUBSTITUTE(UPPER($AE$23:$AG$40&""),"⌢",""),"⌣",""),"⌵",""),"－",""),"-","")," ","")," ","")="DP"&UPPER($E8&"")))*2+SUMPRODUCT(--(SUBSTITUTE(SUBSTITUTE(SUBSTITUTE(SUBSTITUTE(SUBSTITUTE(SUBSTITUTE(SUBSTITUTE(UPPER($AE$23:$AG$40&""),"⌢",""),"⌣",""),"⌵",""),"－",""),"-","")," ","")," ","")=UPPER($E8&"")&"TP"))*3+SUMPRODUCT(--(SUBSTITUTE(SUBSTITUTE(SUBSTITUTE(SUBSTITUTE(SUBSTITUTE(SUBSTITUTE(SUBSTITUTE(UPPER($AE$23:$AG$40&""),"⌢",""),"⌣",""),"⌵",""),"－",""),"-","")," ","")," ","")="TP"&UPPER($E8&"")))*3) -> 0 | AI8: =COUNTA(G8:I8,K8:M8,O8:Q8,S8:U8,W8:Y8,AA8:AC8,AE8:AG8) -> 0 | AJ8: =SUMPRODUCT(--(SUBSTITUTE(SUBSTITUTE(SUBSTITUTE(SUBSTITUTE(SUBSTITUTE(SUBSTITUTE(SUBSTITUTE(UPPER(G8:AG8&""),"⌢",""),"⌣",""),"⌵",""),"－",""),"-","")," ","")," ","")="R"))+SUMPRODUCT(--(SUBSTITUTE(SUBSTITUTE(SUBSTITUTE(SUBSTITUTE(SUBSTITUTE(SUBSTITUTE(SUBSTITUTE(UPPER(G8:AG8&""),"⌢",""),"⌣",""),"⌵",""),"－",""),"-","")," ","")," ","")="HR"))*2 -> 0 | AK8: =COUNTIF(G8:AG8,"K") -> 0 | AL8: =$A8 -> 0 | AN8: 1 | AO8: 25 | AP8: 洪韶壕 | AQ8: =SUMIF($F$3:$F$20,AP8,$AI$3:$AI$20)+SUMIF($F$3:$F$20,AP8&" DF",$AI$3:$AI$20)+SUMIF($F$3:$F$20,AP8&"DF",$AI$3:$AI$20) -> 3 | AR8: =SUMIF($F$3:$F$20,AP8,$AJ$3:$AJ$20)+SUMIF($F$3:$F$20,AP8&" DF",$AJ$3:$AJ$20)+SUMIF($F$3:$F$20,AP8&"DF",$AJ$3:$AJ$20) -> 0 | AS8: =SUMIF($F$3:$F$20,AP8,$AK$3:$AK$20)+SUMIF($F$3:$F$20,AP8&" DF",$AK$3:$AK$20)+SUMIF($F$3:$F$20,AP8&"DF",$AK$3:$AK$20) -> 1 | AT8: =SUMIF($F$3:$F$20,AP8,$AL$3:$AL$20)+SUMIF($F$3:$F$20,AP8&" DF",$AL$3:$AL$20)+SUMIF($F$3:$F$20,AP8&"DF",$AL$3:$AL$20) -> 1 | AW8: =SUM(AW5:AW7) -> 19 | AX8: =SUM(AX5:AX7) -> 1 | AY8: =SUM(AY5:AY7) -> 13
A9: =IF($E9="",0,SUMPRODUCT(--(SUBSTITUTE(SUBSTITUTE(SUBSTITUTE(SUBSTITUTE(SUBSTITUTE(SUBSTITUTE(SUBSTITUTE(UPPER($G$23:$I$40&""),"⌢",""),"⌣",""),"⌵",""),"－",""),"-","")," ","")," ","")=UPPER($E9&"")))+SUMPRODUCT(--(SUBSTITUTE(SUBSTITUTE(SUBSTITUTE(SUBSTITUTE(SUBSTITUTE(SUBSTITUTE(SUBSTITUTE(UPPER($G$23:$I$40&""),"⌢",""),"⌣",""),"⌵",""),"－",""),"-","")," ","")," ","")=UPPER($E9&"")&"DP"))*2+SUMPRODUCT(--(SUBSTITUTE(SUBSTITUTE(SUBSTITUTE(SUBSTITUTE(SUBSTITUTE(SUBSTITUTE(SUBSTITUTE(UPPER($G$23:$I$40&""),"⌢",""),"⌣",""),"⌵",""),"－",""),"-","")," ","")," ","")="DP"&UPPER($E9&"")))*2+SUMPRODUCT(--(SUBSTITUTE(SUBSTITUTE(SUBSTITUTE(SUBSTITUTE(SUBSTITUTE(SUBSTITUTE(SUBSTITUTE(UPPER($G$23:$I$40&""),"⌢",""),"⌣",""),"⌵",""),"－",""),"-","")," ","")," ","")=UPPER($E9&"")&"TP"))*3+SUMPRODUCT(--(SUBSTITUTE(SUBSTITUTE(SUBSTITUTE(SUBSTITUTE(SUBSTITUTE(SUBSTITUTE(SUBSTITUTE(UPPER($G$23:$I$40&""),"⌢",""),"⌣",""),"⌵",""),"－",""),"-","")," ","")," ","")="TP"&UPPER($E9&"")))*3+SUMPRODUCT(--(SUBSTITUTE(SUBSTITUTE(SUBSTITUTE(SUBSTITUTE(SUBSTITUTE(SUBSTITUTE(SUBSTITUTE(UPPER($K$23:$M$40&""),"⌢",""),"⌣",""),"⌵",""),"－",""),"-","")," ","")," ","")=UPPER($E9&"")))+SUMPRODUCT(--(SUBSTITUTE(SUBSTITUTE(SUBSTITUTE(SUBSTITUTE(SUBSTITUTE(SUBSTITUTE(SUBSTITUTE(UPPER($K$23:$M$40&""),"⌢",""),"⌣",""),"⌵",""),"－",""),"-","")," ","")," ","")=UPPER($E9&"")&"DP"))*2+SUMPRODUCT(--(SUBSTITUTE(SUBSTITUTE(SUBSTITUTE(SUBSTITUTE(SUBSTITUTE(SUBSTITUTE(SUBSTITUTE(UPPER($K$23:$M$40&""),"⌢",""),"⌣",""),"⌵",""),"－",""),"-","")," ","")," ","")="DP"&UPPER($E9&"")))*2+SUMPRODUCT(--(SUBSTITUTE(SUBSTITUTE(SUBSTITUTE(SUBSTITUTE(SUBSTITUTE(SUBSTITUTE(SUBSTITUTE(UPPER($K$23:$M$40&""),"⌢",""),"⌣",""),"⌵",""),"－",""),"-","")," ","")," ","")=UPPER($E9&"")&"TP"))*3+SUMPRODUCT(--(SUBSTITUTE(SUBSTITUTE(SUBSTITUTE(SUBSTITUTE(SUBSTITUTE(SUBSTITUTE(SUBSTITUTE(UPPER($K$23:$M$40&""),"⌢",""),"⌣",""),"⌵",""),"－",""),"-","")," ","")," ","")="TP"&UPPER($E9&"")))*3+SUMPRODUCT(--(SUBSTITUTE(SUBSTITUTE(SUBSTITUTE(SUBSTITUTE(SUBSTITUTE(SUBSTITUTE(SUBSTITUTE(UPPER($O$23:$Q$40&""),"⌢",""),"⌣",""),"⌵",""),"－",""),"-","")," ","")," ","")=UPPER($E9&"")))+SUMPRODUCT(--(SUBSTITUTE(SUBSTITUTE(SUBSTITUTE(SUBSTITUTE(SUBSTITUTE(SUBSTITUTE(SUBSTITUTE(UPPER($O$23:$Q$40&""),"⌢",""),"⌣",""),"⌵",""),"－",""),"-","")," ","")," ","")=UPPER($E9&"")&"DP"))*2+SUMPRODUCT(--(SUBSTITUTE(SUBSTITUTE(SUBSTITUTE(SUBSTITUTE(SUBSTITUTE(SUBSTITUTE(SUBSTITUTE(UPPER($O$23:$Q$40&""),"⌢",""),"⌣",""),"⌵",""),"－",""),"-","")," ","")," ","")="DP"&UPPER($E9&"")))*2+SUMPRODUCT(--(SUBSTITUTE(SUBSTITUTE(SUBSTITUTE(SUBSTITUTE(SUBSTITUTE(SUBSTITUTE(SUBSTITUTE(UPPER($O$23:$Q$40&""),"⌢",""),"⌣",""),"⌵",""),"－",""),"-","")," ","")," ","")=UPPER($E9&"")&"TP"))*3+SUMPRODUCT(--(SUBSTITUTE(SUBSTITUTE(SUBSTITUTE(SUBSTITUTE(SUBSTITUTE(SUBSTITUTE(SUBSTITUTE(UPPER($O$23:$Q$40&""),"⌢",""),"⌣",""),"⌵",""),"－",""),"-","")," ","")," ","")="TP"&UPPER($E9&"")))*3+SUMPRODUCT(--(SUBSTITUTE(SUBSTITUTE(SUBSTITUTE(SUBSTITUTE(SUBSTITUTE(SUBSTITUTE(SUBSTITUTE(UPPER($S$23:$U$40&""),"⌢",""),"⌣",""),"⌵",""),"－",""),"-","")," ","")," ","")=UPPER($E9&"")))+SUMPRODUCT(--(SUBSTITUTE(SUBSTITUTE(SUBSTITUTE(SUBSTITUTE(SUBSTITUTE(SUBSTITUTE(SUBSTITUTE(UPPER($S$23:$U$40&""),"⌢",""),"⌣",""),"⌵",""),"－",""),"-","")," ","")," ","")=UPPER($E9&"")&"DP"))*2+SUMPRODUCT(--(SUBSTITUTE(SUBSTITUTE(SUBSTITUTE(SUBSTITUTE(SUBSTITUTE(SUBSTITUTE(SUBSTITUTE(UPPER($S$23:$U$40&""),"⌢",""),"⌣",""),"⌵",""),"－",""),"-","")," ","")," ","")="DP"&UPPER($E9&"")))*2+SUMPRODUCT(--(SUBSTITUTE(SUBSTITUTE(SUBSTITUTE(SUBSTITUTE(SUBSTITUTE(SUBSTITUTE(SUBSTITUTE(UPPER($S$23:$U$40&""),"⌢",""),"⌣",""),"⌵",""),"－",""),"-","")," ","")," ","")=UPPER($E9&"")&"TP"))*3+SUMPRODUCT(--(SUBSTITUTE(SUBSTITUTE(SUBSTITUTE(SUBSTITUTE(SUBSTITUTE(SUBSTITUTE(SUBSTITUTE(UPPER($S$23:$U$40&""),"⌢",""),"⌣",""),"⌵",""),"－",""),"-","")," ","")," ","")="TP"&UPPER($E9&"")))*3+SUMPRODUCT(--(SUBSTITUTE(SUBSTITUTE(SUBSTITUTE(SUBSTITUTE(SUBSTITUTE(SUBSTITUTE(SUBSTITUTE(UPPER($W$23:$Y$40&""),"⌢",""),"⌣",""),"⌵",""),"－",""),"-","")," ","")," ","")=UPPER($E9&"")))+SUMPRODUCT(--(SUBSTITUTE(SUBSTITUTE(SUBSTITUTE(SUBSTITUTE(SUBSTITUTE(SUBSTITUTE(SUBSTITUTE(UPPER($W$23:$Y$40&""),"⌢",""),"⌣",""),"⌵",""),"－",""),"-","")," ","")," ","")=UPPER($E9&"")&"DP"))*2+SUMPRODUCT(--(SUBSTITUTE(SUBSTITUTE(SUBSTITUTE(SUBSTITUTE(SUBSTITUTE(SUBSTITUTE(SUBSTITUTE(UPPER($W$23:$Y$40&""),"⌢",""),"⌣",""),"⌵",""),"－",""),"-","")," ","")," ","")="DP"&UPPER($E9&"")))*2+SUMPRODUCT(--(SUBSTITUTE(SUBSTITUTE(SUBSTITUTE(SUBSTITUTE(SUBSTITUTE(SUBSTITUTE(SUBSTITUTE(UPPER($W$23:$Y$40&""),"⌢",""),"⌣",""),"⌵",""),"－",""),"-","")," ","")," ","")=UPPER($E9&"")&"TP"))*3+SUMPRODUCT(--(SUBSTITUTE(SUBSTITUTE(SUBSTITUTE(SUBSTITUTE(SUBSTITUTE(SUBSTITUTE(SUBSTITUTE(UPPER($W$23:$Y$40&""),"⌢",""),"⌣",""),"⌵",""),"－",""),"-","")," ","")," ","")="TP"&UPPER($E9&"")))*3+SUMPRODUCT(--(SUBSTITUTE(SUBSTITUTE(SUBSTITUTE(SUBSTITUTE(SUBSTITUTE(SUBSTITUTE(SUBSTITUTE(UPPER($AA$23:$AC$40&""),"⌢",""),"⌣",""),"⌵",""),"－",""),"-","")," ","")," ","")=UPPER($E9&"")))+SUMPRODUCT(--(SUBSTITUTE(SUBSTITUTE(SUBSTITUTE(SUBSTITUTE(SUBSTITUTE(SUBSTITUTE(SUBSTITUTE(UPPER($AA$23:$AC$40&""),"⌢",""),"⌣",""),"⌵",""),"－",""),"-","")," ","")," ","")=UPPER($E9&"")&"DP"))*2+SUMPRODUCT(--(SUBSTITUTE(SUBSTITUTE(SUBSTITUTE(SUBSTITUTE(SUBSTITUTE(SUBSTITUTE(SUBSTITUTE(UPPER($AA$23:$AC$40&""),"⌢",""),"⌣",""),"⌵",""),"－",""),"-","")," ","")," ","")="DP"&UPPER($E9&"")))*2+SUMPRODUCT(--(SUBSTITUTE(SUBSTITUTE(SUBSTITUTE(SUBSTITUTE(SUBSTITUTE(SUBSTITUTE(SUBSTITUTE(UPPER($AA$23:$AC$40&""),"⌢",""),"⌣",""),"⌵",""),"－",""),"-","")," ","")," ","")=UPPER($E9&"")&"TP"))*3+SUMPRODUCT(--(SUBSTITUTE(SUBSTITUTE(SUBSTITUTE(SUBSTITUTE(SUBSTITUTE(SUBSTITUTE(SUBSTITUTE(UPPER($AA$23:$AC$40&""),"⌢",""),"⌣",""),"⌵",""),"－",""),"-","")," ","")," ","")="TP"&UPPER($E9&"")))*3+SUMPRODUCT(--(SUBSTITUTE(SUBSTITUTE(SUBSTITUTE(SUBSTITUTE(SUBSTITUTE(SUBSTITUTE(SUBSTITUTE(UPPER($AE$23:$AG$40&""),"⌢",""),"⌣",""),"⌵",""),"－",""),"-","")," ","")," ","")=UPPER($E9&"")))+SUMPRODUCT(--(SUBSTITUTE(SUBSTITUTE(SUBSTITUTE(SUBSTITUTE(SUBSTITUTE(SUBSTITUTE(SUBSTITUTE(UPPER($AE$23:$AG$40&""),"⌢",""),"⌣",""),"⌵",""),"－",""),"-","")," ","")," ","")=UPPER($E9&"")&"DP"))*2+SUMPRODUCT(--(SUBSTITUTE(SUBSTITUTE(SUBSTITUTE(SUBSTITUTE(SUBSTITUTE(SUBSTITUTE(SUBSTITUTE(UPPER($AE$23:$AG$40&""),"⌢",""),"⌣",""),"⌵",""),"－",""),"-","")," ","")," ","")="DP"&UPPER($E9&"")))*2+SUMPRODUCT(--(SUBSTITUTE(SUBSTITUTE(SUBSTITUTE(SUBSTITUTE(SUBSTITUTE(SUBSTITUTE(SUBSTITUTE(UPPER($AE$23:$AG$40&""),"⌢",""),"⌣",""),"⌵",""),"－",""),"-","")," ","")," ","")=UPPER($E9&"")&"TP"))*3+SUMPRODUCT(--(SUBSTITUTE(SUBSTITUTE(SUBSTITUTE(SUBSTITUTE(SUBSTITUTE(SUBSTITUTE(SUBSTITUTE(UPPER($AE$23:$AG$40&""),"⌢",""),"⌣",""),"⌵",""),"－",""),"-","")," ","")," ","")="TP"&UPPER($E9&"")))*3) -> 1 | D9: 3 | E9: 25 | F9: 洪韶壕 | G9: 131 ⌢ | O9: K | W9: RIN ⌣ | AI9: =COUNTA(G9:I9,K9:M9,O9:Q9,S9:U9,W9:Y9,AA9:AC9,AE9:AG9) -> 3 | AJ9: =SUMPRODUCT(--(SUBSTITUTE(SUBSTITUTE(SUBSTITUTE(SUBSTITUTE(SUBSTITUTE(SUBSTITUTE(SUBSTITUTE(UPPER(G9:AG9&""),"⌢",""),"⌣",""),"⌵",""),"－",""),"-","")," ","")," ","")="R"))+SUMPRODUCT(--(SUBSTITUTE(SUBSTITUTE(SUBSTITUTE(SUBSTITUTE(SUBSTITUTE(SUBSTITUTE(SUBSTITUTE(UPPER(G9:AG9&""),"⌢",""),"⌣",""),"⌵",""),"－",""),"-","")," ","")," ","")="HR"))*2 -> 0 | AK9: =COUNTIF(G9:AG9,"K") -> 1 | AL9: =$A9 -> 1 | AO9: 29 | AP9: 陳建閔 | AQ9: =SUMIF($F$3:$F$20,AP9,$AI$3:$AI$20)+SUMIF($F$3:$F$20,AP9&" DF",$AI$3:$AI$20)+SUMIF($F$3:$F$20,AP9&"DF",$AI$3:$AI$20) -> 2 | AR9: =SUMIF($F$3:$F$20,AP9,$AJ$3:$AJ$20)+SUMIF($F$3:$F$20,AP9&" DF",$AJ$3:$AJ$20)+SUMIF($F$3:$F$20,AP9&"DF",$AJ$3:$AJ$20) -> 0 | AS9: =SUMIF($F$3:$F$20,AP9,$AK$3:$AK$20)+SUMIF($F$3:$F$20,AP9&" DF",$AK$3:$AK$20)+SUMIF($F$3:$F$20,AP9&"DF",$AK$3:$AK$20) -> 2 | AT9: =SUMIF($F$3:$F$20,AP9,$AL$3:$AL$20)+SUMIF($F$3:$F$20,AP9&" DF",$AL$3:$AL$20)+SUMIF($F$3:$F$20,AP9&"DF",$AL$3:$AL$20) -> 0
