Workbook

Sheet 分組球員名單
A1: 球員名單 | B1: 背號
A2: A | B2: 閃電隊 | D2: 投捕觀名單 | F2: 隊伍名稱
A3: 陳璽帆 | B3: 8 | D3: 李裕仁 | F3: 閃電隊
A4: 莊詠安 | B4: 23 | D4: 張凱傑 | F4: LEOPARD
A5: 顏士翔 | B5: 131 | D5: 駱繼宗 | F5: 夜魔俠
A6: 張御欣 | B6: 32 | D6: 游鎮維 | F6: 游擊隊
A7: 胡文秋 | B7: 33 | D7: 江言鎧
A8: 陳俊欽 | B8: 35 | D8: 王辰光
A9: 紀和成 | B9: 51 | D9: 陳相睿 | G9: 場次 | H9: 對戰組合 | J9: 開始時間 | K9: 結束時間
A10: 鄭傳逸 | B10: 88 | D10: 林春佑 | G10: G1 | H10: 閃電 | I10: LEO | J10: 0.41666667 | K10: 0.5
A11: 林育良 | B11: 99 | D11: 宋展宇 | G11: G2 | H11: 夜魔俠 | I11: 游擊 | J11: 0.51388889 | K11: 0.59722222
A12: 林健彰 | B12: 111 | D12: 謝緯成 | G12: G3 | H12: 閃電 | I12: 夜魔俠 | J12: 0.61111111 | K12: 0.69444444
A13: B | B13: LEOPARD | D13: 許慶德 | G13: G4 | H13: LEO | I13: 游擊 | J13: 0.375 | K13: 0.45833333
A14: 賴保全 | B14: 1 | D14: 楊鎮瑋 | G14: G5 | H14: 游擊 | I14: 閃電 | J14: 0.47222222 | K14: 0.55555556
A15: 李秀美 | B15: 6 | D15: 薛沅庭 | G15: G6 | H15: 夜魔俠 | I15: LEO | J15: 0.56944444 | K15: 0.65277778
A16: 蔡宗豪 | B16: 15 | D16: 賴君佩 | G16: 閉幕式 | J16: 0.66666667 | K16: 0.6875
A17: 張睿紘 | B17: 17 | D17: 劉維璽
A18: 周志忠 | B18: 23 | D18: 高芳伶
A19: 洪韶壕 | B19: 25 | D19: 賴相存
A20: 陳傑閔 | B20: 28
A21: 陳建閔 | B21: 29 | G21: 對戰分數
A22: 黃雅苓 | B22: 30 | D22: 球種 | F22: 閃電隊 | G22: =F37-G37 -> 2 | H22: LEOPARD | I22: =H37-I37 -> -24 | J22: 夜魔俠 | K22: =J37-K37 -> -6 | L22: 游擊隊 | M22: =L37-M37 -> 28
A23: 劉家溫 | B23: 31 | C23: 高飛 | D23: ⌢ | F23: 得分 | G23: 失分 | H23: 得分 | I23: 失分 | J23: 得分 | K23: 失分 | L23: 得分 | M23: 失分
A24: 許慶德 | B24: 34 | C24: 滾地 | D24: ⌣ | E24: G1 | F24: 9 | G24: 1 | H24: 1 | I24: 9
A25: 蔡志雄 | B25: 37 | C25: 彈跳 | D25: ⌵
A26: 饒賀凱 | B26: 39 | C26: 平飛 | D26: － | E26: G2 | J26: 7 | K26: 13 | L26: 13 | M26: 7
A27: 陳韻婷 | B27: 66
E28: G3 | F28: 5 | G28: 6 | J28: 6 | K28: 5
A29: C | B29: 夜魔俠
A30: 梁耿縉 | B30: 18 | E30: G4 | H30: 5 | I30: 22 | L30: 22 | M30: 5
A31: 勞恩以達西拔 | B31: 11
A32: 郭亦倫 | B32: 39 | E32: G5 | F32: 7 | G32: 12 | L32: 12 | M32: 7
A33: 蔡存宥 | B33: 22
A34: 古國偉 | B34: 37 | E34: G6 | H34: 6 | I34: 5 | J34: 5 | K34: 6
A35: 余自成 | B35: 81
A36: 蔡孟洵 | B36: 58
A37: 吳品逸 | B37: 0 | F37: =SUM(F24:F36) -> 21 | G37: =SUM(G24:G36) -> 19 | H37: =SUM(H24:H36) -> 12 | I37: =SUM(I24:I36) -> 36 | J37: =SUM(J24:J36) -> 18 | K37: =SUM(K24:K36) -> 24 | L37: =SUM(L24:L36) -> 47 | M37: =SUM(M24:M36) -> 19
A38: 張雅恩 | B38: 36
A39: 李怡慧 | B39: 26
A40: 宋晴天 | B40: 10 | E40: 游擊隊 | F40: 冠軍 | G40: 6000
E41: 閃電隊 | F41: 亞軍 | G41: 5000
E42: 夜魔俠 | F42: 季軍 | G42: 3000
A43: D | B43: 游擊隊 | E43: 金錢豹 | F43: 殿軍 | G43: 2000
A44: 黃志遠 | B44: 56 | F44: 總獎金 | G44: =SUM(G40:G43) -> 16000
A45: 王兆熙 | B45: 23
A46: 何昌翰 | B46: 99
A47: 邱文昇 | B47: 55
A48: 宋啟政 | B48: 33
A49: 賴智傑 | B49: 26
A50: 古奇哲 | B50: 6
A51: 林君達 | B51: 1

Sheet G1
B1: 加計分數 | D1: 場次 | H1: G1 | J1: 日期 | L1: 115.10.31 | Q1: =AE21 -> 1 | T1: LEOPARD | V1: VS | X1: 閃電隊 | AA1: =AE41 -> 9 | AI1: 數據
A2: 撿球 | B2: 接殺 | C2: HR | D2: 先 | E2: 背號 | F2: 球員 | G2: 1 | J2: 投 | K2: 2 | N2: 投 | O2: 3 | R2: 投 | S2: 4 | V2: 投 | W2: 5 | Z2: 投 | AA2: 6 | AD2: 投 | AE2: 7 | AH2: 投 | AI2: AB | AJ2: R | AK2: K | AL2: P | AM2: 投/捕/觀
A3: =IF($E3="",0,SUMPRODUCT(--(SUBSTITUTE(SUBSTITUTE(SUBSTITUTE(SUBSTITUTE(SUBSTITUTE(SUBSTITUTE(SUBSTITUTE(UPPER($G$23:$I$40&""),"⌢",""),"⌣",""),"⌵",""),"－",""),"-","")," ","")," ","")=UPPER($E3&"")))+SUMPRODUCT(--(SUBSTITUTE(SUBSTITUTE(SUBSTITUTE(SUBSTITUTE(SUBSTITUTE(SUBSTITUTE(SUBSTITUTE(UPPER($G$23:$I$40&""),"⌢",""),"⌣",""),"⌵",""),"－",""),"-","")," ","")," ","")=UPPER($E3&"")&"DP"))*2+SUMPRODUCT(--(SUBSTITUTE(SUBSTITUTE(SUBSTITUTE(SUBSTITUTE(SUBSTITUTE(SUBSTITUTE(SUBSTITUTE(UPPER($G$23:$I$40&""),"⌢",""),"⌣",""),"⌵",""),"－",""),"-","")," ","")," ","")="DP"&UPPER($E3&"")))*2+SUMPRODUCT(--(SUBSTITUTE(SUBSTITUTE(SUBSTITUTE(SUBSTITUTE(SUBSTITUTE(SUBSTITUTE(SUBSTITUTE(UPPER($G$23:$I$40&""),"⌢",""),"⌣",""),"⌵",""),"－",""),"-","")," ","")," ","")=UPPER($E3&"")&"TP"))*3+SUMPRODUCT(--(SUBSTITUTE(SUBSTITUTE(SUBSTITUTE(SUBSTITUTE(SUBSTITUTE(SUBSTITUTE(SUBSTITUTE(UPPER($G$23:$I$40&""),"⌢",""),"⌣",""),"⌵",""),"－",""),"-","")," ","")," ","")="TP"&UPPER($E3&"")))*3+SUMPRODUCT(--(SUBSTITUTE(SUBSTITUTE(SUBSTITUTE(SUBSTITUTE(SUBSTITUTE(SUBSTITUTE(SUBSTITUTE(UPPER($K$23:$M$40&""),"⌢",""),"⌣",""),"⌵",""),"－",""),"-","")," ","")," ","")=UPPER($E3&"")))+SUMPRODUCT(--(SUBSTITUTE(SUBSTITUTE(SUBSTITUTE(SUBSTITUTE(SUBSTITUTE(SUBSTITUTE(SUBSTITUTE(UPPER($K$23:$M$40&""),"⌢",""),"⌣",""),"⌵",""),"－",""),"-","")," ","")," ","")=UPPER($E3&"")&"DP"))*2+SUMPRODUCT(--(SUBSTITUTE(SUBSTITUTE(SUBSTITUTE(SUBSTITUTE(SUBSTITUTE(SUBSTITUTE(SUBSTITUTE(UPPER($K$23:$M$40&""),"⌢",""),"⌣",""),"⌵",""),"－",""),"-","")," ","")," ","")="DP"&UPPER($E3&"")))*2+SUMPRODUCT(--(SUBSTITUTE(SUBSTITUTE(SUBSTITUTE(SUBSTITUTE(SUBSTITUTE(SUBSTITUTE(SUBSTITUTE(UPPER($K$23:$M$40&""),"⌢",""),"⌣",""),"⌵",""),"－",""),"-","")," ","")," ","")=UPPER($E3&"")&"TP"))*3+SUMPRODUCT(--(SUBSTITUTE(SUBSTITUTE(SUBSTITUTE(SUBSTITUTE(SUBSTITUTE(SUBSTITUTE(SUBSTITUTE(UPPER($K$23:$M$40&""),"⌢",""),"⌣",""),"⌵",""),"－",""),"-","")," ","")," ","")="TP"&UPPER($E3&"")))*3+SUMPRODUCT(--(SUBSTITUTE(SUBSTITUTE(SUBSTITUTE(SUBSTITUTE(SUBSTITUTE(SUBSTITUTE(SUBSTITUTE(UPPER($O$23:$Q$40&""),"⌢",""),"⌣",""),"⌵",""),"－",""),"-","")," ","")," ","")=UPPER($E3&"")))+SUMPRODUCT(--(SUBSTITUTE(SUBSTITUTE(SUBSTITUTE(SUBSTITUTE(SUBSTITUTE(SUBSTITUTE(SUBSTITUTE(UPPER($O$23:$Q$40&""),"⌢",""),"⌣",""),"⌵",""),"－",""),"-","")," ","")," ","")=UPPER($E3&"")&"DP"))*2+SUMPRODUCT(--(SUBSTITUTE(SUBSTITUTE(SUBSTITUTE(SUBSTITUTE(SUBSTITUTE(SUBSTITUTE(SUBSTITUTE(UPPER($O$23:$Q$40&""),"⌢",""),"⌣",""),"⌵",""),"－",""),"-","")," ","")," ","")="DP"&UPPER($E3&"")))*2+SUMPRODUCT(--(SUBSTITUTE(SUBSTITUTE(SUBSTITUTE(SUBSTITUTE(SUBSTITUTE(SUBSTITUTE(SUBSTITUTE(UPPER($O$23:$Q$40&""),"⌢",""),"⌣",""),"⌵",""),"－",""),"-","")," ","")," ","")=UPPER($E3&"")&"TP"))*3+SUMPRODUCT(--(SUBSTITUTE(SUBSTITUTE(SUBSTITUTE(SUBSTITUTE(SUBSTITUTE(SUBSTITUTE(SUBSTITUTE(UPPER($O$23:$Q$40&""),"⌢",""),"⌣",""),"⌵",""),"－",""),"-","")," ","")," ","")="TP"&UPPER($E3&"")))*3+SUMPRODUCT(--(SUBSTITUTE(SUBSTITUTE(SUBSTITUTE(SUBSTITUTE(SUBSTITUTE(SUBSTITUTE(SUBSTITUTE(UPPER($S$23:$U$40&""),"⌢",""),"⌣",""),"⌵",""),"－",""),"-","")," ","")," ","")=UPPER($E3&"")))+SUMPRODUCT(--(SUBSTITUTE(SUBSTITUTE(SUBSTITUTE(SUBSTITUTE(SUBSTITUTE(SUBSTITUTE(SUBSTITUTE(UPPER($S$23:$U$40&""),"⌢",""),"⌣",""),"⌵",""),"－",""),"-","")," ","")," ","")=UPPER($E3&"")&"DP"))*2+SUMPRODUCT(--(SUBSTITUTE(SUBSTITUTE(SUBSTITUTE(SUBSTITUTE(SUBSTITUTE(SUBSTITUTE(SUBSTITUTE(UPPER($S$23:$U$40&""),"⌢",""),"⌣",""),"⌵",""),"－",""),"-","")," ","")," ","")="DP"&UPPER($E3&"")))*2+SUMPRODUCT(--(SUBSTITUTE(SUBSTITUTE(SUBSTITUTE(SUBSTITUTE(SUBSTITUTE(SUBSTITUTE(SUBSTITUTE(UPPER($S$23:$U$40&""),"⌢",""),"⌣",""),"⌵",""),"－",""),"-","")," ","")," ","")=UPPER($E3&"")&"TP"))*3+SUMPRODUCT(--(SUBSTITUTE(SUBSTITUTE(SUBSTITUTE(SUBSTITUTE(SUBSTITUTE(SUBSTITUTE(SUBSTITUTE(UPPER($S$23:$U$40&""),"⌢",""),"⌣",""),"⌵",""),"－",""),"-","")," ","")," ","")="TP"&UPPER($E3&"")))*3+SUMPRODUCT(--(SUBSTITUTE(SUBSTITUTE(SUBSTITUTE(SUBSTITUTE(SUBSTITUTE(SUBSTITUTE(SUBSTITUTE(UPPER($W$23:$Y$40&""),"⌢",""),"⌣",""),"⌵",""),"－",""),"-","")," ","")," ","")=UPPER($E3&"")))+SUMPRODUCT(--(SUBSTITUTE(SUBSTITUTE(SUBSTITUTE(SUBSTITUTE(SUBSTITUTE(SUBSTITUTE(SUBSTITUTE(UPPER($W$23:$Y$40&""),"⌢",""),"⌣",""),"⌵",""),"－",""),"-","")," ","")," ","")=UPPER($E3&"")&"DP"))*2+SUMPRODUCT(--(SUBSTITUTE(SUBSTITUTE(SUBSTITUTE(SUBSTITUTE(SUBSTITUTE(SUBSTITUTE(SUBSTITUTE(UPPER($W$23:$Y$40&""),"⌢",""),"⌣",""),"⌵",""),"－",""),"-","")," ","")," ","")="DP"&UPPER($E3&"")))*2+SUMPRODUCT(--(SUBSTITUTE(SUBSTITUTE(SUBSTITUTE(SUBSTITUTE(SUBSTITUTE(SUBSTITUTE(SUBSTITUTE(UPPER($W$23:$Y$40&""),"⌢",""),"⌣",""),"⌵",""),"－",""),"-","")," ","")," ","")=UPPER($E3&"")&"TP"))*3+SUMPRODUCT(--(SUBSTITUTE(SUBSTITUTE(SUBSTITUTE(SUBSTITUTE(SUBSTITUTE(SUBSTITUTE(SUBSTITUTE(UPPER($W$23:$Y$40&""),"⌢",""),"⌣",""),"⌵",""),"－",""),"-","")," ","")," ","")="TP"&UPPER($E3&"")))*3+SUMPRODUCT(--(SUBSTITUTE(SUBSTITUTE(SUBSTITUTE(SUBSTITUTE(SUBSTITUTE(SUBSTITUTE(SUBSTITUTE(UPPER($AA$23:$AC$40&""),"⌢",""),"⌣",""),"⌵",""),"－",""),"-","")," ","")," ","")=UPPER($E3&"")))+SUMPRODUCT(--(SUBSTITUTE(SUBSTITUTE(SUBSTITUTE(SUBSTITUTE(SUBSTITUTE(SUBSTITUTE(SUBSTITUTE(UPPER($AA$23:$AC$40&""),"⌢",""),"⌣",""),"⌵",""),"－",""),"-","")," ","")," ","")=UPPER($E3&"")&"DP"))*2+SUMPRODUCT(--(SUBSTITUTE(SUBSTITUTE(SUBSTITUTE(SUBSTITUTE(SUBSTITUTE(SUBSTITUTE(SUBSTITUTE(UPPER($AA$23:$AC$40&""),"⌢",""),"⌣",""),"⌵",""),"－",""),"-","")," ","")," ","")="DP"&UPPER($E3&"")))*2+SUMPRODUCT(--(SUBSTITUTE(SUBSTITUTE(SUBSTITUTE(SUBSTITUTE(SUBSTITUTE(SUBSTITUTE(SUBSTITUTE(UPPER($AA$23:$AC$40&""),"⌢",""),"⌣",""),"⌵",""),"－",""),"-","")," ","")," ","")=UPPER($E3&"")&"TP"))*3+SUMPRODUCT(--(SUBSTITUTE(SUBSTITUTE(SUBSTITUTE(SUBSTITUTE(SUBSTITUTE(SUBSTITUTE(SUBSTITUTE(UPPER($AA$23:$AC$40&""),"⌢",""),"⌣",""),"⌵",""),"－",""),"-","")," ","")," ","")="TP"&UPPER($E3&"")))*3+SUMPRODUCT(--(SUBSTITUTE(SUBSTITUTE(SUBSTITUTE(SUBSTITUTE(SUBSTITUTE(SUBSTITUTE(SUBSTITUTE(UPPER($AE$23:$AG$40&""),"⌢",""),"⌣",""),"⌵",""),"－",""),"-","")," ","")," ","")=UPPER($E3&"")))+SUMPRODUCT(--(SUBSTITUTE(SUBSTITUTE(SUBSTITUTE(SUBSTITUTE(SUBSTITUTE(SUBSTITUTE(SUBSTITUTE(UPPER($AE$23:$AG$40&""),"⌢",""),"⌣",""),"⌵",""),"－",""),"-","")," ","")," ","")=UPPER($E3&"")&"DP"))*2+SUMPRODUCT(--(SUBSTITUTE(SUBSTITUTE(SUBSTITUTE(SUBSTITUTE(SUBSTITUTE(SUBSTITUTE(SUBSTITUTE(UPPER($AE$23:$AG$40&""),"⌢",""),"⌣",""),"⌵",""),"－",""),"-","")," ","")," ","")="DP"&UPPER($E3&"")))*2+SUMPRODUCT(--(SUBSTITUTE(SUBSTITUTE(SUBSTITUTE(SUBSTITUTE(SUBSTITUTE(SUBSTITUTE(SUBSTITUTE(UPPER($AE$23:$AG$40&""),"⌢",""),"⌣",""),"⌵",""),"－",""),"-","")," ","")," ","")=UPPER($E3&"")&"TP"))*3+SUMPRODUCT(--(SUBSTITUTE(SUBSTITUTE(SUBSTITUTE(SUBSTITUTE(SUBSTITUTE(SUBSTITUTE(SUBSTITUTE(UPPER($AE$23:$AG$40&""),"⌢",""),"⌣",""),"⌵",""),"－",""),"-","")," ","")," ","")="TP"&UPPER($E3&"")))*3) -> 0 | D3: 1 | E3: 6 | F3: 李秀美 | G3: K | O3: K | AI3: =COUNTA(G3:I3,K3:M3,O3:Q3,S3:U3,W3:Y3,AA3:AC3,AE3:AG3) -> 2 | AJ3: =SUMPRODUCT(--(SUBSTITUTE(SUBSTITUTE(SUBSTITUTE(SUBSTITUTE(SUBSTITUTE(SUBSTITUTE(SUBSTITUTE(UPPER(G3:AG3&""),"⌢",""),"⌣",""),"⌵",""),"－",""),"-","")," ","")," ","")="R"))+SUMPRODUCT(--(SUBSTITUTE(SUBSTITUTE(SUBSTITUTE(SUBSTITUTE(SUBSTITUTE(SUBSTITUTE(SUBSTITUTE(UPPER(G3:AG3&""),"⌢",""),"⌣",""),"⌵",""),"－",""),"-","")," ","")," ","")="HR"))*2 -> 0 | AK3: =COUNTIF(G3:AG3,"K") -> 2 | AL3: =$A3 -> 0 | AM3: 投手 | AN3: RIN | AO3: 背號 | AP3: 球員 | AQ3: AB | AR3: R | AS3: K | AT3: P | AV3: 投手成績統計 | AX3: (手動輸入)
A4: =IF($E4="",0,SUMPRODUCT(--(SUBSTITUTE(SUBSTITUTE(SUBSTITUTE(SUBSTITUTE(SUBSTITUTE(SUBSTITUTE(SUBSTITUTE(UPPER($G$23:$I$40&""),"⌢",""),"⌣",""),"⌵",""),"－",""),"-","")," ","")," ","")=UPPER($E4&"")))+SUMPRODUCT(--(SUBSTITUTE(SUBSTITUTE(SUBSTITUTE(SUBSTITUTE(SUBSTITUTE(SUBSTITUTE(SUBSTITUTE(UPPER($G$23:$I$40&""),"⌢",""),"⌣",""),"⌵",""),"－",""),"-","")," ","")," ","")=UPPER($E4&"")&"DP"))*2+SUMPRODUCT(--(SUBSTITUTE(SUBSTITUTE(SUBSTITUTE(SUBSTITUTE(SUBSTITUTE(SUBSTITUTE(SUBSTITUTE(UPPER($G$23:$I$40&""),"⌢",""),"⌣",""),"⌵",""),"－",""),"-","")," ","")," ","")="DP"&UPPER($E4&"")))*2+SUMPRODUCT(--(SUBSTITUTE(SUBSTITUTE(SUBSTITUTE(SUBSTITUTE(SUBSTITUTE(SUBSTITUTE(SUBSTITUTE(UPPER($G$23:$I$40&""),"⌢",""),"⌣",""),"⌵",""),"－",""),"-","")," ","")," ","")=UPPER($E4&"")&"TP"))*3+SUMPRODUCT(--(SUBSTITUTE(SUBSTITUTE(SUBSTITUTE(SUBSTITUTE(SUBSTITUTE(SUBSTITUTE(SUBSTITUTE(UPPER($G$23:$I$40&""),"⌢",""),"⌣",""),"⌵",""),"－",""),"-","")," ","")," ","")="TP"&UPPER($E4&"")))*3+SUMPRODUCT(--(SUBSTITUTE(SUBSTITUTE(SUBSTITUTE(SUBSTITUTE(SUBSTITUTE(SUBSTITUTE(SUBSTITUTE(UPPER($K$23:$M$40&""),"⌢",""),"⌣",""),"⌵",""),"－",""),"-","")," ","")," ","")=UPPER($E4&"")))+SUMPRODUCT(--(SUBSTITUTE(SUBSTITUTE(SUBSTITUTE(SUBSTITUTE(SUBSTITUTE(SUBSTITUTE(SUBSTITUTE(UPPER($K$23:$M$40&""),"⌢",""),"⌣",""),"⌵",""),"－",""),"-","")," ","")," ","")=UPPER($E4&"")&"DP"))*2+SUMPRODUCT(--(SUBSTITUTE(SUBSTITUTE(SUBSTITUTE(SUBSTITUTE(SUBSTITUTE(SUBSTITUTE(SUBSTITUTE(UPPER($K$23:$M$40&""),"⌢",""),"⌣",""),"⌵",""),"－",""),"-","")," ","")," ","")="DP"&UPPER($E4&"")))*2+SUMPRODUCT(--(SUBSTITUTE(SUBSTITUTE(SUBSTITUTE(SUBSTITUTE(SUBSTITUTE(SUBSTITUTE(SUBSTITUTE(UPPER($K$23:$M$40&""),"⌢",""),"⌣",""),"⌵",""),"－",""),"-","")," ","")," ","")=UPPER($E4&"")&"TP"))*3+SUMPRODUCT(--(SUBSTITUTE(SUBSTITUTE(SUBSTITUTE(SUBSTITUTE(SUBSTITUTE(SUBSTITUTE(SUBSTITUTE(UPPER($K$23:$M$40&""),"⌢",""),"⌣",""),"⌵",""),"－",""),"-","")," ","")," ","")="TP"&UPPER($E4&"")))*3+SUMPRODUCT(--(SUBSTITUTE(SUBSTITUTE(SUBSTITUTE(SUBSTITUTE(SUBSTITUTE(SUBSTITUTE(SUBSTITUTE(UPPER($O$23:$Q$40&""),"⌢",""),"⌣",""),"⌵",""),"－",""),"-","")," ","")," ","")=UPPER($E4&"")))+SUMPRODUCT(--(SUBSTITUTE(SUBSTITUTE(SUBSTITUTE(SUBSTITUTE(SUBSTITUTE(SUBSTITUTE(SUBSTITUTE(UPPER($O$23:$Q$40&""),"⌢",""),"⌣",""),"⌵",""),"－",""),"-","")," ","")," ","")=UPPER($E4&"")&"DP"))*2+SUMPRODUCT(--(SUBSTITUTE(SUBSTITUTE(SUBSTITUTE(SUBSTITUTE(SUBSTITUTE(SUBSTITUTE(SUBSTITUTE(UPPER($O$23:$Q$40&""),"⌢",""),"⌣",""),"⌵",""),"－",""),"-","")," ","")," ","")="DP"&UPPER($E4&"")))*2+SUMPRODUCT(--(SUBSTITUTE(SUBSTITUTE(SUBSTITUTE(SUBSTITUTE(SUBSTITUTE(SUBSTITUTE(SUBSTITUTE(UPPER($O$23:$Q$40&""),"⌢",""),"⌣",""),"⌵",""),"－",""),"-","")," ","")," ","")=UPPER($E4&"")&"TP"))*3+SUMPRODUCT(--(SUBSTITUTE(SUBSTITUTE(SUBSTITUTE(SUBSTITUTE(SUBSTITUTE(SUBSTITUTE(SUBSTITUTE(UPPER($O$23:$Q$40&""),"⌢",""),"⌣",""),"⌵",""),"－",""),"-","")," ","")," ","")="TP"&UPPER($E4&"")))*3+SUMPRODUCT(--(SUBSTITUTE(SUBSTITUTE(SUBSTITUTE(SUBSTITUTE(SUBSTITUTE(SUBSTITUTE(SUBSTITUTE(UPPER($S$23:$U$40&""),"⌢",""),"⌣",""),"⌵",""),"－",""),"-","")," ","")," ","")=UPPER($E4&"")))+SUMPRODUCT(--(SUBSTITUTE(SUBSTITUTE(SUBSTITUTE(SUBSTITUTE(SUBSTITUTE(SUBSTITUTE(SUBSTITUTE(UPPER($S$23:$U$40&""),"⌢",""),"⌣",""),"⌵",""),"－",""),"-","")," ","")," ","")=UPPER($E4&"")&"DP"))*2+SUMPRODUCT(--(SUBSTITUTE(SUBSTITUTE(SUBSTITUTE(SUBSTITUTE(SUBSTITUTE(SUBSTITUTE(SUBSTITUTE(UPPER($S$23:$U$40&""),"⌢",""),"⌣",""),"⌵",""),"－",""),"-","")," ","")," ","")="DP"&UPPER($E4&"")))*2+SUMPRODUCT(--(SUBSTITUTE(SUBSTITUTE(SUBSTITUTE(SUBSTITUTE(SUBSTITUTE(SUBSTITUTE(SUBSTITUTE(UPPER($S$23:$U$40&""),"⌢",""),"⌣",""),"⌵",""),"－",""),"-","")," ","")," ","")=UPPER($E4&"")&"TP"))*3+SUMPRODUCT(--(SUBSTITUTE(SUBSTITUTE(SUBSTITUTE(SUBSTITUTE(SUBSTITUTE(SUBSTITUTE(SUBSTITUTE(UPPER($S$23:$U$40&""),"⌢",""),"⌣",""),"⌵",""),"－",""),"-","")," ","")," ","")="TP"&UPPER($E4&"")))*3+SUMPRODUCT(--(SUBSTITUTE(SUBSTITUTE(SUBSTITUTE(SUBSTITUTE(SUBSTITUTE(SUBSTITUTE(SUBSTITUTE(UPPER($W$23:$Y$40&""),"⌢",""),"⌣",""),"⌵",""),"－",""),"-","")," ","")," ","")=UPPER($E4&"")))+SUMPRODUCT(--(SUBSTITUTE(SUBSTITUTE(SUBSTITUTE(SUBSTITUTE(SUBSTITUTE(SUBSTITUTE(SUBSTITUTE(UPPER($W$23:$Y$40&""),"⌢",""),"⌣",""),"⌵",""),"－",""),"-","")," ","")," ","")=UPPER($E4&"")&"DP"))*2+SUMPRODUCT(--(SUBSTITUTE(SUBSTITUTE(SUBSTITUTE(SUBSTITUTE(SUBSTITUTE(SUBSTITUTE(SUBSTITUTE(UPPER($W$23:$Y$40&""),"⌢",""),"⌣",""),"⌵",""),"－",""),"-","")," ","")," ","")="DP"&UPPER($E4&"")))*2+SUMPRODUCT(--(SUBSTITUTE(SUBSTITUTE(SUBSTITUTE(SUBSTITUTE(SUBSTITUTE(SUBSTITUTE(SUBSTITUTE(UPPER($W$23:$Y$40&""),"⌢",""),"⌣",""),"⌵",""),"－",""),"-","")," ","")," ","")=UPPER($E4&"")&"TP"))*3+SUMPRODUCT(--(SUBSTITUTE(SUBSTITUTE(SUBSTITUTE(SUBSTITUTE(SUBSTITUTE(SUBSTITUTE(SUBSTITUTE(UPPER($W$23:$Y$40&""),"⌢",""),"⌣",""),"⌵",""),"－",""),"-","")," ","")," ","")="TP"&UPPER($E4&"")))*3+SUMPRODUCT(--(SUBSTITUTE(SUBSTITUTE(SUBSTITUTE(SUBSTITUTE(SUBSTITUTE(SUBSTITUTE(SUBSTITUTE(UPPER($AA$23:$AC$40&""),"⌢",""),"⌣",""),"⌵",""),"－",""),"-","")," ","")," ","")=UPPER($E4&"")))+SUMPRODUCT(--(SUBSTITUTE(SUBSTITUTE(SUBSTITUTE(SUBSTITUTE(SUBSTITUTE(SUBSTITUTE(SUBSTITUTE(UPPER($AA$23:$AC$40&""),"⌢",""),"⌣",""),"⌵",""),"－",""),"-","")," ","")," ","")=UPPER($E4&"")&"DP"))*2+SUMPRODUCT(--(SUBSTITUTE(SUBSTITUTE(SUBSTITUTE(SUBSTITUTE(SUBSTITUTE(SUBSTITUTE(SUBSTITUTE(UPPER($AA$23:$AC$40&""),"⌢",""),"⌣",""),"⌵",""),"－",""),"-","")," ","")," ","")="DP"&UPPER($E4&"")))*2+SUMPRODUCT(--(SUBSTITUTE(SUBSTITUTE(SUBSTITUTE(SUBSTITUTE(SUBSTITUTE(SUBSTITUTE(SUBSTITUTE(UPPER($AA$23:$AC$40&""),"⌢",""),"⌣",""),"⌵",""),"－",""),"-","")," ","")," ","")=UPPER($E4&"")&"TP"))*3+SUMPRODUCT(--(SUBSTITUTE(SUBSTITUTE(SUBSTITUTE(SUBSTITUTE(SUBSTITUTE(SUBSTITUTE(SUBSTITUTE(UPPER($AA$23:$AC$40&""),"⌢",""),"⌣",""),"⌵",""),"－",""),"-","")," ","")," ","")="TP"&UPPER($E4&"")))*3+SUMPRODUCT(--(SUBSTITUTE(SUBSTITUTE(SUBSTITUTE(SUBSTITUTE(SUBSTITUTE(SUBSTITUTE(SUBSTITUTE(UPPER($AE$23:$AG$40&""),"⌢",""),"⌣",""),"⌵",""),"－",""),"-","")," ","")," ","")=UPPER($E4&"")))+SUMPRODUCT(--(SUBSTITUTE(SUBSTITUTE(SUBSTITUTE(SUBSTITUTE(SUBSTITUTE(SUBSTITUTE(SUBSTITUTE(UPPER($AE$23:$AG$40&""),"⌢",""),"⌣",""),"⌵",""),"－",""),"-","")," ","")," ","")=UPPER($E4&"")&"DP"))*2+SUMPRODUCT(--(SUBSTITUTE(SUBSTITUTE(SUBSTITUTE(SUBSTITUTE(SUBSTITUTE(SUBSTITUTE(SUBSTITUTE(UPPER($AE$23:$AG$40&""),"⌢",""),"⌣",""),"⌵",""),"－",""),"-","")," ","")," ","")="DP"&UPPER($E4&"")))*2+SUMPRODUCT(--(SUBSTITUTE(SUBSTITUTE(SUBSTITUTE(SUBSTITUTE(SUBSTITUTE(SUBSTITUTE(SUBSTITUTE(UPPER($AE$23:$AG$40&""),"⌢",""),"⌣",""),"⌵",""),"－",""),"-","")," ","")," ","")=UPPER($E4&"")&"TP"))*3+SUMPRODUCT(--(SUBSTITUTE(SUBSTITUTE(SUBSTITUTE(SUBSTITUTE(SUBSTITUTE(SUBSTITUTE(SUBSTITUTE(UPPER($AE$23:$AG$40&""),"⌢",""),"⌣",""),"⌵",""),"－",""),"-","")," ","")," ","")="TP"&UPPER($E4&"")))*3) -> 0 | E4: 66 | F4: 陳韻婷 | T4: K | AB4: 33 ⌣ | AI4: =COUNTA(G4:I4,K4:M4,O4:Q4,S4:U4,W4:Y4,AA4:AC4,AE4:AG4) -> 2 | AJ4: =SUMPRODUCT(--(SUBSTITUTE(SUBSTITUTE(SUBSTITUTE(SUBSTITUTE(SUBSTITUTE(SUBSTITUTE(SUBSTITUTE(UPPER(G4:AG4&""),"⌢",""),"⌣",""),"⌵",""),"－",""),"-","")," ","")," ","")="R"))+SUMPRODUCT(--(SUBSTITUTE(SUBSTITUTE(SUBSTITUTE(SUBSTITUTE(SUBSTITUTE(SUBSTITUTE(SUBSTITUTE(UPPER(G4:AG4&""),"⌢",""),"⌣",""),"⌵",""),"－",""),"-","")," ","")," ","")="HR"))*2 -> 0 | AK4: =COUNTIF(G4:AG4,"K") -> 1 | AL4: =$A4 -> 0 | AM4: 江言鎧 | AO4: 6 | AP4: {=_xlfn.UNIQUE(SUBSTITUTE(SUBSTITUTE(F3:F20," DF",""),"DF",""))} -> 李秀美 | AQ4: =SUMIF($F$3:$F$20,AP4,$AI$3:$AI$20)+SUMIF($F$3:$F$20,AP4&" DF",$AI$3:$AI$20)+SUMIF($F$3:$F$20,AP4&"DF",$AI$3:$AI$20) -> 2 | AR4: =SUMIF($F$3:$F$20,AP4,$AJ$3:$AJ$20)+SUMIF($F$3:$F$20,AP4&" DF",$AJ$3:$AJ$20)+SUMIF($F$3:$F$20,AP4&"DF",$AJ$3:$AJ$20) -> 0 | AS4: =SUMIF($F$3:$F$20,AP4,$AK$3:$AK$20)+SUMIF($F$3:$F$20,AP4&" DF",$AK$3:$AK$20)+SUMIF($F$3:$F$20,AP4&"DF",$AK$3:$AK$20) -> 2 | AT4: =SUMIF($F$3:$F$20,AP4,$AL$3:$AL$20)+SUMIF($F$3:$F$20,AP4&" DF",$AL$3:$AL$20)+SUMIF($F$3:$F$20,AP4&"DF",$AL$3:$AL$20) -> 0 | AV4: 姓名 | AW4: AB | AX4: R | AY4: K
A5: =IF($E5="",0,SUMPRODUCT(--(SUBSTITUTE(SUBSTITUTE(SUBSTITUTE(SUBSTITUTE(SUBSTITUTE(SUBSTITUTE(SUBSTITUTE(UPPER($G$23:$I$40&""),"⌢",""),"⌣",""),"⌵",""),"－",""),"-","")," ","")," ","")=UPPER($E5&"")))+SUMPRODUCT(--(SUBSTITUTE(SUBSTITUTE(SUBSTITUTE(SUBSTITUTE(SUBSTITUTE(SUBSTITUTE(SUBSTITUTE(UPPER($G$23:$I$40&""),"⌢",""),"⌣",""),"⌵",""),"－",""),"-","")," ","")," ","")=UPPER($E5&"")&"DP"))*2+SUMPRODUCT(--(SUBSTITUTE(SUBSTITUTE(SUBSTITUTE(SUBSTITUTE(SUBSTITUTE(SUBSTITUTE(SUBSTITUTE(UPPER($G$23:$I$40&""),"⌢",""),"⌣",""),"⌵",""),"－",""),"-","")," ","")," ","")="DP"&UPPER($E5&"")))*2+SUMPRODUCT(--(SUBSTITUTE(SUBSTITUTE(SUBSTITUTE(SUBSTITUTE(SUBSTITUTE(SUBSTITUTE(SUBSTITUTE(UPPER($G$23:$I$40&""),"⌢",""),"⌣",""),"⌵",""),"－",""),"-","")," ","")," ","")=UPPER($E5&"")&"TP"))*3+SUMPRODUCT(--(SUBSTITUTE(SUBSTITUTE(SUBSTITUTE(SUBSTITUTE(SUBSTITUTE(SUBSTITUTE(SUBSTITUTE(UPPER($G$23:$I$40&""),"⌢",""),"⌣",""),"⌵",""),"－",""),"-","")," ","")," ","")="TP"&UPPER($E5&"")))*3+SUMPRODUCT(--(SUBSTITUTE(SUBSTITUTE(SUBSTITUTE(SUBSTITUTE(SUBSTITUTE(SUBSTITUTE(SUBSTITUTE(UPPER($K$23:$M$40&""),"⌢",""),"⌣",""),"⌵",""),"－",""),"-","")," ","")," ","")=UPPER($E5&"")))+SUMPRODUCT(--(SUBSTITUTE(SUBSTITUTE(SUBSTITUTE(SUBSTITUTE(SUBSTITUTE(SUBSTITUTE(SUBSTITUTE(UPPER($K$23:$M$40&""),"⌢",""),"⌣",""),"⌵",""),"－",""),"-","")," ","")," ","")=UPPER($E5&"")&"DP"))*2+SUMPRODUCT(--(SUBSTITUTE(SUBSTITUTE(SUBSTITUTE(SUBSTITUTE(SUBSTITUTE(SUBSTITUTE(SUBSTITUTE(UPPER($K$23:$M$40&""),"⌢",""),"⌣",""),"⌵",""),"－",""),"-","")," ","")," ","")="DP"&UPPER($E5&"")))*2+SUMPRODUCT(--(SUBSTITUTE(SUBSTITUTE(SUBSTITUTE(SUBSTITUTE(SUBSTITUTE(SUBSTITUTE(SUBSTITUTE(UPPER($K$23:$M$40&""),"⌢",""),"⌣",""),"⌵",""),"－",""),"-","")," ","")," ","")=UPPER($E5&"")&"TP"))*3+SUMPRODUCT(--(SUBSTITUTE(SUBSTITUTE(SUBSTITUTE(SUBSTITUTE(SUBSTITUTE(SUBSTITUTE(SUBSTITUTE(UPPER($K$23:$M$40&""),"⌢",""),"⌣",""),"⌵",""),"－",""),"-","")," ","")," ","")="TP"&UPPER($E5&"")))*3+SUMPRODUCT(--(SUBSTITUTE(SUBSTITUTE(SUBSTITUTE(SUBSTITUTE(SUBSTITUTE(SUBSTITUTE(SUBSTITUTE(UPPER($O$23:$Q$40&""),"⌢",""),"⌣",""),"⌵",""),"－",""),"-","")," ","")," ","")=UPPER($E5&"")))+SUMPRODUCT(--(SUBSTITUTE(SUBSTITUTE(SUBSTITUTE(SUBSTITUTE(SUBSTITUTE(SUBSTITUTE(SUBSTITUTE(UPPER($O$23:$Q$40&""),"⌢",""),"⌣",""),"⌵",""),"－",""),"-","")," ","")," ","")=UPPER($E5&"")&"DP"))*2+SUMPRODUCT(--(SUBSTITUTE(SUBSTITUTE(SUBSTITUTE(SUBSTITUTE(SUBSTITUTE(SUBSTITUTE(SUBSTITUTE(UPPER($O$23:$Q$40&""),"⌢",""),"⌣",""),"⌵",""),"－",""),"-","")," ","")," ","")="DP"&UPPER($E5&"")))*2+SUMPRODUCT(--(SUBSTITUTE(SUBSTITUTE(SUBSTITUTE(SUBSTITUTE(SUBSTITUTE(SUBSTITUTE(SUBSTITUTE(UPPER($O$23:$Q$40&""),"⌢",""),"⌣",""),"⌵",""),"－",""),"-","")," ","")," ","")=UPPER($E5&"")&"TP"))*3+SUMPRODUCT(--(SUBSTITUTE(SUBSTITUTE(SUBSTITUTE(SUBSTITUTE(SUBSTITUTE(SUBSTITUTE(SUBSTITUTE(UPPER($O$23:$Q$40&""),"⌢",""),"⌣",""),"⌵",""),"－",""),"-","")," ","")," ","")="TP"&UPPER($E5&"")))*3+SUMPRODUCT(--(SUBSTITUTE(SUBSTITUTE(SUBSTITUTE(SUBSTITUTE(SUBSTITUTE(SUBSTITUTE(SUBSTITUTE(UPPER($S$23:$U$40&""),"⌢",""),"⌣",""),"⌵",""),"－",""),"-","")," ","")," ","")=UPPER($E5&"")))+SUMPRODUCT(--(SUBSTITUTE(SUBSTITUTE(SUBSTITUTE(SUBSTITUTE(SUBSTITUTE(SUBSTITUTE(SUBSTITUTE(UPPER($S$23:$U$40&""),"⌢",""),"⌣",""),"⌵",""),"－",""),"-","")," ","")," ","")=UPPER($E5&"")&"DP"))*2+SUMPRODUCT(--(SUBSTITUTE(SUBSTITUTE(SUBSTITUTE(SUBSTITUTE(SUBSTITUTE(SUBSTITUTE(SUBSTITUTE(UPPER($S$23:$U$40&""),"⌢",""),"⌣",""),"⌵",""),"－",""),"-","")," ","")," ","")="DP"&UPPER($E5&"")))*2+SUMPRODUCT(--(SUBSTITUTE(SUBSTITUTE(SUBSTITUTE(SUBSTITUTE(SUBSTITUTE(SUBSTITUTE(SUBSTITUTE(UPPER($S$23:$U$40&""),"⌢",""),"⌣",""),"⌵",""),"－",""),"-","")," ","")," ","")=UPPER($E5&"")&"TP"))*3+SUMPRODUCT(--(SUBSTITUTE(SUBSTITUTE(SUBSTITUTE(SUBSTITUTE(SUBSTITUTE(SUBSTITUTE(SUBSTITUTE(UPPER($S$23:$U$40&""),"⌢",""),"⌣",""),"⌵",""),"－",""),"-","")," ","")," ","")="TP"&UPPER($E5&"")))*3+SUMPRODUCT(--(SUBSTITUTE(SUBSTITUTE(SUBSTITUTE(SUBSTITUTE(SUBSTITUTE(SUBSTITUTE(SUBSTITUTE(UPPER($W$23:$Y$40&""),"⌢",""),"⌣",""),"⌵",""),"－",""),"-","")," ","")," ","")=UPPER($E5&"")))+SUMPRODUCT(--(SUBSTITUTE(SUBSTITUTE(SUBSTITUTE(SUBSTITUTE(SUBSTITUTE(SUBSTITUTE(SUBSTITUTE(UPPER($W$23:$Y$40&""),"⌢",""),"⌣",""),"⌵",""),"－",""),"-","")," ","")," ","")=UPPER($E5&"")&"DP"))*2+SUMPRODUCT(--(SUBSTITUTE(SUBSTITUTE(SUBSTITUTE(SUBSTITUTE(SUBSTITUTE(SUBSTITUTE(SUBSTITUTE(UPPER($W$23:$Y$40&""),"⌢",""),"⌣",""),"⌵",""),"－",""),"-","")," ","")," ","")="DP"&UPPER($E5&"")))*2+SUMPRODUCT(--(SUBSTITUTE(SUBSTITUTE(SUBSTITUTE(SUBSTITUTE(SUBSTITUTE(SUBSTITUTE(SUBSTITUTE(UPPER($W$23:$Y$40&""),"⌢",""),"⌣",""),"⌵",""),"－",""),"-","")," ","")," ","")=UPPER($E5&"")&"TP"))*3+SUMPRODUCT(--(SUBSTITUTE(SUBSTITUTE(SUBSTITUTE(SUBSTITUTE(SUBSTITUTE(SUBSTITUTE(SUBSTITUTE(UPPER($W$23:$Y$40&""),"⌢",""),"⌣",""),"⌵",""),"－",""),"-","")," ","")," ","")="TP"&UPPER($E5&"")))*3+SUMPRODUCT(--(SUBSTITUTE(SUBSTITUTE(SUBSTITUTE(SUBSTITUTE(SUBSTITUTE(SUBSTITUTE(SUBSTITUTE(UPPER($AA$23:$AC$40&""),"⌢",""),"⌣",""),"⌵",""),"－",""),"-","")," ","")," ","")=UPPER($E5&"")))+SUMPRODUCT(--(SUBSTITUTE(SUBSTITUTE(SUBSTITUTE(SUBSTITUTE(SUBSTITUTE(SUBSTITUTE(SUBSTITUTE(UPPER($AA$23:$AC$40&""),"⌢",""),"⌣",""),"⌵",""),"－",""),"-","")," ","")," ","")=UPPER($E5&"")&"DP"))*2+SUMPRODUCT(--(SUBSTITUTE(SUBSTITUTE(SUBSTITUTE(SUBSTITUTE(SUBSTITUTE(SUBSTITUTE(SUBSTITUTE(UPPER($AA$23:$AC$40&""),"⌢",""),"⌣",""),"⌵",""),"－",""),"-","")," ","")," ","")="DP"&UPPER($E5&"")))*2+SUMPRODUCT(--(SUBSTITUTE(SUBSTITUTE(SUBSTITUTE(SUBSTITUTE(SUBSTITUTE(SUBSTITUTE(SUBSTITUTE(UPPER($AA$23:$AC$40&""),"⌢",""),"⌣",""),"⌵",""),"－",""),"-","")," ","")," ","")=UPPER($E5&"")&"TP"))*3+SUMPRODUCT(--(SUBSTITUTE(SUBSTITUTE(SUBSTITUTE(SUBSTITUTE(SUBSTITUTE(SUBSTITUTE(SUBSTITUTE(UPPER($AA$23:$AC$40&""),"⌢",""),"⌣",""),"⌵",""),"－",""),"-","")," ","")," ","")="TP"&UPPER($E5&"")))*3+SUMPRODUCT(--(SUBSTITUTE(SUBSTITUTE(SUBSTITUTE(SUBSTITUTE(SUBSTITUTE(SUBSTITUTE(SUBSTITUTE(UPPER($AE$23:$AG$40&""),"⌢",""),"⌣",""),"⌵",""),"－",""),"-","")," ","")," ","")=UPPER($E5&"")))+SUMPRODUCT(--(SUBSTITUTE(SUBSTITUTE(SUBSTITUTE(SUBSTITUTE(SUBSTITUTE(SUBSTITUTE(SUBSTITUTE(UPPER($AE$23:$AG$40&""),"⌢",""),"⌣",""),"⌵",""),"－",""),"-","")," ","")," ","")=UPPER($E5&"")&"DP"))*2+SUMPRODUCT(--(SUBSTITUTE(SUBSTITUTE(SUBSTITUTE(SUBSTITUTE(SUBSTITUTE(SUBSTITUTE(SUBSTITUTE(UPPER($AE$23:$AG$40&""),"⌢",""),"⌣",""),"⌵",""),"－",""),"-","")," ","")," ","")="DP"&UPPER($E5&"")))*2+SUMPRODUCT(--(SUBSTITUTE(SUBSTITUTE(SUBSTITUTE(SUBSTITUTE(SUBSTITUTE(SUBSTITUTE(SUBSTITUTE(UPPER($AE$23:$AG$40&""),"⌢",""),"⌣",""),"⌵",""),"－",""),"-","")," ","")," ","")=UPPER($E5&"")&"TP"))*3+SUMPRODUCT(--(SUBSTITUTE(SUBSTITUTE(SUBSTITUTE(SUBSTITUTE(SUBSTITUTE(SUBSTITUTE(SUBSTITUTE(UPPER($AE$23:$AG$40&""),"⌢",""),"⌣",""),"⌵",""),"－",""),"-","")," ","")," ","")="TP"&UPPER($E5&"")))*3) -> 0 | AI5: =COUNTA(G5:I5,K5:M5,O5:Q5,S5:U5,W5:Y5,AA5:AC5,AE5:AG5) -> 0 | AJ5: =SUMPRODUCT(--(SUBSTITUTE(SUBSTITUTE(SUBSTITUTE(SUBSTITUTE(SUBSTITUTE(SUBSTITUTE(SUBSTITUTE(UPPER(G5:AG5&""),"⌢",""),"⌣",""),"⌵",""),"－",""),"-","")," ","")," ","")="R"))+SUMPRODUCT(--(SUBSTITUTE(SUBSTITUTE(SUBSTITUTE(SUBSTITUTE(SUBSTITUTE(SUBSTITUTE(SUBSTITUTE(UPPER(G5:AG5&""),"⌢",""),"⌣",""),"⌵",""),"－",""),"-","")," ","")," ","")="HR"))*2 -> 0 | AK5: =COUNTIF(G5:AG5,"K") -> 0 | AL5: =$A5 -> 0 | AO5: 66 | AP5: 陳韻婷 | AQ5: =SUMIF($F$3:$F$20,AP5,$AI$3:$AI$20)+SUMIF($F$3:$F$20,AP5&" DF",$AI$3:$AI$20)+SUMIF($F$3:$F$20,AP5&"DF",$AI$3:$AI$20) -> 3 | AR5: =SUMIF($F$3:$F$20,AP5,$AJ$3:$AJ$20)+SUMIF($F$3:$F$20,AP5&" DF",$AJ$3:$AJ$20)+SUMIF($F$3:$F$20,AP5&"DF",$AJ$3:$AJ$20) -> 0 | AS5: =SUMIF($F$3:$F$20,AP5,$AK$3:$AK$20)+SUMIF($F$3:$F$20,AP5&" DF",$AK$3:$AK$20)+SUMIF($F$3:$F$20,AP5&"DF",$AK$3:$AK$20) -> 2 | AT5: =SUMIF($F$3:$F$20,AP5,$AL$3:$AL$20)+SUMIF($F$3:$F$20,AP5&" DF",$AL$3:$AL$20)+SUMIF($F$3:$F$20,AP5&"DF",$AL$3:$AL$20) -> 0 | AV5: {=_xlfn.UNIQUE(AM4:AM5)} -> 江言鎧 | AW5: 19 | AX5: 1 | AY5: 13
A6: =IF($E6="",0,SUMPRODUCT(--(SUBSTITUTE(SUBSTITUTE(SUBSTITUTE(SUBSTITUTE(SUBSTITUTE(SUBSTITUTE(SUBSTITUTE(UPPER($G$23:$I$40&""),"⌢",""),"⌣",""),"⌵",""),"－",""),"-","")," ","")," ","")=UPPER($E6&"")))+SUMPRODUCT(--(SUBSTITUTE(SUBSTITUTE(SUBSTITUTE(SUBSTITUTE(SUBSTITUTE(SUBSTITUTE(SUBSTITUTE(UPPER($G$23:$I$40&""),"⌢",""),"⌣",""),"⌵",""),"－",""),"-","")," ","")," ","")=UPPER($E6&"")&"DP"))*2+SUMPRODUCT(--(SUBSTITUTE(SUBSTITUTE(SUBSTITUTE(SUBSTITUTE(SUBSTITUTE(SUBSTITUTE(SUBSTITUTE(UPPER($G$23:$I$40&""),"⌢",""),"⌣",""),"⌵",""),"－",""),"-","")," ","")," ","")="DP"&UPPER($E6&"")))*2+SUMPRODUCT(--(SUBSTITUTE(SUBSTITUTE(SUBSTITUTE(SUBSTITUTE(SUBSTITUTE(SUBSTITUTE(SUBSTITUTE(UPPER($G$23:$I$40&""),"⌢",""),"⌣",""),"⌵",""),"－",""),"-","")," ","")," ","")=UPPER($E6&"")&"TP"))*3+SUMPRODUCT(--(SUBSTITUTE(SUBSTITUTE(SUBSTITUTE(SUBSTITUTE(SUBSTITUTE(SUBSTITUTE(SUBSTITUTE(UPPER($G$23:$I$40&""),"⌢",""),"⌣",""),"⌵",""),"－",""),"-","")," ","")," ","")="TP"&UPPER($E6&"")))*3+SUMPRODUCT(--(SUBSTITUTE(SUBSTITUTE(SUBSTITUTE(SUBSTITUTE(SUBSTITUTE(SUBSTITUTE(SUBSTITUTE(UPPER($K$23:$M$40&""),"⌢",""),"⌣",""),"⌵",""),"－",""),"-","")," ","")," ","")=UPPER($E6&"")))+SUMPRODUCT(--(SUBSTITUTE(SUBSTITUTE(SUBSTITUTE(SUBSTITUTE(SUBSTITUTE(SUBSTITUTE(SUBSTITUTE(UPPER($K$23:$M$40&""),"⌢",""),"⌣",""),"⌵",""),"－",""),"-","")," ","")," ","")=UPPER($E6&"")&"DP"))*2+SUMPRODUCT(--(SUBSTITUTE(SUBSTITUTE(SUBSTITUTE(SUBSTITUTE(SUBSTITUTE(SUBSTITUTE(SUBSTITUTE(UPPER($K$23:$M$40&""),"⌢",""),"⌣",""),"⌵",""),"－",""),"-","")," ","")," ","")="DP"&UPPER($E6&"")))*2+SUMPRODUCT(--(SUBSTITUTE(SUBSTITUTE(SUBSTITUTE(SUBSTITUTE(SUBSTITUTE(SUBSTITUTE(SUBSTITUTE(UPPER($K$23:$M$40&""),"⌢",""),"⌣",""),"⌵",""),"－",""),"-","")," ","")," ","")=UPPER($E6&"")&"TP"))*3+SUMPRODUCT(--(SUBSTITUTE(SUBSTITUTE(SUBSTITUTE(SUBSTITUTE(SUBSTITUTE(SUBSTITUTE(SUBSTITUTE(UPPER($K$23:$M$40&""),"⌢",""),"⌣",""),"⌵",""),"－",""),"-","")," ","")," ","")="TP"&UPPER($E6&"")))*3+SUMPRODUCT(--(SUBSTITUTE(SUBSTITUTE(SUBSTITUTE(SUBSTITUTE(SUBSTITUTE(SUBSTITUTE(SUBSTITUTE(UPPER($O$23:$Q$40&""),"⌢",""),"⌣",""),"⌵",""),"－",""),"-","")," ","")," ","")=UPPER($E6&"")))+SUMPRODUCT(--(SUBSTITUTE(SUBSTITUTE(SUBSTITUTE(SUBSTITUTE(SUBSTITUTE(SUBSTITUTE(SUBSTITUTE(UPPER($O$23:$Q$40&""),"⌢",""),"⌣",""),"⌵",""),"－",""),"-","")," ","")," ","")=UPPER($E6&"")&"DP"))*2+SUMPRODUCT(--(SUBSTITUTE(SUBSTITUTE(SUBSTITUTE(SUBSTITUTE(SUBSTITUTE(SUBSTITUTE(SUBSTITUTE(UPPER($O$23:$Q$40&""),"⌢",""),"⌣",""),"⌵",""),"－",""),"-","")," ","")," ","")="DP"&UPPER($E6&"")))*2+SUMPRODUCT(--(SUBSTITUTE(SUBSTITUTE(SUBSTITUTE(SUBSTITUTE(SUBSTITUTE(SUBSTITUTE(SUBSTITUTE(UPPER($O$23:$Q$40&""),"⌢",""),"⌣",""),"⌵",""),"－",""),"-","")," ","")," ","")=UPPER($E6&"")&"TP"))*3+SUMPRODUCT(--(SUBSTITUTE(SUBSTITUTE(SUBSTITUTE(SUBSTITUTE(SUBSTITUTE(SUBSTITUTE(SUBSTITUTE(UPPER($O$23:$Q$40&""),"⌢",""),"⌣",""),"⌵",""),"－",""),"-","")," ","")," ","")="TP"&UPPER($E6&"")))*3+SUMPRODUCT(--(SUBSTITUTE(SUBSTITUTE(SUBSTITUTE(SUBSTITUTE(SUBSTITUTE(SUBSTITUTE(SUBSTITUTE(UPPER($S$23:$U$40&""),"⌢",""),"⌣",""),"⌵",""),"－",""),"-","")," ","")," ","")=UPPER($E6&"")))+SUMPRODUCT(--(SUBSTITUTE(SUBSTITUTE(SUBSTITUTE(SUBSTITUTE(SUBSTITUTE(SUBSTITUTE(SUBSTITUTE(UPPER($S$23:$U$40&""),"⌢",""),"⌣",""),"⌵",""),"－",""),"-","")," ","")," ","")=UPPER($E6&"")&"DP"))*2+SUMPRODUCT(--(SUBSTITUTE(SUBSTITUTE(SUBSTITUTE(SUBSTITUTE(SUBSTITUTE(SUBSTITUTE(SUBSTITUTE(UPPER($S$23:$U$40&""),"⌢",""),"⌣",""),"⌵",""),"－",""),"-","")," ","")," ","")="DP"&UPPER($E6&"")))*2+SUMPRODUCT(--(SUBSTITUTE(SUBSTITUTE(SUBSTITUTE(SUBSTITUTE(SUBSTITUTE(SUBSTITUTE(SUBSTITUTE(UPPER($S$23:$U$40&""),"⌢",""),"⌣",""),"⌵",""),"－",""),"-","")," ","")," ","")=UPPER($E6&"")&"TP"))*3+SUMPRODUCT(--(SUBSTITUTE(SUBSTITUTE(SUBSTITUTE(SUBSTITUTE(SUBSTITUTE(SUBSTITUTE(SUBSTITUTE(UPPER($S$23:$U$40&""),"⌢",""),"⌣",""),"⌵",""),"－",""),"-","")," ","")," ","")="TP"&UPPER($E6&"")))*3+SUMPRODUCT(--(SUBSTITUTE(SUBSTITUTE(SUBSTITUTE(SUBSTITUTE(SUBSTITUTE(SUBSTITUTE(SUBSTITUTE(UPPER($W$23:$Y$40&""),"⌢",""),"⌣",""),"⌵",""),"－",""),"-","")," ","")," ","")=UPPER($E6&"")))+SUMPRODUCT(--(SUBSTITUTE(SUBSTITUTE(SUBSTITUTE(SUBSTITUTE(SUBSTITUTE(SUBSTITUTE(SUBSTITUTE(UPPER($W$23:$Y$40&""),"⌢",""),"⌣",""),"⌵",""),"－",""),"-","")," ","")," ","")=UPPER($E6&"")&"DP"))*2+SUMPRODUCT(--(SUBSTITUTE(SUBSTITUTE(SUBSTITUTE(SUBSTITUTE(SUBSTITUTE(SUBSTITUTE(SUBSTITUTE(UPPER($W$23:$Y$40&""),"⌢",""),"⌣",""),"⌵",""),"－",""),"-","")," ","")," ","")="DP"&UPPER($E6&"")))*2+SUMPRODUCT(--(SUBSTITUTE(SUBSTITUTE(SUBSTITUTE(SUBSTITUTE(SUBSTITUTE(SUBSTITUTE(SUBSTITUTE(UPPER($W$23:$Y$40&""),"⌢",""),"⌣",""),"⌵",""),"－",""),"-","")," ","")," ","")=UPPER($E6&"")&"TP"))*3+SUMPRODUCT(--(SUBSTITUTE(SUBSTITUTE(SUBSTITUTE(SUBSTITUTE(SUBSTITUTE(SUBSTITUTE(SUBSTITUTE(UPPER($W$23:$Y$40&""),"⌢",""),"⌣",""),"⌵",""),"－",""),"-","")," ","")," ","")="TP"&UPPER($E6&"")))*3+SUMPRODUCT(--(SUBSTITUTE(SUBSTITUTE(SUBSTITUTE(SUBSTITUTE(SUBSTITUTE(SUBSTITUTE(SUBSTITUTE(UPPER($AA$23:$AC$40&""),"⌢",""),"⌣",""),"⌵",""),"－",""),"-","")," ","")," ","")=UPPER($E6&"")))+SUMPRODUCT(--(SUBSTITUTE(SUBSTITUTE(SUBSTITUTE(SUBSTITUTE(SUBSTITUTE(SUBSTITUTE(SUBSTITUTE(UPPER($AA$23:$AC$40&""),"⌢",""),"⌣",""),"⌵",""),"－",""),"-","")," ","")," ","")=UPPER($E6&"")&"DP"))*2+SUMPRODUCT(--(SUBSTITUTE(SUBSTITUTE(SUBSTITUTE(SUBSTITUTE(SUBSTITUTE(SUBSTITUTE(SUBSTITUTE(UPPER($AA$23:$AC$40&""),"⌢",""),"⌣",""),"⌵",""),"－",""),"-","")," ","")," ","")="DP"&UPPER($E6&"")))*2+SUMPRODUCT(--(SUBSTITUTE(SUBSTITUTE(SUBSTITUTE(SUBSTITUTE(SUBSTITUTE(SUBSTITUTE(SUBSTITUTE(UPPER($AA$23:$AC$40&""),"⌢",""),"⌣",""),"⌵",""),"－",""),"-","")," ","")," ","")=UPPER($E6&"")&"TP"))*3+SUMPRODUCT(--(SUBSTITUTE(SUBSTITUTE(SUBSTITUTE(SUBSTITUTE(SUBSTITUTE(SUBSTITUTE(SUBSTITUTE(UPPER($AA$23:$AC$40&""),"⌢",""),"⌣",""),"⌵",""),"－",""),"-","")," ","")," ","")="TP"&UPPER($E6&"")))*3+SUMPRODUCT(--(SUBSTITUTE(SUBSTITUTE(SUBSTITUTE(SUBSTITUTE(SUBSTITUTE(SUBSTITUTE(SUBSTITUTE(UPPER($AE$23:$AG$40&""),"⌢",""),"⌣",""),"⌵",""),"－",""),"-","")," ","")," ","")=UPPER($E6&"")))+SUMPRODUCT(--(SUBSTITUTE(SUBSTITUTE(SUBSTITUTE(SUBSTITUTE(SUBSTITUTE(SUBSTITUTE(SUBSTITUTE(UPPER($AE$23:$AG$40&""),"⌢",""),"⌣",""),"⌵",""),"－",""),"-","")," ","")," ","")=UPPER($E6&"")&"DP"))*2+SUMPRODUCT(--(SUBSTITUTE(SUBSTITUTE(SUBSTITUTE(SUBSTITUTE(SUBSTITUTE(SUBSTITUTE(SUBSTITUTE(UPPER($AE$23:$AG$40&""),"⌢",""),"⌣",""),"⌵",""),"－",""),"-","")," ","")," ","")="DP"&UPPER($E6&"")))*2+SUMPRODUCT(--(SUBSTITUTE(SUBSTITUTE(SUBSTITUTE(SUBSTITUTE(SUBSTITUTE(SUBSTITUTE(SUBSTITUTE(UPPER($AE$23:$AG$40&""),"⌢",""),"⌣",""),"⌵",""),"－",""),"-","")," ","")," ","")=UPPER($E6&"")&"TP"))*3+SUMPRODUCT(--(SUBSTITUTE(SUBSTITUTE(SUBSTITUTE(SUBSTITUTE(SUBSTITUTE(SUBSTITUTE(SUBSTITUTE(UPPER($AE$23:$AG$40&""),"⌢",""),"⌣",""),"⌵",""),"－",""),"-","")," ","")," ","")="TP"&UPPER($E6&"")))*3) -> 0 | D6: 2 | E6: 66 | F6: 陳韻婷 | G6: K | AI6: =COUNTA(G6:I6,K6:M6,O6:Q6,S6:U6,W6:Y6,AA6:AC6,AE6:AG6) -> 1 | AJ6: =SUMPRODUCT(--(SUBSTITUTE(SUBSTITUTE(SUBSTITUTE(SUBSTITUTE(SUBSTITUTE(SUBSTITUTE(SUBSTITUTE(UPPER(G6:AG6&""),"⌢",""),"⌣",""),"⌵",""),"－",""),"-","")," ","")," ","")="R"))+SUMPRODUCT(--(SUBSTITUTE(SUBSTITUTE(SUBSTITUTE(SUBSTITUTE(SUBSTITUTE(SUBSTITUTE(SUBSTITUTE(UPPER(G6:AG6&""),"⌢",""),"⌣",""),"⌵",""),"－",""),"-","")," ","")," ","")="HR"))*2 -> 0 | AK6: =COUNTIF(G6:AG6,"K") -> 1 | AL6: =$A6 -> 0 | AM6: 捕手 | AQ6: =SUMIF($F$3:$F$20,AP6,$AI$3:$AI$20)+SUMIF($F$3:$F$20,AP6&" DF",$AI$3:$AI$20)+SUMIF($F$3:$F$20,AP6&"DF",$AI$3:$AI$20) -> 0 | AR6: =SUMIF($F$3:$F$20,AP6,$AJ$3:$AJ$20)+SUMIF($F$3:$F$20,AP6&" DF",$AJ$3:$AJ$20)+SUMIF($F$3:$F$20,AP6&"DF",$AJ$3:$AJ$20) -> 0 | AS6: =SUMIF($F$3:$F$20,AP6,$AK$3:$AK$20)+SUMIF($F$3:$F$20,AP6&" DF",$AK$3:$AK$20)+SUMIF($F$3:$F$20,AP6&"DF",$AK$3:$AK$20) -> 0 | AT6: =SUMIF($F$3:$F$20,AP6,$AL$3:$AL$20)+SUMIF($F$3:$F$20,AP6&" DF",$AL$3:$AL$20)+SUMIF($F$3:$F$20,AP6&"DF",$AL$3:$AL$20) -> 0 | AV6: 0
A7: =IF($E7="",0,SUMPRODUCT(--(SUBSTITUTE(SUBSTITUTE(SUBSTITUTE(SUBSTITUTE(SUBSTITUTE(SUBSTITUTE(SUBSTITUTE(UPPER($G$23:$I$40&""),"⌢",""),"⌣",""),"⌵",""),"－",""),"-","")," ","")," ","")=UPPER($E7&"")))+SUMPRODUCT(--(SUBSTITUTE(SUBSTITUTE(SUBSTITUTE(SUBSTITUTE(SUBSTITUTE(SUBSTITUTE(SUBSTITUTE(UPPER($G$23:$I$40&""),"⌢",""),"⌣",""),"⌵",""),"－",""),"-","")," ","")," ","")=UPPER($E7&"")&"DP"))*2+SUMPRODUCT(--(SUBSTITUTE(SUBSTITUTE(SUBSTITUTE(SUBSTITUTE(SUBSTITUTE(SUBSTITUTE(SUBSTITUTE(UPPER($G$23:$I$40&""),"⌢",""),"⌣",""),"⌵",""),"－",""),"-","")," ","")," ","")="DP"&UPPER($E7&"")))*2+SUMPRODUCT(--(SUBSTITUTE(SUBSTITUTE(SUBSTITUTE(SUBSTITUTE(SUBSTITUTE(SUBSTITUTE(SUBSTITUTE(UPPER($G$23:$I$40&""),"⌢",""),"⌣",""),"⌵",""),"－",""),"-","")," ","")," ","")=UPPER($E7&"")&"TP"))*3+SUMPRODUCT(--(SUBSTITUTE(SUBSTITUTE(SUBSTITUTE(SUBSTITUTE(SUBSTITUTE(SUBSTITUTE(SUBSTITUTE(UPPER($G$23:$I$40&""),"⌢",""),"⌣",""),"⌵",""),"－",""),"-","")," ","")," ","")="TP"&UPPER($E7&"")))*3+SUMPRODUCT(--(SUBSTITUTE(SUBSTITUTE(SUBSTITUTE(SUBSTITUTE(SUBSTITUTE(SUBSTITUTE(SUBSTITUTE(UPPER($K$23:$M$40&""),"⌢",""),"⌣",""),"⌵",""),"－",""),"-","")," ","")," ","")=UPPER($E7&"")))+SUMPRODUCT(--(SUBSTITUTE(SUBSTITUTE(SUBSTITUTE(SUBSTITUTE(SUBSTITUTE(SUBSTITUTE(SUBSTITUTE(UPPER($K$23:$M$40&""),"⌢",""),"⌣",""),"⌵",""),"－",""),"-","")," ","")," ","")=UPPER($E7&"")&"DP"))*2+SUMPRODUCT(--(SUBSTITUTE(SUBSTITUTE(SUBSTITUTE(SUBSTITUTE(SUBSTITUTE(SUBSTITUTE(SUBSTITUTE(UPPER($K$23:$M$40&""),"⌢",""),"⌣",""),"⌵",""),"－",""),"-","")," ","")," ","")="DP"&UPPER($E7&"")))*2+SUMPRODUCT(--(SUBSTITUTE(SUBSTITUTE(SUBSTITUTE(SUBSTITUTE(SUBSTITUTE(SUBSTITUTE(SUBSTITUTE(UPPER($K$23:$M$40&""),"⌢",""),"⌣",""),"⌵",""),"－",""),"-","")," ","")," ","")=UPPER($E7&"")&"TP"))*3+SUMPRODUCT(--(SUBSTITUTE(SUBSTITUTE(SUBSTITUTE(SUBSTITUTE(SUBSTITUTE(SUBSTITUTE(SUBSTITUTE(UPPER($K$23:$M$40&""),"⌢",""),"⌣",""),"⌵",""),"－",""),"-","")," ","")," ","")="TP"&UPPER($E7&"")))*3+SUMPRODUCT(--(SUBSTITUTE(SUBSTITUTE(SUBSTITUTE(SUBSTITUTE(SUBSTITUTE(SUBSTITUTE(SUBSTITUTE(UPPER($O$23:$Q$40&""),"⌢",""),"⌣",""),"⌵",""),"－",""),"-","")," ","")," ","")=UPPER($E7&"")))+SUMPRODUCT(--(SUBSTITUTE(SUBSTITUTE(SUBSTITUTE(SUBSTITUTE(SUBSTITUTE(SUBSTITUTE(SUBSTITUTE(UPPER($O$23:$Q$40&""),"⌢",""),"⌣",""),"⌵",""),"－",""),"-","")," ","")," ","")=UPPER($E7&"")&"DP"))*2+SUMPRODUCT(--(SUBSTITUTE(SUBSTITUTE(SUBSTITUTE(SUBSTITUTE(SUBSTITUTE(SUBSTITUTE(SUBSTITUTE(UPPER($O$23:$Q$40&""),"⌢",""),"⌣",""),"⌵",""),"－",""),"-","")," ","")," ","")="DP"&UPPER($E7&"")))*2+SUMPRODUCT(--(SUBSTITUTE(SUBSTITUTE(SUBSTITUTE(SUBSTITUTE(SUBSTITUTE(SUBSTITUTE(SUBSTITUTE(UPPER($O$23:$Q$40&""),"⌢",""),"⌣",""),"⌵",""),"－",""),"-","")," ","")," ","")=UPPER($E7&"")&"TP"))*3+SUMPRODUCT(--(SUBSTITUTE(SUBSTITUTE(SUBSTITUTE(SUBSTITUTE(SUBSTITUTE(SUBSTITUTE(SUBSTITUTE(UPPER($O$23:$Q$40&""),"⌢",""),"⌣",""),"⌵",""),"－",""),"-","")," ","")," ","")="TP"&UPPER($E7&"")))*3+SUMPRODUCT(--(SUBSTITUTE(SUBSTITUTE(SUBSTITUTE(SUBSTITUTE(SUBSTITUTE(SUBSTITUTE(SUBSTITUTE(UPPER($S$23:$U$40&""),"⌢",""),"⌣",""),"⌵",""),"－",""),"-","")," ","")," ","")=UPPER($E7&"")))+SUMPRODUCT(--(SUBSTITUTE(SUBSTITUTE(SUBSTITUTE(SUBSTITUTE(SUBSTITUTE(SUBSTITUTE(SUBSTITUTE(UPPER($S$23:$U$40&""),"⌢",""),"⌣",""),"⌵",""),"－",""),"-","")," ","")," ","")=UPPER($E7&"")&"DP"))*2+SUMPRODUCT(--(SUBSTITUTE(SUBSTITUTE(SUBSTITUTE(SUBSTITUTE(SUBSTITUTE(SUBSTITUTE(SUBSTITUTE(UPPER($S$23:$U$40&""),"⌢",""),"⌣",""),"⌵",""),"－",""),"-","")," ","")," ","")="DP"&UPPER($E7&"")))*2+SUMPRODUCT(--(SUBSTITUTE(SUBSTITUTE(SUBSTITUTE(SUBSTITUTE(SUBSTITUTE(SUBSTITUTE(SUBSTITUTE(UPPER($S$23:$U$40&""),"⌢",""),"⌣",""),"⌵",""),"－",""),"-","")," ","")," ","")=UPPER($E7&"")&"TP"))*3+SUMPRODUCT(--(SUBSTITUTE(SUBSTITUTE(SUBSTITUTE(SUBSTITUTE(SUBSTITUTE(SUBSTITUTE(SUBSTITUTE(UPPER($S$23:$U$40&""),"⌢",""),"⌣",""),"⌵",""),"－",""),"-","")," ","")," ","")="TP"&UPPER($E7&"")))*3+SUMPRODUCT(--(SUBSTITUTE(SUBSTITUTE(SUBSTITUTE(SUBSTITUTE(SUBSTITUTE(SUBSTITUTE(SUBSTITUTE(UPPER($W$23:$Y$40&""),"⌢",""),"⌣",""),"⌵",""),"－",""),"-","")," ","")," ","")=UPPER($E7&"")))+SUMPRODUCT(--(SUBSTITUTE(SUBSTITUTE(SUBSTITUTE(SUBSTITUTE(SUBSTITUTE(SUBSTITUTE(SUBSTITUTE(UPPER($W$23:$Y$40&""),"⌢",""),"⌣",""),"⌵",""),"－",""),"-","")," ","")," ","")=UPPER($E7&"")&"DP"))*2+SUMPRODUCT(--(SUBSTITUTE(SUBSTITUTE(SUBSTITUTE(SUBSTITUTE(SUBSTITUTE(SUBSTITUTE(SUBSTITUTE(UPPER($W$23:$Y$40&""),"⌢",""),"⌣",""),"⌵",""),"－",""),"-","")," ","")," ","")="DP"&UPPER($E7&"")))*2+SUMPRODUCT(--(SUBSTITUTE(SUBSTITUTE(SUBSTITUTE(SUBSTITUTE(SUBSTITUTE(SUBSTITUTE(SUBSTITUTE(UPPER($W$23:$Y$40&""),"⌢",""),"⌣",""),"⌵",""),"－",""),"-","")," ","")," ","")=UPPER($E7&"")&"TP"))*3+SUMPRODUCT(--(SUBSTITUTE(SUBSTITUTE(SUBSTITUTE(SUBSTITUTE(SUBSTITUTE(SUBSTITUTE(SUBSTITUTE(UPPER($W$23:$Y$40&""),"⌢",""),"⌣",""),"⌵",""),"－",""),"-","")," ","")," ","")="TP"&UPPER($E7&"")))*3+SUMPRODUCT(--(SUBSTITUTE(SUBSTITUTE(SUBSTITUTE(SUBSTITUTE(SUBSTITUTE(SUBSTITUTE(SUBSTITUTE(UPPER($AA$23:$AC$40&""),"⌢",""),"⌣",""),"⌵",""),"－",""),"-","")," ","")," ","")=UPPER($E7&"")))+SUMPRODUCT(--(SUBSTITUTE(SUBSTITUTE(SUBSTITUTE(SUBSTITUTE(SUBSTITUTE(SUBSTITUTE(SUBSTITUTE(UPPER($AA$23:$AC$40&""),"⌢",""),"⌣",""),"⌵",""),"－",""),"-","")," ","")," ","")=UPPER($E7&"")&"DP"))*2+SUMPRODUCT(--(SUBSTITUTE(SUBSTITUTE(SUBSTITUTE(SUBSTITUTE(SUBSTITUTE(SUBSTITUTE(SUBSTITUTE(UPPER($AA$23:$AC$40&""),"⌢",""),"⌣",""),"⌵",""),"－",""),"-","")," ","")," ","")="DP"&UPPER($E7&"")))*2+SUMPRODUCT(--(SUBSTITUTE(SUBSTITUTE(SUBSTITUTE(SUBSTITUTE(SUBSTITUTE(SUBSTITUTE(SUBSTITUTE(UPPER($AA$23:$AC$40&""),"⌢",""),"⌣",""),"⌵",""),"－",""),"-","")," ","")," ","")=UPPER($E7&"")&"TP"))*3+SUMPRODUCT(--(SUBSTITUTE(SUBSTITUTE(SUBSTITUTE(SUBSTITUTE(SUBSTITUTE(SUBSTITUTE(SUBSTITUTE(UPPER($AA$23:$AC$40&""),"⌢",""),"⌣",""),"⌵",""),"－",""),"-","")," ","")," ","")="TP"&UPPER($E7&"")))*3+SUMPRODUCT(--(SUBSTITUTE(SUBSTITUTE(SUBSTITUTE(SUBSTITUTE(SUBSTITUTE(SUBSTITUTE(SUBSTITUTE(UPPER($AE$23:$AG$40&""),"⌢",""),"⌣",""),"⌵",""),"－",""),"-","")," ","")," ","")=UPPER($E7&"")))+SUMPRODUCT(--(SUBSTITUTE(SUBSTITUTE(SUBSTITUTE(SUBSTITUTE(SUBSTITUTE(SUBSTITUTE(SUBSTITUTE(UPPER($AE$23:$AG$40&""),"⌢",""),"⌣",""),"⌵",""),"－",""),"-","")," ","")," ","")=UPPER($E7&"")&"DP"))*2+SUMPRODUCT(--(SUBSTITUTE(SUBSTITUTE(SUBSTITUTE(SUBSTITUTE(SUBSTITUTE(SUBSTITUTE(SUBSTITUTE(UPPER($AE$23:$AG$40&""),"⌢",""),"⌣",""),"⌵",""),"－",""),"-","")," ","")," ","")="DP"&UPPER($E7&"")))*2+SUMPRODUCT(--(SUBSTITUTE(SUBSTITUTE(SUBSTITUTE(SUBSTITUTE(SUBSTITUTE(SUBSTITUTE(SUBSTITUTE(UPPER($AE$23:$AG$40&""),"⌢",""),"⌣",""),"⌵",""),"－",""),"-","")," ","")," ","")=UPPER($E7&"")&"TP"))*3+SUMPRODUCT(--(SUBSTITUTE(SUBSTITUTE(SUBSTITUTE(SUBSTITUTE(SUBSTITUTE(SUBSTITUTE(SUBSTITUTE(UPPER($AE$23:$AG$40&""),"⌢",""),"⌣",""),"⌵",""),"－",""),"-","")," ","")," ","")="TP"&UPPER($E7&"")))*3) -> 2 | E7: 1 | F7: 賴保全 | O7: R ⌢ | W7: 35 ⌢ | AI7: =COUNTA(G7:I7,K7:M7,O7:Q7,S7:U7,W7:Y7,AA7:AC7,AE7:AG7) -> 2 | AJ7: =SUMPRODUCT(--(SUBSTITUTE(SUBSTITUTE(SUBSTITUTE(SUBSTITUTE(SUBSTITUTE(SUBSTITUTE(SUBSTITUTE(UPPER(G7:AG7&""),"⌢",""),"⌣",""),"⌵",""),"－",""),"-","")," ","")," ","")="R"))+SUMPRODUCT(--(SUBSTITUTE(SUBSTITUTE(SUBSTITUTE(SUBSTITUTE(SUBSTITUTE(SUBSTITUTE(SUBSTITUTE(UPPER(G7:AG7&""),"⌢",""),"⌣",""),"⌵",""),"－",""),"-","")," ","")," ","")="HR"))*2 -> 1 | AK7: =COUNTIF(G7:AG7,"K") -> 0 | AL7: =$A7 -> 2 | AM7: 許慶德 | AO7: 1 | AP7: 賴保全 | AQ7: =SUMIF($F$3:$F$20,AP7,$AI$3:$AI$20)+SUMIF($F$3:$F$20,AP7&" DF",$AI$3:$AI$20)+SUMIF($F$3:$F$20,AP7&"DF",$AI$3:$AI$20) -> 2 | AR7: =SUMIF($F$3:$F$20,AP7,$AJ$3:$AJ$20)+SUMIF($F$3:$F$20,AP7&" DF",$AJ$3:$AJ$20)+SUMIF($F$3:$F$20,AP7&"DF",$AJ$3:$AJ$20) -> 1 | AS7: =SUMIF($F$3:$F$20,AP7,$AK$3:$AK$20)+SUMIF($F$3:$F$20,AP7&" DF",$AK$3:$AK$20)+SUMIF($F$3:$F$20,AP7&"DF",$AK$3:$AK$20) -> 0 | AT7: =SUMIF($F$3:$F$20,AP7,$AL$3:$AL$20)+SUMIF($F$3:$F$20,AP7&" DF",$AL$3:$AL$20)+SUMIF($F$3:$F$20,AP7&"DF",$AL$3:$AL$20) -> 2
A8: =IF($E8="",0,SUMPRODUCT(--(SUBSTITUTE(SUBSTITUTE(SUBSTITUTE(SUBSTITUTE(SUBSTITUTE(SUBSTITUTE(SUBSTITUTE(UPPER($G$23:$I$40&""),"⌢",""),"⌣",""),"⌵",""),"－",""),"-","")," ","")," ","")=UPPER($E8&"")))+SUMPRODUCT(--(SUBSTITUTE(SUBSTITUTE(SUBSTITUTE(SUBSTITUTE(SUBSTITUTE(SUBSTITUTE(SUBSTITUTE(UPPER($G$23:$I$40&""),"⌢",""),"⌣",""),"⌵",""),"－",""),"-","")," ","")," ","")=UPPER($E8&"")&"DP"))*2+SUMPRODUCT(--(SUBSTITUTE(SUBSTITUTE(SUBSTITUTE(SUBSTITUTE(SUBSTITUTE(SUBSTITUTE(SUBSTITUTE(UPPER($G$23:$I$40&""),"⌢",""),"⌣",""),"⌵",""),"－",""),"-","")," ","")," ","")="DP"&UPPER($E8&"")))*2+SUMPRODUCT(--(SUBSTITUTE(SUBSTITUTE(SUBSTITUTE(SUBSTITUTE(SUBSTITUTE(SUBSTITUTE(SUBSTITUTE(UPPER($G$23:$I$40&""),"⌢",""),"⌣",""),"⌵",""),"－",""),"-","")," ","")," ","")=UPPER($E8&"")&"TP"))*3+SUMPRODUCT(--(SUBSTITUTE(SUBSTITUTE(SUBSTITUTE(SUBSTITUTE(SUBSTITUTE(SUBSTITUTE(SUBSTITUTE(UPPER($G$23:$I$40&""),"⌢",""),"⌣",""),"⌵",""),"－",""),"-","")," ","")," ","")="TP"&UPPER($E8&"")))*3+SUMPRODUCT(--(SUBSTITUTE(SUBSTITUTE(SUBSTITUTE(SUBSTITUTE(SUBSTITUTE(SUBSTITUTE(SUBSTITUTE(UPPER($K$23:$M$40&""),"⌢",""),"⌣",""),"⌵",""),"－",""),"-","")," ","")," ","")=UPPER($E8&"")))+SUMPRODUCT(--(SUBSTITUTE(SUBSTITUTE(SUBSTITUTE(SUBSTITUTE(SUBSTITUTE(SUBSTITUTE(SUBSTITUTE(UPPER($K$23:$M$40&""),"⌢",""),"⌣",""),"⌵",""),"－",""),"-","")," ","")," ","")=UPPER($E8&"")&"DP"))*2+SUMPRODUCT(--(SUBSTITUTE(SUBSTITUTE(SUBSTITUTE(SUBSTITUTE(SUBSTITUTE(SUBSTITUTE(SUBSTITUTE(UPPER($K$23:$M$40&""),"⌢",""),"⌣",""),"⌵",""),"－",""),"-","")," ","")," ","")="DP"&UPPER($E8&"")))*2+SUMPRODUCT(--(SUBSTITUTE(SUBSTITUTE(SUBSTITUTE(SUBSTITUTE(SUBSTITUTE(SUBSTITUTE(SUBSTITUTE(UPPER($K$23:$M$40&""),"⌢",""),"⌣",""),"⌵",""),"－",""),"-","")," ","")," ","")=UPPER($E8&"")&"TP"))*3+SUMPRODUCT(--(SUBSTITUTE(SUBSTITUTE(SUBSTITUTE(SUBSTITUTE(SUBSTITUTE(SUBSTITUTE(SUBSTITUTE(UPPER($K$23:$M$40&""),"⌢",""),"⌣",""),"⌵",""),"－",""),"-","")," ","")," ","")="TP"&UPPER($E8&"")))*3+SUMPRODUCT(--(SUBSTITUTE(SUBSTITUTE(SUBSTITUTE(SUBSTITUTE(SUBSTITUTE(SUBSTITUTE(SUBSTITUTE(UPPER($O$23:$Q$40&""),"⌢",""),"⌣",""),"⌵",""),"－",""),"-","")," ","")," ","")=UPPER($E8&"")))+SUMPRODUCT(--(SUBSTITUTE(SUBSTITUTE(SUBSTITUTE(SUBSTITUTE(SUBSTITUTE(SUBSTITUTE(SUBSTITUTE(UPPER($O$23:$Q$40&""),"⌢",""),"⌣",""),"⌵",""),"－",""),"-","")," ","")," ","")=UPPER($E8&"")&"DP"))*2+SUMPRODUCT(--(SUBSTITUTE(SUBSTITUTE(SUBSTITUTE(SUBSTITUTE(SUBSTITUTE(SUBSTITUTE(SUBSTITUTE(UPPER($O$23:$Q$40&""),"⌢",""),"⌣",""),"⌵",""),"－",""),"-","")," ","")," ","")="DP"&UPPER($E8&"")))*2+SUMPRODUCT(--(SUBSTITUTE(SUBSTITUTE(SUBSTITUTE(SUBSTITUTE(SUBSTITUTE(SUBSTITUTE(SUBSTITUTE(UPPER($O$23:$Q$40&""),"⌢",""),"⌣",""),"⌵",""),"－",""),"-","")," ","")," ","")=UPPER($E8&"")&"TP"))*3+SUMPRODUCT(--(SUBSTITUTE(SUBSTITUTE(SUBSTITUTE(SUBSTITUTE(SUBSTITUTE(SUBSTITUTE(SUBSTITUTE(UPPER($O$23:$Q$40&""),"⌢",""),"⌣",""),"⌵",""),"－",""),"-","")," ","")," ","")="TP"&UPPER($E8&"")))*3+SUMPRODUCT(--(SUBSTITUTE(SUBSTITUTE(SUBSTITUTE(SUBSTITUTE(SUBSTITUTE(SUBSTITUTE(SUBSTITUTE(UPPER($S$23:$U$40&""),"⌢",""),"⌣",""),"⌵",""),"－",""),"-","")," ","")," ","")=UPPER($E8&"")))+SUMPRODUCT(--(SUBSTITUTE(SUBSTITUTE(SUBSTITUTE(SUBSTITUTE(SUBSTITUTE(SUBSTITUTE(SUBSTITUTE(UPPER($S$23:$U$40&""),"⌢",""),"⌣",""),"⌵",""),"－",""),"-","")," ","")," ","")=UPPER($E8&"")&"DP"))*2+SUMPRODUCT(--(SUBSTITUTE(SUBSTITUTE(SUBSTITUTE(SUBSTITUTE(SUBSTITUTE(SUBSTITUTE(SUBSTITUTE(UPPER($S$23:$U$40&""),"⌢",""),"⌣",""),"⌵",""),"－",""),"-","")," ","")," ","")="DP"&UPPER($E8&"")))*2+SUMPRODUCT(--(SUBSTITUTE(SUBSTITUTE(SUBSTITUTE(SUBSTITUTE(SUBSTITUTE(SUBSTITUTE(SUBSTITUTE(UPPER($S$23:$U$40&""),"⌢",""),"⌣",""),"⌵",""),"－",""),"-","")," ","")," ","")=UPPER($E8&"")&"TP"))*3+SUMPRODUCT(--(SUBSTITUTE(SUBSTITUTE(SUBSTITUTE(SUBSTITUTE(SUBSTITUTE(SUBSTITUTE(SUBSTITUTE(UPPER($S$23:$U$40&""),"⌢",""),"⌣",""),"⌵",""),"－",""),"-","")," ","")," ","")="TP"&UPPER($E8&"")))*3+SUMPRODUCT(--(SUBSTITUTE(SUBSTITUTE(SUBSTITUTE(SUBSTITUTE(SUBSTITUTE(SUBSTITUTE(SUBSTITUTE(UPPER($W$23:$Y$40&""),"⌢",""),"⌣",""),"⌵",""),"－",""),"-","")," ","")," ","")=UPPER($E8&"")))+SUMPRODUCT(--(SUBSTITUTE(SUBSTITUTE(SUBSTITUTE(SUBSTITUTE(SUBSTITUTE(SUBSTITUTE(SUBSTITUTE(UPPER($W$23:$Y$40&""),"⌢",""),"⌣",""),"⌵",""),"－",""),"-","")," ","")," ","")=UPPER($E8&"")&"DP"))*2+SUMPRODUCT(--(SUBSTITUTE(SUBSTITUTE(SUBSTITUTE(SUBSTITUTE(SUBSTITUTE(SUBSTITUTE(SUBSTITUTE(UPPER($W$23:$Y$40&""),"⌢",""),"⌣",""),"⌵",""),"－",""),"-","")," ","")," ","")="DP"&UPPER($E8&"")))*2+SUMPRODUCT(--(SUBSTITUTE(SUBSTITUTE(SUBSTITUTE(SUBSTITUTE(SUBSTITUTE(SUBSTITUTE(SUBSTITUTE(UPPER($W$23:$Y$40&""),"⌢",""),"⌣",""),"⌵",""),"－",""),"-","")," ","")," ","")=UPPER($E8&"")&"TP"))*3+SUMPRODUCT(--(SUBSTITUTE(SUBSTITUTE(SUBSTITUTE(SUBSTITUTE(SUBSTITUTE(SUBSTITUTE(SUBSTITUTE(UPPER($W$23:$Y$40&""),"⌢",""),"⌣",""),"⌵",""),"－",""),"-","")," ","")," ","")="TP"&UPPER($E8&"")))*3+SUMPRODUCT(--(SUBSTITUTE(SUBSTITUTE(SUBSTITUTE(SUBSTITUTE(SUBSTITUTE(SUBSTITUTE(SUBSTITUTE(UPPER($AA$23:$AC$40&""),"⌢",""),"⌣",""),"⌵",""),"－",""),"-","")," ","")," ","")=UPPER($E8&"")))+SUMPRODUCT(--(SUBSTITUTE(SUBSTITUTE(SUBSTITUTE(SUBSTITUTE(SUBSTITUTE(SUBSTITUTE(SUBSTITUTE(UPPER($AA$23:$AC$40&""),"⌢",""),"⌣",""),"⌵",""),"－",""),"-","")," ","")," ","")=UPPER($E8&"")&"DP"))*2+SUMPRODUCT(--(SUBSTITUTE(SUBSTITUTE(SUBSTITUTE(SUBSTITUTE(SUBSTITUTE(SUBSTITUTE(SUBSTITUTE(UPPER($AA$23:$AC$40&""),"⌢",""),"⌣",""),"⌵",""),"－",""),"-","")," ","")," ","")="DP"&UPPER($E8&"")))*2+SUMPRODUCT(--(SUBSTITUTE(SUBSTITUTE(SUBSTITUTE(SUBSTITUTE(SUBSTITUTE(SUBSTITUTE(SUBSTITUTE(UPPER($AA$23:$AC$40&""),"⌢",""),"⌣",""),"⌵",""),"－",""),"-","")," ","")," ","")=UPPER($E8&"")&"TP"))*3+SUMPRODUCT(--(SUBSTITUTE(SUBSTITUTE(SUBSTITUTE(SUBSTITUTE(SUBSTITUTE(SUBSTITUTE(SUBSTITUTE(UPPER($AA$23:$AC$40&""),"⌢",""),"⌣",""),"⌵",""),"－",""),"-","")," ","")," ","")="TP"&UPPER($E8&"")))*3+SUMPRODUCT(--(SUBSTITUTE(SUBSTITUTE(SUBSTITUTE(SUBSTITUTE(SUBSTITUTE(SUBSTITUTE(SUBSTITUTE(UPPER($AE$23:$AG$40&""),"⌢",""),"⌣",""),"⌵",""),"－",""),"-","")," ","")," ","")=UPPER($E8&"")))+SUMPRODUCT(--(SUBSTITUTE(SUBSTITUTE(SUBSTITUTE(SUBSTITUTE(SUBSTITUTE(SUBSTITUTE(SUBSTITUTE(UPPER($AE$23:$AG$40&""),"⌢",""),"⌣",""),"⌵",""),"－",""),"-","")," ","")," ","")=UPPER($E8&"")&"DP"))*2+SUMPRODUCT(--(SUBSTITUTE(SUBSTITUTE(SUBSTITUTE(SUBSTITUTE(SUBSTITUTE(SUBSTITUTE(SUBSTITUTE(UPPER($AE$23:$AG$40&""),"⌢",""),"⌣",""),"⌵",""),"－",""),"-","")," ","")," ","")="DP"&UPPER($E8&"")))*2+SUMPRODUCT(--(SUBSTITUTE(SUBSTITUTE(SUBSTITUTE(SUBSTITUTE(SUBSTITUTE(SUBSTITUTE(SUBSTITUTE(UPPER($AE$23:$AG$40&""),"⌢",""),"⌣",""),"⌵",""),"－",""),"-","")," ","")," ","")=UPPER($E8&"")&"TP"))*3+SUMPRODUCT(--(SUBSTITUTE(SUBSTITUTE(SUBSTITUTE(SUBSTITUTE(SUBSTITUTE(SUBSTITUTE(SUBSTITUTE(UPPER($AE$23:$AG$40&""),"⌢",""),"⌣",""),"⌵",""),"－",""),"-","")," ","")," ","")="TP"&UPPER($E8&"")))*3) -> 0 | AI8: =COUNTA(G8:I8,K8:M8,O8:Q8,S8:U8,W8:Y8,AA8:AC8,AE8:AG8) -> 0 | AJ8: =SUMPRODUCT(--(SUBSTITUTE(SUBSTITUTE(SUBSTITUTE(SUBSTITUTE(SUBSTITUTE(SUBSTITUTE(SUBSTITUTE(UPPER(G8:AG8&""),"⌢",""),"⌣",""),"⌵",""),"－",""),"-","")," ","")," ","")="R"))+SUMPRODUCT(--(SUBSTITUTE(SUBSTITUTE(SUBSTITUTE(SUBSTITUTE(SUBSTITUTE(SUBSTITUTE(SUBSTITUTE(UPPER(G8:AG8&""),"⌢",""),"⌣",""),"⌵",""),"－",""),"-","")," ","")," ","")="HR"))*2 -> 0 | AK8: =COUNTIF(G8:AG8,"K") -> 0 | AL8: =$A8 -> 0 | AN8: 1 | AO8: 25 | AP8: 洪韶壕 | AQ8: =SUMIF($F$3:$F$20,AP8,$AI$3:$AI$20)+SUMIF($F$3:$F$20,AP8&" DF",$AI$3:$AI$20)+SUMIF($F$3:$F$20,AP8&"DF",$AI$3:$AI$20) -> 3 | AR8: =SUMIF($F$3:$F$20,AP8,$AJ$3:$AJ$20)+SUMIF($F$3:$F$20,AP8&" DF",$AJ$3:$AJ$20)+SUMIF($F$3:$F$20,AP8&"DF",$AJ$3:$AJ$20) -> 0 | AS8: =SUMIF($F$3:$F$20,AP8,$AK$3:$AK$20)+SUMIF($F$3:$F$20,AP8&" DF",$AK$3:$AK$20)+SUMIF($F$3:$F$20,AP8&"DF",$AK$3:$AK$20) -> 1 | AT8: =SUMIF($F$3:$F$20,AP8,$AL$3:$AL$20)+SUMIF($F$3:$F$20,AP8&" DF",$AL$3:$AL$20)+SUMIF($F$3:$F$20,AP8&"DF",$AL$3:$AL$20) -> 1 | AW8: =SUM(AW5:AW7) -> 19 | AX8: =SUM(AX5:AX7) -> 1 | AY8: =SUM(AY5:AY7) -> 13
A9: =IF($E9="",0,SUMPRODUCT(--(SUBSTITUTE(SUBSTITUTE(SUBSTITUTE(SUBSTITUTE(SUBSTITUTE(SUBSTITUTE(SUBSTITUTE(UPPER($G$23:$I$40&""),"⌢",""),"⌣",""),"⌵",""),"－",""),"-","")," ","")," ","")=UPPER($E9&"")))+SUMPRODUCT(--(SUBSTITUTE(SUBSTITUTE(SUBSTITUTE(SUBSTITUTE(SUBSTITUTE(SUBSTITUTE(SUBSTITUTE(UPPER($G$23:$I$40&""),"⌢",""),"⌣",""),"⌵",""),"－",""),"-","")," ","")," ","")=UPPER($E9&"")&"DP"))*2+SUMPRODUCT(--(SUBSTITUTE(SUBSTITUTE(SUBSTITUTE(SUBSTITUTE(SUBSTITUTE(SUBSTITUTE(SUBSTITUTE(UPPER($G$23:$I$40&""),"⌢",""),"⌣",""),"⌵",""),"－",""),"-","")," ","")," ","")="DP"&UPPER($E9&"")))*2+SUMPRODUCT(--(SUBSTITUTE(SUBSTITUTE(SUBSTITUTE(SUBSTITUTE(SUBSTITUTE(SUBSTITUTE(SUBSTITUTE(UPPER($G$23:$I$40&""),"⌢",""),"⌣",""),"⌵",""),"－",""),"-","")," ","")," ","")=UPPER($E9&"")&"TP"))*3+SUMPRODUCT(--(SUBSTITUTE(SUBSTITUTE(SUBSTITUTE(SUBSTITUTE(SUBSTITUTE(SUBSTITUTE(SUBSTITUTE(UPPER($G$23:$I$40&""),"⌢",""),"⌣",""),"⌵",""),"－",""),"-","")," ","")," ","")="TP"&UPPER($E9&"")))*3+SUMPRODUCT(--(SUBSTITUTE(SUBSTITUTE(SUBSTITUTE(SUBSTITUTE(SUBSTITUTE(SUBSTITUTE(SUBSTITUTE(UPPER($K$23:$M$40&""),"⌢",""),"⌣",""),"⌵",""),"－",""),"-","")," ","")," ","")=UPPER($E9&"")))+SUMPRODUCT(--(SUBSTITUTE(SUBSTITUTE(SUBSTITUTE(SUBSTITUTE(SUBSTITUTE(SUBSTITUTE(SUBSTITUTE(UPPER($K$23:$M$40&""),"⌢",""),"⌣",""),"⌵",""),"－",""),"-","")," ","")," ","")=UPPER($E9&"")&"DP"))*2+SUMPRODUCT(--(SUBSTITUTE(SUBSTITUTE(SUBSTITUTE(SUBSTITUTE(SUBSTITUTE(SUBSTITUTE(SUBSTITUTE(UPPER($K$23:$M$40&""),"⌢",""),"⌣",""),"⌵",""),"－",""),"-","")," ","")," ","")="DP"&UPPER($E9&"")))*2+SUMPRODUCT(--(SUBSTITUTE(SUBSTITUTE(SUBSTITUTE(SUBSTITUTE(SUBSTITUTE(SUBSTITUTE(SUBSTITUTE(UPPER($K$23:$M$40&""),"⌢",""),"⌣",""),"⌵",""),"－",""),"-","")," ","")," ","")=UPPER($E9&"")&"TP"))*3+SUMPRODUCT(--(SUBSTITUTE(SUBSTITUTE(SUBSTITUTE(SUBSTITUTE(SUBSTITUTE(SUBSTITUTE(SUBSTITUTE(UPPER($K$23:$M$40&""),"⌢",""),"⌣",""),"⌵",""),"－",""),"-","")," ","")," ","")="TP"&UPPER($E9&"")))*3+SUMPRODUCT(--(SUBSTITUTE(SUBSTITUTE(SUBSTITUTE(SUBSTITUTE(SUBSTITUTE(SUBSTITUTE(SUBSTITUTE(UPPER($O$23:$Q$40&""),"⌢",""),"⌣",""),"⌵",""),"－",""),"-","")," ","")," ","")=UPPER($E9&"")))+SUMPRODUCT(--(SUBSTITUTE(SUBSTITUTE(SUBSTITUTE(SUBSTITUTE(SUBSTITUTE(SUBSTITUTE(SUBSTITUTE(UPPER($O$23:$Q$40&""),"⌢",""),"⌣",""),"⌵",""),"－",""),"-","")," ","")," ","")=UPPER($E9&"")&"DP"))*2+SUMPRODUCT(--(SUBSTITUTE(SUBSTITUTE(SUBSTITUTE(SUBSTITUTE(SUBSTITUTE(SUBSTITUTE(SUBSTITUTE(UPPER($O$23:$Q$40&""),"⌢",""),"⌣",""),"⌵",""),"－",""),"-","")," ","")," ","")="DP"&UPPER($E9&"")))*2+SUMPRODUCT(--(SUBSTITUTE(SUBSTITUTE(SUBSTITUTE(SUBSTITUTE(SUBSTITUTE(SUBSTITUTE(SUBSTITUTE(UPPER($O$23:$Q$40&""),"⌢",""),"⌣",""),"⌵",""),"－",""),"-","")," ","")," ","")=UPPER($E9&"")&"TP"))*3+SUMPRODUCT(--(SUBSTITUTE(SUBSTITUTE(SUBSTITUTE(SUBSTITUTE(SUBSTITUTE(SUBSTITUTE(SUBSTITUTE(UPPER($O$23:$Q$40&""),"⌢",""),"⌣",""),"⌵",""),"－",""),"-","")," ","")," ","")="TP"&UPPER($E9&"")))*3+SUMPRODUCT(--(SUBSTITUTE(SUBSTITUTE(SUBSTITUTE(SUBSTITUTE(SUBSTITUTE(SUBSTITUTE(SUBSTITUTE(UPPER($S$23:$U$40&""),"⌢",""),"⌣",""),"⌵",""),"－",""),"-","")," ","")," ","")=UPPER($E9&"")))+SUMPRODUCT(--(SUBSTITUTE(SUBSTITUTE(SUBSTITUTE(SUBSTITUTE(SUBSTITUTE(SUBSTITUTE(SUBSTITUTE(UPPER($S$23:$U$40&""),"⌢",""),"⌣",""),"⌵",""),"－",""),"-","")," ","")," ","")=UPPER($E9&"")&"DP"))*2+SUMPRODUCT(--(SUBSTITUTE(SUBSTITUTE(SUBSTITUTE(SUBSTITUTE(SUBSTITUTE(SUBSTITUTE(SUBSTITUTE(UPPER($S$23:$U$40&""),"⌢",""),"⌣",""),"⌵",""),"－",""),"-","")," ","")," ","")="DP"&UPPER($E9&"")))*2+SUMPRODUCT(--(SUBSTITUTE(SUBSTITUTE(SUBSTITUTE(SUBSTITUTE(SUBSTITUTE(SUBSTITUTE(SUBSTITUTE(UPPER($S$23:$U$40&""),"⌢",""),"⌣",""),"⌵",""),"－",""),"-","")," ","")," ","")=UPPER($E9&"")&"TP"))*3+SUMPRODUCT(--(SUBSTITUTE(SUBSTITUTE(SUBSTITUTE(SUBSTITUTE(SUBSTITUTE(SUBSTITUTE(SUBSTITUTE(UPPER($S$23:$U$40&""),"⌢",""),"⌣",""),"⌵",""),"－",""),"-","")," ","")," ","")="TP"&UPPER($E9&"")))*3+SUMPRODUCT(--(SUBSTITUTE(SUBSTITUTE(SUBSTITUTE(SUBSTITUTE(SUBSTITUTE(SUBSTITUTE(SUBSTITUTE(UPPER($W$23:$Y$40&""),"⌢",""),"⌣",""),"⌵",""),"－",""),"-","")," ","")," ","")=UPPER($E9&"")))+SUMPRODUCT(--(SUBSTITUTE(SUBSTITUTE(SUBSTITUTE(SUBSTITUTE(SUBSTITUTE(SUBSTITUTE(SUBSTITUTE(UPPER($W$23:$Y$40&""),"⌢",""),"⌣",""),"⌵",""),"－",""),"-","")," ","")," ","")=UPPER($E9&"")&"DP"))*2+SUMPRODUCT(--(SUBSTITUTE(SUBSTITUTE(SUBSTITUTE(SUBSTITUTE(SUBSTITUTE(SUBSTITUTE(SUBSTITUTE(UPPER($W$23:$Y$40&""),"⌢",""),"⌣",""),"⌵",""),"－",""),"-","")," ","")," ","")="DP"&UPPER($E9&"")))*2+SUMPRODUCT(--(SUBSTITUTE(SUBSTITUTE(SUBSTITUTE(SUBSTITUTE(SUBSTITUTE(SUBSTITUTE(SUBSTITUTE(UPPER($W$23:$Y$40&""),"⌢",""),"⌣",""),"⌵",""),"－",""),"-","")," ","")," ","")=UPPER($E9&"")&"TP"))*3+SUMPRODUCT(--(SUBSTITUTE(SUBSTITUTE(SUBSTITUTE(SUBSTITUTE(SUBSTITUTE(SUBSTITUTE(SUBSTITUTE(UPPER($W$23:$Y$40&""),"⌢",""),"⌣",""),"⌵",""),"－",""),"-","")," ","")," ","")="TP"&UPPER($E9&"")))*3+SUMPRODUCT(--(SUBSTITUTE(SUBSTITUTE(SUBSTITUTE(SUBSTITUTE(SUBSTITUTE(SUBSTITUTE(SUBSTITUTE(UPPER($AA$23:$AC$40&""),"⌢",""),"⌣",""),"⌵",""),"－",""),"-","")," ","")," ","")=UPPER($E9&"")))+SUMPRODUCT(--(SUBSTITUTE(SUBSTITUTE(SUBSTITUTE(SUBSTITUTE(SUBSTITUTE(SUBSTITUTE(SUBSTITUTE(UPPER($AA$23:$AC$40&""),"⌢",""),"⌣",""),"⌵",""),"－",""),"-","")," ","")," ","")=UPPER($E9&"")&"DP"))*2+SUMPRODUCT(--(SUBSTITUTE(SUBSTITUTE(SUBSTITUTE(SUBSTITUTE(SUBSTITUTE(SUBSTITUTE(SUBSTITUTE(UPPER($AA$23:$AC$40&""),"⌢",""),"⌣",""),"⌵",""),"－",""),"-","")," ","")," ","")="DP"&UPPER($E9&"")))*2+SUMPRODUCT(--(SUBSTITUTE(SUBSTITUTE(SUBSTITUTE(SUBSTITUTE(SUBSTITUTE(SUBSTITUTE(SUBSTITUTE(UPPER($AA$23:$AC$40&""),"⌢",""),"⌣",""),"⌵",""),"－",""),"-","")," ","")," ","")=UPPER($E9&"")&"TP"))*3+SUMPRODUCT(--(SUBSTITUTE(SUBSTITUTE(SUBSTITUTE(SUBSTITUTE(SUBSTITUTE(SUBSTITUTE(SUBSTITUTE(UPPER($AA$23:$AC$40&""),"⌢",""),"⌣",""),"⌵",""),"－",""),"-","")," ","")," ","")="TP"&UPPER($E9&"")))*3+SUMPRODUCT(--(SUBSTITUTE(SUBSTITUTE(SUBSTITUTE(SUBSTITUTE(SUBSTITUTE(SUBSTITUTE(SUBSTITUTE(UPPER($AE$23:$AG$40&""),"⌢",""),"⌣",""),"⌵",""),"－",""),"-","")," ","")," ","")=UPPER($E9&"")))+SUMPRODUCT(--(SUBSTITUTE(SUBSTITUTE(SUBSTITUTE(SUBSTITUTE(SUBSTITUTE(SUBSTITUTE(SUBSTITUTE(UPPER($AE$23:$AG$40&""),"⌢",""),"⌣",""),"⌵",""),"－",""),"-","")," ","")," ","")=UPPER($E9&"")&"DP"))*2+SUMPRODUCT(--(SUBSTITUTE(SUBSTITUTE(SUBSTITUTE(SUBSTITUTE(SUBSTITUTE(SUBSTITUTE(SUBSTITUTE(UPPER($AE$23:$AG$40&""),"⌢",""),"⌣",""),"⌵",""),"－",""),"-","")," ","")," ","")="DP"&UPPER($E9&"")))*2+SUMPRODUCT(--(SUBSTITUTE(SUBSTITUTE(SUBSTITUTE(SUBSTITUTE(SUBSTITUTE(SUBSTITUTE(SUBSTITUTE(UPPER($AE$23:$AG$40&""),"⌢",""),"⌣",""),"⌵",""),"－",""),"-","")," ","")," ","")=UPPER($E9&"")&"TP"))*3+SUMPRODUCT(--(SUBSTITUTE(SUBSTITUTE(SUBSTITUTE(SUBSTITUTE(SUBSTITUTE(SUBSTITUTE(SUBSTITUTE(UPPER($AE$23:$AG$40&""),"⌢",""),"⌣",""),"⌵",""),"－",""),"-","")," ","")," ","")="TP"&UPPER($E9&"")))*3) -> 1 | D9: 3 | E9: 25 | F9: 洪韶壕 | G9: 131 ⌢ | O9: K | W9: RIN ⌣ | AI9: =COUNTA(G9:I9,K9:M9,O9:Q9,S9:U9,W9:Y9,AA9:AC9,AE9:AG9) -> 3 | AJ9: =SUMPRODUCT(--(SUBSTITUTE(SUBSTITUTE(SUBSTITUTE(SUBSTITUTE(SUBSTITUTE(SUBSTITUTE(SUBSTITUTE(UPPER(G9:AG9&""),"⌢",""),"⌣",""),"⌵",""),"－",""),"-","")," ","")," ","")="R"))+SUMPRODUCT(--(SUBSTITUTE(SUBSTITUTE(SUBSTITUTE(SUBSTITUTE(SUBSTITUTE(SUBSTITUTE(SUBSTITUTE(UPPER(G9:AG9&""),"⌢",""),"⌣",""),"⌵",""),"－",""),"-","")," ","")," ","")="HR"))*2 -> 0 | AK9: =COUNTIF(G9:AG9,"K") -> 1 | AL9: =$A9 -> 1 | AO9: 29 | AP9: 陳建閔 | AQ9: =SUMIF($F$3:$F$20,AP9,$AI$3:$AI$20)+SUMIF($F$3:$F$20,AP9&" DF",$AI$3:$AI$20)+SUMIF($F$3:$F$20,AP9&"DF",$AI$3:$AI$20) -> 2 | AR9: =SUMIF($F$3:$F$20,AP9,$AJ$3:$AJ$20)+SUMIF($F$3:$F$20,AP9&" DF",$AJ$3:$AJ$20)+SUMIF($F$3:$F$20,AP9&"DF",$AJ$3:$AJ$20) -> 0 | AS9: =SUMIF($F$3:$F$20,AP9,$AK$3:$AK$20)+SUMIF($F$3:$F$20,AP9&" DF",$AK$3:$AK$20)+SUMIF($F$3:$F$20,AP9&"DF",$AK$3:$AK$20) -> 2 | AT9: =SUMIF($F$3:$F$20,AP9,$AL$3:$AL$20)+SUMIF($F$3:$F$20,AP9&" DF",$AL$3:$AL$20)+SUMIF($F$3:$F$20,AP9&"DF",$AL$3:$AL$20) -> 0
A10: =IF($E10="",0,SUMPRODUCT(--(SUBSTITUTE(SUBSTITUTE(SUBSTITUTE(SUBSTITUTE(SUBSTITUTE(SUBSTITUTE(SUBSTITUTE(UPPER($G$23:$I$40&""),"⌢",""),"⌣",""),"⌵",""),"－",""),"-","")," ","")," ","")=UPPER($E10&"")))+SUMPRODUCT(--(SUBSTITUTE(SUBSTITUTE(SUBSTITUTE(SUBSTITUTE(SUBSTITUTE(SUBSTITUTE(SUBSTITUTE(UPPER($G$23:$I$40&""),"⌢",""),"⌣",""),"⌵",""),"－",""),"-","")," ","")," ","")=UPPER($E10&"")&"DP"))*2+SUMPRODUCT(--(SUBSTITUTE(SUBSTITUTE(SUBSTITUTE(SUBSTITUTE(SUBSTITUTE(SUBSTITUTE(SUBSTITUTE(UPPER($G$23:$I$40&""),"⌢",""),"⌣",""),"⌵",""),"－",""),"-","")," ","")," ","")="DP"&UPPER($E10&"")))*2+SUMPRODUCT(--(SUBSTITUTE(SUBSTITUTE(SUBSTITUTE(SUBSTITUTE(SUBSTITUTE(SUBSTITUTE(SUBSTITUTE(UPPER($G$23:$I$40&""),"⌢",""),"⌣",""),"⌵",""),"－",""),"-","")," ","")," ","")=UPPER($E10&"")&"TP"))*3+SUMPRODUCT(--(SUBSTITUTE(SUBSTITUTE(SUBSTITUTE(SUBSTITUTE(SUBSTITUTE(SUBSTITUTE(SUBSTITUTE(UPPER($G$23:$I$40&""),"⌢",""),"⌣",""),"⌵",""),"－",""),"-","")," ","")," ","")="TP"&UPPER($E10&"")))*3+SUMPRODUCT(--(SUBSTITUTE(SUBSTITUTE(SUBSTITUTE(SUBSTITUTE(SUBSTITUTE(SUBSTITUTE(SUBSTITUTE(UPPER($K$23:$M$40&""),"⌢",""),"⌣",""),"⌵",""),"－",""),"-","")," ","")," ","")=UPPER($E10&"")))+SUMPRODUCT(--(SUBSTITUTE(SUBSTITUTE(SUBSTITUTE(SUBSTITUTE(SUBSTITUTE(SUBSTITUTE(SUBSTITUTE(UPPER($K$23:$M$40&""),"⌢",""),"⌣",""),"⌵",""),"－",""),"-","")," ","")," ","")=UPPER($E10&"")&"DP"))*2+SUMPRODUCT(--(SUBSTITUTE(SUBSTITUTE(SUBSTITUTE(SUBSTITUTE(SUBSTITUTE(SUBSTITUTE(SUBSTITUTE(UPPER($K$23:$M$40&""),"⌢",""),"⌣",""),"⌵",""),"－",""),"-","")," ","")," ","")="DP"&UPPER($E10&"")))*2+SUMPRODUCT(--(SUBSTITUTE(SUBSTITUTE(SUBSTITUTE(SUBSTITUTE(SUBSTITUTE(SUBSTITUTE(SUBSTITUTE(UPPER($K$23:$M$40&""),"⌢",""),"⌣",""),"⌵",""),"－",""),"-","")," ","")," ","")=UPPER($E10&"")&"TP"))*3+SUMPRODUCT(--(SUBSTITUTE(SUBSTITUTE(SUBSTITUTE(SUBSTITUTE(SUBSTITUTE(SUBSTITUTE(SUBSTITUTE(UPPER($K$23:$M$40&""),"⌢",""),"⌣",""),"⌵",""),"－",""),"-","")," ","")," ","")="TP"&UPPER($E10&"")))*3+SUMPRODUCT(--(SUBSTITUTE(SUBSTITUTE(SUBSTITUTE(SUBSTITUTE(SUBSTITUTE(SUBSTITUTE(SUBSTITUTE(UPPER($O$23:$Q$40&""),"⌢",""),"⌣",""),"⌵",""),"－",""),"-","")," ","")," ","")=UPPER($E10&"")))+SUMPRODUCT(--(SUBSTITUTE(SUBSTITUTE(SUBSTITUTE(SUBSTITUTE(SUBSTITUTE(SUBSTITUTE(SUBSTITUTE(UPPER($O$23:$Q$40&""),"⌢",""),"⌣",""),"⌵",""),"－",""),"-","")," ","")," ","")=UPPER($E10&"")&"DP"))*2+SUMPRODUCT(--(SUBSTITUTE(SUBSTITUTE(SUBSTITUTE(SUBSTITUTE(SUBSTITUTE(SUBSTITUTE(SUBSTITUTE(UPPER($O$23:$Q$40&""),"⌢",""),"⌣",""),"⌵",""),"－",""),"-","")," ","")," ","")="DP"&UPPER($E10&"")))*2+SUMPRODUCT(--(SUBSTITUTE(SUBSTITUTE(SUBSTITUTE(SUBSTITUTE(SUBSTITUTE(SUBSTITUTE(SUBSTITUTE(UPPER($O$23:$Q$40&""),"⌢",""),"⌣",""),"⌵",""),"－",""),"-","")," ","")," ","")=UPPER($E10&"")&"TP"))*3+SUMPRODUCT(--(SUBSTITUTE(SUBSTITUTE(SUBSTITUTE(SUBSTITUTE(SUBSTITUTE(SUBSTITUTE(SUBSTITUTE(UPPER($O$23:$Q$40&""),"⌢",""),"⌣",""),"⌵",""),"－",""),"-","")," ","")," ","")="TP"&UPPER($E10&"")))*3+SUMPRODUCT(--(SUBSTITUTE(SUBSTITUTE(SUBSTITUTE(SUBSTITUTE(SUBSTITUTE(SUBSTITUTE(SUBSTITUTE(UPPER($S$23:$U$40&""),"⌢",""),"⌣",""),"⌵",""),"－",""),"-","")," ","")," ","")=UPPER($E10&"")))+SUMPRODUCT(--(SUBSTITUTE(SUBSTITUTE(SUBSTITUTE(SUBSTITUTE(SUBSTITUTE(SUBSTITUTE(SUBSTITUTE(UPPER($S$23:$U$40&""),"⌢",""),"⌣",""),"⌵",""),"－",""),"-","")," ","")," ","")=UPPER($E10&"")&"DP"))*2+SUMPRODUCT(--(SUBSTITUTE(SUBSTITUTE(SUBSTITUTE(SUBSTITUTE(SUBSTITUTE(SUBSTITUTE(SUBSTITUTE(UPPER($S$23:$U$40&""),"⌢",""),"⌣",""),"⌵",""),"－",""),"-","")," ","")," ","")="DP"&UPPER($E10&"")))*2+SUMPRODUCT(--(SUBSTITUTE(SUBSTITUTE(SUBSTITUTE(SUBSTITUTE(SUBSTITUTE(SUBSTITUTE(SUBSTITUTE(UPPER($S$23:$U$40&""),"⌢",""),"⌣",""),"⌵",""),"－",""),"-","")," ","")," ","")=UPPER($E10&"")&"TP"))*3+SUMPRODUCT(--(SUBSTITUTE(SUBSTITUTE(SUBSTITUTE(SUBSTITUTE(SUBSTITUTE(SUBSTITUTE(SUBSTITUTE(UPPER($S$23:$U$40&""),"⌢",""),"⌣",""),"⌵",""),"－",""),"-","")," ","")," ","")="TP"&UPPER($E10&"")))*3+SUMPRODUCT(--(SUBSTITUTE(SUBSTITUTE(SUBSTITUTE(SUBSTITUTE(SUBSTITUTE(SUBSTITUTE(SUBSTITUTE(UPPER($W$23:$Y$40&""),"⌢",""),"⌣",""),"⌵",""),"－",""),"-","")," ","")," ","")=UPPER($E10&"")))+SUMPRODUCT(--(SUBSTITUTE(SUBSTITUTE(SUBSTITUTE(SUBSTITUTE(SUBSTITUTE(SUBSTITUTE(SUBSTITUTE(UPPER($W$23:$Y$40&""),"⌢",""),"⌣",""),"⌵",""),"－",""),"-","")," ","")," ","")=UPPER($E10&"")&"DP"))*2+SUMPRODUCT(--(SUBSTITUTE(SUBSTITUTE(SUBSTITUTE(SUBSTITUTE(SUBSTITUTE(SUBSTITUTE(SUBSTITUTE(UPPER($W$23:$Y$40&""),"⌢",""),"⌣",""),"⌵",""),"－",""),"-","")," ","")," ","")="DP"&UPPER($E10&"")))*2+SUMPRODUCT(--(SUBSTITUTE(SUBSTITUTE(SUBSTITUTE(SUBSTITUTE(SUBSTITUTE(SUBSTITUTE(SUBSTITUTE(UPPER($W$23:$Y$40&""),"⌢",""),"⌣",""),"⌵",""),"－",""),"-","")," ","")," ","")=UPPER($E10&"")&"TP"))*3+SUMPRODUCT(--(SUBSTITUTE(SUBSTITUTE(SUBSTITUTE(SUBSTITUTE(SUBSTITUTE(SUBSTITUTE(SUBSTITUTE(UPPER($W$23:$Y$40&""),"⌢",""),"⌣",""),"⌵",""),"－",""),"-","")," ","")," ","")="TP"&UPPER($E10&"")))*3+SUMPRODUCT(--(SUBSTITUTE(SUBSTITUTE(SUBSTITUTE(SUBSTITUTE(SUBSTITUTE(SUBSTITUTE(SUBSTITUTE(UPPER($AA$23:$AC$40&""),"⌢",""),"⌣",""),"⌵",""),"－",""),"-","")," ","")," ","")=UPPER($E10&"")))+SUMPRODUCT(--(SUBSTITUTE(SUBSTITUTE(SUBSTITUTE(SUBSTITUTE(SUBSTITUTE(SUBSTITUTE(SUBSTITUTE(UPPER($AA$23:$AC$40&""),"⌢",""),"⌣",""),"⌵",""),"－",""),"-","")," ","")," ","")=UPPER($E10&"")&"DP"))*2+SUMPRODUCT(--(SUBSTITUTE(SUBSTITUTE(SUBSTITUTE(SUBSTITUTE(SUBSTITUTE(SUBSTITUTE(SUBSTITUTE(UPPER($AA$23:$AC$40&""),"⌢",""),"⌣",""),"⌵",""),"－",""),"-","")," ","")," ","")="DP"&UPPER($E10&"")))*2+SUMPRODUCT(--(SUBSTITUTE(SUBSTITUTE(SUBSTITUTE(SUBSTITUTE(SUBSTITUTE(SUBSTITUTE(SUBSTITUTE(UPPER($AA$23:$AC$40&""),"⌢",""),"⌣",""),"⌵",""),"－",""),"-","")," ","")," ","")=UPPER($E10&"")&"TP"))*3+SUMPRODUCT(--(SUBSTITUTE(SUBSTITUTE(SUBSTITUTE(SUBSTITUTE(SUBSTITUTE(SUBSTITUTE(SUBSTITUTE(UPPER($AA$23:$AC$40&""),"⌢",""),"⌣",""),"⌵",""),"－",""),"-","")," ","")," ","")="TP"&UPPER($E10&"")))*3+SUMPRODUCT(--(SUBSTITUTE(SUBSTITUTE(SUBSTITUTE(SUBSTITUTE(SUBSTITUTE(SUBSTITUTE(SUBSTITUTE(UPPER($AE$23:$AG$40&""),"⌢",""),"⌣",""),"⌵",""),"－",""),"-","")," ","")," ","")=UPPER($E10&"")))+SUMPRODUCT(--(SUBSTITUTE(SUBSTITUTE(SUBSTITUTE(SUBSTITUTE(SUBSTITUTE(SUBSTITUTE(SUBSTITUTE(UPPER($AE$23:$AG$40&""),"⌢",""),"⌣",""),"⌵",""),"－",""),"-","")," ","")," ","")=UPPER($E10&"")&"DP"))*2+SUMPRODUCT(--(SUBSTITUTE(SUBSTITUTE(SUBSTITUTE(SUBSTITUTE(SUBSTITUTE(SUBSTITUTE(SUBSTITUTE(UPPER($AE$23:$AG$40&""),"⌢",""),"⌣",""),"⌵",""),"－",""),"-","")," ","")," ","")="DP"&UPPER($E10&"")))*2+SUMPRODUCT(--(SUBSTITUTE(SUBSTITUTE(SUBSTITUTE(SUBSTITUTE(SUBSTITUTE(SUBSTITUTE(SUBSTITUTE(UPPER($AE$23:$AG$40&""),"⌢",""),"⌣",""),"⌵",""),"－",""),"-","")," ","")," ","")=UPPER($E10&"")&"TP"))*3+SUMPRODUCT(--(SUBSTITUTE(SUBSTITUTE(SUBSTITUTE(SUBSTITUTE(SUBSTITUTE(SUBSTITUTE(SUBSTITUTE(UPPER($AE$23:$AG$40&""),"⌢",""),"⌣",""),"⌵",""),"－",""),"-","")," ","")," ","")="TP"&UPPER($E10&"")))*3) -> 0 | AI10: =COUNTA(G10:I10,K10:M10,O10:Q10,S10:U10,W10:Y10,AA10:AC10,AE10:AG10) -> 0 | AJ10: =SUMPRODUCT(--(SUBSTITUTE(SUBSTITUTE(SUBSTITUTE(SUBSTITUTE(SUBSTITUTE(SUBSTITUTE(SUBSTITUTE(UPPER(G10:AG10&""),"⌢",""),"⌣",""),"⌵",""),"－",""),"-","")," ","")," ","")="R"))+SUMPRODUCT(--(SUBSTITUTE(SUBSTITUTE(SUBSTITUTE(SUBSTITUTE(SUBSTITUTE(SUBSTITUTE(SUBSTITUTE(UPPER(G10:AG10&""),"⌢",""),"⌣",""),"⌵",""),"－",""),"-","")," ","")," ","")="HR"))*2 -> 0 | AK10: =COUNTIF(G10:AG10,"K") -> 0 | AL10: =$A10 -> 0 | AM10: 觀測員 | AO10: 28 | AP10: 陳傑閔 | AQ10: =SUMIF($F$3:$F$20,AP10,$AI$3:$AI$20)+SUMIF($F$3:$F$20,AP10&" DF",$AI$3:$AI$20)+SUMIF($F$3:$F$20,AP10&"DF",$AI$3:$AI$20) -> 1 | AR10: =SUMIF($F$3:$F$20,AP10,$AJ$3:$AJ$20)+SUMIF($F$3:$F$20,AP10&" DF",$AJ$3:$AJ$20)+SUMIF($F$3:$F$20,AP10&"DF",$AJ$3:$AJ$20) -> 0 | AS10: =SUMIF($F$3:$F$20,AP10,$AK$3:$AK$20)+SUMIF($F$3:$F$20,AP10&" DF",$AK$3:$AK$20)+SUMIF($F$3:$F$20,AP10&"DF",$AK$3:$AK$20) -> 1 | AT10: =SUMIF($F$3:$F$20,AP10,$AL$3:$AL$20)+SUMIF($F$3:$F$20,AP10&" DF",$AL$3:$AL$20)+SUMIF($F$3:$F$20,AP10&"DF",$AL$3:$AL$20) -> 0
A11: =IF($E11="",0,SUMPRODUCT(--(SUBSTITUTE(SUBSTITUTE(SUBSTITUTE(SUBSTITUTE(SUBSTITUTE(SUBSTITUTE(SUBSTITUTE(UPPER($G$23:$I$40&""),"⌢",""),"⌣",""),"⌵",""),"－",""),"-","")," ","")," ","")=UPPER($E11&"")))+SUMPRODUCT(--(SUBSTITUTE(SUBSTITUTE(SUBSTITUTE(SUBSTITUTE(SUBSTITUTE(SUBSTITUTE(SUBSTITUTE(UPPER($G$23:$I$40&""),"⌢",""),"⌣",""),"⌵",""),"－",""),"-","")," ","")," ","")=UPPER($E11&"")&"DP"))*2+SUMPRODUCT(--(SUBSTITUTE(SUBSTITUTE(SUBSTITUTE(SUBSTITUTE(SUBSTITUTE(SUBSTITUTE(SUBSTITUTE(UPPER($G$23:$I$40&""),"⌢",""),"⌣",""),"⌵",""),"－",""),"-","")," ","")," ","")="DP"&UPPER($E11&"")))*2+SUMPRODUCT(--(SUBSTITUTE(SUBSTITUTE(SUBSTITUTE(SUBSTITUTE(SUBSTITUTE(SUBSTITUTE(SUBSTITUTE(UPPER($G$23:$I$40&""),"⌢",""),"⌣",""),"⌵",""),"－",""),"-","")," ","")," ","")=UPPER($E11&"")&"TP"))*3+SUMPRODUCT(--(SUBSTITUTE(SUBSTITUTE(SUBSTITUTE(SUBSTITUTE(SUBSTITUTE(SUBSTITUTE(SUBSTITUTE(UPPER($G$23:$I$40&""),"⌢",""),"⌣",""),"⌵",""),"－",""),"-","")," ","")," ","")="TP"&UPPER($E11&"")))*3+SUMPRODUCT(--(SUBSTITUTE(SUBSTITUTE(SUBSTITUTE(SUBSTITUTE(SUBSTITUTE(SUBSTITUTE(SUBSTITUTE(UPPER($K$23:$M$40&""),"⌢",""),"⌣",""),"⌵",""),"－",""),"-","")," ","")," ","")=UPPER($E11&"")))+SUMPRODUCT(--(SUBSTITUTE(SUBSTITUTE(SUBSTITUTE(SUBSTITUTE(SUBSTITUTE(SUBSTITUTE(SUBSTITUTE(UPPER($K$23:$M$40&""),"⌢",""),"⌣",""),"⌵",""),"－",""),"-","")," ","")," ","")=UPPER($E11&"")&"DP"))*2+SUMPRODUCT(--(SUBSTITUTE(SUBSTITUTE(SUBSTITUTE(SUBSTITUTE(SUBSTITUTE(SUBSTITUTE(SUBSTITUTE(UPPER($K$23:$M$40&""),"⌢",""),"⌣",""),"⌵",""),"－",""),"-","")," ","")," ","")="DP"&UPPER($E11&"")))*2+SUMPRODUCT(--(SUBSTITUTE(SUBSTITUTE(SUBSTITUTE(SUBSTITUTE(SUBSTITUTE(SUBSTITUTE(SUBSTITUTE(UPPER($K$23:$M$40&""),"⌢",""),"⌣",""),"⌵",""),"－",""),"-","")," ","")," ","")=UPPER($E11&"")&"TP"))*3+SUMPRODUCT(--(SUBSTITUTE(SUBSTITUTE(SUBSTITUTE(SUBSTITUTE(SUBSTITUTE(SUBSTITUTE(SUBSTITUTE(UPPER($K$23:$M$40&""),"⌢",""),"⌣",""),"⌵",""),"－",""),"-","")," ","")," ","")="TP"&UPPER($E11&"")))*3+SUMPRODUCT(--(SUBSTITUTE(SUBSTITUTE(SUBSTITUTE(SUBSTITUTE(SUBSTITUTE(SUBSTITUTE(SUBSTITUTE(UPPER($O$23:$Q$40&""),"⌢",""),"⌣",""),"⌵",""),"－",""),"-","")," ","")," ","")=UPPER($E11&"")))+SUMPRODUCT(--(SUBSTITUTE(SUBSTITUTE(SUBSTITUTE(SUBSTITUTE(SUBSTITUTE(SUBSTITUTE(SUBSTITUTE(UPPER($O$23:$Q$40&""),"⌢",""),"⌣",""),"⌵",""),"－",""),"-","")," ","")," ","")=UPPER($E11&"")&"DP"))*2+SUMPRODUCT(--(SUBSTITUTE(SUBSTITUTE(SUBSTITUTE(SUBSTITUTE(SUBSTITUTE(SUBSTITUTE(SUBSTITUTE(UPPER($O$23:$Q$40&""),"⌢",""),"⌣",""),"⌵",""),"－",""),"-","")," ","")," ","")="DP"&UPPER($E11&"")))*2+SUMPRODUCT(--(SUBSTITUTE(SUBSTITUTE(SUBSTITUTE(SUBSTITUTE(SUBSTITUTE(SUBSTITUTE(SUBSTITUTE(UPPER($O$23:$Q$40&""),"⌢",""),"⌣",""),"⌵",""),"－",""),"-","")," ","")," ","")=UPPER($E11&"")&"TP"))*3+SUMPRODUCT(--(SUBSTITUTE(SUBSTITUTE(SUBSTITUTE(SUBSTITUTE(SUBSTITUTE(SUBSTITUTE(SUBSTITUTE(UPPER($O$23:$Q$40&""),"⌢",""),"⌣",""),"⌵",""),"－",""),"-","")," ","")," ","")="TP"&UPPER($E11&"")))*3+SUMPRODUCT(--(SUBSTITUTE(SUBSTITUTE(SUBSTITUTE(SUBSTITUTE(SUBSTITUTE(SUBSTITUTE(SUBSTITUTE(UPPER($S$23:$U$40&""),"⌢",""),"⌣",""),"⌵",""),"－",""),"-","")," ","")," ","")=UPPER($E11&"")))+SUMPRODUCT(--(SUBSTITUTE(SUBSTITUTE(SUBSTITUTE(SUBSTITUTE(SUBSTITUTE(SUBSTITUTE(SUBSTITUTE(UPPER($S$23:$U$40&""),"⌢",""),"⌣",""),"⌵",""),"－",""),"-","")," ","")," ","")=UPPER($E11&"")&"DP"))*2+SUMPRODUCT(--(SUBSTITUTE(SUBSTITUTE(SUBSTITUTE(SUBSTITUTE(SUBSTITUTE(SUBSTITUTE(SUBSTITUTE(UPPER($S$23:$U$40&""),"⌢",""),"⌣",""),"⌵",""),"－",""),"-","")," ","")," ","")="DP"&UPPER($E11&"")))*2+SUMPRODUCT(--(SUBSTITUTE(SUBSTITUTE(SUBSTITUTE(SUBSTITUTE(SUBSTITUTE(SUBSTITUTE(SUBSTITUTE(UPPER($S$23:$U$40&""),"⌢",""),"⌣",""),"⌵",""),"－",""),"-","")," ","")," ","")=UPPER($E11&"")&"TP"))*3+SUMPRODUCT(--(SUBSTITUTE(SUBSTITUTE(SUBSTITUTE(SUBSTITUTE(SUBSTITUTE(SUBSTITUTE(SUBSTITUTE(UPPER($S$23:$U$40&""),"⌢",""),"⌣",""),"⌵",""),"－",""),"-","")," ","")," ","")="TP"&UPPER($E11&"")))*3+SUMPRODUCT(--(SUBSTITUTE(SUBSTITUTE(SUBSTITUTE(SUBSTITUTE(SUBSTITUTE(SUBSTITUTE(SUBSTITUTE(UPPER($W$23:$Y$40&""),"⌢",""),"⌣",""),"⌵",""),"－",""),"-","")," ","")," ","")=UPPER($E11&"")))+SUMPRODUCT(--(SUBSTITUTE(SUBSTITUTE(SUBSTITUTE(SUBSTITUTE(SUBSTITUTE(SUBSTITUTE(SUBSTITUTE(UPPER($W$23:$Y$40&""),"⌢",""),"⌣",""),"⌵",""),"－",""),"-","")," ","")," ","")=UPPER($E11&"")&"DP"))*2+SUMPRODUCT(--(SUBSTITUTE(SUBSTITUTE(SUBSTITUTE(SUBSTITUTE(SUBSTITUTE(SUBSTITUTE(SUBSTITUTE(UPPER($W$23:$Y$40&""),"⌢",""),"⌣",""),"⌵",""),"－",""),"-","")," ","")," ","")="DP"&UPPER($E11&"")))*2+SUMPRODUCT(--(SUBSTITUTE(SUBSTITUTE(SUBSTITUTE(SUBSTITUTE(SUBSTITUTE(SUBSTITUTE(SUBSTITUTE(UPPER($W$23:$Y$40&""),"⌢",""),"⌣",""),"⌵",""),"－",""),"-","")," ","")," ","")=UPPER($E11&"")&"TP"))*3+SUMPRODUCT(--(SUBSTITUTE(SUBSTITUTE(SUBSTITUTE(SUBSTITUTE(SUBSTITUTE(SUBSTITUTE(SUBSTITUTE(UPPER($W$23:$Y$40&""),"⌢",""),"⌣",""),"⌵",""),"－",""),"-","")," ","")," ","")="TP"&UPPER($E11&"")))*3+SUMPRODUCT(--(SUBSTITUTE(SUBSTITUTE(SUBSTITUTE(SUBSTITUTE(SUBSTITUTE(SUBSTITUTE(SUBSTITUTE(UPPER($AA$23:$AC$40&""),"⌢",""),"⌣",""),"⌵",""),"－",""),"-","")," ","")," ","")=UPPER($E11&"")))+SUMPRODUCT(--(SUBSTITUTE(SUBSTITUTE(SUBSTITUTE(SUBSTITUTE(SUBSTITUTE(SUBSTITUTE(SUBSTITUTE(UPPER($AA$23:$AC$40&""),"⌢",""),"⌣",""),"⌵",""),"－",""),"-","")," ","")," ","")=UPPER($E11&"")&"DP"))*2+SUMPRODUCT(--(SUBSTITUTE(SUBSTITUTE(SUBSTITUTE(SUBSTITUTE(SUBSTITUTE(SUBSTITUTE(SUBSTITUTE(UPPER($AA$23:$AC$40&""),"⌢",""),"⌣",""),"⌵",""),"－",""),"-","")," ","")," ","")="DP"&UPPER($E11&"")))*2+SUMPRODUCT(--(SUBSTITUTE(SUBSTITUTE(SUBSTITUTE(SUBSTITUTE(SUBSTITUTE(SUBSTITUTE(SUBSTITUTE(UPPER($AA$23:$AC$40&""),"⌢",""),"⌣",""),"⌵",""),"－",""),"-","")," ","")," ","")=UPPER($E11&"")&"TP"))*3+SUMPRODUCT(--(SUBSTITUTE(SUBSTITUTE(SUBSTITUTE(SUBSTITUTE(SUBSTITUTE(SUBSTITUTE(SUBSTITUTE(UPPER($AA$23:$AC$40&""),"⌢",""),"⌣",""),"⌵",""),"－",""),"-","")," ","")," ","")="TP"&UPPER($E11&"")))*3+SUMPRODUCT(--(SUBSTITUTE(SUBSTITUTE(SUBSTITUTE(SUBSTITUTE(SUBSTITUTE(SUBSTITUTE(SUBSTITUTE(UPPER($AE$23:$AG$40&""),"⌢",""),"⌣",""),"⌵",""),"－",""),"-","")," ","")," ","")=UPPER($E11&"")))+SUMPRODUCT(--(SUBSTITUTE(SUBSTITUTE(SUBSTITUTE(SUBSTITUTE(SUBSTITUTE(SUBSTITUTE(SUBSTITUTE(UPPER($AE$23:$AG$40&""),"⌢",""),"⌣",""),"⌵",""),"－",""),"-","")," ","")," ","")=UPPER($E11&"")&"DP"))*2+SUMPRODUCT(--(SUBSTITUTE(SUBSTITUTE(SUBSTITUTE(SUBSTITUTE(SUBSTITUTE(SUBSTITUTE(SUBSTITUTE(UPPER($AE$23:$AG$40&""),"⌢",""),"⌣",""),"⌵",""),"－",""),"-","")," ","")," ","")="DP"&UPPER($E11&"")))*2+SUMPRODUCT(--(SUBSTITUTE(SUBSTITUTE(SUBSTITUTE(SUBSTITUTE(SUBSTITUTE(SUBSTITUTE(SUBSTITUTE(UPPER($AE$23:$AG$40&""),"⌢",""),"⌣",""),"⌵",""),"－",""),"-","")," ","")," ","")=UPPER($E11&"")&"TP"))*3+SUMPRODUCT(--(SUBSTITUTE(SUBSTITUTE(SUBSTITUTE(SUBSTITUTE(SUBSTITUTE(SUBSTITUTE(SUBSTITUTE(UPPER($AE$23:$AG$40&""),"⌢",""),"⌣",""),"⌵",""),"－",""),"-","")," ","")," ","")="TP"&UPPER($E11&"")))*3) -> 0 | AI11: =COUNTA(G11:I11,K11:M11,O11:Q11,S11:U11,W11:Y11,AA11:AC11,AE11:AG11) -> 0 | AJ11: =SUMPRODUCT(--(SUBSTITUTE(SUBSTITUTE(SUBSTITUTE(SUBSTITUTE(SUBSTITUTE(SUBSTITUTE(SUBSTITUTE(UPPER(G11:AG11&""),"⌢",""),"⌣",""),"⌵",""),"－",""),"-","")," ","")," ","")="R"))+SUMPRODUCT(--(SUBSTITUTE(SUBSTITUTE(SUBSTITUTE(SUBSTITUTE(SUBSTITUTE(SUBSTITUTE(SUBSTITUTE(UPPER(G11:AG11&""),"⌢",""),"⌣",""),"⌵",""),"－",""),"-","")," ","")," ","")="HR"))*2 -> 0 | AK11: =COUNTIF(G11:AG11,"K") -> 0 | AL11: =$A11 -> 0 | AM11: 游鎮維 | AO11: 17 | AP11: 張睿紘 | AQ11: =SUMIF($F$3:$F$20,AP11,$AI$3:$AI$20)+SUMIF($F$3:$F$20,AP11&" DF",$AI$3:$AI$20)+SUMIF($F$3:$F$20,AP11&"DF",$AI$3:$AI$20) -> 3 | AR11: =SUMIF($F$3:$F$20,AP11,$AJ$3:$AJ$20)+SUMIF($F$3:$F$20,AP11&" DF",$AJ$3:$AJ$20)+SUMIF($F$3:$F$20,AP11&"DF",$AJ$3:$AJ$20) -> 0 | AS11: =SUMIF($F$3:$F$20,AP11,$AK$3:$AK$20)+SUMIF($F$3:$F$20,AP11&" DF",$AK$3:$AK$20)+SUMIF($F$3:$F$20,AP11&"DF",$AK$3:$AK$20) -> 3 | AT11: =SUMIF($F$3:$F$20,AP11,$AL$3:$AL$20)+SUMIF($F$3:$F$20,AP11&" DF",$AL$3:$AL$20)+SUMIF($F$3:$F$20,AP11&"DF",$AL$3:$AL$20) -> 2
A12: =IF($E12="",0,SUMPRODUCT(--(SUBSTITUTE(SUBSTITUTE(SUBSTITUTE(SUBSTITUTE(SUBSTITUTE(SUBSTITUTE(SUBSTITUTE(UPPER($G$23:$I$40&""),"⌢",""),"⌣",""),"⌵",""),"－",""),"-","")," ","")," ","")=UPPER($E12&"")))+SUMPRODUCT(--(SUBSTITUTE(SUBSTITUTE(SUBSTITUTE(SUBSTITUTE(SUBSTITUTE(SUBSTITUTE(SUBSTITUTE(UPPER($G$23:$I$40&""),"⌢",""),"⌣",""),"⌵",""),"－",""),"-","")," ","")," ","")=UPPER($E12&"")&"DP"))*2+SUMPRODUCT(--(SUBSTITUTE(SUBSTITUTE(SUBSTITUTE(SUBSTITUTE(SUBSTITUTE(SUBSTITUTE(SUBSTITUTE(UPPER($G$23:$I$40&""),"⌢",""),"⌣",""),"⌵",""),"－",""),"-","")," ","")," ","")="DP"&UPPER($E12&"")))*2+SUMPRODUCT(--(SUBSTITUTE(SUBSTITUTE(SUBSTITUTE(SUBSTITUTE(SUBSTITUTE(SUBSTITUTE(SUBSTITUTE(UPPER($G$23:$I$40&""),"⌢",""),"⌣",""),"⌵",""),"－",""),"-","")," ","")," ","")=UPPER($E12&"")&"TP"))*3+SUMPRODUCT(--(SUBSTITUTE(SUBSTITUTE(SUBSTITUTE(SUBSTITUTE(SUBSTITUTE(SUBSTITUTE(SUBSTITUTE(UPPER($G$23:$I$40&""),"⌢",""),"⌣",""),"⌵",""),"－",""),"-","")," ","")," ","")="TP"&UPPER($E12&"")))*3+SUMPRODUCT(--(SUBSTITUTE(SUBSTITUTE(SUBSTITUTE(SUBSTITUTE(SUBSTITUTE(SUBSTITUTE(SUBSTITUTE(UPPER($K$23:$M$40&""),"⌢",""),"⌣",""),"⌵",""),"－",""),"-","")," ","")," ","")=UPPER($E12&"")))+SUMPRODUCT(--(SUBSTITUTE(SUBSTITUTE(SUBSTITUTE(SUBSTITUTE(SUBSTITUTE(SUBSTITUTE(SUBSTITUTE(UPPER($K$23:$M$40&""),"⌢",""),"⌣",""),"⌵",""),"－",""),"-","")," ","")," ","")=UPPER($E12&"")&"DP"))*2+SUMPRODUCT(--(SUBSTITUTE(SUBSTITUTE(SUBSTITUTE(SUBSTITUTE(SUBSTITUTE(SUBSTITUTE(SUBSTITUTE(UPPER($K$23:$M$40&""),"⌢",""),"⌣",""),"⌵",""),"－",""),"-","")," ","")," ","")="DP"&UPPER($E12&"")))*2+SUMPRODUCT(--(SUBSTITUTE(SUBSTITUTE(SUBSTITUTE(SUBSTITUTE(SUBSTITUTE(SUBSTITUTE(SUBSTITUTE(UPPER($K$23:$M$40&""),"⌢",""),"⌣",""),"⌵",""),"－",""),"-","")," ","")," ","")=UPPER($E12&"")&"TP"))*3+SUMPRODUCT(--(SUBSTITUTE(SUBSTITUTE(SUBSTITUTE(SUBSTITUTE(SUBSTITUTE(SUBSTITUTE(SUBSTITUTE(UPPER($K$23:$M$40&""),"⌢",""),"⌣",""),"⌵",""),"－",""),"-","")," ","")," ","")="TP"&UPPER($E12&"")))*3+SUMPRODUCT(--(SUBSTITUTE(SUBSTITUTE(SUBSTITUTE(SUBSTITUTE(SUBSTITUTE(SUBSTITUTE(SUBSTITUTE(UPPER($O$23:$Q$40&""),"⌢",""),"⌣",""),"⌵",""),"－",""),"-","")," ","")," ","")=UPPER($E12&"")))+SUMPRODUCT(--(SUBSTITUTE(SUBSTITUTE(SUBSTITUTE(SUBSTITUTE(SUBSTITUTE(SUBSTITUTE(SUBSTITUTE(UPPER($O$23:$Q$40&""),"⌢",""),"⌣",""),"⌵",""),"－",""),"-","")," ","")," ","")=UPPER($E12&"")&"DP"))*2+SUMPRODUCT(--(SUBSTITUTE(SUBSTITUTE(SUBSTITUTE(SUBSTITUTE(SUBSTITUTE(SUBSTITUTE(SUBSTITUTE(UPPER($O$23:$Q$40&""),"⌢",""),"⌣",""),"⌵",""),"－",""),"-","")," ","")," ","")="DP"&UPPER($E12&"")))*2+SUMPRODUCT(--(SUBSTITUTE(SUBSTITUTE(SUBSTITUTE(SUBSTITUTE(SUBSTITUTE(SUBSTITUTE(SUBSTITUTE(UPPER($O$23:$Q$40&""),"⌢",""),"⌣",""),"⌵",""),"－",""),"-","")," ","")," ","")=UPPER($E12&"")&"TP"))*3+SUMPRODUCT(--(SUBSTITUTE(SUBSTITUTE(SUBSTITUTE(SUBSTITUTE(SUBSTITUTE(SUBSTITUTE(SUBSTITUTE(UPPER($O$23:$Q$40&""),"⌢",""),"⌣",""),"⌵",""),"－",""),"-","")," ","")," ","")="TP"&UPPER($E12&"")))*3+SUMPRODUCT(--(SUBSTITUTE(SUBSTITUTE(SUBSTITUTE(SUBSTITUTE(SUBSTITUTE(SUBSTITUTE(SUBSTITUTE(UPPER($S$23:$U$40&""),"⌢",""),"⌣",""),"⌵",""),"－",""),"-","")," ","")," ","")=UPPER($E12&"")))+SUMPRODUCT(--(SUBSTITUTE(SUBSTITUTE(SUBSTITUTE(SUBSTITUTE(SUBSTITUTE(SUBSTITUTE(SUBSTITUTE(UPPER($S$23:$U$40&""),"⌢",""),"⌣",""),"⌵",""),"－",""),"-","")," ","")," ","")=UPPER($E12&"")&"DP"))*2+SUMPRODUCT(--(SUBSTITUTE(SUBSTITUTE(SUBSTITUTE(SUBSTITUTE(SUBSTITUTE(SUBSTITUTE(SUBSTITUTE(UPPER($S$23:$U$40&""),"⌢",""),"⌣",""),"⌵",""),"－",""),"-","")," ","")," ","")="DP"&UPPER($E12&"")))*2+SUMPRODUCT(--(SUBSTITUTE(SUBSTITUTE(SUBSTITUTE(SUBSTITUTE(SUBSTITUTE(SUBSTITUTE(SUBSTITUTE(UPPER($S$23:$U$40&""),"⌢",""),"⌣",""),"⌵",""),"－",""),"-","")," ","")," ","")=UPPER($E12&"")&"TP"))*3+SUMPRODUCT(--(SUBSTITUTE(SUBSTITUTE(SUBSTITUTE(SUBSTITUTE(SUBSTITUTE(SUBSTITUTE(SUBSTITUTE(UPPER($S$23:$U$40&""),"⌢",""),"⌣",""),"⌵",""),"－",""),"-","")," ","")," ","")="TP"&UPPER($E12&"")))*3+SUMPRODUCT(--(SUBSTITUTE(SUBSTITUTE(SUBSTITUTE(SUBSTITUTE(SUBSTITUTE(SUBSTITUTE(SUBSTITUTE(UPPER($W$23:$Y$40&""),"⌢",""),"⌣",""),"⌵",""),"－",""),"-","")," ","")," ","")=UPPER($E12&"")))+SUMPRODUCT(--(SUBSTITUTE(SUBSTITUTE(SUBSTITUTE(SUBSTITUTE(SUBSTITUTE(SUBSTITUTE(SUBSTITUTE(UPPER($W$23:$Y$40&""),"⌢",""),"⌣",""),"⌵",""),"－",""),"-","")," ","")," ","")=UPPER($E12&"")&"DP"))*2+SUMPRODUCT(--(SUBSTITUTE(SUBSTITUTE(SUBSTITUTE(SUBSTITUTE(SUBSTITUTE(SUBSTITUTE(SUBSTITUTE(UPPER($W$23:$Y$40&""),"⌢",""),"⌣",""),"⌵",""),"－",""),"-","")," ","")," ","")="DP"&UPPER($E12&"")))*2+SUMPRODUCT(--(SUBSTITUTE(SUBSTITUTE(SUBSTITUTE(SUBSTITUTE(SUBSTITUTE(SUBSTITUTE(SUBSTITUTE(UPPER($W$23:$Y$40&""),"⌢",""),"⌣",""),"⌵",""),"－",""),"-","")," ","")," ","")=UPPER($E12&"")&"TP"))*3+SUMPRODUCT(--(SUBSTITUTE(SUBSTITUTE(SUBSTITUTE(SUBSTITUTE(SUBSTITUTE(SUBSTITUTE(SUBSTITUTE(UPPER($W$23:$Y$40&""),"⌢",""),"⌣",""),"⌵",""),"－",""),"-","")," ","")," ","")="TP"&UPPER($E12&"")))*3+SUMPRODUCT(--(SUBSTITUTE(SUBSTITUTE(SUBSTITUTE(SUBSTITUTE(SUBSTITUTE(SUBSTITUTE(SUBSTITUTE(UPPER($AA$23:$AC$40&""),"⌢",""),"⌣",""),"⌵",""),"－",""),"-","")," ","")," ","")=UPPER($E12&"")))+SUMPRODUCT(--(SUBSTITUTE(SUBSTITUTE(SUBSTITUTE(SUBSTITUTE(SUBSTITUTE(SUBSTITUTE(SUBSTITUTE(UPPER($AA$23:$AC$40&""),"⌢",""),"⌣",""),"⌵",""),"－",""),"-","")," ","")," ","")=UPPER($E12&"")&"DP"))*2+SUMPRODUCT(--(SUBSTITUTE(SUBSTITUTE(SUBSTITUTE(SUBSTITUTE(SUBSTITUTE(SUBSTITUTE(SUBSTITUTE(UPPER($AA$23:$AC$40&""),"⌢",""),"⌣",""),"⌵",""),"－",""),"-","")," ","")," ","")="DP"&UPPER($E12&"")))*2+SUMPRODUCT(--(SUBSTITUTE(SUBSTITUTE(SUBSTITUTE(SUBSTITUTE(SUBSTITUTE(SUBSTITUTE(SUBSTITUTE(UPPER($AA$23:$AC$40&""),"⌢",""),"⌣",""),"⌵",""),"－",""),"-","")," ","")," ","")=UPPER($E12&"")&"TP"))*3+SUMPRODUCT(--(SUBSTITUTE(SUBSTITUTE(SUBSTITUTE(SUBSTITUTE(SUBSTITUTE(SUBSTITUTE(SUBSTITUTE(UPPER($AA$23:$AC$40&""),"⌢",""),"⌣",""),"⌵",""),"－",""),"-","")," ","")," ","")="TP"&UPPER($E12&"")))*3+SUMPRODUCT(--(SUBSTITUTE(SUBSTITUTE(SUBSTITUTE(SUBSTITUTE(SUBSTITUTE(SUBSTITUTE(SUBSTITUTE(UPPER($AE$23:$AG$40&""),"⌢",""),"⌣",""),"⌵",""),"－",""),"-","")," ","")," ","")=UPPER($E12&"")))+SUMPRODUCT(--(SUBSTITUTE(SUBSTITUTE(SUBSTITUTE(SUBSTITUTE(SUBSTITUTE(SUBSTITUTE(SUBSTITUTE(UPPER($AE$23:$AG$40&""),"⌢",""),"⌣",""),"⌵",""),"－",""),"-","")," ","")," ","")=UPPER($E12&"")&"DP"))*2+SUMPRODUCT(--(SUBSTITUTE(SUBSTITUTE(SUBSTITUTE(SUBSTITUTE(SUBSTITUTE(SUBSTITUTE(SUBSTITUTE(UPPER($AE$23:$AG$40&""),"⌢",""),"⌣",""),"⌵",""),"－",""),"-","")," ","")," ","")="DP"&UPPER($E12&"")))*2+SUMPRODUCT(--(SUBSTITUTE(SUBSTITUTE(SUBSTITUTE(SUBSTITUTE(SUBSTITUTE(SUBSTITUTE(SUBSTITUTE(UPPER($AE$23:$AG$40&""),"⌢",""),"⌣",""),"⌵",""),"－",""),"-","")," ","")," ","")=UPPER($E12&"")&"TP"))*3+SUMPRODUCT(--(SUBSTITUTE(SUBSTITUTE(SUBSTITUTE(SUBSTITUTE(SUBSTITUTE(SUBSTITUTE(SUBSTITUTE(UPPER($AE$23:$AG$40&""),"⌢",""),"⌣",""),"⌵",""),"－",""),"-","")," ","")," ","")="TP"&UPPER($E12&"")))*3) -> 0 | D12: 4 | E12: 29 | F12: 陳建閔 | K12: K | O12: K | AI12: =COUNTA(G12:I12,K12:M12,O12:Q12,S12:U12,W12:Y12,AA12:AC12,AE12:AG12) -> 2 | AJ12: =SUMPRODUCT(--(SUBSTITUTE(SUBSTITUTE(SUBSTITUTE(SUBSTITUTE(SUBSTITUTE(SUBSTITUTE(SUBSTITUTE(UPPER(G12:AG12&""),"⌢",""),"⌣",""),"⌵",""),"－",""),"-","")," ","")," ","")="R"))+SUMPRODUCT(--(SUBSTITUTE(SUBSTITUTE(SUBSTITUTE(SUBSTITUTE(SUBSTITUTE(SUBSTITUTE(SUBSTITUTE(UPPER(G12:AG12&""),"⌢",""),"⌣",""),"⌵",""),"－",""),"-","")," ","")," ","")="HR"))*2 -> 0 | AK12: =COUNTIF(G12:AG12,"K") -> 2 | AL12: =$A12 -> 0 | AO12: 30 | AP12: 黃雅苓 | AQ12: =SUMIF($F$3:$F$20,AP12,$AI$3:$AI$20)+SUMIF($F$3:$F$20,AP12&" DF",$AI$3:$AI$20)+SUMIF($F$3:$F$20,AP12&"DF",$AI$3:$AI$20) -> 3 | AR12: =SUMIF($F$3:$F$20,AP12,$AJ$3:$AJ$20)+SUMIF($F$3:$F$20,AP12&" DF",$AJ$3:$AJ$20)+SUMIF($F$3:$F$20,AP12&"DF",$AJ$3:$AJ$20) -> 0 | AS12: =SUMIF($F$3:$F$20,AP12,$AK$3:$AK$20)+SUMIF($F$3:$F$20,AP12&" DF",$AK$3:$AK$20)+SUMIF($F$3:$F$20,AP12&"DF",$AK$3:$AK$20) -> 2 | AT12: =SUMIF($F$3:$F$20,AP12,$AL$3:$AL$20)+SUMIF($F$3:$F$20,AP12&" DF",$AL$3:$AL$20)+SUMIF($F$3:$F$20,AP12&"DF",$AL$3:$AL$20) -> 0
A13: =IF($E13="",0,SUMPRODUCT(--(SUBSTITUTE(SUBSTITUTE(SUBSTITUTE(SUBSTITUTE(SUBSTITUTE(SUBSTITUTE(SUBSTITUTE(UPPER($G$23:$I$40&""),"⌢",""),"⌣",""),"⌵",""),"－",""),"-","")," ","")," ","")=UPPER($E13&"")))+SUMPRODUCT(--(SUBSTITUTE(SUBSTITUTE(SUBSTITUTE(SUBSTITUTE(SUBSTITUTE(SUBSTITUTE(SUBSTITUTE(UPPER($G$23:$I$40&""),"⌢",""),"⌣",""),"⌵",""),"－",""),"-","")," ","")," ","")=UPPER($E13&"")&"DP"))*2+SUMPRODUCT(--(SUBSTITUTE(SUBSTITUTE(SUBSTITUTE(SUBSTITUTE(SUBSTITUTE(SUBSTITUTE(SUBSTITUTE(UPPER($G$23:$I$40&""),"⌢",""),"⌣",""),"⌵",""),"－",""),"-","")," ","")," ","")="DP"&UPPER($E13&"")))*2+SUMPRODUCT(--(SUBSTITUTE(SUBSTITUTE(SUBSTITUTE(SUBSTITUTE(SUBSTITUTE(SUBSTITUTE(SUBSTITUTE(UPPER($G$23:$I$40&""),"⌢",""),"⌣",""),"⌵",""),"－",""),"-","")," ","")," ","")=UPPER($E13&"")&"TP"))*3+SUMPRODUCT(--(SUBSTITUTE(SUBSTITUTE(SUBSTITUTE(SUBSTITUTE(SUBSTITUTE(SUBSTITUTE(SUBSTITUTE(UPPER($G$23:$I$40&""),"⌢",""),"⌣",""),"⌵",""),"－",""),"-","")," ","")," ","")="TP"&UPPER($E13&"")))*3+SUMPRODUCT(--(SUBSTITUTE(SUBSTITUTE(SUBSTITUTE(SUBSTITUTE(SUBSTITUTE(SUBSTITUTE(SUBSTITUTE(UPPER($K$23:$M$40&""),"⌢",""),"⌣",""),"⌵",""),"－",""),"-","")," ","")," ","")=UPPER($E13&"")))+SUMPRODUCT(--(SUBSTITUTE(SUBSTITUTE(SUBSTITUTE(SUBSTITUTE(SUBSTITUTE(SUBSTITUTE(SUBSTITUTE(UPPER($K$23:$M$40&""),"⌢",""),"⌣",""),"⌵",""),"－",""),"-","")," ","")," ","")=UPPER($E13&"")&"DP"))*2+SUMPRODUCT(--(SUBSTITUTE(SUBSTITUTE(SUBSTITUTE(SUBSTITUTE(SUBSTITUTE(SUBSTITUTE(SUBSTITUTE(UPPER($K$23:$M$40&""),"⌢",""),"⌣",""),"⌵",""),"－",""),"-","")," ","")," ","")="DP"&UPPER($E13&"")))*2+SUMPRODUCT(--(SUBSTITUTE(SUBSTITUTE(SUBSTITUTE(SUBSTITUTE(SUBSTITUTE(SUBSTITUTE(SUBSTITUTE(UPPER($K$23:$M$40&""),"⌢",""),"⌣",""),"⌵",""),"－",""),"-","")," ","")," ","")=UPPER($E13&"")&"TP"))*3+SUMPRODUCT(--(SUBSTITUTE(SUBSTITUTE(SUBSTITUTE(SUBSTITUTE(SUBSTITUTE(SUBSTITUTE(SUBSTITUTE(UPPER($K$23:$M$40&""),"⌢",""),"⌣",""),"⌵",""),"－",""),"-","")," ","")," ","")="TP"&UPPER($E13&"")))*3+SUMPRODUCT(--(SUBSTITUTE(SUBSTITUTE(SUBSTITUTE(SUBSTITUTE(SUBSTITUTE(SUBSTITUTE(SUBSTITUTE(UPPER($O$23:$Q$40&""),"⌢",""),"⌣",""),"⌵",""),"－",""),"-","")," ","")," ","")=UPPER($E13&"")))+SUMPRODUCT(--(SUBSTITUTE(SUBSTITUTE(SUBSTITUTE(SUBSTITUTE(SUBSTITUTE(SUBSTITUTE(SUBSTITUTE(UPPER($O$23:$Q$40&""),"⌢",""),"⌣",""),"⌵",""),"－",""),"-","")," ","")," ","")=UPPER($E13&"")&"DP"))*2+SUMPRODUCT(--(SUBSTITUTE(SUBSTITUTE(SUBSTITUTE(SUBSTITUTE(SUBSTITUTE(SUBSTITUTE(SUBSTITUTE(UPPER($O$23:$Q$40&""),"⌢",""),"⌣",""),"⌵",""),"－",""),"-","")," ","")," ","")="DP"&UPPER($E13&"")))*2+SUMPRODUCT(--(SUBSTITUTE(SUBSTITUTE(SUBSTITUTE(SUBSTITUTE(SUBSTITUTE(SUBSTITUTE(SUBSTITUTE(UPPER($O$23:$Q$40&""),"⌢",""),"⌣",""),"⌵",""),"－",""),"-","")," ","")," ","")=UPPER($E13&"")&"TP"))*3+SUMPRODUCT(--(SUBSTITUTE(SUBSTITUTE(SUBSTITUTE(SUBSTITUTE(SUBSTITUTE(SUBSTITUTE(SUBSTITUTE(UPPER($O$23:$Q$40&""),"⌢",""),"⌣",""),"⌵",""),"－",""),"-","")," ","")," ","")="TP"&UPPER($E13&"")))*3+SUMPRODUCT(--(SUBSTITUTE(SUBSTITUTE(SUBSTITUTE(SUBSTITUTE(SUBSTITUTE(SUBSTITUTE(SUBSTITUTE(UPPER($S$23:$U$40&""),"⌢",""),"⌣",""),"⌵",""),"－",""),"-","")," ","")," ","")=UPPER($E13&"")))+SUMPRODUCT(--(SUBSTITUTE(SUBSTITUTE(SUBSTITUTE(SUBSTITUTE(SUBSTITUTE(SUBSTITUTE(SUBSTITUTE(UPPER($S$23:$U$40&""),"⌢",""),"⌣",""),"⌵",""),"－",""),"-","")," ","")," ","")=UPPER($E13&"")&"DP"))*2+SUMPRODUCT(--(SUBSTITUTE(SUBSTITUTE(SUBSTITUTE(SUBSTITUTE(SUBSTITUTE(SUBSTITUTE(SUBSTITUTE(UPPER($S$23:$U$40&""),"⌢",""),"⌣",""),"⌵",""),"－",""),"-","")," ","")," ","")="DP"&UPPER($E13&"")))*2+SUMPRODUCT(--(SUBSTITUTE(SUBSTITUTE(SUBSTITUTE(SUBSTITUTE(SUBSTITUTE(SUBSTITUTE(SUBSTITUTE(UPPER($S$23:$U$40&""),"⌢",""),"⌣",""),"⌵",""),"－",""),"-","")," ","")," ","")=UPPER($E13&"")&"TP"))*3+SUMPRODUCT(--(SUBSTITUTE(SUBSTITUTE(SUBSTITUTE(SUBSTITUTE(SUBSTITUTE(SUBSTITUTE(SUBSTITUTE(UPPER($S$23:$U$40&""),"⌢",""),"⌣",""),"⌵",""),"－",""),"-","")," ","")," ","")="TP"&UPPER($E13&"")))*3+SUMPRODUCT(--(SUBSTITUTE(SUBSTITUTE(SUBSTITUTE(SUBSTITUTE(SUBSTITUTE(SUBSTITUTE(SUBSTITUTE(UPPER($W$23:$Y$40&""),"⌢",""),"⌣",""),"⌵",""),"－",""),"-","")," ","")," ","")=UPPER($E13&"")))+SUMPRODUCT(--(SUBSTITUTE(SUBSTITUTE(SUBSTITUTE(SUBSTITUTE(SUBSTITUTE(SUBSTITUTE(SUBSTITUTE(UPPER($W$23:$Y$40&""),"⌢",""),"⌣",""),"⌵",""),"－",""),"-","")," ","")," ","")=UPPER($E13&"")&"DP"))*2+SUMPRODUCT(--(SUBSTITUTE(SUBSTITUTE(SUBSTITUTE(SUBSTITUTE(SUBSTITUTE(SUBSTITUTE(SUBSTITUTE(UPPER($W$23:$Y$40&""),"⌢",""),"⌣",""),"⌵",""),"－",""),"-","")," ","")," ","")="DP"&UPPER($E13&"")))*2+SUMPRODUCT(--(SUBSTITUTE(SUBSTITUTE(SUBSTITUTE(SUBSTITUTE(SUBSTITUTE(SUBSTITUTE(SUBSTITUTE(UPPER($W$23:$Y$40&""),"⌢",""),"⌣",""),"⌵",""),"－",""),"-","")," ","")," ","")=UPPER($E13&"")&"TP"))*3+SUMPRODUCT(--(SUBSTITUTE(SUBSTITUTE(SUBSTITUTE(SUBSTITUTE(SUBSTITUTE(SUBSTITUTE(SUBSTITUTE(UPPER($W$23:$Y$40&""),"⌢",""),"⌣",""),"⌵",""),"－",""),"-","")," ","")," ","")="TP"&UPPER($E13&"")))*3+SUMPRODUCT(--(SUBSTITUTE(SUBSTITUTE(SUBSTITUTE(SUBSTITUTE(SUBSTITUTE(SUBSTITUTE(SUBSTITUTE(UPPER($AA$23:$AC$40&""),"⌢",""),"⌣",""),"⌵",""),"－",""),"-","")," ","")," ","")=UPPER($E13&"")))+SUMPRODUCT(--(SUBSTITUTE(SUBSTITUTE(SUBSTITUTE(SUBSTITUTE(SUBSTITUTE(SUBSTITUTE(SUBSTITUTE(UPPER($AA$23:$AC$40&""),"⌢",""),"⌣",""),"⌵",""),"－",""),"-","")," ","")," ","")=UPPER($E13&"")&"DP"))*2+SUMPRODUCT(--(SUBSTITUTE(SUBSTITUTE(SUBSTITUTE(SUBSTITUTE(SUBSTITUTE(SUBSTITUTE(SUBSTITUTE(UPPER($AA$23:$AC$40&""),"⌢",""),"⌣",""),"⌵",""),"－",""),"-","")," ","")," ","")="DP"&UPPER($E13&"")))*2+SUMPRODUCT(--(SUBSTITUTE(SUBSTITUTE(SUBSTITUTE(SUBSTITUTE(SUBSTITUTE(SUBSTITUTE(SUBSTITUTE(UPPER($AA$23:$AC$40&""),"⌢",""),"⌣",""),"⌵",""),"－",""),"-","")," ","")," ","")=UPPER($E13&"")&"TP"))*3+SUMPRODUCT(--(SUBSTITUTE(SUBSTITUTE(SUBSTITUTE(SUBSTITUTE(SUBSTITUTE(SUBSTITUTE(SUBSTITUTE(UPPER($AA$23:$AC$40&""),"⌢",""),"⌣",""),"⌵",""),"－",""),"-","")," ","")," ","")="TP"&UPPER($E13&"")))*3+SUMPRODUCT(--(SUBSTITUTE(SUBSTITUTE(SUBSTITUTE(SUBSTITUTE(SUBSTITUTE(SUBSTITUTE(SUBSTITUTE(UPPER($AE$23:$AG$40&""),"⌢",""),"⌣",""),"⌵",""),"－",""),"-","")," ","")," ","")=UPPER($E13&"")))+SUMPRODUCT(--(SUBSTITUTE(SUBSTITUTE(SUBSTITUTE(SUBSTITUTE(SUBSTITUTE(SUBSTITUTE(SUBSTITUTE(UPPER($AE$23:$AG$40&""),"⌢",""),"⌣",""),"⌵",""),"－",""),"-","")," ","")," ","")=UPPER($E13&"")&"DP"))*2+SUMPRODUCT(--(SUBSTITUTE(SUBSTITUTE(SUBSTITUTE(SUBSTITUTE(SUBSTITUTE(SUBSTITUTE(SUBSTITUTE(UPPER($AE$23:$AG$40&""),"⌢",""),"⌣",""),"⌵",""),"－",""),"-","")," ","")," ","")="DP"&UPPER($E13&"")))*2+SUMPRODUCT(--(SUBSTITUTE(SUBSTITUTE(SUBSTITUTE(SUBSTITUTE(SUBSTITUTE(SUBSTITUTE(SUBSTITUTE(UPPER($AE$23:$AG$40&""),"⌢",""),"⌣",""),"⌵",""),"－",""),"-","")," ","")," ","")=UPPER($E13&"")&"TP"))*3+SUMPRODUCT(--(SUBSTITUTE(SUBSTITUTE(SUBSTITUTE(SUBSTITUTE(SUBSTITUTE(SUBSTITUTE(SUBSTITUTE(UPPER($AE$23:$AG$40&""),"⌢",""),"⌣",""),"⌵",""),"－",""),"-","")," ","")," ","")="TP"&UPPER($E13&"")))*3) -> 0 | E13: 28 | F13: 陳傑閔 | W13: K | AI13: =COUNTA(G13:I13,K13:M13,O13:Q13,S13:U13,W13:Y13,AA13:AC13,AE13:AG13) -> 1 | AJ13: =SUMPRODUCT(--(SUBSTITUTE(SUBSTITUTE(SUBSTITUTE(SUBSTITUTE(SUBSTITUTE(SUBSTITUTE(SUBSTITUTE(UPPER(G13:AG13&""),"⌢",""),"⌣",""),"⌵",""),"－",""),"-","")," ","")," ","")="R"))+SUMPRODUCT(--(SUBSTITUTE(SUBSTITUTE(SUBSTITUTE(SUBSTITUTE(SUBSTITUTE(SUBSTITUTE(SUBSTITUTE(UPPER(G13:AG13&""),"⌢",""),"⌣",""),"⌵",""),"－",""),"-","")," ","")," ","")="HR"))*2 -> 0 | AK13: =COUNTIF(G13:AG13,"K") -> 1 | AL13: =$A13 -> 0
A14: =IF($E14="",0,SUMPRODUCT(--(SUBSTITUTE(SUBSTITUTE(SUBSTITUTE(SUBSTITUTE(SUBSTITUTE(SUBSTITUTE(SUBSTITUTE(UPPER($G$23:$I$40&""),"⌢",""),"⌣",""),"⌵",""),"－",""),"-","")," ","")," ","")=UPPER($E14&"")))+SUMPRODUCT(--(SUBSTITUTE(SUBSTITUTE(SUBSTITUTE(SUBSTITUTE(SUBSTITUTE(SUBSTITUTE(SUBSTITUTE(UPPER($G$23:$I$40&""),"⌢",""),"⌣",""),"⌵",""),"－",""),"-","")," ","")," ","")=UPPER($E14&"")&"DP"))*2+SUMPRODUCT(--(SUBSTITUTE(SUBSTITUTE(SUBSTITUTE(SUBSTITUTE(SUBSTITUTE(SUBSTITUTE(SUBSTITUTE(UPPER($G$23:$I$40&""),"⌢",""),"⌣",""),"⌵",""),"－",""),"-","")," ","")," ","")="DP"&UPPER($E14&"")))*2+SUMPRODUCT(--(SUBSTITUTE(SUBSTITUTE(SUBSTITUTE(SUBSTITUTE(SUBSTITUTE(SUBSTITUTE(SUBSTITUTE(UPPER($G$23:$I$40&""),"⌢",""),"⌣",""),"⌵",""),"－",""),"-","")," ","")," ","")=UPPER($E14&"")&"TP"))*3+SUMPRODUCT(--(SUBSTITUTE(SUBSTITUTE(SUBSTITUTE(SUBSTITUTE(SUBSTITUTE(SUBSTITUTE(SUBSTITUTE(UPPER($G$23:$I$40&""),"⌢",""),"⌣",""),"⌵",""),"－",""),"-","")," ","")," ","")="TP"&UPPER($E14&"")))*3+SUMPRODUCT(--(SUBSTITUTE(SUBSTITUTE(SUBSTITUTE(SUBSTITUTE(SUBSTITUTE(SUBSTITUTE(SUBSTITUTE(UPPER($K$23:$M$40&""),"⌢",""),"⌣",""),"⌵",""),"－",""),"-","")," ","")," ","")=UPPER($E14&"")))+SUMPRODUCT(--(SUBSTITUTE(SUBSTITUTE(SUBSTITUTE(SUBSTITUTE(SUBSTITUTE(SUBSTITUTE(SUBSTITUTE(UPPER($K$23:$M$40&""),"⌢",""),"⌣",""),"⌵",""),"－",""),"-","")," ","")," ","")=UPPER($E14&"")&"DP"))*2+SUMPRODUCT(--(SUBSTITUTE(SUBSTITUTE(SUBSTITUTE(SUBSTITUTE(SUBSTITUTE(SUBSTITUTE(SUBSTITUTE(UPPER($K$23:$M$40&""),"⌢",""),"⌣",""),"⌵",""),"－",""),"-","")," ","")," ","")="DP"&UPPER($E14&"")))*2+SUMPRODUCT(--(SUBSTITUTE(SUBSTITUTE(SUBSTITUTE(SUBSTITUTE(SUBSTITUTE(SUBSTITUTE(SUBSTITUTE(UPPER($K$23:$M$40&""),"⌢",""),"⌣",""),"⌵",""),"－",""),"-","")," ","")," ","")=UPPER($E14&"")&"TP"))*3+SUMPRODUCT(--(SUBSTITUTE(SUBSTITUTE(SUBSTITUTE(SUBSTITUTE(SUBSTITUTE(SUBSTITUTE(SUBSTITUTE(UPPER($K$23:$M$40&""),"⌢",""),"⌣",""),"⌵",""),"－",""),"-","")," ","")," ","")="TP"&UPPER($E14&"")))*3+SUMPRODUCT(--(SUBSTITUTE(SUBSTITUTE(SUBSTITUTE(SUBSTITUTE(SUBSTITUTE(SUBSTITUTE(SUBSTITUTE(UPPER($O$23:$Q$40&""),"⌢",""),"⌣",""),"⌵",""),"－",""),"-","")," ","")," ","")=UPPER($E14&"")))+SUMPRODUCT(--(SUBSTITUTE(SUBSTITUTE(SUBSTITUTE(SUBSTITUTE(SUBSTITUTE(SUBSTITUTE(SUBSTITUTE(UPPER($O$23:$Q$40&""),"⌢",""),"⌣",""),"⌵",""),"－",""),"-","")," ","")," ","")=UPPER($E14&"")&"DP"))*2+SUMPRODUCT(--(SUBSTITUTE(SUBSTITUTE(SUBSTITUTE(SUBSTITUTE(SUBSTITUTE(SUBSTITUTE(SUBSTITUTE(UPPER($O$23:$Q$40&""),"⌢",""),"⌣",""),"⌵",""),"－",""),"-","")," ","")," ","")="DP"&UPPER($E14&"")))*2+SUMPRODUCT(--(SUBSTITUTE(SUBSTITUTE(SUBSTITUTE(SUBSTITUTE(SUBSTITUTE(SUBSTITUTE(SUBSTITUTE(UPPER($O$23:$Q$40&""),"⌢",""),"⌣",""),"⌵",""),"－",""),"-","")," ","")," ","")=UPPER($E14&"")&"TP"))*3+SUMPRODUCT(--(SUBSTITUTE(SUBSTITUTE(SUBSTITUTE(SUBSTITUTE(SUBSTITUTE(SUBSTITUTE(SUBSTITUTE(UPPER($O$23:$Q$40&""),"⌢",""),"⌣",""),"⌵",""),"－",""),"-","")," ","")," ","")="TP"&UPPER($E14&"")))*3+SUMPRODUCT(--(SUBSTITUTE(SUBSTITUTE(SUBSTITUTE(SUBSTITUTE(SUBSTITUTE(SUBSTITUTE(SUBSTITUTE(UPPER($S$23:$U$40&""),"⌢",""),"⌣",""),"⌵",""),"－",""),"-","")," ","")," ","")=UPPER($E14&"")))+SUMPRODUCT(--(SUBSTITUTE(SUBSTITUTE(SUBSTITUTE(SUBSTITUTE(SUBSTITUTE(SUBSTITUTE(SUBSTITUTE(UPPER($S$23:$U$40&""),"⌢",""),"⌣",""),"⌵",""),"－",""),"-","")," ","")," ","")=UPPER($E14&"")&"DP"))*2+SUMPRODUCT(--(SUBSTITUTE(SUBSTITUTE(SUBSTITUTE(SUBSTITUTE(SUBSTITUTE(SUBSTITUTE(SUBSTITUTE(UPPER($S$23:$U$40&""),"⌢",""),"⌣",""),"⌵",""),"－",""),"-","")," ","")," ","")="DP"&UPPER($E14&"")))*2+SUMPRODUCT(--(SUBSTITUTE(SUBSTITUTE(SUBSTITUTE(SUBSTITUTE(SUBSTITUTE(SUBSTITUTE(SUBSTITUTE(UPPER($S$23:$U$40&""),"⌢",""),"⌣",""),"⌵",""),"－",""),"-","")," ","")," ","")=UPPER($E14&"")&"TP"))*3+SUMPRODUCT(--(SUBSTITUTE(SUBSTITUTE(SUBSTITUTE(SUBSTITUTE(SUBSTITUTE(SUBSTITUTE(SUBSTITUTE(UPPER($S$23:$U$40&""),"⌢",""),"⌣",""),"⌵",""),"－",""),"-","")," ","")," ","")="TP"&UPPER($E14&"")))*3+SUMPRODUCT(--(SUBSTITUTE(SUBSTITUTE(SUBSTITUTE(SUBSTITUTE(SUBSTITUTE(SUBSTITUTE(SUBSTITUTE(UPPER($W$23:$Y$40&""),"⌢",""),"⌣",""),"⌵",""),"－",""),"-","")," ","")," ","")=UPPER($E14&"")))+SUMPRODUCT(--(SUBSTITUTE(SUBSTITUTE(SUBSTITUTE(SUBSTITUTE(SUBSTITUTE(SUBSTITUTE(SUBSTITUTE(UPPER($W$23:$Y$40&""),"⌢",""),"⌣",""),"⌵",""),"－",""),"-","")," ","")," ","")=UPPER($E14&"")&"DP"))*2+SUMPRODUCT(--(SUBSTITUTE(SUBSTITUTE(SUBSTITUTE(SUBSTITUTE(SUBSTITUTE(SUBSTITUTE(SUBSTITUTE(UPPER($W$23:$Y$40&""),"⌢",""),"⌣",""),"⌵",""),"－",""),"-","")," ","")," ","")="DP"&UPPER($E14&"")))*2+SUMPRODUCT(--(SUBSTITUTE(SUBSTITUTE(SUBSTITUTE(SUBSTITUTE(SUBSTITUTE(SUBSTITUTE(SUBSTITUTE(UPPER($W$23:$Y$40&""),"⌢",""),"⌣",""),"⌵",""),"－",""),"-","")," ","")," ","")=UPPER($E14&"")&"TP"))*3+SUMPRODUCT(--(SUBSTITUTE(SUBSTITUTE(SUBSTITUTE(SUBSTITUTE(SUBSTITUTE(SUBSTITUTE(SUBSTITUTE(UPPER($W$23:$Y$40&""),"⌢",""),"⌣",""),"⌵",""),"－",""),"-","")," ","")," ","")="TP"&UPPER($E14&"")))*3+SUMPRODUCT(--(SUBSTITUTE(SUBSTITUTE(SUBSTITUTE(SUBSTITUTE(SUBSTITUTE(SUBSTITUTE(SUBSTITUTE(UPPER($AA$23:$AC$40&""),"⌢",""),"⌣",""),"⌵",""),"－",""),"-","")," ","")," ","")=UPPER($E14&"")))+SUMPRODUCT(--(SUBSTITUTE(SUBSTITUTE(SUBSTITUTE(SUBSTITUTE(SUBSTITUTE(SUBSTITUTE(SUBSTITUTE(UPPER($AA$23:$AC$40&""),"⌢",""),"⌣",""),"⌵",""),"－",""),"-","")," ","")," ","")=UPPER($E14&"")&"DP"))*2+SUMPRODUCT(--(SUBSTITUTE(SUBSTITUTE(SUBSTITUTE(SUBSTITUTE(SUBSTITUTE(SUBSTITUTE(SUBSTITUTE(UPPER($AA$23:$AC$40&""),"⌢",""),"⌣",""),"⌵",""),"－",""),"-","")," ","")," ","")="DP"&UPPER($E14&"")))*2+SUMPRODUCT(--(SUBSTITUTE(SUBSTITUTE(SUBSTITUTE(SUBSTITUTE(SUBSTITUTE(SUBSTITUTE(SUBSTITUTE(UPPER($AA$23:$AC$40&""),"⌢",""),"⌣",""),"⌵",""),"－",""),"-","")," ","")," ","")=UPPER($E14&"")&"TP"))*3+SUMPRODUCT(--(SUBSTITUTE(SUBSTITUTE(SUBSTITUTE(SUBSTITUTE(SUBSTITUTE(SUBSTITUTE(SUBSTITUTE(UPPER($AA$23:$AC$40&""),"⌢",""),"⌣",""),"⌵",""),"－",""),"-","")," ","")," ","")="TP"&UPPER($E14&"")))*3+SUMPRODUCT(--(SUBSTITUTE(SUBSTITUTE(SUBSTITUTE(SUBSTITUTE(SUBSTITUTE(SUBSTITUTE(SUBSTITUTE(UPPER($AE$23:$AG$40&""),"⌢",""),"⌣",""),"⌵",""),"－",""),"-","")," ","")," ","")=UPPER($E14&"")))+SUMPRODUCT(--(SUBSTITUTE(SUBSTITUTE(SUBSTITUTE(SUBSTITUTE(SUBSTITUTE(SUBSTITUTE(SUBSTITUTE(UPPER($AE$23:$AG$40&""),"⌢",""),"⌣",""),"⌵",""),"－",""),"-","")," ","")," ","")=UPPER($E14&"")&"DP"))*2+SUMPRODUCT(--(SUBSTITUTE(SUBSTITUTE(SUBSTITUTE(SUBSTITUTE(SUBSTITUTE(SUBSTITUTE(SUBSTITUTE(UPPER($AE$23:$AG$40&""),"⌢",""),"⌣",""),"⌵",""),"－",""),"-","")," ","")," ","")="DP"&UPPER($E14&"")))*2+SUMPRODUCT(--(SUBSTITUTE(SUBSTITUTE(SUBSTITUTE(SUBSTITUTE(SUBSTITUTE(SUBSTITUTE(SUBSTITUTE(UPPER($AE$23:$AG$40&""),"⌢",""),"⌣",""),"⌵",""),"－",""),"-","")," ","")," ","")=UPPER($E14&"")&"TP"))*3+SUMPRODUCT(--(SUBSTITUTE(SUBSTITUTE(SUBSTITUTE(SUBSTITUTE(SUBSTITUTE(SUBSTITUTE(SUBSTITUTE(UPPER($AE$23:$AG$40&""),"⌢",""),"⌣",""),"⌵",""),"－",""),"-","")," ","")," ","")="TP"&UPPER($E14&"")))*3) -> 0 | AI14: =COUNTA(G14:I14,K14:M14,O14:Q14,S14:U14,W14:Y14,AA14:AC14,AE14:AG14) -> 0 | AJ14: =SUMPRODUCT(--(SUBSTITUTE(SUBSTITUTE(SUBSTITUTE(SUBSTITUTE(SUBSTITUTE(SUBSTITUTE(SUBSTITUTE(UPPER(G14:AG14&""),"⌢",""),"⌣",""),"⌵",""),"－",""),"-","")," ","")," ","")="R"))+SUMPRODUCT(--(SUBSTITUTE(SUBSTITUTE(SUBSTITUTE(SUBSTITUTE(SUBSTITUTE(SUBSTITUTE(SUBSTITUTE(UPPER(G14:AG14&""),"⌢",""),"⌣",""),"⌵",""),"－",""),"-","")," ","")," ","")="HR"))*2 -> 0 | AK14: =COUNTIF(G14:AG14,"K") -> 0 | AL14: =$A14 -> 0 | AM14: 候補球員
A15: =IF($E15="",0,SUMPRODUCT(--(SUBSTITUTE(SUBSTITUTE(SUBSTITUTE(SUBSTITUTE(SUBSTITUTE(SUBSTITUTE(SUBSTITUTE(UPPER($G$23:$I$40&""),"⌢",""),"⌣",""),"⌵",""),"－",""),"-","")," ","")," ","")=UPPER($E15&"")))+SUMPRODUCT(--(SUBSTITUTE(SUBSTITUTE(SUBSTITUTE(SUBSTITUTE(SUBSTITUTE(SUBSTITUTE(SUBSTITUTE(UPPER($G$23:$I$40&""),"⌢",""),"⌣",""),"⌵",""),"－",""),"-","")," ","")," ","")=UPPER($E15&"")&"DP"))*2+SUMPRODUCT(--(SUBSTITUTE(SUBSTITUTE(SUBSTITUTE(SUBSTITUTE(SUBSTITUTE(SUBSTITUTE(SUBSTITUTE(UPPER($G$23:$I$40&""),"⌢",""),"⌣",""),"⌵",""),"－",""),"-","")," ","")," ","")="DP"&UPPER($E15&"")))*2+SUMPRODUCT(--(SUBSTITUTE(SUBSTITUTE(SUBSTITUTE(SUBSTITUTE(SUBSTITUTE(SUBSTITUTE(SUBSTITUTE(UPPER($G$23:$I$40&""),"⌢",""),"⌣",""),"⌵",""),"－",""),"-","")," ","")," ","")=UPPER($E15&"")&"TP"))*3+SUMPRODUCT(--(SUBSTITUTE(SUBSTITUTE(SUBSTITUTE(SUBSTITUTE(SUBSTITUTE(SUBSTITUTE(SUBSTITUTE(UPPER($G$23:$I$40&""),"⌢",""),"⌣",""),"⌵",""),"－",""),"-","")," ","")," ","")="TP"&UPPER($E15&"")))*3+SUMPRODUCT(--(SUBSTITUTE(SUBSTITUTE(SUBSTITUTE(SUBSTITUTE(SUBSTITUTE(SUBSTITUTE(SUBSTITUTE(UPPER($K$23:$M$40&""),"⌢",""),"⌣",""),"⌵",""),"－",""),"-","")," ","")," ","")=UPPER($E15&"")))+SUMPRODUCT(--(SUBSTITUTE(SUBSTITUTE(SUBSTITUTE(SUBSTITUTE(SUBSTITUTE(SUBSTITUTE(SUBSTITUTE(UPPER($K$23:$M$40&""),"⌢",""),"⌣",""),"⌵",""),"－",""),"-","")," ","")," ","")=UPPER($E15&"")&"DP"))*2+SUMPRODUCT(--(SUBSTITUTE(SUBSTITUTE(SUBSTITUTE(SUBSTITUTE(SUBSTITUTE(SUBSTITUTE(SUBSTITUTE(UPPER($K$23:$M$40&""),"⌢",""),"⌣",""),"⌵",""),"－",""),"-","")," ","")," ","")="DP"&UPPER($E15&"")))*2+SUMPRODUCT(--(SUBSTITUTE(SUBSTITUTE(SUBSTITUTE(SUBSTITUTE(SUBSTITUTE(SUBSTITUTE(SUBSTITUTE(UPPER($K$23:$M$40&""),"⌢",""),"⌣",""),"⌵",""),"－",""),"-","")," ","")," ","")=UPPER($E15&"")&"TP"))*3+SUMPRODUCT(--(SUBSTITUTE(SUBSTITUTE(SUBSTITUTE(SUBSTITUTE(SUBSTITUTE(SUBSTITUTE(SUBSTITUTE(UPPER($K$23:$M$40&""),"⌢",""),"⌣",""),"⌵",""),"－",""),"-","")," ","")," ","")="TP"&UPPER($E15&"")))*3+SUMPRODUCT(--(SUBSTITUTE(SUBSTITUTE(SUBSTITUTE(SUBSTITUTE(SUBSTITUTE(SUBSTITUTE(SUBSTITUTE(UPPER($O$23:$Q$40&""),"⌢",""),"⌣",""),"⌵",""),"－",""),"-","")," ","")," ","")=UPPER($E15&"")))+SUMPRODUCT(--(SUBSTITUTE(SUBSTITUTE(SUBSTITUTE(SUBSTITUTE(SUBSTITUTE(SUBSTITUTE(SUBSTITUTE(UPPER($O$23:$Q$40&""),"⌢",""),"⌣",""),"⌵",""),"－",""),"-","")," ","")," ","")=UPPER($E15&"")&"DP"))*2+SUMPRODUCT(--(SUBSTITUTE(SUBSTITUTE(SUBSTITUTE(SUBSTITUTE(SUBSTITUTE(SUBSTITUTE(SUBSTITUTE(UPPER($O$23:$Q$40&""),"⌢",""),"⌣",""),"⌵",""),"－",""),"-","")," ","")," ","")="DP"&UPPER($E15&"")))*2+SUMPRODUCT(--(SUBSTITUTE(SUBSTITUTE(SUBSTITUTE(SUBSTITUTE(SUBSTITUTE(SUBSTITUTE(SUBSTITUTE(UPPER($O$23:$Q$40&""),"⌢",""),"⌣",""),"⌵",""),"－",""),"-","")," ","")," ","")=UPPER($E15&"")&"TP"))*3+SUMPRODUCT(--(SUBSTITUTE(SUBSTITUTE(SUBSTITUTE(SUBSTITUTE(SUBSTITUTE(SUBSTITUTE(SUBSTITUTE(UPPER($O$23:$Q$40&""),"⌢",""),"⌣",""),"⌵",""),"－",""),"-","")," ","")," ","")="TP"&UPPER($E15&"")))*3+SUMPRODUCT(--(SUBSTITUTE(SUBSTITUTE(SUBSTITUTE(SUBSTITUTE(SUBSTITUTE(SUBSTITUTE(SUBSTITUTE(UPPER($S$23:$U$40&""),"⌢",""),"⌣",""),"⌵",""),"－",""),"-","")," ","")," ","")=UPPER($E15&"")))+SUMPRODUCT(--(SUBSTITUTE(SUBSTITUTE(SUBSTITUTE(SUBSTITUTE(SUBSTITUTE(SUBSTITUTE(SUBSTITUTE(UPPER($S$23:$U$40&""),"⌢",""),"⌣",""),"⌵",""),"－",""),"-","")," ","")," ","")=UPPER($E15&"")&"DP"))*2+SUMPRODUCT(--(SUBSTITUTE(SUBSTITUTE(SUBSTITUTE(SUBSTITUTE(SUBSTITUTE(SUBSTITUTE(SUBSTITUTE(UPPER($S$23:$U$40&""),"⌢",""),"⌣",""),"⌵",""),"－",""),"-","")," ","")," ","")="DP"&UPPER($E15&"")))*2+SUMPRODUCT(--(SUBSTITUTE(SUBSTITUTE(SUBSTITUTE(SUBSTITUTE(SUBSTITUTE(SUBSTITUTE(SUBSTITUTE(UPPER($S$23:$U$40&""),"⌢",""),"⌣",""),"⌵",""),"－",""),"-","")," ","")," ","")=UPPER($E15&"")&"TP"))*3+SUMPRODUCT(--(SUBSTITUTE(SUBSTITUTE(SUBSTITUTE(SUBSTITUTE(SUBSTITUTE(SUBSTITUTE(SUBSTITUTE(UPPER($S$23:$U$40&""),"⌢",""),"⌣",""),"⌵",""),"－",""),"-","")," ","")," ","")="TP"&UPPER($E15&"")))*3+SUMPRODUCT(--(SUBSTITUTE(SUBSTITUTE(SUBSTITUTE(SUBSTITUTE(SUBSTITUTE(SUBSTITUTE(SUBSTITUTE(UPPER($W$23:$Y$40&""),"⌢",""),"⌣",""),"⌵",""),"－",""),"-","")," ","")," ","")=UPPER($E15&"")))+SUMPRODUCT(--(SUBSTITUTE(SUBSTITUTE(SUBSTITUTE(SUBSTITUTE(SUBSTITUTE(SUBSTITUTE(SUBSTITUTE(UPPER($W$23:$Y$40&""),"⌢",""),"⌣",""),"⌵",""),"－",""),"-","")," ","")," ","")=UPPER($E15&"")&"DP"))*2+SUMPRODUCT(--(SUBSTITUTE(SUBSTITUTE(SUBSTITUTE(SUBSTITUTE(SUBSTITUTE(SUBSTITUTE(SUBSTITUTE(UPPER($W$23:$Y$40&""),"⌢",""),"⌣",""),"⌵",""),"－",""),"-","")," ","")," ","")="DP"&UPPER($E15&"")))*2+SUMPRODUCT(--(SUBSTITUTE(SUBSTITUTE(SUBSTITUTE(SUBSTITUTE(SUBSTITUTE(SUBSTITUTE(SUBSTITUTE(UPPER($W$23:$Y$40&""),"⌢",""),"⌣",""),"⌵",""),"－",""),"-","")," ","")," ","")=UPPER($E15&"")&"TP"))*3+SUMPRODUCT(--(SUBSTITUTE(SUBSTITUTE(SUBSTITUTE(SUBSTITUTE(SUBSTITUTE(SUBSTITUTE(SUBSTITUTE(UPPER($W$23:$Y$40&""),"⌢",""),"⌣",""),"⌵",""),"－",""),"-","")," ","")," ","")="TP"&UPPER($E15&"")))*3+SUMPRODUCT(--(SUBSTITUTE(SUBSTITUTE(SUBSTITUTE(SUBSTITUTE(SUBSTITUTE(SUBSTITUTE(SUBSTITUTE(UPPER($AA$23:$AC$40&""),"⌢",""),"⌣",""),"⌵",""),"－",""),"-","")," ","")," ","")=UPPER($E15&"")))+SUMPRODUCT(--(SUBSTITUTE(SUBSTITUTE(SUBSTITUTE(SUBSTITUTE(SUBSTITUTE(SUBSTITUTE(SUBSTITUTE(UPPER($AA$23:$AC$40&""),"⌢",""),"⌣",""),"⌵",""),"－",""),"-","")," ","")," ","")=UPPER($E15&"")&"DP"))*2+SUMPRODUCT(--(SUBSTITUTE(SUBSTITUTE(SUBSTITUTE(SUBSTITUTE(SUBSTITUTE(SUBSTITUTE(SUBSTITUTE(UPPER($AA$23:$AC$40&""),"⌢",""),"⌣",""),"⌵",""),"－",""),"-","")," ","")," ","")="DP"&UPPER($E15&"")))*2+SUMPRODUCT(--(SUBSTITUTE(SUBSTITUTE(SUBSTITUTE(SUBSTITUTE(SUBSTITUTE(SUBSTITUTE(SUBSTITUTE(UPPER($AA$23:$AC$40&""),"⌢",""),"⌣",""),"⌵",""),"－",""),"-","")," ","")," ","")=UPPER($E15&"")&"TP"))*3+SUMPRODUCT(--(SUBSTITUTE(SUBSTITUTE(SUBSTITUTE(SUBSTITUTE(SUBSTITUTE(SUBSTITUTE(SUBSTITUTE(UPPER($AA$23:$AC$40&""),"⌢",""),"⌣",""),"⌵",""),"－",""),"-","")," ","")," ","")="TP"&UPPER($E15&"")))*3+SUMPRODUCT(--(SUBSTITUTE(SUBSTITUTE(SUBSTITUTE(SUBSTITUTE(SUBSTITUTE(SUBSTITUTE(SUBSTITUTE(UPPER($AE$23:$AG$40&""),"⌢",""),"⌣",""),"⌵",""),"－",""),"-","")," ","")," ","")=UPPER($E15&"")))+SUMPRODUCT(--(SUBSTITUTE(SUBSTITUTE(SUBSTITUTE(SUBSTITUTE(SUBSTITUTE(SUBSTITUTE(SUBSTITUTE(UPPER($AE$23:$AG$40&""),"⌢",""),"⌣",""),"⌵",""),"－",""),"-","")," ","")," ","")=UPPER($E15&"")&"DP"))*2+SUMPRODUCT(--(SUBSTITUTE(SUBSTITUTE(SUBSTITUTE(SUBSTITUTE(SUBSTITUTE(SUBSTITUTE(SUBSTITUTE(UPPER($AE$23:$AG$40&""),"⌢",""),"⌣",""),"⌵",""),"－",""),"-","")," ","")," ","")="DP"&UPPER($E15&"")))*2+SUMPRODUCT(--(SUBSTITUTE(SUBSTITUTE(SUBSTITUTE(SUBSTITUTE(SUBSTITUTE(SUBSTITUTE(SUBSTITUTE(UPPER($AE$23:$AG$40&""),"⌢",""),"⌣",""),"⌵",""),"－",""),"-","")," ","")," ","")=UPPER($E15&"")&"TP"))*3+SUMPRODUCT(--(SUBSTITUTE(SUBSTITUTE(SUBSTITUTE(SUBSTITUTE(SUBSTITUTE(SUBSTITUTE(SUBSTITUTE(UPPER($AE$23:$AG$40&""),"⌢",""),"⌣",""),"⌵",""),"－",""),"-","")," ","")," ","")="TP"&UPPER($E15&"")))*3) -> 2 | D15: 5 | E15: 17 | F15: 張睿紘 | K15: K | S15: K | AA15: K | AI15: =COUNTA(G15:I15,K15:M15,O15:Q15,S15:U15,W15:Y15,AA15:AC15,AE15:AG15) -> 3 | AJ15: =SUMPRODUCT(--(SUBSTITUTE(SUBSTITUTE(SUBSTITUTE(SUBSTITUTE(SUBSTITUTE(SUBSTITUTE(SUBSTITUTE(UPPER(G15:AG15&""),"⌢",""),"⌣",""),"⌵",""),"－",""),"-","")," ","")," ","")="R"))+SUMPRODUCT(--(SUBSTITUTE(SUBSTITUTE(SUBSTITUTE(SUBSTITUTE(SUBSTITUTE(SUBSTITUTE(SUBSTITUTE(UPPER(G15:AG15&""),"⌢",""),"⌣",""),"⌵",""),"－",""),"-","")," ","")," ","")="HR"))*2 -> 0 | AK15: =COUNTIF(G15:AG15,"K") -> 3 | AL15: =$A15 -> 2
A16: =IF($E16="",0,SUMPRODUCT(--(SUBSTITUTE(SUBSTITUTE(SUBSTITUTE(SUBSTITUTE(SUBSTITUTE(SUBSTITUTE(SUBSTITUTE(UPPER($G$23:$I$40&""),"⌢",""),"⌣",""),"⌵",""),"－",""),"-","")," ","")," ","")=UPPER($E16&"")))+SUMPRODUCT(--(SUBSTITUTE(SUBSTITUTE(SUBSTITUTE(SUBSTITUTE(SUBSTITUTE(SUBSTITUTE(SUBSTITUTE(UPPER($G$23:$I$40&""),"⌢",""),"⌣",""),"⌵",""),"－",""),"-","")," ","")," ","")=UPPER($E16&"")&"DP"))*2+SUMPRODUCT(--(SUBSTITUTE(SUBSTITUTE(SUBSTITUTE(SUBSTITUTE(SUBSTITUTE(SUBSTITUTE(SUBSTITUTE(UPPER($G$23:$I$40&""),"⌢",""),"⌣",""),"⌵",""),"－",""),"-","")," ","")," ","")="DP"&UPPER($E16&"")))*2+SUMPRODUCT(--(SUBSTITUTE(SUBSTITUTE(SUBSTITUTE(SUBSTITUTE(SUBSTITUTE(SUBSTITUTE(SUBSTITUTE(UPPER($G$23:$I$40&""),"⌢",""),"⌣",""),"⌵",""),"－",""),"-","")," ","")," ","")=UPPER($E16&"")&"TP"))*3+SUMPRODUCT(--(SUBSTITUTE(SUBSTITUTE(SUBSTITUTE(SUBSTITUTE(SUBSTITUTE(SUBSTITUTE(SUBSTITUTE(UPPER($G$23:$I$40&""),"⌢",""),"⌣",""),"⌵",""),"－",""),"-","")," ","")," ","")="TP"&UPPER($E16&"")))*3+SUMPRODUCT(--(SUBSTITUTE(SUBSTITUTE(SUBSTITUTE(SUBSTITUTE(SUBSTITUTE(SUBSTITUTE(SUBSTITUTE(UPPER($K$23:$M$40&""),"⌢",""),"⌣",""),"⌵",""),"－",""),"-","")," ","")," ","")=UPPER($E16&"")))+SUMPRODUCT(--(SUBSTITUTE(SUBSTITUTE(SUBSTITUTE(SUBSTITUTE(SUBSTITUTE(SUBSTITUTE(SUBSTITUTE(UPPER($K$23:$M$40&""),"⌢",""),"⌣",""),"⌵",""),"－",""),"-","")," ","")," ","")=UPPER($E16&"")&"DP"))*2+SUMPRODUCT(--(SUBSTITUTE(SUBSTITUTE(SUBSTITUTE(SUBSTITUTE(SUBSTITUTE(SUBSTITUTE(SUBSTITUTE(UPPER($K$23:$M$40&""),"⌢",""),"⌣",""),"⌵",""),"－",""),"-","")," ","")," ","")="DP"&UPPER($E16&"")))*2+SUMPRODUCT(--(SUBSTITUTE(SUBSTITUTE(SUBSTITUTE(SUBSTITUTE(SUBSTITUTE(SUBSTITUTE(SUBSTITUTE(UPPER($K$23:$M$40&""),"⌢",""),"⌣",""),"⌵",""),"－",""),"-","")," ","")," ","")=UPPER($E16&"")&"TP"))*3+SUMPRODUCT(--(SUBSTITUTE(SUBSTITUTE(SUBSTITUTE(SUBSTITUTE(SUBSTITUTE(SUBSTITUTE(SUBSTITUTE(UPPER($K$23:$M$40&""),"⌢",""),"⌣",""),"⌵",""),"－",""),"-","")," ","")," ","")="TP"&UPPER($E16&"")))*3+SUMPRODUCT(--(SUBSTITUTE(SUBSTITUTE(SUBSTITUTE(SUBSTITUTE(SUBSTITUTE(SUBSTITUTE(SUBSTITUTE(UPPER($O$23:$Q$40&""),"⌢",""),"⌣",""),"⌵",""),"－",""),"-","")," ","")," ","")=UPPER($E16&"")))+SUMPRODUCT(--(SUBSTITUTE(SUBSTITUTE(SUBSTITUTE(SUBSTITUTE(SUBSTITUTE(SUBSTITUTE(SUBSTITUTE(UPPER($O$23:$Q$40&""),"⌢",""),"⌣",""),"⌵",""),"－",""),"-","")," ","")," ","")=UPPER($E16&"")&"DP"))*2+SUMPRODUCT(--(SUBSTITUTE(SUBSTITUTE(SUBSTITUTE(SUBSTITUTE(SUBSTITUTE(SUBSTITUTE(SUBSTITUTE(UPPER($O$23:$Q$40&""),"⌢",""),"⌣",""),"⌵",""),"－",""),"-","")," ","")," ","")="DP"&UPPER($E16&"")))*2+SUMPRODUCT(--(SUBSTITUTE(SUBSTITUTE(SUBSTITUTE(SUBSTITUTE(SUBSTITUTE(SUBSTITUTE(SUBSTITUTE(UPPER($O$23:$Q$40&""),"⌢",""),"⌣",""),"⌵",""),"－",""),"-","")," ","")," ","")=UPPER($E16&"")&"TP"))*3+SUMPRODUCT(--(SUBSTITUTE(SUBSTITUTE(SUBSTITUTE(SUBSTITUTE(SUBSTITUTE(SUBSTITUTE(SUBSTITUTE(UPPER($O$23:$Q$40&""),"⌢",""),"⌣",""),"⌵",""),"－",""),"-","")," ","")," ","")="TP"&UPPER($E16&"")))*3+SUMPRODUCT(--(SUBSTITUTE(SUBSTITUTE(SUBSTITUTE(SUBSTITUTE(SUBSTITUTE(SUBSTITUTE(SUBSTITUTE(UPPER($S$23:$U$40&""),"⌢",""),"⌣",""),"⌵",""),"－",""),"-","")," ","")," ","")=UPPER($E16&"")))+SUMPRODUCT(--(SUBSTITUTE(SUBSTITUTE(SUBSTITUTE(SUBSTITUTE(SUBSTITUTE(SUBSTITUTE(SUBSTITUTE(UPPER($S$23:$U$40&""),"⌢",""),"⌣",""),"⌵",""),"－",""),"-","")," ","")," ","")=UPPER($E16&"")&"DP"))*2+SUMPRODUCT(--(SUBSTITUTE(SUBSTITUTE(SUBSTITUTE(SUBSTITUTE(SUBSTITUTE(SUBSTITUTE(SUBSTITUTE(UPPER($S$23:$U$40&""),"⌢",""),"⌣",""),"⌵",""),"－",""),"-","")," ","")," ","")="DP"&UPPER($E16&"")))*2+SUMPRODUCT(--(SUBSTITUTE(SUBSTITUTE(SUBSTITUTE(SUBSTITUTE(SUBSTITUTE(SUBSTITUTE(SUBSTITUTE(UPPER($S$23:$U$40&""),"⌢",""),"⌣",""),"⌵",""),"－",""),"-","")," ","")," ","")=UPPER($E16&"")&"TP"))*3+SUMPRODUCT(--(SUBSTITUTE(SUBSTITUTE(SUBSTITUTE(SUBSTITUTE(SUBSTITUTE(SUBSTITUTE(SUBSTITUTE(UPPER($S$23:$U$40&""),"⌢",""),"⌣",""),"⌵",""),"－",""),"-","")," ","")," ","")="TP"&UPPER($E16&"")))*3+SUMPRODUCT(--(SUBSTITUTE(SUBSTITUTE(SUBSTITUTE(SUBSTITUTE(SUBSTITUTE(SUBSTITUTE(SUBSTITUTE(UPPER($W$23:$Y$40&""),"⌢",""),"⌣",""),"⌵",""),"－",""),"-","")," ","")," ","")=UPPER($E16&"")))+SUMPRODUCT(--(SUBSTITUTE(SUBSTITUTE(SUBSTITUTE(SUBSTITUTE(SUBSTITUTE(SUBSTITUTE(SUBSTITUTE(UPPER($W$23:$Y$40&""),"⌢",""),"⌣",""),"⌵",""),"－",""),"-","")," ","")," ","")=UPPER($E16&"")&"DP"))*2+SUMPRODUCT(--(SUBSTITUTE(SUBSTITUTE(SUBSTITUTE(SUBSTITUTE(SUBSTITUTE(SUBSTITUTE(SUBSTITUTE(UPPER($W$23:$Y$40&""),"⌢",""),"⌣",""),"⌵",""),"－",""),"-","")," ","")," ","")="DP"&UPPER($E16&"")))*2+SUMPRODUCT(--(SUBSTITUTE(SUBSTITUTE(SUBSTITUTE(SUBSTITUTE(SUBSTITUTE(SUBSTITUTE(SUBSTITUTE(UPPER($W$23:$Y$40&""),"⌢",""),"⌣",""),"⌵",""),"－",""),"-","")," ","")," ","")=UPPER($E16&"")&"TP"))*3+SUMPRODUCT(--(SUBSTITUTE(SUBSTITUTE(SUBSTITUTE(SUBSTITUTE(SUBSTITUTE(SUBSTITUTE(SUBSTITUTE(UPPER($W$23:$Y$40&""),"⌢",""),"⌣",""),"⌵",""),"－",""),"-","")," ","")," ","")="TP"&UPPER($E16&"")))*3+SUMPRODUCT(--(SUBSTITUTE(SUBSTITUTE(SUBSTITUTE(SUBSTITUTE(SUBSTITUTE(SUBSTITUTE(SUBSTITUTE(UPPER($AA$23:$AC$40&""),"⌢",""),"⌣",""),"⌵",""),"－",""),"-","")," ","")," ","")=UPPER($E16&"")))+SUMPRODUCT(--(SUBSTITUTE(SUBSTITUTE(SUBSTITUTE(SUBSTITUTE(SUBSTITUTE(SUBSTITUTE(SUBSTITUTE(UPPER($AA$23:$AC$40&""),"⌢",""),"⌣",""),"⌵",""),"－",""),"-","")," ","")," ","")=UPPER($E16&"")&"DP"))*2+SUMPRODUCT(--(SUBSTITUTE(SUBSTITUTE(SUBSTITUTE(SUBSTITUTE(SUBSTITUTE(SUBSTITUTE(SUBSTITUTE(UPPER($AA$23:$AC$40&""),"⌢",""),"⌣",""),"⌵",""),"－",""),"-","")," ","")," ","")="DP"&UPPER($E16&"")))*2+SUMPRODUCT(--(SUBSTITUTE(SUBSTITUTE(SUBSTITUTE(SUBSTITUTE(SUBSTITUTE(SUBSTITUTE(SUBSTITUTE(UPPER($AA$23:$AC$40&""),"⌢",""),"⌣",""),"⌵",""),"－",""),"-","")," ","")," ","")=UPPER($E16&"")&"TP"))*3+SUMPRODUCT(--(SUBSTITUTE(SUBSTITUTE(SUBSTITUTE(SUBSTITUTE(SUBSTITUTE(SUBSTITUTE(SUBSTITUTE(UPPER($AA$23:$AC$40&""),"⌢",""),"⌣",""),"⌵",""),"－",""),"-","")," ","")," ","")="TP"&UPPER($E16&"")))*3+SUMPRODUCT(--(SUBSTITUTE(SUBSTITUTE(SUBSTITUTE(SUBSTITUTE(SUBSTITUTE(SUBSTITUTE(SUBSTITUTE(UPPER($AE$23:$AG$40&""),"⌢",""),"⌣",""),"⌵",""),"－",""),"-","")," ","")," ","")=UPPER($E16&"")))+SUMPRODUCT(--(SUBSTITUTE(SUBSTITUTE(SUBSTITUTE(SUBSTITUTE(SUBSTITUTE(SUBSTITUTE(SUBSTITUTE(UPPER($AE$23:$AG$40&""),"⌢",""),"⌣",""),"⌵",""),"－",""),"-","")," ","")," ","")=UPPER($E16&"")&"DP"))*2+SUMPRODUCT(--(SUBSTITUTE(SUBSTITUTE(SUBSTITUTE(SUBSTITUTE(SUBSTITUTE(SUBSTITUTE(SUBSTITUTE(UPPER($AE$23:$AG$40&""),"⌢",""),"⌣",""),"⌵",""),"－",""),"-","")," ","")," ","")="DP"&UPPER($E16&"")))*2+SUMPRODUCT(--(SUBSTITUTE(SUBSTITUTE(SUBSTITUTE(SUBSTITUTE(SUBSTITUTE(SUBSTITUTE(SUBSTITUTE(UPPER($AE$23:$AG$40&""),"⌢",""),"⌣",""),"⌵",""),"－",""),"-","")," ","")," ","")=UPPER($E16&"")&"TP"))*3+SUMPRODUCT(--(SUBSTITUTE(SUBSTITUTE(SUBSTITUTE(SUBSTITUTE(SUBSTITUTE(SUBSTITUTE(SUBSTITUTE(UPPER($AE$23:$AG$40&""),"⌢",""),"⌣",""),"⌵",""),"－",""),"-","")," ","")," ","")="TP"&UPPER($E16&"")))*3) -> 0 | AI16: =COUNTA(G16:I16,K16:M16,O16:Q16,S16:U16,W16:Y16,AA16:AC16,AE16:AG16) -> 0 | AJ16: =SUMPRODUCT(--(SUBSTITUTE(SUBSTITUTE(SUBSTITUTE(SUBSTITUTE(SUBSTITUTE(SUBSTITUTE(SUBSTITUTE(UPPER(G16:AG16&""),"⌢",""),"⌣",""),"⌵",""),"－",""),"-","")," ","")," ","")="R"))+SUMPRODUCT(--(SUBSTITUTE(SUBSTITUTE(SUBSTITUTE(SUBSTITUTE(SUBSTITUTE(SUBSTITUTE(SUBSTITUTE(UPPER(G16:AG16&""),"⌢",""),"⌣",""),"⌵",""),"－",""),"-","")," ","")," ","")="HR"))*2 -> 0 | AK16: =COUNTIF(G16:AG16,"K") -> 0 | AL16: =$A16 -> 0 | AQ16: =SUM(AQ3:AQ15) -> 19 | AR16: =SUM(AR3:AR15) -> 1 | AS16: =SUM(AS3:AS15) -> 13 | AT16: =SUM(AT3:AT15) -> 5
A17: =IF($E17="",0,SUMPRODUCT(--(SUBSTITUTE(SUBSTITUTE(SUBSTITUTE(SUBSTITUTE(SUBSTITUTE(SUBSTITUTE(SUBSTITUTE(UPPER($G$23:$I$40&""),"⌢",""),"⌣",""),"⌵",""),"－",""),"-","")," ","")," ","")=UPPER($E17&"")))+SUMPRODUCT(--(SUBSTITUTE(SUBSTITUTE(SUBSTITUTE(SUBSTITUTE(SUBSTITUTE(SUBSTITUTE(SUBSTITUTE(UPPER($G$23:$I$40&""),"⌢",""),"⌣",""),"⌵",""),"－",""),"-","")," ","")," ","")=UPPER($E17&"")&"DP"))*2+SUMPRODUCT(--(SUBSTITUTE(SUBSTITUTE(SUBSTITUTE(SUBSTITUTE(SUBSTITUTE(SUBSTITUTE(SUBSTITUTE(UPPER($G$23:$I$40&""),"⌢",""),"⌣",""),"⌵",""),"－",""),"-","")," ","")," ","")="DP"&UPPER($E17&"")))*2+SUMPRODUCT(--(SUBSTITUTE(SUBSTITUTE(SUBSTITUTE(SUBSTITUTE(SUBSTITUTE(SUBSTITUTE(SUBSTITUTE(UPPER($G$23:$I$40&""),"⌢",""),"⌣",""),"⌵",""),"－",""),"-","")," ","")," ","")=UPPER($E17&"")&"TP"))*3+SUMPRODUCT(--(SUBSTITUTE(SUBSTITUTE(SUBSTITUTE(SUBSTITUTE(SUBSTITUTE(SUBSTITUTE(SUBSTITUTE(UPPER($G$23:$I$40&""),"⌢",""),"⌣",""),"⌵",""),"－",""),"-","")," ","")," ","")="TP"&UPPER($E17&"")))*3+SUMPRODUCT(--(SUBSTITUTE(SUBSTITUTE(SUBSTITUTE(SUBSTITUTE(SUBSTITUTE(SUBSTITUTE(SUBSTITUTE(UPPER($K$23:$M$40&""),"⌢",""),"⌣",""),"⌵",""),"－",""),"-","")," ","")," ","")=UPPER($E17&"")))+SUMPRODUCT(--(SUBSTITUTE(SUBSTITUTE(SUBSTITUTE(SUBSTITUTE(SUBSTITUTE(SUBSTITUTE(SUBSTITUTE(UPPER($K$23:$M$40&""),"⌢",""),"⌣",""),"⌵",""),"－",""),"-","")," ","")," ","")=UPPER($E17&"")&"DP"))*2+SUMPRODUCT(--(SUBSTITUTE(SUBSTITUTE(SUBSTITUTE(SUBSTITUTE(SUBSTITUTE(SUBSTITUTE(SUBSTITUTE(UPPER($K$23:$M$40&""),"⌢",""),"⌣",""),"⌵",""),"－",""),"-","")," ","")," ","")="DP"&UPPER($E17&"")))*2+SUMPRODUCT(--(SUBSTITUTE(SUBSTITUTE(SUBSTITUTE(SUBSTITUTE(SUBSTITUTE(SUBSTITUTE(SUBSTITUTE(UPPER($K$23:$M$40&""),"⌢",""),"⌣",""),"⌵",""),"－",""),"-","")," ","")," ","")=UPPER($E17&"")&"TP"))*3+SUMPRODUCT(--(SUBSTITUTE(SUBSTITUTE(SUBSTITUTE(SUBSTITUTE(SUBSTITUTE(SUBSTITUTE(SUBSTITUTE(UPPER($K$23:$M$40&""),"⌢",""),"⌣",""),"⌵",""),"－",""),"-","")," ","")," ","")="TP"&UPPER($E17&"")))*3+SUMPRODUCT(--(SUBSTITUTE(SUBSTITUTE(SUBSTITUTE(SUBSTITUTE(SUBSTITUTE(SUBSTITUTE(SUBSTITUTE(UPPER($O$23:$Q$40&""),"⌢",""),"⌣",""),"⌵",""),"－",""),"-","")," ","")," ","")=UPPER($E17&"")))+SUMPRODUCT(--(SUBSTITUTE(SUBSTITUTE(SUBSTITUTE(SUBSTITUTE(SUBSTITUTE(SUBSTITUTE(SUBSTITUTE(UPPER($O$23:$Q$40&""),"⌢",""),"⌣",""),"⌵",""),"－",""),"-","")," ","")," ","")=UPPER($E17&"")&"DP"))*2+SUMPRODUCT(--(SUBSTITUTE(SUBSTITUTE(SUBSTITUTE(SUBSTITUTE(SUBSTITUTE(SUBSTITUTE(SUBSTITUTE(UPPER($O$23:$Q$40&""),"⌢",""),"⌣",""),"⌵",""),"－",""),"-","")," ","")," ","")="DP"&UPPER($E17&"")))*2+SUMPRODUCT(--(SUBSTITUTE(SUBSTITUTE(SUBSTITUTE(SUBSTITUTE(SUBSTITUTE(SUBSTITUTE(SUBSTITUTE(UPPER($O$23:$Q$40&""),"⌢",""),"⌣",""),"⌵",""),"－",""),"-","")," ","")," ","")=UPPER($E17&"")&"TP"))*3+SUMPRODUCT(--(SUBSTITUTE(SUBSTITUTE(SUBSTITUTE(SUBSTITUTE(SUBSTITUTE(SUBSTITUTE(SUBSTITUTE(UPPER($O$23:$Q$40&""),"⌢",""),"⌣",""),"⌵",""),"－",""),"-","")," ","")," ","")="TP"&UPPER($E17&"")))*3+SUMPRODUCT(--(SUBSTITUTE(SUBSTITUTE(SUBSTITUTE(SUBSTITUTE(SUBSTITUTE(SUBSTITUTE(SUBSTITUTE(UPPER($S$23:$U$40&""),"⌢",""),"⌣",""),"⌵",""),"－",""),"-","")," ","")," ","")=UPPER($E17&"")))+SUMPRODUCT(--(SUBSTITUTE(SUBSTITUTE(SUBSTITUTE(SUBSTITUTE(SUBSTITUTE(SUBSTITUTE(SUBSTITUTE(UPPER($S$23:$U$40&""),"⌢",""),"⌣",""),"⌵",""),"－",""),"-","")," ","")," ","")=UPPER($E17&"")&"DP"))*2+SUMPRODUCT(--(SUBSTITUTE(SUBSTITUTE(SUBSTITUTE(SUBSTITUTE(SUBSTITUTE(SUBSTITUTE(SUBSTITUTE(UPPER($S$23:$U$40&""),"⌢",""),"⌣",""),"⌵",""),"－",""),"-","")," ","")," ","")="DP"&UPPER($E17&"")))*2+SUMPRODUCT(--(SUBSTITUTE(SUBSTITUTE(SUBSTITUTE(SUBSTITUTE(SUBSTITUTE(SUBSTITUTE(SUBSTITUTE(UPPER($S$23:$U$40&""),"⌢",""),"⌣",""),"⌵",""),"－",""),"-","")," ","")," ","")=UPPER($E17&"")&"TP"))*3+SUMPRODUCT(--(SUBSTITUTE(SUBSTITUTE(SUBSTITUTE(SUBSTITUTE(SUBSTITUTE(SUBSTITUTE(SUBSTITUTE(UPPER($S$23:$U$40&""),"⌢",""),"⌣",""),"⌵",""),"－",""),"-","")," ","")," ","")="TP"&UPPER($E17&"")))*3+SUMPRODUCT(--(SUBSTITUTE(SUBSTITUTE(SUBSTITUTE(SUBSTITUTE(SUBSTITUTE(SUBSTITUTE(SUBSTITUTE(UPPER($W$23:$Y$40&""),"⌢",""),"⌣",""),"⌵",""),"－",""),"-","")," ","")," ","")=UPPER($E17&"")))+SUMPRODUCT(--(SUBSTITUTE(SUBSTITUTE(SUBSTITUTE(SUBSTITUTE(SUBSTITUTE(SUBSTITUTE(SUBSTITUTE(UPPER($W$23:$Y$40&""),"⌢",""),"⌣",""),"⌵",""),"－",""),"-","")," ","")," ","")=UPPER($E17&"")&"DP"))*2+SUMPRODUCT(--(SUBSTITUTE(SUBSTITUTE(SUBSTITUTE(SUBSTITUTE(SUBSTITUTE(SUBSTITUTE(SUBSTITUTE(UPPER($W$23:$Y$40&""),"⌢",""),"⌣",""),"⌵",""),"－",""),"-","")," ","")," ","")="DP"&UPPER($E17&"")))*2+SUMPRODUCT(--(SUBSTITUTE(SUBSTITUTE(SUBSTITUTE(SUBSTITUTE(SUBSTITUTE(SUBSTITUTE(SUBSTITUTE(UPPER($W$23:$Y$40&""),"⌢",""),"⌣",""),"⌵",""),"－",""),"-","")," ","")," ","")=UPPER($E17&"")&"TP"))*3+SUMPRODUCT(--(SUBSTITUTE(SUBSTITUTE(SUBSTITUTE(SUBSTITUTE(SUBSTITUTE(SUBSTITUTE(SUBSTITUTE(UPPER($W$23:$Y$40&""),"⌢",""),"⌣",""),"⌵",""),"－",""),"-","")," ","")," ","")="TP"&UPPER($E17&"")))*3+SUMPRODUCT(--(SUBSTITUTE(SUBSTITUTE(SUBSTITUTE(SUBSTITUTE(SUBSTITUTE(SUBSTITUTE(SUBSTITUTE(UPPER($AA$23:$AC$40&""),"⌢",""),"⌣",""),"⌵",""),"－",""),"-","")," ","")," ","")=UPPER($E17&"")))+SUMPRODUCT(--(SUBSTITUTE(SUBSTITUTE(SUBSTITUTE(SUBSTITUTE(SUBSTITUTE(SUBSTITUTE(SUBSTITUTE(UPPER($AA$23:$AC$40&""),"⌢",""),"⌣",""),"⌵",""),"－",""),"-","")," ","")," ","")=UPPER($E17&"")&"DP"))*2+SUMPRODUCT(--(SUBSTITUTE(SUBSTITUTE(SUBSTITUTE(SUBSTITUTE(SUBSTITUTE(SUBSTITUTE(SUBSTITUTE(UPPER($AA$23:$AC$40&""),"⌢",""),"⌣",""),"⌵",""),"－",""),"-","")," ","")," ","")="DP"&UPPER($E17&"")))*2+SUMPRODUCT(--(SUBSTITUTE(SUBSTITUTE(SUBSTITUTE(SUBSTITUTE(SUBSTITUTE(SUBSTITUTE(SUBSTITUTE(UPPER($AA$23:$AC$40&""),"⌢",""),"⌣",""),"⌵",""),"－",""),"-","")," ","")," ","")=UPPER($E17&"")&"TP"))*3+SUMPRODUCT(--(SUBSTITUTE(SUBSTITUTE(SUBSTITUTE(SUBSTITUTE(SUBSTITUTE(SUBSTITUTE(SUBSTITUTE(UPPER($AA$23:$AC$40&""),"⌢",""),"⌣",""),"⌵",""),"－",""),"-","")," ","")," ","")="TP"&UPPER($E17&"")))*3+SUMPRODUCT(--(SUBSTITUTE(SUBSTITUTE(SUBSTITUTE(SUBSTITUTE(SUBSTITUTE(SUBSTITUTE(SUBSTITUTE(UPPER($AE$23:$AG$40&""),"⌢",""),"⌣",""),"⌵",""),"－",""),"-","")," ","")," ","")=UPPER($E17&"")))+SUMPRODUCT(--(SUBSTITUTE(SUBSTITUTE(SUBSTITUTE(SUBSTITUTE(SUBSTITUTE(SUBSTITUTE(SUBSTITUTE(UPPER($AE$23:$AG$40&""),"⌢",""),"⌣",""),"⌵",""),"－",""),"-","")," ","")," ","")=UPPER($E17&"")&"DP"))*2+SUMPRODUCT(--(SUBSTITUTE(SUBSTITUTE(SUBSTITUTE(SUBSTITUTE(SUBSTITUTE(SUBSTITUTE(SUBSTITUTE(UPPER($AE$23:$AG$40&""),"⌢",""),"⌣",""),"⌵",""),"－",""),"-","")," ","")," ","")="DP"&UPPER($E17&"")))*2+SUMPRODUCT(--(SUBSTITUTE(SUBSTITUTE(SUBSTITUTE(SUBSTITUTE(SUBSTITUTE(SUBSTITUTE(SUBSTITUTE(UPPER($AE$23:$AG$40&""),"⌢",""),"⌣",""),"⌵",""),"－",""),"-","")," ","")," ","")=UPPER($E17&"")&"TP"))*3+SUMPRODUCT(--(SUBSTITUTE(SUBSTITUTE(SUBSTITUTE(SUBSTITUTE(SUBSTITUTE(SUBSTITUTE(SUBSTITUTE(UPPER($AE$23:$AG$40&""),"⌢",""),"⌣",""),"⌵",""),"－",""),"-","")," ","")," ","")="TP"&UPPER($E17&"")))*3) -> 0 | AI17: =COUNTA(G17:I17,K17:M17,O17:Q17,S17:U17,W17:Y17,AA17:AC17,AE17:AG17) -> 0 | AJ17: =SUMPRODUCT(--(SUBSTITUTE(SUBSTITUTE(SUBSTITUTE(SUBSTITUTE(SUBSTITUTE(SUBSTITUTE(SUBSTITUTE(UPPER(G17:AG17&""),"⌢",""),"⌣",""),"⌵",""),"－",""),"-","")," ","")," ","")="R"))+SUMPRODUCT(--(SUBSTITUTE(SUBSTITUTE(SUBSTITUTE(SUBSTITUTE(SUBSTITUTE(SUBSTITUTE(SUBSTITUTE(UPPER(G17:AG17&""),"⌢",""),"⌣",""),"⌵",""),"－",""),"-","")," ","")," ","")="HR"))*2 -> 0 | AK17: =COUNTIF(G17:AG17,"K") -> 0 | AL17: =$A17 -> 0
A18: =IF($E18="",0,SUMPRODUCT(--(SUBSTITUTE(SUBSTITUTE(SUBSTITUTE(SUBSTITUTE(SUBSTITUTE(SUBSTITUTE(SUBSTITUTE(UPPER($G$23:$I$40&""),"⌢",""),"⌣",""),"⌵",""),"－",""),"-","")," ","")," ","")=UPPER($E18&"")))+SUMPRODUCT(--(SUBSTITUTE(SUBSTITUTE(SUBSTITUTE(SUBSTITUTE(SUBSTITUTE(SUBSTITUTE(SUBSTITUTE(UPPER($G$23:$I$40&""),"⌢",""),"⌣",""),"⌵",""),"－",""),"-","")," ","")," ","")=UPPER($E18&"")&"DP"))*2+SUMPRODUCT(--(SUBSTITUTE(SUBSTITUTE(SUBSTITUTE(SUBSTITUTE(SUBSTITUTE(SUBSTITUTE(SUBSTITUTE(UPPER($G$23:$I$40&""),"⌢",""),"⌣",""),"⌵",""),"－",""),"-","")," ","")," ","")="DP"&UPPER($E18&"")))*2+SUMPRODUCT(--(SUBSTITUTE(SUBSTITUTE(SUBSTITUTE(SUBSTITUTE(SUBSTITUTE(SUBSTITUTE(SUBSTITUTE(UPPER($G$23:$I$40&""),"⌢",""),"⌣",""),"⌵",""),"－",""),"-","")," ","")," ","")=UPPER($E18&"")&"TP"))*3+SUMPRODUCT(--(SUBSTITUTE(SUBSTITUTE(SUBSTITUTE(SUBSTITUTE(SUBSTITUTE(SUBSTITUTE(SUBSTITUTE(UPPER($G$23:$I$40&""),"⌢",""),"⌣",""),"⌵",""),"－",""),"-","")," ","")," ","")="TP"&UPPER($E18&"")))*3+SUMPRODUCT(--(SUBSTITUTE(SUBSTITUTE(SUBSTITUTE(SUBSTITUTE(SUBSTITUTE(SUBSTITUTE(SUBSTITUTE(UPPER($K$23:$M$40&""),"⌢",""),"⌣",""),"⌵",""),"－",""),"-","")," ","")," ","")=UPPER($E18&"")))+SUMPRODUCT(--(SUBSTITUTE(SUBSTITUTE(SUBSTITUTE(SUBSTITUTE(SUBSTITUTE(SUBSTITUTE(SUBSTITUTE(UPPER($K$23:$M$40&""),"⌢",""),"⌣",""),"⌵",""),"－",""),"-","")," ","")," ","")=UPPER($E18&"")&"DP"))*2+SUMPRODUCT(--(SUBSTITUTE(SUBSTITUTE(SUBSTITUTE(SUBSTITUTE(SUBSTITUTE(SUBSTITUTE(SUBSTITUTE(UPPER($K$23:$M$40&""),"⌢",""),"⌣",""),"⌵",""),"－",""),"-","")," ","")," ","")="DP"&UPPER($E18&"")))*2+SUMPRODUCT(--(SUBSTITUTE(SUBSTITUTE(SUBSTITUTE(SUBSTITUTE(SUBSTITUTE(SUBSTITUTE(SUBSTITUTE(UPPER($K$23:$M$40&""),"⌢",""),"⌣",""),"⌵",""),"－",""),"-","")," ","")," ","")=UPPER($E18&"")&"TP"))*3+SUMPRODUCT(--(SUBSTITUTE(SUBSTITUTE(SUBSTITUTE(SUBSTITUTE(SUBSTITUTE(SUBSTITUTE(SUBSTITUTE(UPPER($K$23:$M$40&""),"⌢",""),"⌣",""),"⌵",""),"－",""),"-","")," ","")," ","")="TP"&UPPER($E18&"")))*3+SUMPRODUCT(--(SUBSTITUTE(SUBSTITUTE(SUBSTITUTE(SUBSTITUTE(SUBSTITUTE(SUBSTITUTE(SUBSTITUTE(UPPER($O$23:$Q$40&""),"⌢",""),"⌣",""),"⌵",""),"－",""),"-","")," ","")," ","")=UPPER($E18&"")))+SUMPRODUCT(--(SUBSTITUTE(SUBSTITUTE(SUBSTITUTE(SUBSTITUTE(SUBSTITUTE(SUBSTITUTE(SUBSTITUTE(UPPER($O$23:$Q$40&""),"⌢",""),"⌣",""),"⌵",""),"－",""),"-","")," ","")," ","")=UPPER($E18&"")&"DP"))*2+SUMPRODUCT(--(SUBSTITUTE(SUBSTITUTE(SUBSTITUTE(SUBSTITUTE(SUBSTITUTE(SUBSTITUTE(SUBSTITUTE(UPPER($O$23:$Q$40&""),"⌢",""),"⌣",""),"⌵",""),"－",""),"-","")," ","")," ","")="DP"&UPPER($E18&"")))*2+SUMPRODUCT(--(SUBSTITUTE(SUBSTITUTE(SUBSTITUTE(SUBSTITUTE(SUBSTITUTE(SUBSTITUTE(SUBSTITUTE(UPPER($O$23:$Q$40&""),"⌢",""),"⌣",""),"⌵",""),"－",""),"-","")," ","")," ","")=UPPER($E18&"")&"TP"))*3+SUMPRODUCT(--(SUBSTITUTE(SUBSTITUTE(SUBSTITUTE(SUBSTITUTE(SUBSTITUTE(SUBSTITUTE(SUBSTITUTE(UPPER($O$23:$Q$40&""),"⌢",""),"⌣",""),"⌵",""),"－",""),"-","")," ","")," ","")="TP"&UPPER($E18&"")))*3+SUMPRODUCT(--(SUBSTITUTE(SUBSTITUTE(SUBSTITUTE(SUBSTITUTE(SUBSTITUTE(SUBSTITUTE(SUBSTITUTE(UPPER($S$23:$U$40&""),"⌢",""),"⌣",""),"⌵",""),"－",""),"-","")," ","")," ","")=UPPER($E18&"")))+SUMPRODUCT(--(SUBSTITUTE(SUBSTITUTE(SUBSTITUTE(SUBSTITUTE(SUBSTITUTE(SUBSTITUTE(SUBSTITUTE(UPPER($S$23:$U$40&""),"⌢",""),"⌣",""),"⌵",""),"－",""),"-","")," ","")," ","")=UPPER($E18&"")&"DP"))*2+SUMPRODUCT(--(SUBSTITUTE(SUBSTITUTE(SUBSTITUTE(SUBSTITUTE(SUBSTITUTE(SUBSTITUTE(SUBSTITUTE(UPPER($S$23:$U$40&""),"⌢",""),"⌣",""),"⌵",""),"－",""),"-","")," ","")," ","")="DP"&UPPER($E18&"")))*2+SUMPRODUCT(--(SUBSTITUTE(SUBSTITUTE(SUBSTITUTE(SUBSTITUTE(SUBSTITUTE(SUBSTITUTE(SUBSTITUTE(UPPER($S$23:$U$40&""),"⌢",""),"⌣",""),"⌵",""),"－",""),"-","")," ","")," ","")=UPPER($E18&"")&"TP"))*3+SUMPRODUCT(--(SUBSTITUTE(SUBSTITUTE(SUBSTITUTE(SUBSTITUTE(SUBSTITUTE(SUBSTITUTE(SUBSTITUTE(UPPER($S$23:$U$40&""),"⌢",""),"⌣",""),"⌵",""),"－",""),"-","")," ","")," ","")="TP"&UPPER($E18&"")))*3+SUMPRODUCT(--(SUBSTITUTE(SUBSTITUTE(SUBSTITUTE(SUBSTITUTE(SUBSTITUTE(SUBSTITUTE(SUBSTITUTE(UPPER($W$23:$Y$40&""),"⌢",""),"⌣",""),"⌵",""),"－",""),"-","")," ","")," ","")=UPPER($E18&"")))+SUMPRODUCT(--(SUBSTITUTE(SUBSTITUTE(SUBSTITUTE(SUBSTITUTE(SUBSTITUTE(SUBSTITUTE(SUBSTITUTE(UPPER($W$23:$Y$40&""),"⌢",""),"⌣",""),"⌵",""),"－",""),"-","")," ","")," ","")=UPPER($E18&"")&"DP"))*2+SUMPRODUCT(--(SUBSTITUTE(SUBSTITUTE(SUBSTITUTE(SUBSTITUTE(SUBSTITUTE(SUBSTITUTE(SUBSTITUTE(UPPER($W$23:$Y$40&""),"⌢",""),"⌣",""),"⌵",""),"－",""),"-","")," ","")," ","")="DP"&UPPER($E18&"")))*2+SUMPRODUCT(--(SUBSTITUTE(SUBSTITUTE(SUBSTITUTE(SUBSTITUTE(SUBSTITUTE(SUBSTITUTE(SUBSTITUTE(UPPER($W$23:$Y$40&""),"⌢",""),"⌣",""),"⌵",""),"－",""),"-","")," ","")," ","")=UPPER($E18&"")&"TP"))*3+SUMPRODUCT(--(SUBSTITUTE(SUBSTITUTE(SUBSTITUTE(SUBSTITUTE(SUBSTITUTE(SUBSTITUTE(SUBSTITUTE(UPPER($W$23:$Y$40&""),"⌢",""),"⌣",""),"⌵",""),"－",""),"-","")," ","")," ","")="TP"&UPPER($E18&"")))*3+SUMPRODUCT(--(SUBSTITUTE(SUBSTITUTE(SUBSTITUTE(SUBSTITUTE(SUBSTITUTE(SUBSTITUTE(SUBSTITUTE(UPPER($AA$23:$AC$40&""),"⌢",""),"⌣",""),"⌵",""),"－",""),"-","")," ","")," ","")=UPPER($E18&"")))+SUMPRODUCT(--(SUBSTITUTE(SUBSTITUTE(SUBSTITUTE(SUBSTITUTE(SUBSTITUTE(SUBSTITUTE(SUBSTITUTE(UPPER($AA$23:$AC$40&""),"⌢",""),"⌣",""),"⌵",""),"－",""),"-","")," ","")," ","")=UPPER($E18&"")&"DP"))*2+SUMPRODUCT(--(SUBSTITUTE(SUBSTITUTE(SUBSTITUTE(SUBSTITUTE(SUBSTITUTE(SUBSTITUTE(SUBSTITUTE(UPPER($AA$23:$AC$40&""),"⌢",""),"⌣",""),"⌵",""),"－",""),"-","")," ","")," ","")="DP"&UPPER($E18&"")))*2+SUMPRODUCT(--(SUBSTITUTE(SUBSTITUTE(SUBSTITUTE(SUBSTITUTE(SUBSTITUTE(SUBSTITUTE(SUBSTITUTE(UPPER($AA$23:$AC$40&""),"⌢",""),"⌣",""),"⌵",""),"－",""),"-","")," ","")," ","")=UPPER($E18&"")&"TP"))*3+SUMPRODUCT(--(SUBSTITUTE(SUBSTITUTE(SUBSTITUTE(SUBSTITUTE(SUBSTITUTE(SUBSTITUTE(SUBSTITUTE(UPPER($AA$23:$AC$40&""),"⌢",""),"⌣",""),"⌵",""),"－",""),"-","")," ","")," ","")="TP"&UPPER($E18&"")))*3+SUMPRODUCT(--(SUBSTITUTE(SUBSTITUTE(SUBSTITUTE(SUBSTITUTE(SUBSTITUTE(SUBSTITUTE(SUBSTITUTE(UPPER($AE$23:$AG$40&""),"⌢",""),"⌣",""),"⌵",""),"－",""),"-","")," ","")," ","")=UPPER($E18&"")))+SUMPRODUCT(--(SUBSTITUTE(SUBSTITUTE(SUBSTITUTE(SUBSTITUTE(SUBSTITUTE(SUBSTITUTE(SUBSTITUTE(UPPER($AE$23:$AG$40&""),"⌢",""),"⌣",""),"⌵",""),"－",""),"-","")," ","")," ","")=UPPER($E18&"")&"DP"))*2+SUMPRODUCT(--(SUBSTITUTE(SUBSTITUTE(SUBSTITUTE(SUBSTITUTE(SUBSTITUTE(SUBSTITUTE(SUBSTITUTE(UPPER($AE$23:$AG$40&""),"⌢",""),"⌣",""),"⌵",""),"－",""),"-","")," ","")," ","")="DP"&UPPER($E18&"")))*2+SUMPRODUCT(--(SUBSTITUTE(SUBSTITUTE(SUBSTITUTE(SUBSTITUTE(SUBSTITUTE(SUBSTITUTE(SUBSTITUTE(UPPER($AE$23:$AG$40&""),"⌢",""),"⌣",""),"⌵",""),"－",""),"-","")," ","")," ","")=UPPER($E18&"")&"TP"))*3+SUMPRODUCT(--(SUBSTITUTE(SUBSTITUTE(SUBSTITUTE(SUBSTITUTE(SUBSTITUTE(SUBSTITUTE(SUBSTITUTE(UPPER($AE$23:$AG$40&""),"⌢",""),"⌣",""),"⌵",""),"－",""),"-","")," ","")," ","")="TP"&UPPER($E18&"")))*3) -> 0 | D18: 6 | E18: 30 | F18: 黃雅苓 | K18: 8 ⌣ | S18: K | AA18: K | AI18: =COUNTA(G18:I18,K18:M18,O18:Q18,S18:U18,W18:Y18,AA18:AC18,AE18:AG18) -> 3 | AJ18: =SUMPRODUCT(--(SUBSTITUTE(SUBSTITUTE(SUBSTITUTE(SUBSTITUTE(SUBSTITUTE(SUBSTITUTE(SUBSTITUTE(UPPER(G18:AG18&""),"⌢",""),"⌣",""),"⌵",""),"－",""),"-","")," ","")," ","")="R"))+SUMPRODUCT(--(SUBSTITUTE(SUBSTITUTE(SUBSTITUTE(SUBSTITUTE(SUBSTITUTE(SUBSTITUTE(SUBSTITUTE(UPPER(G18:AG18&""),"⌢",""),"⌣",""),"⌵",""),"－",""),"-","")," ","")," ","")="HR"))*2 -> 0 | AK18: =COUNTIF(G18:AG18,"K") -> 2 | AL18: =$A18 -> 0
A19: =IF($E19="",0,SUMPRODUCT(--(SUBSTITUTE(SUBSTITUTE(SUBSTITUTE(SUBSTITUTE(SUBSTITUTE(SUBSTITUTE(SUBSTITUTE(UPPER($G$23:$I$40&""),"⌢",""),"⌣",""),"⌵",""),"－",""),"-","")," ","")," ","")=UPPER($E19&"")))+SUMPRODUCT(--(SUBSTITUTE(SUBSTITUTE(SUBSTITUTE(SUBSTITUTE(SUBSTITUTE(SUBSTITUTE(SUBSTITUTE(UPPER($G$23:$I$40&""),"⌢",""),"⌣",""),"⌵",""),"－",""),"-","")," ","")," ","")=UPPER($E19&"")&"DP"))*2+SUMPRODUCT(--(SUBSTITUTE(SUBSTITUTE(SUBSTITUTE(SUBSTITUTE(SUBSTITUTE(SUBSTITUTE(SUBSTITUTE(UPPER($G$23:$I$40&""),"⌢",""),"⌣",""),"⌵",""),"－",""),"-","")," ","")," ","")="DP"&UPPER($E19&"")))*2+SUMPRODUCT(--(SUBSTITUTE(SUBSTITUTE(SUBSTITUTE(SUBSTITUTE(SUBSTITUTE(SUBSTITUTE(SUBSTITUTE(UPPER($G$23:$I$40&""),"⌢",""),"⌣",""),"⌵",""),"－",""),"-","")," ","")," ","")=UPPER($E19&"")&"TP"))*3+SUMPRODUCT(--(SUBSTITUTE(SUBSTITUTE(SUBSTITUTE(SUBSTITUTE(SUBSTITUTE(SUBSTITUTE(SUBSTITUTE(UPPER($G$23:$I$40&""),"⌢",""),"⌣",""),"⌵",""),"－",""),"-","")," ","")," ","")="TP"&UPPER($E19&"")))*3+SUMPRODUCT(--(SUBSTITUTE(SUBSTITUTE(SUBSTITUTE(SUBSTITUTE(SUBSTITUTE(SUBSTITUTE(SUBSTITUTE(UPPER($K$23:$M$40&""),"⌢",""),"⌣",""),"⌵",""),"－",""),"-","")," ","")," ","")=UPPER($E19&"")))+SUMPRODUCT(--(SUBSTITUTE(SUBSTITUTE(SUBSTITUTE(SUBSTITUTE(SUBSTITUTE(SUBSTITUTE(SUBSTITUTE(UPPER($K$23:$M$40&""),"⌢",""),"⌣",""),"⌵",""),"－",""),"-","")," ","")," ","")=UPPER($E19&"")&"DP"))*2+SUMPRODUCT(--(SUBSTITUTE(SUBSTITUTE(SUBSTITUTE(SUBSTITUTE(SUBSTITUTE(SUBSTITUTE(SUBSTITUTE(UPPER($K$23:$M$40&""),"⌢",""),"⌣",""),"⌵",""),"－",""),"-","")," ","")," ","")="DP"&UPPER($E19&"")))*2+SUMPRODUCT(--(SUBSTITUTE(SUBSTITUTE(SUBSTITUTE(SUBSTITUTE(SUBSTITUTE(SUBSTITUTE(SUBSTITUTE(UPPER($K$23:$M$40&""),"⌢",""),"⌣",""),"⌵",""),"－",""),"-","")," ","")," ","")=UPPER($E19&"")&"TP"))*3+SUMPRODUCT(--(SUBSTITUTE(SUBSTITUTE(SUBSTITUTE(SUBSTITUTE(SUBSTITUTE(SUBSTITUTE(SUBSTITUTE(UPPER($K$23:$M$40&""),"⌢",""),"⌣",""),"⌵",""),"－",""),"-","")," ","")," ","")="TP"&UPPER($E19&"")))*3+SUMPRODUCT(--(SUBSTITUTE(SUBSTITUTE(SUBSTITUTE(SUBSTITUTE(SUBSTITUTE(SUBSTITUTE(SUBSTITUTE(UPPER($O$23:$Q$40&""),"⌢",""),"⌣",""),"⌵",""),"－",""),"-","")," ","")," ","")=UPPER($E19&"")))+SUMPRODUCT(--(SUBSTITUTE(SUBSTITUTE(SUBSTITUTE(SUBSTITUTE(SUBSTITUTE(SUBSTITUTE(SUBSTITUTE(UPPER($O$23:$Q$40&""),"⌢",""),"⌣",""),"⌵",""),"－",""),"-","")," ","")," ","")=UPPER($E19&"")&"DP"))*2+SUMPRODUCT(--(SUBSTITUTE(SUBSTITUTE(SUBSTITUTE(SUBSTITUTE(SUBSTITUTE(SUBSTITUTE(SUBSTITUTE(UPPER($O$23:$Q$40&""),"⌢",""),"⌣",""),"⌵",""),"－",""),"-","")," ","")," ","")="DP"&UPPER($E19&"")))*2+SUMPRODUCT(--(SUBSTITUTE(SUBSTITUTE(SUBSTITUTE(SUBSTITUTE(SUBSTITUTE(SUBSTITUTE(SUBSTITUTE(UPPER($O$23:$Q$40&""),"⌢",""),"⌣",""),"⌵",""),"－",""),"-","")," ","")," ","")=UPPER($E19&"")&"TP"))*3+SUMPRODUCT(--(SUBSTITUTE(SUBSTITUTE(SUBSTITUTE(SUBSTITUTE(SUBSTITUTE(SUBSTITUTE(SUBSTITUTE(UPPER($O$23:$Q$40&""),"⌢",""),"⌣",""),"⌵",""),"－",""),"-","")," ","")," ","")="TP"&UPPER($E19&"")))*3+SUMPRODUCT(--(SUBSTITUTE(SUBSTITUTE(SUBSTITUTE(SUBSTITUTE(SUBSTITUTE(SUBSTITUTE(SUBSTITUTE(UPPER($S$23:$U$40&""),"⌢",""),"⌣",""),"⌵",""),"－",""),"-","")," ","")," ","")=UPPER($E19&"")))+SUMPRODUCT(--(SUBSTITUTE(SUBSTITUTE(SUBSTITUTE(SUBSTITUTE(SUBSTITUTE(SUBSTITUTE(SUBSTITUTE(UPPER($S$23:$U$40&""),"⌢",""),"⌣",""),"⌵",""),"－",""),"-","")," ","")," ","")=UPPER($E19&"")&"DP"))*2+SUMPRODUCT(--(SUBSTITUTE(SUBSTITUTE(SUBSTITUTE(SUBSTITUTE(SUBSTITUTE(SUBSTITUTE(SUBSTITUTE(UPPER($S$23:$U$40&""),"⌢",""),"⌣",""),"⌵",""),"－",""),"-","")," ","")," ","")="DP"&UPPER($E19&"")))*2+SUMPRODUCT(--(SUBSTITUTE(SUBSTITUTE(SUBSTITUTE(SUBSTITUTE(SUBSTITUTE(SUBSTITUTE(SUBSTITUTE(UPPER($S$23:$U$40&""),"⌢",""),"⌣",""),"⌵",""),"－",""),"-","")," ","")," ","")=UPPER($E19&"")&"TP"))*3+SUMPRODUCT(--(SUBSTITUTE(SUBSTITUTE(SUBSTITUTE(SUBSTITUTE(SUBSTITUTE(SUBSTITUTE(SUBSTITUTE(UPPER($S$23:$U$40&""),"⌢",""),"⌣",""),"⌵",""),"－",""),"-","")," ","")," ","")="TP"&UPPER($E19&"")))*3+SUMPRODUCT(--(SUBSTITUTE(SUBSTITUTE(SUBSTITUTE(SUBSTITUTE(SUBSTITUTE(SUBSTITUTE(SUBSTITUTE(UPPER($W$23:$Y$40&""),"⌢",""),"⌣",""),"⌵",""),"－",""),"-","")," ","")," ","")=UPPER($E19&"")))+SUMPRODUCT(--(SUBSTITUTE(SUBSTITUTE(SUBSTITUTE(SUBSTITUTE(SUBSTITUTE(SUBSTITUTE(SUBSTITUTE(UPPER($W$23:$Y$40&""),"⌢",""),"⌣",""),"⌵",""),"－",""),"-","")," ","")," ","")=UPPER($E19&"")&"DP"))*2+SUMPRODUCT(--(SUBSTITUTE(SUBSTITUTE(SUBSTITUTE(SUBSTITUTE(SUBSTITUTE(SUBSTITUTE(SUBSTITUTE(UPPER($W$23:$Y$40&""),"⌢",""),"⌣",""),"⌵",""),"－",""),"-","")," ","")," ","")="DP"&UPPER($E19&"")))*2+SUMPRODUCT(--(SUBSTITUTE(SUBSTITUTE(SUBSTITUTE(SUBSTITUTE(SUBSTITUTE(SUBSTITUTE(SUBSTITUTE(UPPER($W$23:$Y$40&""),"⌢",""),"⌣",""),"⌵",""),"－",""),"-","")," ","")," ","")=UPPER($E19&"")&"TP"))*3+SUMPRODUCT(--(SUBSTITUTE(SUBSTITUTE(SUBSTITUTE(SUBSTITUTE(SUBSTITUTE(SUBSTITUTE(SUBSTITUTE(UPPER($W$23:$Y$40&""),"⌢",""),"⌣",""),"⌵",""),"－",""),"-","")," ","")," ","")="TP"&UPPER($E19&"")))*3+SUMPRODUCT(--(SUBSTITUTE(SUBSTITUTE(SUBSTITUTE(SUBSTITUTE(SUBSTITUTE(SUBSTITUTE(SUBSTITUTE(UPPER($AA$23:$AC$40&""),"⌢",""),"⌣",""),"⌵",""),"－",""),"-","")," ","")," ","")=UPPER($E19&"")))+SUMPRODUCT(--(SUBSTITUTE(SUBSTITUTE(SUBSTITUTE(SUBSTITUTE(SUBSTITUTE(SUBSTITUTE(SUBSTITUTE(UPPER($AA$23:$AC$40&""),"⌢",""),"⌣",""),"⌵",""),"－",""),"-","")," ","")," ","")=UPPER($E19&"")&"DP"))*2+SUMPRODUCT(--(SUBSTITUTE(SUBSTITUTE(SUBSTITUTE(SUBSTITUTE(SUBSTITUTE(SUBSTITUTE(SUBSTITUTE(UPPER($AA$23:$AC$40&""),"⌢",""),"⌣",""),"⌵",""),"－",""),"-","")," ","")," ","")="DP"&UPPER($E19&"")))*2+SUMPRODUCT(--(SUBSTITUTE(SUBSTITUTE(SUBSTITUTE(SUBSTITUTE(SUBSTITUTE(SUBSTITUTE(SUBSTITUTE(UPPER($AA$23:$AC$40&""),"⌢",""),"⌣",""),"⌵",""),"－",""),"-","")," ","")," ","")=UPPER($E19&"")&"TP"))*3+SUMPRODUCT(--(SUBSTITUTE(SUBSTITUTE(SUBSTITUTE(SUBSTITUTE(SUBSTITUTE(SUBSTITUTE(SUBSTITUTE(UPPER($AA$23:$AC$40&""),"⌢",""),"⌣",""),"⌵",""),"－",""),"-","")," ","")," ","")="TP"&UPPER($E19&"")))*3+SUMPRODUCT(--(SUBSTITUTE(SUBSTITUTE(SUBSTITUTE(SUBSTITUTE(SUBSTITUTE(SUBSTITUTE(SUBSTITUTE(UPPER($AE$23:$AG$40&""),"⌢",""),"⌣",""),"⌵",""),"－",""),"-","")," ","")," ","")=UPPER($E19&"")))+SUMPRODUCT(--(SUBSTITUTE(SUBSTITUTE(SUBSTITUTE(SUBSTITUTE(SUBSTITUTE(SUBSTITUTE(SUBSTITUTE(UPPER($AE$23:$AG$40&""),"⌢",""),"⌣",""),"⌵",""),"－",""),"-","")," ","")," ","")=UPPER($E19&"")&"DP"))*2+SUMPRODUCT(--(SUBSTITUTE(SUBSTITUTE(SUBSTITUTE(SUBSTITUTE(SUBSTITUTE(SUBSTITUTE(SUBSTITUTE(UPPER($AE$23:$AG$40&""),"⌢",""),"⌣",""),"⌵",""),"－",""),"-","")," ","")," ","")="DP"&UPPER($E19&"")))*2+SUMPRODUCT(--(SUBSTITUTE(SUBSTITUTE(SUBSTITUTE(SUBSTITUTE(SUBSTITUTE(SUBSTITUTE(SUBSTITUTE(UPPER($AE$23:$AG$40&""),"⌢",""),"⌣",""),"⌵",""),"－",""),"-","")," ","")," ","")=UPPER($E19&"")&"TP"))*3+SUMPRODUCT(--(SUBSTITUTE(SUBSTITUTE(SUBSTITUTE(SUBSTITUTE(SUBSTITUTE(SUBSTITUTE(SUBSTITUTE(UPPER($AE$23:$AG$40&""),"⌢",""),"⌣",""),"⌵",""),"－",""),"-","")," ","")," ","")="TP"&UPPER($E19&"")))*3) -> 0 | AI19: =COUNTA(G19:I19,K19:M19,O19:Q19,S19:U19,W19:Y19,AA19:AC19,AE19:AG19) -> 0 | AJ19: =SUMPRODUCT(--(SUBSTITUTE(SUBSTITUTE(SUBSTITUTE(SUBSTITUTE(SUBSTITUTE(SUBSTITUTE(SUBSTITUTE(UPPER(G19:AG19&""),"⌢",""),"⌣",""),"⌵",""),"－",""),"-","")," ","")," ","")="R"))+SUMPRODUCT(--(SUBSTITUTE(SUBSTITUTE(SUBSTITUTE(SUBSTITUTE(SUBSTITUTE(SUBSTITUTE(SUBSTITUTE(UPPER(G19:AG19&""),"⌢",""),"⌣",""),"⌵",""),"－",""),"-","")," ","")," ","")="HR"))*2 -> 0 | AK19: =COUNTIF(G19:AG19,"K") -> 0 | AL19: =$A19 -> 0
A20: =IF($E20="",0,SUMPRODUCT(--(SUBSTITUTE(SUBSTITUTE(SUBSTITUTE(SUBSTITUTE(SUBSTITUTE(SUBSTITUTE(SUBSTITUTE(UPPER($G$23:$I$40&""),"⌢",""),"⌣",""),"⌵",""),"－",""),"-","")," ","")," ","")=UPPER($E20&"")))+SUMPRODUCT(--(SUBSTITUTE(SUBSTITUTE(SUBSTITUTE(SUBSTITUTE(SUBSTITUTE(SUBSTITUTE(SUBSTITUTE(UPPER($G$23:$I$40&""),"⌢",""),"⌣",""),"⌵",""),"－",""),"-","")," ","")," ","")=UPPER($E20&"")&"DP"))*2+SUMPRODUCT(--(SUBSTITUTE(SUBSTITUTE(SUBSTITUTE(SUBSTITUTE(SUBSTITUTE(SUBSTITUTE(SUBSTITUTE(UPPER($G$23:$I$40&""),"⌢",""),"⌣",""),"⌵",""),"－",""),"-","")," ","")," ","")="DP"&UPPER($E20&"")))*2+SUMPRODUCT(--(SUBSTITUTE(SUBSTITUTE(SUBSTITUTE(SUBSTITUTE(SUBSTITUTE(SUBSTITUTE(SUBSTITUTE(UPPER($G$23:$I$40&""),"⌢",""),"⌣",""),"⌵",""),"－",""),"-","")," ","")," ","")=UPPER($E20&"")&"TP"))*3+SUMPRODUCT(--(SUBSTITUTE(SUBSTITUTE(SUBSTITUTE(SUBSTITUTE(SUBSTITUTE(SUBSTITUTE(SUBSTITUTE(UPPER($G$23:$I$40&""),"⌢",""),"⌣",""),"⌵",""),"－",""),"-","")," ","")," ","")="TP"&UPPER($E20&"")))*3+SUMPRODUCT(--(SUBSTITUTE(SUBSTITUTE(SUBSTITUTE(SUBSTITUTE(SUBSTITUTE(SUBSTITUTE(SUBSTITUTE(UPPER($K$23:$M$40&""),"⌢",""),"⌣",""),"⌵",""),"－",""),"-","")," ","")," ","")=UPPER($E20&"")))+SUMPRODUCT(--(SUBSTITUTE(SUBSTITUTE(SUBSTITUTE(SUBSTITUTE(SUBSTITUTE(SUBSTITUTE(SUBSTITUTE(UPPER($K$23:$M$40&""),"⌢",""),"⌣",""),"⌵",""),"－",""),"-","")," ","")," ","")=UPPER($E20&"")&"DP"))*2+SUMPRODUCT(--(SUBSTITUTE(SUBSTITUTE(SUBSTITUTE(SUBSTITUTE(SUBSTITUTE(SUBSTITUTE(SUBSTITUTE(UPPER($K$23:$M$40&""),"⌢",""),"⌣",""),"⌵",""),"－",""),"-","")," ","")," ","")="DP"&UPPER($E20&"")))*2+SUMPRODUCT(--(SUBSTITUTE(SUBSTITUTE(SUBSTITUTE(SUBSTITUTE(SUBSTITUTE(SUBSTITUTE(SUBSTITUTE(UPPER($K$23:$M$40&""),"⌢",""),"⌣",""),"⌵",""),"－",""),"-","")," ","")," ","")=UPPER($E20&"")&"TP"))*3+SUMPRODUCT(--(SUBSTITUTE(SUBSTITUTE(SUBSTITUTE(SUBSTITUTE(SUBSTITUTE(SUBSTITUTE(SUBSTITUTE(UPPER($K$23:$M$40&""),"⌢",""),"⌣",""),"⌵",""),"－",""),"-","")," ","")," ","")="TP"&UPPER($E20&"")))*3+SUMPRODUCT(--(SUBSTITUTE(SUBSTITUTE(SUBSTITUTE(SUBSTITUTE(SUBSTITUTE(SUBSTITUTE(SUBSTITUTE(UPPER($O$23:$Q$40&""),"⌢",""),"⌣",""),"⌵",""),"－",""),"-","")," ","")," ","")=UPPER($E20&"")))+SUMPRODUCT(--(SUBSTITUTE(SUBSTITUTE(SUBSTITUTE(SUBSTITUTE(SUBSTITUTE(SUBSTITUTE(SUBSTITUTE(UPPER($O$23:$Q$40&""),"⌢",""),"⌣",""),"⌵",""),"－",""),"-","")," ","")," ","")=UPPER($E20&"")&"DP"))*2+SUMPRODUCT(--(SUBSTITUTE(SUBSTITUTE(SUBSTITUTE(SUBSTITUTE(SUBSTITUTE(SUBSTITUTE(SUBSTITUTE(UPPER($O$23:$Q$40&""),"⌢",""),"⌣",""),"⌵",""),"－",""),"-","")," ","")," ","")="DP"&UPPER($E20&"")))*2+SUMPRODUCT(--(SUBSTITUTE(SUBSTITUTE(SUBSTITUTE(SUBSTITUTE(SUBSTITUTE(SUBSTITUTE(SUBSTITUTE(UPPER($O$23:$Q$40&""),"⌢",""),"⌣",""),"⌵",""),"－",""),"-","")," ","")," ","")=UPPER($E20&"")&"TP"))*3+SUMPRODUCT(--(SUBSTITUTE(SUBSTITUTE(SUBSTITUTE(SUBSTITUTE(SUBSTITUTE(SUBSTITUTE(SUBSTITUTE(UPPER($O$23:$Q$40&""),"⌢",""),"⌣",""),"⌵",""),"－",""),"-","")," ","")," ","")="TP"&UPPER($E20&"")))*3+SUMPRODUCT(--(SUBSTITUTE(SUBSTITUTE(SUBSTITUTE(SUBSTITUTE(SUBSTITUTE(SUBSTITUTE(SUBSTITUTE(UPPER($S$23:$U$40&""),"⌢",""),"⌣",""),"⌵",""),"－",""),"-","")," ","")," ","")=UPPER($E20&"")))+SUMPRODUCT(--(SUBSTITUTE(SUBSTITUTE(SUBSTITUTE(SUBSTITUTE(SUBSTITUTE(SUBSTITUTE(SUBSTITUTE(UPPER($S$23:$U$40&""),"⌢",""),"⌣",""),"⌵",""),"－",""),"-","")," ","")," ","")=UPPER($E20&"")&"DP"))*2+SUMPRODUCT(--(SUBSTITUTE(SUBSTITUTE(SUBSTITUTE(SUBSTITUTE(SUBSTITUTE(SUBSTITUTE(SUBSTITUTE(UPPER($S$23:$U$40&""),"⌢",""),"⌣",""),"⌵",""),"－",""),"-","")," ","")," ","")="DP"&UPPER($E20&"")))*2+SUMPRODUCT(--(SUBSTITUTE(SUBSTITUTE(SUBSTITUTE(SUBSTITUTE(SUBSTITUTE(SUBSTITUTE(SUBSTITUTE(UPPER($S$23:$U$40&""),"⌢",""),"⌣",""),"⌵",""),"－",""),"-","")," ","")," ","")=UPPER($E20&"")&"TP"))*3+SUMPRODUCT(--(SUBSTITUTE(SUBSTITUTE(SUBSTITUTE(SUBSTITUTE(SUBSTITUTE(SUBSTITUTE(SUBSTITUTE(UPPER($S$23:$U$40&""),"⌢",""),"⌣",""),"⌵",""),"－",""),"-","")," ","")," ","")="TP"&UPPER($E20&"")))*3+SUMPRODUCT(--(SUBSTITUTE(SUBSTITUTE(SUBSTITUTE(SUBSTITUTE(SUBSTITUTE(SUBSTITUTE(SUBSTITUTE(UPPER($W$23:$Y$40&""),"⌢",""),"⌣",""),"⌵",""),"－",""),"-","")," ","")," ","")=UPPER($E20&"")))+SUMPRODUCT(--(SUBSTITUTE(SUBSTITUTE(SUBSTITUTE(SUBSTITUTE(SUBSTITUTE(SUBSTITUTE(SUBSTITUTE(UPPER($W$23:$Y$40&""),"⌢",""),"⌣",""),"⌵",""),"－",""),"-","")," ","")," ","")=UPPER($E20&"")&"DP"))*2+SUMPRODUCT(--(SUBSTITUTE(SUBSTITUTE(SUBSTITUTE(SUBSTITUTE(SUBSTITUTE(SUBSTITUTE(SUBSTITUTE(UPPER($W$23:$Y$40&""),"⌢",""),"⌣",""),"⌵",""),"－",""),"-","")," ","")," ","")="DP"&UPPER($E20&"")))*2+SUMPRODUCT(--(SUBSTITUTE(SUBSTITUTE(SUBSTITUTE(SUBSTITUTE(SUBSTITUTE(SUBSTITUTE(SUBSTITUTE(UPPER($W$23:$Y$40&""),"⌢",""),"⌣",""),"⌵",""),"－",""),"-","")," ","")," ","")=UPPER($E20&"")&"TP"))*3+SUMPRODUCT(--(SUBSTITUTE(SUBSTITUTE(SUBSTITUTE(SUBSTITUTE(SUBSTITUTE(SUBSTITUTE(SUBSTITUTE(UPPER($W$23:$Y$40&""),"⌢",""),"⌣",""),"⌵",""),"－",""),"-","")," ","")," ","")="TP"&UPPER($E20&"")))*3+SUMPRODUCT(--(SUBSTITUTE(SUBSTITUTE(SUBSTITUTE(SUBSTITUTE(SUBSTITUTE(SUBSTITUTE(SUBSTITUTE(UPPER($AA$23:$AC$40&""),"⌢",""),"⌣",""),"⌵",""),"－",""),"-","")," ","")," ","")=UPPER($E20&"")))+SUMPRODUCT(--(SUBSTITUTE(SUBSTITUTE(SUBSTITUTE(SUBSTITUTE(SUBSTITUTE(SUBSTITUTE(SUBSTITUTE(UPPER($AA$23:$AC$40&""),"⌢",""),"⌣",""),"⌵",""),"－",""),"-","")," ","")," ","")=UPPER($E20&"")&"DP"))*2+SUMPRODUCT(--(SUBSTITUTE(SUBSTITUTE(SUBSTITUTE(SUBSTITUTE(SUBSTITUTE(SUBSTITUTE(SUBSTITUTE(UPPER($AA$23:$AC$40&""),"⌢",""),"⌣",""),"⌵",""),"－",""),"-","")," ","")," ","")="DP"&UPPER($E20&"")))*2+SUMPRODUCT(--(SUBSTITUTE(SUBSTITUTE(SUBSTITUTE(SUBSTITUTE(SUBSTITUTE(SUBSTITUTE(SUBSTITUTE(UPPER($AA$23:$AC$40&""),"⌢",""),"⌣",""),"⌵",""),"－",""),"-","")," ","")," ","")=UPPER($E20&"")&"TP"))*3+SUMPRODUCT(--(SUBSTITUTE(SUBSTITUTE(SUBSTITUTE(SUBSTITUTE(SUBSTITUTE(SUBSTITUTE(SUBSTITUTE(UPPER($AA$23:$AC$40&""),"⌢",""),"⌣",""),"⌵",""),"－",""),"-","")," ","")," ","")="TP"&UPPER($E20&"")))*3+SUMPRODUCT(--(SUBSTITUTE(SUBSTITUTE(SUBSTITUTE(SUBSTITUTE(SUBSTITUTE(SUBSTITUTE(SUBSTITUTE(UPPER($AE$23:$AG$40&""),"⌢",""),"⌣",""),"⌵",""),"－",""),"-","")," ","")," ","")=UPPER($E20&"")))+SUMPRODUCT(--(SUBSTITUTE(SUBSTITUTE(SUBSTITUTE(SUBSTITUTE(SUBSTITUTE(SUBSTITUTE(SUBSTITUTE(UPPER($AE$23:$AG$40&""),"⌢",""),"⌣",""),"⌵",""),"－",""),"-","")," ","")," ","")=UPPER($E20&"")&"DP"))*2+SUMPRODUCT(--(SUBSTITUTE(SUBSTITUTE(SUBSTITUTE(SUBSTITUTE(SUBSTITUTE(SUBSTITUTE(SUBSTITUTE(UPPER($AE$23:$AG$40&""),"⌢",""),"⌣",""),"⌵",""),"－",""),"-","")," ","")," ","")="DP"&UPPER($E20&"")))*2+SUMPRODUCT(--(SUBSTITUTE(SUBSTITUTE(SUBSTITUTE(SUBSTITUTE(SUBSTITUTE(SUBSTITUTE(SUBSTITUTE(UPPER($AE$23:$AG$40&""),"⌢",""),"⌣",""),"⌵",""),"－",""),"-","")," ","")," ","")=UPPER($E20&"")&"TP"))*3+SUMPRODUCT(--(SUBSTITUTE(SUBSTITUTE(SUBSTITUTE(SUBSTITUTE(SUBSTITUTE(SUBSTITUTE(SUBSTITUTE(UPPER($AE$23:$AG$40&""),"⌢",""),"⌣",""),"⌵",""),"－",""),"-","")," ","")," ","")="TP"&UPPER($E20&"")))*3) -> 0 | AI20: =COUNTA(G20:I20,K20:M20,O20:Q20,S20:U20,W20:Y20,AA20:AC20,AE20:AG20) -> 0 | AJ20: =SUMPRODUCT(--(SUBSTITUTE(SUBSTITUTE(SUBSTITUTE(SUBSTITUTE(SUBSTITUTE(SUBSTITUTE(SUBSTITUTE(UPPER(G20:AG20&""),"⌢",""),"⌣",""),"⌵",""),"－",""),"-","")," ","")," ","")="R"))+SUMPRODUCT(--(SUBSTITUTE(SUBSTITUTE(SUBSTITUTE(SUBSTITUTE(SUBSTITUTE(SUBSTITUTE(SUBSTITUTE(UPPER(G20:AG20&""),"⌢",""),"⌣",""),"⌵",""),"－",""),"-","")," ","")," ","")="HR"))*2 -> 0 | AK20: =COUNTIF(G20:AG20,"K") -> 0 | AL20: =$A20 -> 0
A21: =SUM(A3:A20) -> 5 | D21: 得分加總 | G21: =SUMPRODUCT(--(SUBSTITUTE(SUBSTITUTE(SUBSTITUTE(SUBSTITUTE(SUBSTITUTE(SUBSTITUTE(SUBSTITUTE(UPPER(G3:I20&""),"⌢",""),"⌣",""),"⌵",""),"－",""),"-","")," ","")," ","")="R"))+SUMPRODUCT(--(SUBSTITUTE(SUBSTITUTE(SUBSTITUTE(SUBSTITUTE(SUBSTITUTE(SUBSTITUTE(SUBSTITUTE(UPPER(G3:I20&""),"⌢",""),"⌣",""),"⌵",""),"－",""),"-","")," ","")," ","")="INT"))+SUMPRODUCT(--(SUBSTITUTE(SUBSTITUTE(SUBSTITUTE(SUBSTITUTE(SUBSTITUTE(SUBSTITUTE(SUBSTITUTE(UPPER(G3:I20&""),"⌢",""),"⌣",""),"⌵",""),"－",""),"-","")," ","")," ","")="OBS"))+SUMPRODUCT(--(SUBSTITUTE(SUBSTITUTE(SUBSTITUTE(SUBSTITUTE(SUBSTITUTE(SUBSTITUTE(SUBSTITUTE(UPPER(G3:I20&""),"⌢",""),"⌣",""),"⌵",""),"－",""),"-","")," ","")," ","")="HR"))*2 -> 0 | K21: =SUMPRODUCT(--(SUBSTITUTE(SUBSTITUTE(SUBSTITUTE(SUBSTITUTE(SUBSTITUTE(SUBSTITUTE(SUBSTITUTE(UPPER(K3:M20&""),"⌢",""),"⌣",""),"⌵",""),"－",""),"-","")," ","")," ","")="R"))+SUMPRODUCT(--(SUBSTITUTE(SUBSTITUTE(SUBSTITUTE(SUBSTITUTE(SUBSTITUTE(SUBSTITUTE(SUBSTITUTE(UPPER(K3:M20&""),"⌢",""),"⌣",""),"⌵",""),"－",""),"-","")," ","")," ","")="INT"))+SUMPRODUCT(--(SUBSTITUTE(SUBSTITUTE(SUBSTITUTE(SUBSTITUTE(SUBSTITUTE(SUBSTITUTE(SUBSTITUTE(UPPER(K3:M20&""),"⌢",""),"⌣",""),"⌵",""),"－",""),"-","")," ","")," ","")="OBS"))+SUMPRODUCT(--(SUBSTITUTE(SUBSTITUTE(SUBSTITUTE(SUBSTITUTE(SUBSTITUTE(SUBSTITUTE(SUBSTITUTE(UPPER(K3:M20&""),"⌢",""),"⌣",""),"⌵",""),"－",""),"-","")," ","")," ","")="HR"))*2+G21 -> 0 | O21: =SUMPRODUCT(--(SUBSTITUTE(SUBSTITUTE(SUBSTITUTE(SUBSTITUTE(SUBSTITUTE(SUBSTITUTE(SUBSTITUTE(UPPER(O3:Q20&""),"⌢",""),"⌣",""),"⌵",""),"－",""),"-","")," ","")," ","")="R"))+SUMPRODUCT(--(SUBSTITUTE(SUBSTITUTE(SUBSTITUTE(SUBSTITUTE(SUBSTITUTE(SUBSTITUTE(SUBSTITUTE(UPPER(O3:Q20&""),"⌢",""),"⌣",""),"⌵",""),"－",""),"-","")," ","")," ","")="INT"))+SUMPRODUCT(--(SUBSTITUTE(SUBSTITUTE(SUBSTITUTE(SUBSTITUTE(SUBSTITUTE(SUBSTITUTE(SUBSTITUTE(UPPER(O3:Q20&""),"⌢",""),"⌣",""),"⌵",""),"－",""),"-","")," ","")," ","")="OBS"))+SUMPRODUCT(--(SUBSTITUTE(SUBSTITUTE(SUBSTITUTE(SUBSTITUTE(SUBSTITUTE(SUBSTITUTE(SUBSTITUTE(UPPER(O3:Q20&""),"⌢",""),"⌣",""),"⌵",""),"－",""),"-","")," ","")," ","")="HR"))*2+K21 -> 1 | S21: =SUMPRODUCT(--(SUBSTITUTE(SUBSTITUTE(SUBSTITUTE(SUBSTITUTE(SUBSTITUTE(SUBSTITUTE(SUBSTITUTE(UPPER(S3:U20&""),"⌢",""),"⌣",""),"⌵",""),"－",""),"-","")," ","")," ","")="R"))+SUMPRODUCT(--(SUBSTITUTE(SUBSTITUTE(SUBSTITUTE(SUBSTITUTE(SUBSTITUTE(SUBSTITUTE(SUBSTITUTE(UPPER(S3:U20&""),"⌢",""),"⌣",""),"⌵",""),"－",""),"-","")," ","")," ","")="INT"))+SUMPRODUCT(--(SUBSTITUTE(SUBSTITUTE(SUBSTITUTE(SUBSTITUTE(SUBSTITUTE(SUBSTITUTE(SUBSTITUTE(UPPER(S3:U20&""),"⌢",""),"⌣",""),"⌵",""),"－",""),"-","")," ","")," ","")="OBS"))+SUMPRODUCT(--(SUBSTITUTE(SUBSTITUTE(SUBSTITUTE(SUBSTITUTE(SUBSTITUTE(SUBSTITUTE(SUBSTITUTE(UPPER(S3:U20&""),"⌢",""),"⌣",""),"⌵",""),"－",""),"-","")," ","")," ","")="HR"))*2+O21 -> 1 | W21: =SUMPRODUCT(--(SUBSTITUTE(SUBSTITUTE(SUBSTITUTE(SUBSTITUTE(SUBSTITUTE(SUBSTITUTE(SUBSTITUTE(UPPER(W3:Y20&""),"⌢",""),"⌣",""),"⌵",""),"－",""),"-","")," ","")," ","")="R"))+SUMPRODUCT(--(SUBSTITUTE(SUBSTITUTE(SUBSTITUTE(SUBSTITUTE(SUBSTITUTE(SUBSTITUTE(SUBSTITUTE(UPPER(W3:Y20&""),"⌢",""),"⌣",""),"⌵",""),"－",""),"-","")," ","")," ","")="INT"))+SUMPRODUCT(--(SUBSTITUTE(SUBSTITUTE(SUBSTITUTE(SUBSTITUTE(SUBSTITUTE(SUBSTITUTE(SUBSTITUTE(UPPER(W3:Y20&""),"⌢",""),"⌣",""),"⌵",""),"－",""),"-","")," ","")," ","")="OBS"))+SUMPRODUCT(--(SUBSTITUTE(SUBSTITUTE(SUBSTITUTE(SUBSTITUTE(SUBSTITUTE(SUBSTITUTE(SUBSTITUTE(UPPER(W3:Y20&""),"⌢",""),"⌣",""),"⌵",""),"－",""),"-","")," ","")," ","")="HR"))*2+S21 -> 1 | AA21: =SUMPRODUCT(--(SUBSTITUTE(SUBSTITUTE(SUBSTITUTE(SUBSTITUTE(SUBSTITUTE(SUBSTITUTE(SUBSTITUTE(UPPER(AA3:AC20&""),"⌢",""),"⌣",""),"⌵",""),"－",""),"-","")," ","")," ","")="R"))+SUMPRODUCT(--(SUBSTITUTE(SUBSTITUTE(SUBSTITUTE(SUBSTITUTE(SUBSTITUTE(SUBSTITUTE(SUBSTITUTE(UPPER(AA3:AC20&""),"⌢",""),"⌣",""),"⌵",""),"－",""),"-","")," ","")," ","")="INT"))+SUMPRODUCT(--(SUBSTITUTE(SUBSTITUTE(SUBSTITUTE(SUBSTITUTE(SUBSTITUTE(SUBSTITUTE(SUBSTITUTE(UPPER(AA3:AC20&""),"⌢",""),"⌣",""),"⌵",""),"－",""),"-","")," ","")," ","")="OBS"))+SUMPRODUCT(--(SUBSTITUTE(SUBSTITUTE(SUBSTITUTE(SUBSTITUTE(SUBSTITUTE(SUBSTITUTE(SUBSTITUTE(UPPER(AA3:AC20&""),"⌢",""),"⌣",""),"⌵",""),"－",""),"-","")," ","")," ","")="HR"))*2+W21 -> 1 | AE21: =SUMPRODUCT(--(SUBSTITUTE(SUBSTITUTE(SUBSTITUTE(SUBSTITUTE(SUBSTITUTE(SUBSTITUTE(SUBSTITUTE(UPPER(AE3:AG20&""),"⌢",""),"⌣",""),"⌵",""),"－",""),"-","")," ","")," ","")="R"))+SUMPRODUCT(--(SUBSTITUTE(SUBSTITUTE(SUBSTITUTE(SUBSTITUTE(SUBSTITUTE(SUBSTITUTE(SUBSTITUTE(UPPER(AE3:AG20&""),"⌢",""),"⌣",""),"⌵",""),"－",""),"-","")," ","")," ","")="INT"))+SUMPRODUCT(--(SUBSTITUTE(SUBSTITUTE(SUBSTITUTE(SUBSTITUTE(SUBSTITUTE(SUBSTITUTE(SUBSTITUTE(UPPER(AE3:AG20&""),"⌢",""),"⌣",""),"⌵",""),"－",""),"-","")," ","")," ","")="OBS"))+SUMPRODUCT(--(SUBSTITUTE(SUBSTITUTE(SUBSTITUTE(SUBSTITUTE(SUBSTITUTE(SUBSTITUTE(SUBSTITUTE(UPPER(AE3:AG20&""),"⌢",""),"⌣",""),"⌵",""),"－",""),"-","")," ","")," ","")="HR"))*2+AA21 -> 1 | AI21: =SUM(AI3:AI20) -> 19 | AJ21: =SUM(AJ3:AJ20) -> 1 | AK21: =SUM(AK3:AK20) -> 13 | AL21: =SUM(AL3:AL20) -> 5
A22: 撿球 | B22: 接殺 | C22: HR | D22: 後 | E22: 背號 | F22: 球員 | G22: 1 | J22: 投 | K22: 2 | N22: 投 | O22: 3 | R22: 投 | S22: 4 | V22: 投 | W22: 5 | Z22: 投 | AA22: 6 | AD22: 投 | AE22: 7 | AH22: 投 | AI22: AB | AJ22: R | AK22: K | AL22: P | AM22: 投/捕/觀
A23: =IF($E23="",0,SUMPRODUCT(--(SUBSTITUTE(SUBSTITUTE(SUBSTITUTE(SUBSTITUTE(SUBSTITUTE(SUBSTITUTE(SUBSTITUTE(UPPER($G$3:$I$20&""),"⌢",""),"⌣",""),"⌵",""),"－",""),"-","")," ","")," ","")=UPPER($E23&"")))+SUMPRODUCT(--(SUBSTITUTE(SUBSTITUTE(SUBSTITUTE(SUBSTITUTE(SUBSTITUTE(SUBSTITUTE(SUBSTITUTE(UPPER($G$3:$I$20&""),"⌢",""),"⌣",""),"⌵",""),"－",""),"-","")," ","")," ","")=UPPER($E23&"")&"DP"))*2+SUMPRODUCT(--(SUBSTITUTE(SUBSTITUTE(SUBSTITUTE(SUBSTITUTE(SUBSTITUTE(SUBSTITUTE(SUBSTITUTE(UPPER($G$3:$I$20&""),"⌢",""),"⌣",""),"⌵",""),"－",""),"-","")," ","")," ","")="DP"&UPPER($E23&"")))*2+SUMPRODUCT(--(SUBSTITUTE(SUBSTITUTE(SUBSTITUTE(SUBSTITUTE(SUBSTITUTE(SUBSTITUTE(SUBSTITUTE(UPPER($G$3:$I$20&""),"⌢",""),"⌣",""),"⌵",""),"－",""),"-","")," ","")," ","")=UPPER($E23&"")&"TP"))*3+SUMPRODUCT(--(SUBSTITUTE(SUBSTITUTE(SUBSTITUTE(SUBSTITUTE(SUBSTITUTE(SUBSTITUTE(SUBSTITUTE(UPPER($G$3:$I$20&""),"⌢",""),"⌣",""),"⌵",""),"－",""),"-","")," ","")," ","")="TP"&UPPER($E23&"")))*3+SUMPRODUCT(--(SUBSTITUTE(SUBSTITUTE(SUBSTITUTE(SUBSTITUTE(SUBSTITUTE(SUBSTITUTE(SUBSTITUTE(UPPER($K$3:$M$20&""),"⌢",""),"⌣",""),"⌵",""),"－",""),"-","")," ","")," ","")=UPPER($E23&"")))+SUMPRODUCT(--(SUBSTITUTE(SUBSTITUTE(SUBSTITUTE(SUBSTITUTE(SUBSTITUTE(SUBSTITUTE(SUBSTITUTE(UPPER($K$3:$M$20&""),"⌢",""),"⌣",""),"⌵",""),"－",""),"-","")," ","")," ","")=UPPER($E23&"")&"DP"))*2+SUMPRODUCT(--(SUBSTITUTE(SUBSTITUTE(SUBSTITUTE(SUBSTITUTE(SUBSTITUTE(SUBSTITUTE(SUBSTITUTE(UPPER($K$3:$M$20&""),"⌢",""),"⌣",""),"⌵",""),"－",""),"-","")," ","")," ","")="DP"&UPPER($E23&"")))*2+SUMPRODUCT(--(SUBSTITUTE(SUBSTITUTE(SUBSTITUTE(SUBSTITUTE(SUBSTITUTE(SUBSTITUTE(SUBSTITUTE(UPPER($K$3:$M$20&""),"⌢",""),"⌣",""),"⌵",""),"－",""),"-","")," ","")," ","")=UPPER($E23&"")&"TP"))*3+SUMPRODUCT(--(SUBSTITUTE(SUBSTITUTE(SUBSTITUTE(SUBSTITUTE(SUBSTITUTE(SUBSTITUTE(SUBSTITUTE(UPPER($K$3:$M$20&""),"⌢",""),"⌣",""),"⌵",""),"－",""),"-","")," ","")," ","")="TP"&UPPER($E23&"")))*3+SUMPRODUCT(--(SUBSTITUTE(SUBSTITUTE(SUBSTITUTE(SUBSTITUTE(SUBSTITUTE(SUBSTITUTE(SUBSTITUTE(UPPER($O$3:$Q$20&""),"⌢",""),"⌣",""),"⌵",""),"－",""),"-","")," ","")," ","")=UPPER($E23&"")))+SUMPRODUCT(--(SUBSTITUTE(SUBSTITUTE(SUBSTITUTE(SUBSTITUTE(SUBSTITUTE(SUBSTITUTE(SUBSTITUTE(UPPER($O$3:$Q$20&""),"⌢",""),"⌣",""),"⌵",""),"－",""),"-","")," ","")," ","")=UPPER($E23&"")&"DP"))*2+SUMPRODUCT(--(SUBSTITUTE(SUBSTITUTE(SUBSTITUTE(SUBSTITUTE(SUBSTITUTE(SUBSTITUTE(SUBSTITUTE(UPPER($O$3:$Q$20&""),"⌢",""),"⌣",""),"⌵",""),"－",""),"-","")," ","")," ","")="DP"&UPPER($E23&"")))*2+SUMPRODUCT(--(SUBSTITUTE(SUBSTITUTE(SUBSTITUTE(SUBSTITUTE(SUBSTITUTE(SUBSTITUTE(SUBSTITUTE(UPPER($O$3:$Q$20&""),"⌢",""),"⌣",""),"⌵",""),"－",""),"-","")," ","")," ","")=UPPER($E23&"")&"TP"))*3+SUMPRODUCT(--(SUBSTITUTE(SUBSTITUTE(SUBSTITUTE(SUBSTITUTE(SUBSTITUTE(SUBSTITUTE(SUBSTITUTE(UPPER($O$3:$Q$20&""),"⌢",""),"⌣",""),"⌵",""),"－",""),"-","")," ","")," ","")="TP"&UPPER($E23&"")))*3+SUMPRODUCT(--(SUBSTITUTE(SUBSTITUTE(SUBSTITUTE(SUBSTITUTE(SUBSTITUTE(SUBSTITUTE(SUBSTITUTE(UPPER($S$3:$U$20&""),"⌢",""),"⌣",""),"⌵",""),"－",""),"-","")," ","")," ","")=UPPER($E23&"")))+SUMPRODUCT(--(SUBSTITUTE(SUBSTITUTE(SUBSTITUTE(SUBSTITUTE(SUBSTITUTE(SUBSTITUTE(SUBSTITUTE(UPPER($S$3:$U$20&""),"⌢",""),"⌣",""),"⌵",""),"－",""),"-","")," ","")," ","")=UPPER($E23&"")&"DP"))*2+SUMPRODUCT(--(SUBSTITUTE(SUBSTITUTE(SUBSTITUTE(SUBSTITUTE(SUBSTITUTE(SUBSTITUTE(SUBSTITUTE(UPPER($S$3:$U$20&""),"⌢",""),"⌣",""),"⌵",""),"－",""),"-","")," ","")," ","")="DP"&UPPER($E23&"")))*2+SUMPRODUCT(--(SUBSTITUTE(SUBSTITUTE(SUBSTITUTE(SUBSTITUTE(SUBSTITUTE(SUBSTITUTE(SUBSTITUTE(UPPER($S$3:$U$20&""),"⌢",""),"⌣",""),"⌵",""),"－",""),"-","")," ","")," ","")=UPPER($E23&"")&"TP"))*3+SUMPRODUCT(--(SUBSTITUTE(SUBSTITUTE(SUBSTITUTE(SUBSTITUTE(SUBSTITUTE(SUBSTITUTE(SUBSTITUTE(UPPER($S$3:$U$20&""),"⌢",""),"⌣",""),"⌵",""),"－",""),"-","")," ","")," ","")="TP"&UPPER($E23&"")))*3+SUMPRODUCT(--(SUBSTITUTE(SUBSTITUTE(SUBSTITUTE(SUBSTITUTE(SUBSTITUTE(SUBSTITUTE(SUBSTITUTE(UPPER($W$3:$Y$20&""),"⌢",""),"⌣",""),"⌵",""),"－",""),"-","")," ","")," ","")=UPPER($E23&"")))+SUMPRODUCT(--(SUBSTITUTE(SUBSTITUTE(SUBSTITUTE(SUBSTITUTE(SUBSTITUTE(SUBSTITUTE(SUBSTITUTE(UPPER($W$3:$Y$20&""),"⌢",""),"⌣",""),"⌵",""),"－",""),"-","")," ","")," ","")=UPPER($E23&"")&"DP"))*2+SUMPRODUCT(--(SUBSTITUTE(SUBSTITUTE(SUBSTITUTE(SUBSTITUTE(SUBSTITUTE(SUBSTITUTE(SUBSTITUTE(UPPER($W$3:$Y$20&""),"⌢",""),"⌣",""),"⌵",""),"－",""),"-","")," ","")," ","")="DP"&UPPER($E23&"")))*2+SUMPRODUCT(--(SUBSTITUTE(SUBSTITUTE(SUBSTITUTE(SUBSTITUTE(SUBSTITUTE(SUBSTITUTE(SUBSTITUTE(UPPER($W$3:$Y$20&""),"⌢",""),"⌣",""),"⌵",""),"－",""),"-","")," ","")," ","")=UPPER($E23&"")&"TP"))*3+SUMPRODUCT(--(SUBSTITUTE(SUBSTITUTE(SUBSTITUTE(SUBSTITUTE(SUBSTITUTE(SUBSTITUTE(SUBSTITUTE(UPPER($W$3:$Y$20&""),"⌢",""),"⌣",""),"⌵",""),"－",""),"-","")," ","")," ","")="TP"&UPPER($E23&"")))*3+SUMPRODUCT(--(SUBSTITUTE(SUBSTITUTE(SUBSTITUTE(SUBSTITUTE(SUBSTITUTE(SUBSTITUTE(SUBSTITUTE(UPPER($AA$3:$AC$20&""),"⌢",""),"⌣",""),"⌵",""),"－",""),"-","")," ","")," ","")=UPPER($E23&"")))+SUMPRODUCT(--(SUBSTITUTE(SUBSTITUTE(SUBSTITUTE(SUBSTITUTE(SUBSTITUTE(SUBSTITUTE(SUBSTITUTE(UPPER($AA$3:$AC$20&""),"⌢",""),"⌣",""),"⌵",""),"－",""),"-","")," ","")," ","")=UPPER($E23&"")&"DP"))*2+SUMPRODUCT(--(SUBSTITUTE(SUBSTITUTE(SUBSTITUTE(SUBSTITUTE(SUBSTITUTE(SUBSTITUTE(SUBSTITUTE(UPPER($AA$3:$AC$20&""),"⌢",""),"⌣",""),"⌵",""),"－",""),"-","")," ","")," ","")="DP"&UPPER($E23&"")))*2+SUMPRODUCT(--(SUBSTITUTE(SUBSTITUTE(SUBSTITUTE(SUBSTITUTE(SUBSTITUTE(SUBSTITUTE(SUBSTITUTE(UPPER($AA$3:$AC$20&""),"⌢",""),"⌣",""),"⌵",""),"－",""),"-","")," ","")," ","")=UPPER($E23&"")&"TP"))*3+SUMPRODUCT(--(SUBSTITUTE(SUBSTITUTE(SUBSTITUTE(SUBSTITUTE(SUBSTITUTE(SUBSTITUTE(SUBSTITUTE(UPPER($AA$3:$AC$20&""),"⌢",""),"⌣",""),"⌵",""),"－",""),"-","")," ","")," ","")="TP"&UPPER($E23&"")))*3+SUMPRODUCT(--(SUBSTITUTE(SUBSTITUTE(SUBSTITUTE(SUBSTITUTE(SUBSTITUTE(SUBSTITUTE(SUBSTITUTE(UPPER($AE$3:$AG$20&""),"⌢",""),"⌣",""),"⌵",""),"－",""),"-","")," ","")," ","")=UPPER($E23&"")))+SUMPRODUCT(--(SUBSTITUTE(SUBSTITUTE(SUBSTITUTE(SUBSTITUTE(SUBSTITUTE(SUBSTITUTE(SUBSTITUTE(UPPER($AE$3:$AG$20&""),"⌢",""),"⌣",""),"⌵",""),"－",""),"-","")," ","")," ","")=UPPER($E23&"")&"DP"))*2+SUMPRODUCT(--(SUBSTITUTE(SUBSTITUTE(SUBSTITUTE(SUBSTITUTE(SUBSTITUTE(SUBSTITUTE(SUBSTITUTE(UPPER($AE$3:$AG$20&""),"⌢",""),"⌣",""),"⌵",""),"－",""),"-","")," ","")," ","")="DP"&UPPER($E23&"")))*2+SUMPRODUCT(--(SUBSTITUTE(SUBSTITUTE(SUBSTITUTE(SUBSTITUTE(SUBSTITUTE(SUBSTITUTE(SUBSTITUTE(UPPER($AE$3:$AG$20&""),"⌢",""),"⌣",""),"⌵",""),"－",""),"-","")," ","")," ","")=UPPER($E23&"")&"TP"))*3+SUMPRODUCT(--(SUBSTITUTE(SUBSTITUTE(SUBSTITUTE(SUBSTITUTE(SUBSTITUTE(SUBSTITUTE(SUBSTITUTE(UPPER($AE$3:$AG$20&""),"⌢",""),"⌣",""),"⌵",""),"－",""),"-","")," ","")," ","")="TP"&UPPER($E23&"")))*3) -> 1 | D23: 1 | E23: 8 | F23: 陳璽帆 | G23: R ⌢ | L23: R ⌣ | P23: R ⌢ | T23: K | AI23: =COUNTA(G23:I23,K23:M23,O23:Q23,S23:U23,W23:Y23,AA23:AC23,AE23:AG23) -> 4 | AJ23: =SUMPRODUCT(--(SUBSTITUTE(SUBSTITUTE(SUBSTITUTE(SUBSTITUTE(SUBSTITUTE(SUBSTITUTE(SUBSTITUTE(UPPER(G23:AG23&""),"⌢",""),"⌣",""),"⌵",""),"－",""),"-","")," ","")," ","")="R"))+SUMPRODUCT(--(SUBSTITUTE(SUBSTITUTE(SUBSTITUTE(SUBSTITUTE(SUBSTITUTE(SUBSTITUTE(SUBSTITUTE(UPPER(G23:AG23&""),"⌢",""),"⌣",""),"⌵",""),"－",""),"-","")," ","")," ","")="HR"))*2 -> 3 | AK23: =COUNTIF(G23:AG23,"K") -> 1 | AL23: =$A23 -> 1 | AM23: 投手 | AO23: 8 | AP23: {=_xlfn.UNIQUE(SUBSTITUTE(SUBSTITUTE(F23:F40," DF",""),"DF",""))} -> 陳璽帆 | AQ23: =SUMIF($F$23:$F$40,AP23,$AI$23:$AI$40)+SUMIF($F$23:$F$40,AP23&" DF",$AI$23:$AI$40)+SUMIF($F$23:$F$40,AP23&"DF",$AI$23:$AI$40) -> 4 | AR23: =SUMIF($F$23:$F$40,AP23,$AJ$23:$AJ$40)+SUMIF($F$23:$F$40,AP23&" DF",$AJ$23:$AJ$40)+SUMIF($F$23:$F$40,AP23&"DF",$AJ$23:$AJ$40) -> 3 | AS23: =SUMIF($F$23:$F$40,AP23,$AK$23:$AK$40)+SUMIF($F$23:$F$40,AP23&" DF",$AK$23:$AK$40)+SUMIF($F$23:$F$40,AP23&"DF",$AK$23:$AK$40) -> 1 | AT23: =SUMIF($F$23:$F$40,AP23,$AL$23:$AL$40)+SUMIF($F$23:$F$40,AP23&" DF",$AL$23:$AL$40)+SUMIF($F$23:$F$40,AP23&"DF",$AL$23:$AL$40) -> 1
A24: =IF($E24="",0,SUMPRODUCT(--(SUBSTITUTE(SUBSTITUTE(SUBSTITUTE(SUBSTITUTE(SUBSTITUTE(SUBSTITUTE(SUBSTITUTE(UPPER($G$3:$I$20&""),"⌢",""),"⌣",""),"⌵",""),"－",""),"-","")," ","")," ","")=UPPER($E24&"")))+SUMPRODUCT(--(SUBSTITUTE(SUBSTITUTE(SUBSTITUTE(SUBSTITUTE(SUBSTITUTE(SUBSTITUTE(SUBSTITUTE(UPPER($G$3:$I$20&""),"⌢",""),"⌣",""),"⌵",""),"－",""),"-","")," ","")," ","")=UPPER($E24&"")&"DP"))*2+SUMPRODUCT(--(SUBSTITUTE(SUBSTITUTE(SUBSTITUTE(SUBSTITUTE(SUBSTITUTE(SUBSTITUTE(SUBSTITUTE(UPPER($G$3:$I$20&""),"⌢",""),"⌣",""),"⌵",""),"－",""),"-","")," ","")," ","")="DP"&UPPER($E24&"")))*2+SUMPRODUCT(--(SUBSTITUTE(SUBSTITUTE(SUBSTITUTE(SUBSTITUTE(SUBSTITUTE(SUBSTITUTE(SUBSTITUTE(UPPER($G$3:$I$20&""),"⌢",""),"⌣",""),"⌵",""),"－",""),"-","")," ","")," ","")=UPPER($E24&"")&"TP"))*3+SUMPRODUCT(--(SUBSTITUTE(SUBSTITUTE(SUBSTITUTE(SUBSTITUTE(SUBSTITUTE(SUBSTITUTE(SUBSTITUTE(UPPER($G$3:$I$20&""),"⌢",""),"⌣",""),"⌵",""),"－",""),"-","")," ","")," ","")="TP"&UPPER($E24&"")))*3+SUMPRODUCT(--(SUBSTITUTE(SUBSTITUTE(SUBSTITUTE(SUBSTITUTE(SUBSTITUTE(SUBSTITUTE(SUBSTITUTE(UPPER($K$3:$M$20&""),"⌢",""),"⌣",""),"⌵",""),"－",""),"-","")," ","")," ","")=UPPER($E24&"")))+SUMPRODUCT(--(SUBSTITUTE(SUBSTITUTE(SUBSTITUTE(SUBSTITUTE(SUBSTITUTE(SUBSTITUTE(SUBSTITUTE(UPPER($K$3:$M$20&""),"⌢",""),"⌣",""),"⌵",""),"－",""),"-","")," ","")," ","")=UPPER($E24&"")&"DP"))*2+SUMPRODUCT(--(SUBSTITUTE(SUBSTITUTE(SUBSTITUTE(SUBSTITUTE(SUBSTITUTE(SUBSTITUTE(SUBSTITUTE(UPPER($K$3:$M$20&""),"⌢",""),"⌣",""),"⌵",""),"－",""),"-","")," ","")," ","")="DP"&UPPER($E24&"")))*2+SUMPRODUCT(--(SUBSTITUTE(SUBSTITUTE(SUBSTITUTE(SUBSTITUTE(SUBSTITUTE(SUBSTITUTE(SUBSTITUTE(UPPER($K$3:$M$20&""),"⌢",""),"⌣",""),"⌵",""),"－",""),"-","")," ","")," ","")=UPPER($E24&"")&"TP"))*3+SUMPRODUCT(--(SUBSTITUTE(SUBSTITUTE(SUBSTITUTE(SUBSTITUTE(SUBSTITUTE(SUBSTITUTE(SUBSTITUTE(UPPER($K$3:$M$20&""),"⌢",""),"⌣",""),"⌵",""),"－",""),"-","")," ","")," ","")="TP"&UPPER($E24&"")))*3+SUMPRODUCT(--(SUBSTITUTE(SUBSTITUTE(SUBSTITUTE(SUBSTITUTE(SUBSTITUTE(SUBSTITUTE(SUBSTITUTE(UPPER($O$3:$Q$20&""),"⌢",""),"⌣",""),"⌵",""),"－",""),"-","")," ","")," ","")=UPPER($E24&"")))+SUMPRODUCT(--(SUBSTITUTE(SUBSTITUTE(SUBSTITUTE(SUBSTITUTE(SUBSTITUTE(SUBSTITUTE(SUBSTITUTE(UPPER($O$3:$Q$20&""),"⌢",""),"⌣",""),"⌵",""),"－",""),"-","")," ","")," ","")=UPPER($E24&"")&"DP"))*2+SUMPRODUCT(--(SUBSTITUTE(SUBSTITUTE(SUBSTITUTE(SUBSTITUTE(SUBSTITUTE(SUBSTITUTE(SUBSTITUTE(UPPER($O$3:$Q$20&""),"⌢",""),"⌣",""),"⌵",""),"－",""),"-","")," ","")," ","")="DP"&UPPER($E24&"")))*2+SUMPRODUCT(--(SUBSTITUTE(SUBSTITUTE(SUBSTITUTE(SUBSTITUTE(SUBSTITUTE(SUBSTITUTE(SUBSTITUTE(UPPER($O$3:$Q$20&""),"⌢",""),"⌣",""),"⌵",""),"－",""),"-","")," ","")," ","")=UPPER($E24&"")&"TP"))*3+SUMPRODUCT(--(SUBSTITUTE(SUBSTITUTE(SUBSTITUTE(SUBSTITUTE(SUBSTITUTE(SUBSTITUTE(SUBSTITUTE(UPPER($O$3:$Q$20&""),"⌢",""),"⌣",""),"⌵",""),"－",""),"-","")," ","")," ","")="TP"&UPPER($E24&"")))*3+SUMPRODUCT(--(SUBSTITUTE(SUBSTITUTE(SUBSTITUTE(SUBSTITUTE(SUBSTITUTE(SUBSTITUTE(SUBSTITUTE(UPPER($S$3:$U$20&""),"⌢",""),"⌣",""),"⌵",""),"－",""),"-","")," ","")," ","")=UPPER($E24&"")))+SUMPRODUCT(--(SUBSTITUTE(SUBSTITUTE(SUBSTITUTE(SUBSTITUTE(SUBSTITUTE(SUBSTITUTE(SUBSTITUTE(UPPER($S$3:$U$20&""),"⌢",""),"⌣",""),"⌵",""),"－",""),"-","")," ","")," ","")=UPPER($E24&"")&"DP"))*2+SUMPRODUCT(--(SUBSTITUTE(SUBSTITUTE(SUBSTITUTE(SUBSTITUTE(SUBSTITUTE(SUBSTITUTE(SUBSTITUTE(UPPER($S$3:$U$20&""),"⌢",""),"⌣",""),"⌵",""),"－",""),"-","")," ","")," ","")="DP"&UPPER($E24&"")))*2+SUMPRODUCT(--(SUBSTITUTE(SUBSTITUTE(SUBSTITUTE(SUBSTITUTE(SUBSTITUTE(SUBSTITUTE(SUBSTITUTE(UPPER($S$3:$U$20&""),"⌢",""),"⌣",""),"⌵",""),"－",""),"-","")," ","")," ","")=UPPER($E24&"")&"TP"))*3+SUMPRODUCT(--(SUBSTITUTE(SUBSTITUTE(SUBSTITUTE(SUBSTITUTE(SUBSTITUTE(SUBSTITUTE(SUBSTITUTE(UPPER($S$3:$U$20&""),"⌢",""),"⌣",""),"⌵",""),"－",""),"-","")," ","")," ","")="TP"&UPPER($E24&"")))*3+SUMPRODUCT(--(SUBSTITUTE(SUBSTITUTE(SUBSTITUTE(SUBSTITUTE(SUBSTITUTE(SUBSTITUTE(SUBSTITUTE(UPPER($W$3:$Y$20&""),"⌢",""),"⌣",""),"⌵",""),"－",""),"-","")," ","")," ","")=UPPER($E24&"")))+SUMPRODUCT(--(SUBSTITUTE(SUBSTITUTE(SUBSTITUTE(SUBSTITUTE(SUBSTITUTE(SUBSTITUTE(SUBSTITUTE(UPPER($W$3:$Y$20&""),"⌢",""),"⌣",""),"⌵",""),"－",""),"-","")," ","")," ","")=UPPER($E24&"")&"DP"))*2+SUMPRODUCT(--(SUBSTITUTE(SUBSTITUTE(SUBSTITUTE(SUBSTITUTE(SUBSTITUTE(SUBSTITUTE(SUBSTITUTE(UPPER($W$3:$Y$20&""),"⌢",""),"⌣",""),"⌵",""),"－",""),"-","")," ","")," ","")="DP"&UPPER($E24&"")))*2+SUMPRODUCT(--(SUBSTITUTE(SUBSTITUTE(SUBSTITUTE(SUBSTITUTE(SUBSTITUTE(SUBSTITUTE(SUBSTITUTE(UPPER($W$3:$Y$20&""),"⌢",""),"⌣",""),"⌵",""),"－",""),"-","")," ","")," ","")=UPPER($E24&"")&"TP"))*3+SUMPRODUCT(--(SUBSTITUTE(SUBSTITUTE(SUBSTITUTE(SUBSTITUTE(SUBSTITUTE(SUBSTITUTE(SUBSTITUTE(UPPER($W$3:$Y$20&""),"⌢",""),"⌣",""),"⌵",""),"－",""),"-","")," ","")," ","")="TP"&UPPER($E24&"")))*3+SUMPRODUCT(--(SUBSTITUTE(SUBSTITUTE(SUBSTITUTE(SUBSTITUTE(SUBSTITUTE(SUBSTITUTE(SUBSTITUTE(UPPER($AA$3:$AC$20&""),"⌢",""),"⌣",""),"⌵",""),"－",""),"-","")," ","")," ","")=UPPER($E24&"")))+SUMPRODUCT(--(SUBSTITUTE(SUBSTITUTE(SUBSTITUTE(SUBSTITUTE(SUBSTITUTE(SUBSTITUTE(SUBSTITUTE(UPPER($AA$3:$AC$20&""),"⌢",""),"⌣",""),"⌵",""),"－",""),"-","")," ","")," ","")=UPPER($E24&"")&"DP"))*2+SUMPRODUCT(--(SUBSTITUTE(SUBSTITUTE(SUBSTITUTE(SUBSTITUTE(SUBSTITUTE(SUBSTITUTE(SUBSTITUTE(UPPER($AA$3:$AC$20&""),"⌢",""),"⌣",""),"⌵",""),"－",""),"-","")," ","")," ","")="DP"&UPPER($E24&"")))*2+SUMPRODUCT(--(SUBSTITUTE(SUBSTITUTE(SUBSTITUTE(SUBSTITUTE(SUBSTITUTE(SUBSTITUTE(SUBSTITUTE(UPPER($AA$3:$AC$20&""),"⌢",""),"⌣",""),"⌵",""),"－",""),"-","")," ","")," ","")=UPPER($E24&"")&"TP"))*3+SUMPRODUCT(--(SUBSTITUTE(SUBSTITUTE(SUBSTITUTE(SUBSTITUTE(SUBSTITUTE(SUBSTITUTE(SUBSTITUTE(UPPER($AA$3:$AC$20&""),"⌢",""),"⌣",""),"⌵",""),"－",""),"-","")," ","")," ","")="TP"&UPPER($E24&"")))*3+SUMPRODUCT(--(SUBSTITUTE(SUBSTITUTE(SUBSTITUTE(SUBSTITUTE(SUBSTITUTE(SUBSTITUTE(SUBSTITUTE(UPPER($AE$3:$AG$20&""),"⌢",""),"⌣",""),"⌵",""),"－",""),"-","")," ","")," ","")=UPPER($E24&"")))+SUMPRODUCT(--(SUBSTITUTE(SUBSTITUTE(SUBSTITUTE(SUBSTITUTE(SUBSTITUTE(SUBSTITUTE(SUBSTITUTE(UPPER($AE$3:$AG$20&""),"⌢",""),"⌣",""),"⌵",""),"－",""),"-","")," ","")," ","")=UPPER($E24&"")&"DP"))*2+SUMPRODUCT(--(SUBSTITUTE(SUBSTITUTE(SUBSTITUTE(SUBSTITUTE(SUBSTITUTE(SUBSTITUTE(SUBSTITUTE(UPPER($AE$3:$AG$20&""),"⌢",""),"⌣",""),"⌵",""),"－",""),"-","")," ","")," ","")="DP"&UPPER($E24&"")))*2+SUMPRODUCT(--(SUBSTITUTE(SUBSTITUTE(SUBSTITUTE(SUBSTITUTE(SUBSTITUTE(SUBSTITUTE(SUBSTITUTE(UPPER($AE$3:$AG$20&""),"⌢",""),"⌣",""),"⌵",""),"－",""),"-","")," ","")," ","")=UPPER($E24&"")&"TP"))*3+SUMPRODUCT(--(SUBSTITUTE(SUBSTITUTE(SUBSTITUTE(SUBSTITUTE(SUBSTITUTE(SUBSTITUTE(SUBSTITUTE(UPPER($AE$3:$AG$20&""),"⌢",""),"⌣",""),"⌵",""),"－",""),"-","")," ","")," ","")="TP"&UPPER($E24&"")))*3) -> 0 | AI24: =COUNTA(G24:I24,K24:M24,O24:Q24,S24:U24,W24:Y24,AA24:AC24,AE24:AG24) -> 0 | AJ24: =SUMPRODUCT(--(SUBSTITUTE(SUBSTITUTE(SUBSTITUTE(SUBSTITUTE(SUBSTITUTE(SUBSTITUTE(SUBSTITUTE(UPPER(G24:AG24&""),"⌢",""),"⌣",""),"⌵",""),"－",""),"-","")," ","")," ","")="R"))+SUMPRODUCT(--(SUBSTITUTE(SUBSTITUTE(SUBSTITUTE(SUBSTITUTE(SUBSTITUTE(SUBSTITUTE(SUBSTITUTE(UPPER(G24:AG24&""),"⌢",""),"⌣",""),"⌵",""),"－",""),"-","")," ","")," ","")="HR"))*2 -> 0 | AK24: =COUNTIF(G24:AG24,"K") -> 0 | AL24: =$A24 -> 0 | AM24: 李裕仁 | AQ24: =SUMIF($F$23:$F$40,AP24,$AI$23:$AI$40)+SUMIF($F$23:$F$40,AP24&" DF",$AI$23:$AI$40)+SUMIF($F$23:$F$40,AP24&"DF",$AI$23:$AI$40) -> 0 | AR24: =SUMIF($F$23:$F$40,AP24,$AJ$23:$AJ$40)+SUMIF($F$23:$F$40,AP24&" DF",$AJ$23:$AJ$40)+SUMIF($F$23:$F$40,AP24&"DF",$AJ$23:$AJ$40) -> 0 | AS24: =SUMIF($F$23:$F$40,AP24,$AK$23:$AK$40)+SUMIF($F$23:$F$40,AP24&" DF",$AK$23:$AK$40)+SUMIF($F$23:$F$40,AP24&"DF",$AK$23:$AK$40) -> 0 | AT24: =SUMIF($F$23:$F$40,AP24,$AL$23:$AL$40)+SUMIF($F$23:$F$40,AP24&" DF",$AL$23:$AL$40)+SUMIF($F$23:$F$40,AP24&"DF",$AL$23:$AL$40) -> 0
A25: =IF($E25="",0,SUMPRODUCT(--(SUBSTITUTE(SUBSTITUTE(SUBSTITUTE(SUBSTITUTE(SUBSTITUTE(SUBSTITUTE(SUBSTITUTE(UPPER($G$3:$I$20&""),"⌢",""),"⌣",""),"⌵",""),"－",""),"-","")," ","")," ","")=UPPER($E25&"")))+SUMPRODUCT(--(SUBSTITUTE(SUBSTITUTE(SUBSTITUTE(SUBSTITUTE(SUBSTITUTE(SUBSTITUTE(SUBSTITUTE(UPPER($G$3:$I$20&""),"⌢",""),"⌣",""),"⌵",""),"－",""),"-","")," ","")," ","")=UPPER($E25&"")&"DP"))*2+SUMPRODUCT(--(SUBSTITUTE(SUBSTITUTE(SUBSTITUTE(SUBSTITUTE(SUBSTITUTE(SUBSTITUTE(SUBSTITUTE(UPPER($G$3:$I$20&""),"⌢",""),"⌣",""),"⌵",""),"－",""),"-","")," ","")," ","")="DP"&UPPER($E25&"")))*2+SUMPRODUCT(--(SUBSTITUTE(SUBSTITUTE(SUBSTITUTE(SUBSTITUTE(SUBSTITUTE(SUBSTITUTE(SUBSTITUTE(UPPER($G$3:$I$20&""),"⌢",""),"⌣",""),"⌵",""),"－",""),"-","")," ","")," ","")=UPPER($E25&"")&"TP"))*3+SUMPRODUCT(--(SUBSTITUTE(SUBSTITUTE(SUBSTITUTE(SUBSTITUTE(SUBSTITUTE(SUBSTITUTE(SUBSTITUTE(UPPER($G$3:$I$20&""),"⌢",""),"⌣",""),"⌵",""),"－",""),"-","")," ","")," ","")="TP"&UPPER($E25&"")))*3+SUMPRODUCT(--(SUBSTITUTE(SUBSTITUTE(SUBSTITUTE(SUBSTITUTE(SUBSTITUTE(SUBSTITUTE(SUBSTITUTE(UPPER($K$3:$M$20&""),"⌢",""),"⌣",""),"⌵",""),"－",""),"-","")," ","")," ","")=UPPER($E25&"")))+SUMPRODUCT(--(SUBSTITUTE(SUBSTITUTE(SUBSTITUTE(SUBSTITUTE(SUBSTITUTE(SUBSTITUTE(SUBSTITUTE(UPPER($K$3:$M$20&""),"⌢",""),"⌣",""),"⌵",""),"－",""),"-","")," ","")," ","")=UPPER($E25&"")&"DP"))*2+SUMPRODUCT(--(SUBSTITUTE(SUBSTITUTE(SUBSTITUTE(SUBSTITUTE(SUBSTITUTE(SUBSTITUTE(SUBSTITUTE(UPPER($K$3:$M$20&""),"⌢",""),"⌣",""),"⌵",""),"－",""),"-","")," ","")," ","")="DP"&UPPER($E25&"")))*2+SUMPRODUCT(--(SUBSTITUTE(SUBSTITUTE(SUBSTITUTE(SUBSTITUTE(SUBSTITUTE(SUBSTITUTE(SUBSTITUTE(UPPER($K$3:$M$20&""),"⌢",""),"⌣",""),"⌵",""),"－",""),"-","")," ","")," ","")=UPPER($E25&"")&"TP"))*3+SUMPRODUCT(--(SUBSTITUTE(SUBSTITUTE(SUBSTITUTE(SUBSTITUTE(SUBSTITUTE(SUBSTITUTE(SUBSTITUTE(UPPER($K$3:$M$20&""),"⌢",""),"⌣",""),"⌵",""),"－",""),"-","")," ","")," ","")="TP"&UPPER($E25&"")))*3+SUMPRODUCT(--(SUBSTITUTE(SUBSTITUTE(SUBSTITUTE(SUBSTITUTE(SUBSTITUTE(SUBSTITUTE(SUBSTITUTE(UPPER($O$3:$Q$20&""),"⌢",""),"⌣",""),"⌵",""),"－",""),"-","")," ","")," ","")=UPPER($E25&"")))+SUMPRODUCT(--(SUBSTITUTE(SUBSTITUTE(SUBSTITUTE(SUBSTITUTE(SUBSTITUTE(SUBSTITUTE(SUBSTITUTE(UPPER($O$3:$Q$20&""),"⌢",""),"⌣",""),"⌵",""),"－",""),"-","")," ","")," ","")=UPPER($E25&"")&"DP"))*2+SUMPRODUCT(--(SUBSTITUTE(SUBSTITUTE(SUBSTITUTE(SUBSTITUTE(SUBSTITUTE(SUBSTITUTE(SUBSTITUTE(UPPER($O$3:$Q$20&""),"⌢",""),"⌣",""),"⌵",""),"－",""),"-","")," ","")," ","")="DP"&UPPER($E25&"")))*2+SUMPRODUCT(--(SUBSTITUTE(SUBSTITUTE(SUBSTITUTE(SUBSTITUTE(SUBSTITUTE(SUBSTITUTE(SUBSTITUTE(UPPER($O$3:$Q$20&""),"⌢",""),"⌣",""),"⌵",""),"－",""),"-","")," ","")," ","")=UPPER($E25&"")&"TP"))*3+SUMPRODUCT(--(SUBSTITUTE(SUBSTITUTE(SUBSTITUTE(SUBSTITUTE(SUBSTITUTE(SUBSTITUTE(SUBSTITUTE(UPPER($O$3:$Q$20&""),"⌢",""),"⌣",""),"⌵",""),"－",""),"-","")," ","")," ","")="TP"&UPPER($E25&"")))*3+SUMPRODUCT(--(SUBSTITUTE(SUBSTITUTE(SUBSTITUTE(SUBSTITUTE(SUBSTITUTE(SUBSTITUTE(SUBSTITUTE(UPPER($S$3:$U$20&""),"⌢",""),"⌣",""),"⌵",""),"－",""),"-","")," ","")," ","")=UPPER($E25&"")))+SUMPRODUCT(--(SUBSTITUTE(SUBSTITUTE(SUBSTITUTE(SUBSTITUTE(SUBSTITUTE(SUBSTITUTE(SUBSTITUTE(UPPER($S$3:$U$20&""),"⌢",""),"⌣",""),"⌵",""),"－",""),"-","")," ","")," ","")=UPPER($E25&"")&"DP"))*2+SUMPRODUCT(--(SUBSTITUTE(SUBSTITUTE(SUBSTITUTE(SUBSTITUTE(SUBSTITUTE(SUBSTITUTE(SUBSTITUTE(UPPER($S$3:$U$20&""),"⌢",""),"⌣",""),"⌵",""),"－",""),"-","")," ","")," ","")="DP"&UPPER($E25&"")))*2+SUMPRODUCT(--(SUBSTITUTE(SUBSTITUTE(SUBSTITUTE(SUBSTITUTE(SUBSTITUTE(SUBSTITUTE(SUBSTITUTE(UPPER($S$3:$U$20&""),"⌢",""),"⌣",""),"⌵",""),"－",""),"-","")," ","")," ","")=UPPER($E25&"")&"TP"))*3+SUMPRODUCT(--(SUBSTITUTE(SUBSTITUTE(SUBSTITUTE(SUBSTITUTE(SUBSTITUTE(SUBSTITUTE(SUBSTITUTE(UPPER($S$3:$U$20&""),"⌢",""),"⌣",""),"⌵",""),"－",""),"-","")," ","")," ","")="TP"&UPPER($E25&"")))*3+SUMPRODUCT(--(SUBSTITUTE(SUBSTITUTE(SUBSTITUTE(SUBSTITUTE(SUBSTITUTE(SUBSTITUTE(SUBSTITUTE(UPPER($W$3:$Y$20&""),"⌢",""),"⌣",""),"⌵",""),"－",""),"-","")," ","")," ","")=UPPER($E25&"")))+SUMPRODUCT(--(SUBSTITUTE(SUBSTITUTE(SUBSTITUTE(SUBSTITUTE(SUBSTITUTE(SUBSTITUTE(SUBSTITUTE(UPPER($W$3:$Y$20&""),"⌢",""),"⌣",""),"⌵",""),"－",""),"-","")," ","")," ","")=UPPER($E25&"")&"DP"))*2+SUMPRODUCT(--(SUBSTITUTE(SUBSTITUTE(SUBSTITUTE(SUBSTITUTE(SUBSTITUTE(SUBSTITUTE(SUBSTITUTE(UPPER($W$3:$Y$20&""),"⌢",""),"⌣",""),"⌵",""),"－",""),"-","")," ","")," ","")="DP"&UPPER($E25&"")))*2+SUMPRODUCT(--(SUBSTITUTE(SUBSTITUTE(SUBSTITUTE(SUBSTITUTE(SUBSTITUTE(SUBSTITUTE(SUBSTITUTE(UPPER($W$3:$Y$20&""),"⌢",""),"⌣",""),"⌵",""),"－",""),"-","")," ","")," ","")=UPPER($E25&"")&"TP"))*3+SUMPRODUCT(--(SUBSTITUTE(SUBSTITUTE(SUBSTITUTE(SUBSTITUTE(SUBSTITUTE(SUBSTITUTE(SUBSTITUTE(UPPER($W$3:$Y$20&""),"⌢",""),"⌣",""),"⌵",""),"－",""),"-","")," ","")," ","")="TP"&UPPER($E25&"")))*3+SUMPRODUCT(--(SUBSTITUTE(SUBSTITUTE(SUBSTITUTE(SUBSTITUTE(SUBSTITUTE(SUBSTITUTE(SUBSTITUTE(UPPER($AA$3:$AC$20&""),"⌢",""),"⌣",""),"⌵",""),"－",""),"-","")," ","")," ","")=UPPER($E25&"")))+SUMPRODUCT(--(SUBSTITUTE(SUBSTITUTE(SUBSTITUTE(SUBSTITUTE(SUBSTITUTE(SUBSTITUTE(SUBSTITUTE(UPPER($AA$3:$AC$20&""),"⌢",""),"⌣",""),"⌵",""),"－",""),"-","")," ","")," ","")=UPPER($E25&"")&"DP"))*2+SUMPRODUCT(--(SUBSTITUTE(SUBSTITUTE(SUBSTITUTE(SUBSTITUTE(SUBSTITUTE(SUBSTITUTE(SUBSTITUTE(UPPER($AA$3:$AC$20&""),"⌢",""),"⌣",""),"⌵",""),"－",""),"-","")," ","")," ","")="DP"&UPPER($E25&"")))*2+SUMPRODUCT(--(SUBSTITUTE(SUBSTITUTE(SUBSTITUTE(SUBSTITUTE(SUBSTITUTE(SUBSTITUTE(SUBSTITUTE(UPPER($AA$3:$AC$20&""),"⌢",""),"⌣",""),"⌵",""),"－",""),"-","")," ","")," ","")=UPPER($E25&"")&"TP"))*3+SUMPRODUCT(--(SUBSTITUTE(SUBSTITUTE(SUBSTITUTE(SUBSTITUTE(SUBSTITUTE(SUBSTITUTE(SUBSTITUTE(UPPER($AA$3:$AC$20&""),"⌢",""),"⌣",""),"⌵",""),"－",""),"-","")," ","")," ","")="TP"&UPPER($E25&"")))*3+SUMPRODUCT(--(SUBSTITUTE(SUBSTITUTE(SUBSTITUTE(SUBSTITUTE(SUBSTITUTE(SUBSTITUTE(SUBSTITUTE(UPPER($AE$3:$AG$20&""),"⌢",""),"⌣",""),"⌵",""),"－",""),"-","")," ","")," ","")=UPPER($E25&"")))+SUMPRODUCT(--(SUBSTITUTE(SUBSTITUTE(SUBSTITUTE(SUBSTITUTE(SUBSTITUTE(SUBSTITUTE(SUBSTITUTE(UPPER($AE$3:$AG$20&""),"⌢",""),"⌣",""),"⌵",""),"－",""),"-","")," ","")," ","")=UPPER($E25&"")&"DP"))*2+SUMPRODUCT(--(SUBSTITUTE(SUBSTITUTE(SUBSTITUTE(SUBSTITUTE(SUBSTITUTE(SUBSTITUTE(SUBSTITUTE(UPPER($AE$3:$AG$20&""),"⌢",""),"⌣",""),"⌵",""),"－",""),"-","")," ","")," ","")="DP"&UPPER($E25&"")))*2+SUMPRODUCT(--(SUBSTITUTE(SUBSTITUTE(SUBSTITUTE(SUBSTITUTE(SUBSTITUTE(SUBSTITUTE(SUBSTITUTE(UPPER($AE$3:$AG$20&""),"⌢",""),"⌣",""),"⌵",""),"－",""),"-","")," ","")," ","")=UPPER($E25&"")&"TP"))*3+SUMPRODUCT(--(SUBSTITUTE(SUBSTITUTE(SUBSTITUTE(SUBSTITUTE(SUBSTITUTE(SUBSTITUTE(SUBSTITUTE(UPPER($AE$3:$AG$20&""),"⌢",""),"⌣",""),"⌵",""),"－",""),"-","")," ","")," ","")="TP"&UPPER($E25&"")))*3) -> 0 | AI25: =COUNTA(G25:I25,K25:M25,O25:Q25,S25:U25,W25:Y25,AA25:AC25,AE25:AG25) -> 0 | AJ25: =SUMPRODUCT(--(SUBSTITUTE(SUBSTITUTE(SUBSTITUTE(SUBSTITUTE(SUBSTITUTE(SUBSTITUTE(SUBSTITUTE(UPPER(G25:AG25&""),"⌢",""),"⌣",""),"⌵",""),"－",""),"-","")," ","")," ","")="R"))+SUMPRODUCT(--(SUBSTITUTE(SUBSTITUTE(SUBSTITUTE(SUBSTITUTE(SUBSTITUTE(SUBSTITUTE(SUBSTITUTE(UPPER(G25:AG25&""),"⌢",""),"⌣",""),"⌵",""),"－",""),"-","")," ","")," ","")="HR"))*2 -> 0 | AK25: =COUNTIF(G25:AG25,"K") -> 0 | AL25: =$A25 -> 0 | AO25: 99 | AP25: 林育良 | AQ25: =SUMIF($F$23:$F$40,AP25,$AI$23:$AI$40)+SUMIF($F$23:$F$40,AP25&" DF",$AI$23:$AI$40)+SUMIF($F$23:$F$40,AP25&"DF",$AI$23:$AI$40) -> 4 | AR25: =SUMIF($F$23:$F$40,AP25,$AJ$23:$AJ$40)+SUMIF($F$23:$F$40,AP25&" DF",$AJ$23:$AJ$40)+SUMIF($F$23:$F$40,AP25&"DF",$AJ$23:$AJ$40) -> 3 | AS25: =SUMIF($F$23:$F$40,AP25,$AK$23:$AK$40)+SUMIF($F$23:$F$40,AP25&" DF",$AK$23:$AK$40)+SUMIF($F$23:$F$40,AP25&"DF",$AK$23:$AK$40) -> 0 | AT25: =SUMIF($F$23:$F$40,AP25,$AL$23:$AL$40)+SUMIF($F$23:$F$40,AP25&" DF",$AL$23:$AL$40)+SUMIF($F$23:$F$40,AP25&"DF",$AL$23:$AL$40) -> 0 | AV25: {=_xlfn.UNIQUE(AM24:AM25)} -> 李裕仁 | AW25: 24 | AX25: 9 | AY25: 10
A26: =IF($E26="",0,SUMPRODUCT(--(SUBSTITUTE(SUBSTITUTE(SUBSTITUTE(SUBSTITUTE(SUBSTITUTE(SUBSTITUTE(SUBSTITUTE(UPPER($G$3:$I$20&""),"⌢",""),"⌣",""),"⌵",""),"－",""),"-","")," ","")," ","")=UPPER($E26&"")))+SUMPRODUCT(--(SUBSTITUTE(SUBSTITUTE(SUBSTITUTE(SUBSTITUTE(SUBSTITUTE(SUBSTITUTE(SUBSTITUTE(UPPER($G$3:$I$20&""),"⌢",""),"⌣",""),"⌵",""),"－",""),"-","")," ","")," ","")=UPPER($E26&"")&"DP"))*2+SUMPRODUCT(--(SUBSTITUTE(SUBSTITUTE(SUBSTITUTE(SUBSTITUTE(SUBSTITUTE(SUBSTITUTE(SUBSTITUTE(UPPER($G$3:$I$20&""),"⌢",""),"⌣",""),"⌵",""),"－",""),"-","")," ","")," ","")="DP"&UPPER($E26&"")))*2+SUMPRODUCT(--(SUBSTITUTE(SUBSTITUTE(SUBSTITUTE(SUBSTITUTE(SUBSTITUTE(SUBSTITUTE(SUBSTITUTE(UPPER($G$3:$I$20&""),"⌢",""),"⌣",""),"⌵",""),"－",""),"-","")," ","")," ","")=UPPER($E26&"")&"TP"))*3+SUMPRODUCT(--(SUBSTITUTE(SUBSTITUTE(SUBSTITUTE(SUBSTITUTE(SUBSTITUTE(SUBSTITUTE(SUBSTITUTE(UPPER($G$3:$I$20&""),"⌢",""),"⌣",""),"⌵",""),"－",""),"-","")," ","")," ","")="TP"&UPPER($E26&"")))*3+SUMPRODUCT(--(SUBSTITUTE(SUBSTITUTE(SUBSTITUTE(SUBSTITUTE(SUBSTITUTE(SUBSTITUTE(SUBSTITUTE(UPPER($K$3:$M$20&""),"⌢",""),"⌣",""),"⌵",""),"－",""),"-","")," ","")," ","")=UPPER($E26&"")))+SUMPRODUCT(--(SUBSTITUTE(SUBSTITUTE(SUBSTITUTE(SUBSTITUTE(SUBSTITUTE(SUBSTITUTE(SUBSTITUTE(UPPER($K$3:$M$20&""),"⌢",""),"⌣",""),"⌵",""),"－",""),"-","")," ","")," ","")=UPPER($E26&"")&"DP"))*2+SUMPRODUCT(--(SUBSTITUTE(SUBSTITUTE(SUBSTITUTE(SUBSTITUTE(SUBSTITUTE(SUBSTITUTE(SUBSTITUTE(UPPER($K$3:$M$20&""),"⌢",""),"⌣",""),"⌵",""),"－",""),"-","")," ","")," ","")="DP"&UPPER($E26&"")))*2+SUMPRODUCT(--(SUBSTITUTE(SUBSTITUTE(SUBSTITUTE(SUBSTITUTE(SUBSTITUTE(SUBSTITUTE(SUBSTITUTE(UPPER($K$3:$M$20&""),"⌢",""),"⌣",""),"⌵",""),"－",""),"-","")," ","")," ","")=UPPER($E26&"")&"TP"))*3+SUMPRODUCT(--(SUBSTITUTE(SUBSTITUTE(SUBSTITUTE(SUBSTITUTE(SUBSTITUTE(SUBSTITUTE(SUBSTITUTE(UPPER($K$3:$M$20&""),"⌢",""),"⌣",""),"⌵",""),"－",""),"-","")," ","")," ","")="TP"&UPPER($E26&"")))*3+SUMPRODUCT(--(SUBSTITUTE(SUBSTITUTE(SUBSTITUTE(SUBSTITUTE(SUBSTITUTE(SUBSTITUTE(SUBSTITUTE(UPPER($O$3:$Q$20&""),"⌢",""),"⌣",""),"⌵",""),"－",""),"-","")," ","")," ","")=UPPER($E26&"")))+SUMPRODUCT(--(SUBSTITUTE(SUBSTITUTE(SUBSTITUTE(SUBSTITUTE(SUBSTITUTE(SUBSTITUTE(SUBSTITUTE(UPPER($O$3:$Q$20&""),"⌢",""),"⌣",""),"⌵",""),"－",""),"-","")," ","")," ","")=UPPER($E26&"")&"DP"))*2+SUMPRODUCT(--(SUBSTITUTE(SUBSTITUTE(SUBSTITUTE(SUBSTITUTE(SUBSTITUTE(SUBSTITUTE(SUBSTITUTE(UPPER($O$3:$Q$20&""),"⌢",""),"⌣",""),"⌵",""),"－",""),"-","")," ","")," ","")="DP"&UPPER($E26&"")))*2+SUMPRODUCT(--(SUBSTITUTE(SUBSTITUTE(SUBSTITUTE(SUBSTITUTE(SUBSTITUTE(SUBSTITUTE(SUBSTITUTE(UPPER($O$3:$Q$20&""),"⌢",""),"⌣",""),"⌵",""),"－",""),"-","")," ","")," ","")=UPPER($E26&"")&"TP"))*3+SUMPRODUCT(--(SUBSTITUTE(SUBSTITUTE(SUBSTITUTE(SUBSTITUTE(SUBSTITUTE(SUBSTITUTE(SUBSTITUTE(UPPER($O$3:$Q$20&""),"⌢",""),"⌣",""),"⌵",""),"－",""),"-","")," ","")," ","")="TP"&UPPER($E26&"")))*3+SUMPRODUCT(--(SUBSTITUTE(SUBSTITUTE(SUBSTITUTE(SUBSTITUTE(SUBSTITUTE(SUBSTITUTE(SUBSTITUTE(UPPER($S$3:$U$20&""),"⌢",""),"⌣",""),"⌵",""),"－",""),"-","")," ","")," ","")=UPPER($E26&"")))+SUMPRODUCT(--(SUBSTITUTE(SUBSTITUTE(SUBSTITUTE(SUBSTITUTE(SUBSTITUTE(SUBSTITUTE(SUBSTITUTE(UPPER($S$3:$U$20&""),"⌢",""),"⌣",""),"⌵",""),"－",""),"-","")," ","")," ","")=UPPER($E26&"")&"DP"))*2+SUMPRODUCT(--(SUBSTITUTE(SUBSTITUTE(SUBSTITUTE(SUBSTITUTE(SUBSTITUTE(SUBSTITUTE(SUBSTITUTE(UPPER($S$3:$U$20&""),"⌢",""),"⌣",""),"⌵",""),"－",""),"-","")," ","")," ","")="DP"&UPPER($E26&"")))*2+SUMPRODUCT(--(SUBSTITUTE(SUBSTITUTE(SUBSTITUTE(SUBSTITUTE(SUBSTITUTE(SUBSTITUTE(SUBSTITUTE(UPPER($S$3:$U$20&""),"⌢",""),"⌣",""),"⌵",""),"－",""),"-","")," ","")," ","")=UPPER($E26&"")&"TP"))*3+SUMPRODUCT(--(SUBSTITUTE(SUBSTITUTE(SUBSTITUTE(SUBSTITUTE(SUBSTITUTE(SUBSTITUTE(SUBSTITUTE(UPPER($S$3:$U$20&""),"⌢",""),"⌣",""),"⌵",""),"－",""),"-","")," ","")," ","")="TP"&UPPER($E26&"")))*3+SUMPRODUCT(--(SUBSTITUTE(SUBSTITUTE(SUBSTITUTE(SUBSTITUTE(SUBSTITUTE(SUBSTITUTE(SUBSTITUTE(UPPER($W$3:$Y$20&""),"⌢",""),"⌣",""),"⌵",""),"－",""),"-","")," ","")," ","")=UPPER($E26&"")))+SUMPRODUCT(--(SUBSTITUTE(SUBSTITUTE(SUBSTITUTE(SUBSTITUTE(SUBSTITUTE(SUBSTITUTE(SUBSTITUTE(UPPER($W$3:$Y$20&""),"⌢",""),"⌣",""),"⌵",""),"－",""),"-","")," ","")," ","")=UPPER($E26&"")&"DP"))*2+SUMPRODUCT(--(SUBSTITUTE(SUBSTITUTE(SUBSTITUTE(SUBSTITUTE(SUBSTITUTE(SUBSTITUTE(SUBSTITUTE(UPPER($W$3:$Y$20&""),"⌢",""),"⌣",""),"⌵",""),"－",""),"-","")," ","")," ","")="DP"&UPPER($E26&"")))*2+SUMPRODUCT(--(SUBSTITUTE(SUBSTITUTE(SUBSTITUTE(SUBSTITUTE(SUBSTITUTE(SUBSTITUTE(SUBSTITUTE(UPPER($W$3:$Y$20&""),"⌢",""),"⌣",""),"⌵",""),"－",""),"-","")," ","")," ","")=UPPER($E26&"")&"TP"))*3+SUMPRODUCT(--(SUBSTITUTE(SUBSTITUTE(SUBSTITUTE(SUBSTITUTE(SUBSTITUTE(SUBSTITUTE(SUBSTITUTE(UPPER($W$3:$Y$20&""),"⌢",""),"⌣",""),"⌵",""),"－",""),"-","")," ","")," ","")="TP"&UPPER($E26&"")))*3+SUMPRODUCT(--(SUBSTITUTE(SUBSTITUTE(SUBSTITUTE(SUBSTITUTE(SUBSTITUTE(SUBSTITUTE(SUBSTITUTE(UPPER($AA$3:$AC$20&""),"⌢",""),"⌣",""),"⌵",""),"－",""),"-","")," ","")," ","")=UPPER($E26&"")))+SUMPRODUCT(--(SUBSTITUTE(SUBSTITUTE(SUBSTITUTE(SUBSTITUTE(SUBSTITUTE(SUBSTITUTE(SUBSTITUTE(UPPER($AA$3:$AC$20&""),"⌢",""),"⌣",""),"⌵",""),"－",""),"-","")," ","")," ","")=UPPER($E26&"")&"DP"))*2+SUMPRODUCT(--(SUBSTITUTE(SUBSTITUTE(SUBSTITUTE(SUBSTITUTE(SUBSTITUTE(SUBSTITUTE(SUBSTITUTE(UPPER($AA$3:$AC$20&""),"⌢",""),"⌣",""),"⌵",""),"－",""),"-","")," ","")," ","")="DP"&UPPER($E26&"")))*2+SUMPRODUCT(--(SUBSTITUTE(SUBSTITUTE(SUBSTITUTE(SUBSTITUTE(SUBSTITUTE(SUBSTITUTE(SUBSTITUTE(UPPER($AA$3:$AC$20&""),"⌢",""),"⌣",""),"⌵",""),"－",""),"-","")," ","")," ","")=UPPER($E26&"")&"TP"))*3+SUMPRODUCT(--(SUBSTITUTE(SUBSTITUTE(SUBSTITUTE(SUBSTITUTE(SUBSTITUTE(SUBSTITUTE(SUBSTITUTE(UPPER($AA$3:$AC$20&""),"⌢",""),"⌣",""),"⌵",""),"－",""),"-","")," ","")," ","")="TP"&UPPER($E26&"")))*3+SUMPRODUCT(--(SUBSTITUTE(SUBSTITUTE(SUBSTITUTE(SUBSTITUTE(SUBSTITUTE(SUBSTITUTE(SUBSTITUTE(UPPER($AE$3:$AG$20&""),"⌢",""),"⌣",""),"⌵",""),"－",""),"-","")," ","")," ","")=UPPER($E26&"")))+SUMPRODUCT(--(SUBSTITUTE(SUBSTITUTE(SUBSTITUTE(SUBSTITUTE(SUBSTITUTE(SUBSTITUTE(SUBSTITUTE(UPPER($AE$3:$AG$20&""),"⌢",""),"⌣",""),"⌵",""),"－",""),"-","")," ","")," ","")=UPPER($E26&"")&"DP"))*2+SUMPRODUCT(--(SUBSTITUTE(SUBSTITUTE(SUBSTITUTE(SUBSTITUTE(SUBSTITUTE(SUBSTITUTE(SUBSTITUTE(UPPER($AE$3:$AG$20&""),"⌢",""),"⌣",""),"⌵",""),"－",""),"-","")," ","")," ","")="DP"&UPPER($E26&"")))*2+SUMPRODUCT(--(SUBSTITUTE(SUBSTITUTE(SUBSTITUTE(SUBSTITUTE(SUBSTITUTE(SUBSTITUTE(SUBSTITUTE(UPPER($AE$3:$AG$20&""),"⌢",""),"⌣",""),"⌵",""),"－",""),"-","")," ","")," ","")=UPPER($E26&"")&"TP"))*3+SUMPRODUCT(--(SUBSTITUTE(SUBSTITUTE(SUBSTITUTE(SUBSTITUTE(SUBSTITUTE(SUBSTITUTE(SUBSTITUTE(UPPER($AE$3:$AG$20&""),"⌢",""),"⌣",""),"⌵",""),"－",""),"-","")," ","")," ","")="TP"&UPPER($E26&"")))*3) -> 0 | D26: 2 | E26: 99 | F26: 林育良 | G26: R ⌢ | L26: 17 － | P26: R ⌣ | W26: R ⌣ | AI26: =COUNTA(G26:I26,K26:M26,O26:Q26,S26:U26,W26:Y26,AA26:AC26,AE26:AG26) -> 4 | AJ26: =SUMPRODUCT(--(SUBSTITUTE(SUBSTITUTE(SUBSTITUTE(SUBSTITUTE(SUBSTITUTE(SUBSTITUTE(SUBSTITUTE(UPPER(G26:AG26&""),"⌢",""),"⌣",""),"⌵",""),"－",""),"-","")," ","")," ","")="R"))+SUMPRODUCT(--(SUBSTITUTE(SUBSTITUTE(SUBSTITUTE(SUBSTITUTE(SUBSTITUTE(SUBSTITUTE(SUBSTITUTE(UPPER(G26:AG26&""),"⌢",""),"⌣",""),"⌵",""),"－",""),"-","")," ","")," ","")="HR"))*2 -> 3 | AK26: =COUNTIF(G26:AG26,"K") -> 0 | AL26: =$A26 -> 0 | AM26: 捕手 | AO26: 88 | AP26: 鄭傳逸 | AQ26: =SUMIF($F$23:$F$40,AP26,$AI$23:$AI$40)+SUMIF($F$23:$F$40,AP26&" DF",$AI$23:$AI$40)+SUMIF($F$23:$F$40,AP26&"DF",$AI$23:$AI$40) -> 4 | AR26: =SUMIF($F$23:$F$40,AP26,$AJ$23:$AJ$40)+SUMIF($F$23:$F$40,AP26&" DF",$AJ$23:$AJ$40)+SUMIF($F$23:$F$40,AP26&"DF",$AJ$23:$AJ$40) -> 1 | AS26: =SUMIF($F$23:$F$40,AP26,$AK$23:$AK$40)+SUMIF($F$23:$F$40,AP26&" DF",$AK$23:$AK$40)+SUMIF($F$23:$F$40,AP26&"DF",$AK$23:$AK$40) -> 1 | AT26: =SUMIF($F$23:$F$40,AP26,$AL$23:$AL$40)+SUMIF($F$23:$F$40,AP26&" DF",$AL$23:$AL$40)+SUMIF($F$23:$F$40,AP26&"DF",$AL$23:$AL$40) -> 0 | AV26: 0
A27: =IF($E27="",0,SUMPRODUCT(--(SUBSTITUTE(SUBSTITUTE(SUBSTITUTE(SUBSTITUTE(SUBSTITUTE(SUBSTITUTE(SUBSTITUTE(UPPER($G$3:$I$20&""),"⌢",""),"⌣",""),"⌵",""),"－",""),"-","")," ","")," ","")=UPPER($E27&"")))+SUMPRODUCT(--(SUBSTITUTE(SUBSTITUTE(SUBSTITUTE(SUBSTITUTE(SUBSTITUTE(SUBSTITUTE(SUBSTITUTE(UPPER($G$3:$I$20&""),"⌢",""),"⌣",""),"⌵",""),"－",""),"-","")," ","")," ","")=UPPER($E27&"")&"DP"))*2+SUMPRODUCT(--(SUBSTITUTE(SUBSTITUTE(SUBSTITUTE(SUBSTITUTE(SUBSTITUTE(SUBSTITUTE(SUBSTITUTE(UPPER($G$3:$I$20&""),"⌢",""),"⌣",""),"⌵",""),"－",""),"-","")," ","")," ","")="DP"&UPPER($E27&"")))*2+SUMPRODUCT(--(SUBSTITUTE(SUBSTITUTE(SUBSTITUTE(SUBSTITUTE(SUBSTITUTE(SUBSTITUTE(SUBSTITUTE(UPPER($G$3:$I$20&""),"⌢",""),"⌣",""),"⌵",""),"－",""),"-","")," ","")," ","")=UPPER($E27&"")&"TP"))*3+SUMPRODUCT(--(SUBSTITUTE(SUBSTITUTE(SUBSTITUTE(SUBSTITUTE(SUBSTITUTE(SUBSTITUTE(SUBSTITUTE(UPPER($G$3:$I$20&""),"⌢",""),"⌣",""),"⌵",""),"－",""),"-","")," ","")," ","")="TP"&UPPER($E27&"")))*3+SUMPRODUCT(--(SUBSTITUTE(SUBSTITUTE(SUBSTITUTE(SUBSTITUTE(SUBSTITUTE(SUBSTITUTE(SUBSTITUTE(UPPER($K$3:$M$20&""),"⌢",""),"⌣",""),"⌵",""),"－",""),"-","")," ","")," ","")=UPPER($E27&"")))+SUMPRODUCT(--(SUBSTITUTE(SUBSTITUTE(SUBSTITUTE(SUBSTITUTE(SUBSTITUTE(SUBSTITUTE(SUBSTITUTE(UPPER($K$3:$M$20&""),"⌢",""),"⌣",""),"⌵",""),"－",""),"-","")," ","")," ","")=UPPER($E27&"")&"DP"))*2+SUMPRODUCT(--(SUBSTITUTE(SUBSTITUTE(SUBSTITUTE(SUBSTITUTE(SUBSTITUTE(SUBSTITUTE(SUBSTITUTE(UPPER($K$3:$M$20&""),"⌢",""),"⌣",""),"⌵",""),"－",""),"-","")," ","")," ","")="DP"&UPPER($E27&"")))*2+SUMPRODUCT(--(SUBSTITUTE(SUBSTITUTE(SUBSTITUTE(SUBSTITUTE(SUBSTITUTE(SUBSTITUTE(SUBSTITUTE(UPPER($K$3:$M$20&""),"⌢",""),"⌣",""),"⌵",""),"－",""),"-","")," ","")," ","")=UPPER($E27&"")&"TP"))*3+SUMPRODUCT(--(SUBSTITUTE(SUBSTITUTE(SUBSTITUTE(SUBSTITUTE(SUBSTITUTE(SUBSTITUTE(SUBSTITUTE(UPPER($K$3:$M$20&""),"⌢",""),"⌣",""),"⌵",""),"－",""),"-","")," ","")," ","")="TP"&UPPER($E27&"")))*3+SUMPRODUCT(--(SUBSTITUTE(SUBSTITUTE(SUBSTITUTE(SUBSTITUTE(SUBSTITUTE(SUBSTITUTE(SUBSTITUTE(UPPER($O$3:$Q$20&""),"⌢",""),"⌣",""),"⌵",""),"－",""),"-","")," ","")," ","")=UPPER($E27&"")))+SUMPRODUCT(--(SUBSTITUTE(SUBSTITUTE(SUBSTITUTE(SUBSTITUTE(SUBSTITUTE(SUBSTITUTE(SUBSTITUTE(UPPER($O$3:$Q$20&""),"⌢",""),"⌣",""),"⌵",""),"－",""),"-","")," ","")," ","")=UPPER($E27&"")&"DP"))*2+SUMPRODUCT(--(SUBSTITUTE(SUBSTITUTE(SUBSTITUTE(SUBSTITUTE(SUBSTITUTE(SUBSTITUTE(SUBSTITUTE(UPPER($O$3:$Q$20&""),"⌢",""),"⌣",""),"⌵",""),"－",""),"-","")," ","")," ","")="DP"&UPPER($E27&"")))*2+SUMPRODUCT(--(SUBSTITUTE(SUBSTITUTE(SUBSTITUTE(SUBSTITUTE(SUBSTITUTE(SUBSTITUTE(SUBSTITUTE(UPPER($O$3:$Q$20&""),"⌢",""),"⌣",""),"⌵",""),"－",""),"-","")," ","")," ","")=UPPER($E27&"")&"TP"))*3+SUMPRODUCT(--(SUBSTITUTE(SUBSTITUTE(SUBSTITUTE(SUBSTITUTE(SUBSTITUTE(SUBSTITUTE(SUBSTITUTE(UPPER($O$3:$Q$20&""),"⌢",""),"⌣",""),"⌵",""),"－",""),"-","")," ","")," ","")="TP"&UPPER($E27&"")))*3+SUMPRODUCT(--(SUBSTITUTE(SUBSTITUTE(SUBSTITUTE(SUBSTITUTE(SUBSTITUTE(SUBSTITUTE(SUBSTITUTE(UPPER($S$3:$U$20&""),"⌢",""),"⌣",""),"⌵",""),"－",""),"-","")," ","")," ","")=UPPER($E27&"")))+SUMPRODUCT(--(SUBSTITUTE(SUBSTITUTE(SUBSTITUTE(SUBSTITUTE(SUBSTITUTE(SUBSTITUTE(SUBSTITUTE(UPPER($S$3:$U$20&""),"⌢",""),"⌣",""),"⌵",""),"－",""),"-","")," ","")," ","")=UPPER($E27&"")&"DP"))*2+SUMPRODUCT(--(SUBSTITUTE(SUBSTITUTE(SUBSTITUTE(SUBSTITUTE(SUBSTITUTE(SUBSTITUTE(SUBSTITUTE(UPPER($S$3:$U$20&""),"⌢",""),"⌣",""),"⌵",""),"－",""),"-","")," ","")," ","")="DP"&UPPER($E27&"")))*2+SUMPRODUCT(--(SUBSTITUTE(SUBSTITUTE(SUBSTITUTE(SUBSTITUTE(SUBSTITUTE(SUBSTITUTE(SUBSTITUTE(UPPER($S$3:$U$20&""),"⌢",""),"⌣",""),"⌵",""),"－",""),"-","")," ","")," ","")=UPPER($E27&"")&"TP"))*3+SUMPRODUCT(--(SUBSTITUTE(SUBSTITUTE(SUBSTITUTE(SUBSTITUTE(SUBSTITUTE(SUBSTITUTE(SUBSTITUTE(UPPER($S$3:$U$20&""),"⌢",""),"⌣",""),"⌵",""),"－",""),"-","")," ","")," ","")="TP"&UPPER($E27&"")))*3+SUMPRODUCT(--(SUBSTITUTE(SUBSTITUTE(SUBSTITUTE(SUBSTITUTE(SUBSTITUTE(SUBSTITUTE(SUBSTITUTE(UPPER($W$3:$Y$20&""),"⌢",""),"⌣",""),"⌵",""),"－",""),"-","")," ","")," ","")=UPPER($E27&"")))+SUMPRODUCT(--(SUBSTITUTE(SUBSTITUTE(SUBSTITUTE(SUBSTITUTE(SUBSTITUTE(SUBSTITUTE(SUBSTITUTE(UPPER($W$3:$Y$20&""),"⌢",""),"⌣",""),"⌵",""),"－",""),"-","")," ","")," ","")=UPPER($E27&"")&"DP"))*2+SUMPRODUCT(--(SUBSTITUTE(SUBSTITUTE(SUBSTITUTE(SUBSTITUTE(SUBSTITUTE(SUBSTITUTE(SUBSTITUTE(UPPER($W$3:$Y$20&""),"⌢",""),"⌣",""),"⌵",""),"－",""),"-","")," ","")," ","")="DP"&UPPER($E27&"")))*2+SUMPRODUCT(--(SUBSTITUTE(SUBSTITUTE(SUBSTITUTE(SUBSTITUTE(SUBSTITUTE(SUBSTITUTE(SUBSTITUTE(UPPER($W$3:$Y$20&""),"⌢",""),"⌣",""),"⌵",""),"－",""),"-","")," ","")," ","")=UPPER($E27&"")&"TP"))*3+SUMPRODUCT(--(SUBSTITUTE(SUBSTITUTE(SUBSTITUTE(SUBSTITUTE(SUBSTITUTE(SUBSTITUTE(SUBSTITUTE(UPPER($W$3:$Y$20&""),"⌢",""),"⌣",""),"⌵",""),"－",""),"-","")," ","")," ","")="TP"&UPPER($E27&"")))*3+SUMPRODUCT(--(SUBSTITUTE(SUBSTITUTE(SUBSTITUTE(SUBSTITUTE(SUBSTITUTE(SUBSTITUTE(SUBSTITUTE(UPPER($AA$3:$AC$20&""),"⌢",""),"⌣",""),"⌵",""),"－",""),"-","")," ","")," ","")=UPPER($E27&"")))+SUMPRODUCT(--(SUBSTITUTE(SUBSTITUTE(SUBSTITUTE(SUBSTITUTE(SUBSTITUTE(SUBSTITUTE(SUBSTITUTE(UPPER($AA$3:$AC$20&""),"⌢",""),"⌣",""),"⌵",""),"－",""),"-","")," ","")," ","")=UPPER($E27&"")&"DP"))*2+SUMPRODUCT(--(SUBSTITUTE(SUBSTITUTE(SUBSTITUTE(SUBSTITUTE(SUBSTITUTE(SUBSTITUTE(SUBSTITUTE(UPPER($AA$3:$AC$20&""),"⌢",""),"⌣",""),"⌵",""),"－",""),"-","")," ","")," ","")="DP"&UPPER($E27&"")))*2+SUMPRODUCT(--(SUBSTITUTE(SUBSTITUTE(SUBSTITUTE(SUBSTITUTE(SUBSTITUTE(SUBSTITUTE(SUBSTITUTE(UPPER($AA$3:$AC$20&""),"⌢",""),"⌣",""),"⌵",""),"－",""),"-","")," ","")," ","")=UPPER($E27&"")&"TP"))*3+SUMPRODUCT(--(SUBSTITUTE(SUBSTITUTE(SUBSTITUTE(SUBSTITUTE(SUBSTITUTE(SUBSTITUTE(SUBSTITUTE(UPPER($AA$3:$AC$20&""),"⌢",""),"⌣",""),"⌵",""),"－",""),"-","")," ","")," ","")="TP"&UPPER($E27&"")))*3+SUMPRODUCT(--(SUBSTITUTE(SUBSTITUTE(SUBSTITUTE(SUBSTITUTE(SUBSTITUTE(SUBSTITUTE(SUBSTITUTE(UPPER($AE$3:$AG$20&""),"⌢",""),"⌣",""),"⌵",""),"－",""),"-","")," ","")," ","")=UPPER($E27&"")))+SUMPRODUCT(--(SUBSTITUTE(SUBSTITUTE(SUBSTITUTE(SUBSTITUTE(SUBSTITUTE(SUBSTITUTE(SUBSTITUTE(UPPER($AE$3:$AG$20&""),"⌢",""),"⌣",""),"⌵",""),"－",""),"-","")," ","")," ","")=UPPER($E27&"")&"DP"))*2+SUMPRODUCT(--(SUBSTITUTE(SUBSTITUTE(SUBSTITUTE(SUBSTITUTE(SUBSTITUTE(SUBSTITUTE(SUBSTITUTE(UPPER($AE$3:$AG$20&""),"⌢",""),"⌣",""),"⌵",""),"－",""),"-","")," ","")," ","")="DP"&UPPER($E27&"")))*2+SUMPRODUCT(--(SUBSTITUTE(SUBSTITUTE(SUBSTITUTE(SUBSTITUTE(SUBSTITUTE(SUBSTITUTE(SUBSTITUTE(UPPER($AE$3:$AG$20&""),"⌢",""),"⌣",""),"⌵",""),"－",""),"-","")," ","")," ","")=UPPER($E27&"")&"TP"))*3+SUMPRODUCT(--(SUBSTITUTE(SUBSTITUTE(SUBSTITUTE(SUBSTITUTE(SUBSTITUTE(SUBSTITUTE(SUBSTITUTE(UPPER($AE$3:$AG$20&""),"⌢",""),"⌣",""),"⌵",""),"－",""),"-","")," ","")," ","")="TP"&UPPER($E27&"")))*3) -> 0 | AI27: =COUNTA(G27:I27,K27:M27,O27:Q27,S27:U27,W27:Y27,AA27:AC27,AE27:AG27) -> 0 | AJ27: =SUMPRODUCT(--(SUBSTITUTE(SUBSTITUTE(SUBSTITUTE(SUBSTITUTE(SUBSTITUTE(SUBSTITUTE(SUBSTITUTE(UPPER(G27:AG27&""),"⌢",""),"⌣",""),"⌵",""),"－",""),"-","")," ","")," ","")="R"))+SUMPRODUCT(--(SUBSTITUTE(SUBSTITUTE(SUBSTITUTE(SUBSTITUTE(SUBSTITUTE(SUBSTITUTE(SUBSTITUTE(UPPER(G27:AG27&""),"⌢",""),"⌣",""),"⌵",""),"－",""),"-","")," ","")," ","")="HR"))*2 -> 0 | AK27: =COUNTIF(G27:AG27,"K") -> 0 | AL27: =$A27 -> 0 | AM27: 張凱傑 | AO27: 131 | AP27: 顏士翔 | AQ27: =SUMIF($F$23:$F$40,AP27,$AI$23:$AI$40)+SUMIF($F$23:$F$40,AP27&" DF",$AI$23:$AI$40)+SUMIF($F$23:$F$40,AP27&"DF",$AI$23:$AI$40) -> 3 | AR27: =SUMIF($F$23:$F$40,AP27,$AJ$23:$AJ$40)+SUMIF($F$23:$F$40,AP27&" DF",$AJ$23:$AJ$40)+SUMIF($F$23:$F$40,AP27&"DF",$AJ$23:$AJ$40) -> 0 | AS27: =SUMIF($F$23:$F$40,AP27,$AK$23:$AK$40)+SUMIF($F$23:$F$40,AP27&" DF",$AK$23:$AK$40)+SUMIF($F$23:$F$40,AP27&"DF",$AK$23:$AK$40) -> 2 | AT27: =SUMIF($F$23:$F$40,AP27,$AL$23:$AL$40)+SUMIF($F$23:$F$40,AP27&" DF",$AL$23:$AL$40)+SUMIF($F$23:$F$40,AP27&"DF",$AL$23:$AL$40) -> 1
A28: =IF($E28="",0,SUMPRODUCT(--(SUBSTITUTE(SUBSTITUTE(SUBSTITUTE(SUBSTITUTE(SUBSTITUTE(SUBSTITUTE(SUBSTITUTE(UPPER($G$3:$I$20&""),"⌢",""),"⌣",""),"⌵",""),"－",""),"-","")," ","")," ","")=UPPER($E28&"")))+SUMPRODUCT(--(SUBSTITUTE(SUBSTITUTE(SUBSTITUTE(SUBSTITUTE(SUBSTITUTE(SUBSTITUTE(SUBSTITUTE(UPPER($G$3:$I$20&""),"⌢",""),"⌣",""),"⌵",""),"－",""),"-","")," ","")," ","")=UPPER($E28&"")&"DP"))*2+SUMPRODUCT(--(SUBSTITUTE(SUBSTITUTE(SUBSTITUTE(SUBSTITUTE(SUBSTITUTE(SUBSTITUTE(SUBSTITUTE(UPPER($G$3:$I$20&""),"⌢",""),"⌣",""),"⌵",""),"－",""),"-","")," ","")," ","")="DP"&UPPER($E28&"")))*2+SUMPRODUCT(--(SUBSTITUTE(SUBSTITUTE(SUBSTITUTE(SUBSTITUTE(SUBSTITUTE(SUBSTITUTE(SUBSTITUTE(UPPER($G$3:$I$20&""),"⌢",""),"⌣",""),"⌵",""),"－",""),"-","")," ","")," ","")=UPPER($E28&"")&"TP"))*3+SUMPRODUCT(--(SUBSTITUTE(SUBSTITUTE(SUBSTITUTE(SUBSTITUTE(SUBSTITUTE(SUBSTITUTE(SUBSTITUTE(UPPER($G$3:$I$20&""),"⌢",""),"⌣",""),"⌵",""),"－",""),"-","")," ","")," ","")="TP"&UPPER($E28&"")))*3+SUMPRODUCT(--(SUBSTITUTE(SUBSTITUTE(SUBSTITUTE(SUBSTITUTE(SUBSTITUTE(SUBSTITUTE(SUBSTITUTE(UPPER($K$3:$M$20&""),"⌢",""),"⌣",""),"⌵",""),"－",""),"-","")," ","")," ","")=UPPER($E28&"")))+SUMPRODUCT(--(SUBSTITUTE(SUBSTITUTE(SUBSTITUTE(SUBSTITUTE(SUBSTITUTE(SUBSTITUTE(SUBSTITUTE(UPPER($K$3:$M$20&""),"⌢",""),"⌣",""),"⌵",""),"－",""),"-","")," ","")," ","")=UPPER($E28&"")&"DP"))*2+SUMPRODUCT(--(SUBSTITUTE(SUBSTITUTE(SUBSTITUTE(SUBSTITUTE(SUBSTITUTE(SUBSTITUTE(SUBSTITUTE(UPPER($K$3:$M$20&""),"⌢",""),"⌣",""),"⌵",""),"－",""),"-","")," ","")," ","")="DP"&UPPER($E28&"")))*2+SUMPRODUCT(--(SUBSTITUTE(SUBSTITUTE(SUBSTITUTE(SUBSTITUTE(SUBSTITUTE(SUBSTITUTE(SUBSTITUTE(UPPER($K$3:$M$20&""),"⌢",""),"⌣",""),"⌵",""),"－",""),"-","")," ","")," ","")=UPPER($E28&"")&"TP"))*3+SUMPRODUCT(--(SUBSTITUTE(SUBSTITUTE(SUBSTITUTE(SUBSTITUTE(SUBSTITUTE(SUBSTITUTE(SUBSTITUTE(UPPER($K$3:$M$20&""),"⌢",""),"⌣",""),"⌵",""),"－",""),"-","")," ","")," ","")="TP"&UPPER($E28&"")))*3+SUMPRODUCT(--(SUBSTITUTE(SUBSTITUTE(SUBSTITUTE(SUBSTITUTE(SUBSTITUTE(SUBSTITUTE(SUBSTITUTE(UPPER($O$3:$Q$20&""),"⌢",""),"⌣",""),"⌵",""),"－",""),"-","")," ","")," ","")=UPPER($E28&"")))+SUMPRODUCT(--(SUBSTITUTE(SUBSTITUTE(SUBSTITUTE(SUBSTITUTE(SUBSTITUTE(SUBSTITUTE(SUBSTITUTE(UPPER($O$3:$Q$20&""),"⌢",""),"⌣",""),"⌵",""),"－",""),"-","")," ","")," ","")=UPPER($E28&"")&"DP"))*2+SUMPRODUCT(--(SUBSTITUTE(SUBSTITUTE(SUBSTITUTE(SUBSTITUTE(SUBSTITUTE(SUBSTITUTE(SUBSTITUTE(UPPER($O$3:$Q$20&""),"⌢",""),"⌣",""),"⌵",""),"－",""),"-","")," ","")," ","")="DP"&UPPER($E28&"")))*2+SUMPRODUCT(--(SUBSTITUTE(SUBSTITUTE(SUBSTITUTE(SUBSTITUTE(SUBSTITUTE(SUBSTITUTE(SUBSTITUTE(UPPER($O$3:$Q$20&""),"⌢",""),"⌣",""),"⌵",""),"－",""),"-","")," ","")," ","")=UPPER($E28&"")&"TP"))*3+SUMPRODUCT(--(SUBSTITUTE(SUBSTITUTE(SUBSTITUTE(SUBSTITUTE(SUBSTITUTE(SUBSTITUTE(SUBSTITUTE(UPPER($O$3:$Q$20&""),"⌢",""),"⌣",""),"⌵",""),"－",""),"-","")," ","")," ","")="TP"&UPPER($E28&"")))*3+SUMPRODUCT(--(SUBSTITUTE(SUBSTITUTE(SUBSTITUTE(SUBSTITUTE(SUBSTITUTE(SUBSTITUTE(SUBSTITUTE(UPPER($S$3:$U$20&""),"⌢",""),"⌣",""),"⌵",""),"－",""),"-","")," ","")," ","")=UPPER($E28&"")))+SUMPRODUCT(--(SUBSTITUTE(SUBSTITUTE(SUBSTITUTE(SUBSTITUTE(SUBSTITUTE(SUBSTITUTE(SUBSTITUTE(UPPER($S$3:$U$20&""),"⌢",""),"⌣",""),"⌵",""),"－",""),"-","")," ","")," ","")=UPPER($E28&"")&"DP"))*2+SUMPRODUCT(--(SUBSTITUTE(SUBSTITUTE(SUBSTITUTE(SUBSTITUTE(SUBSTITUTE(SUBSTITUTE(SUBSTITUTE(UPPER($S$3:$U$20&""),"⌢",""),"⌣",""),"⌵",""),"－",""),"-","")," ","")," ","")="DP"&UPPER($E28&"")))*2+SUMPRODUCT(--(SUBSTITUTE(SUBSTITUTE(SUBSTITUTE(SUBSTITUTE(SUBSTITUTE(SUBSTITUTE(SUBSTITUTE(UPPER($S$3:$U$20&""),"⌢",""),"⌣",""),"⌵",""),"－",""),"-","")," ","")," ","")=UPPER($E28&"")&"TP"))*3+SUMPRODUCT(--(SUBSTITUTE(SUBSTITUTE(SUBSTITUTE(SUBSTITUTE(SUBSTITUTE(SUBSTITUTE(SUBSTITUTE(UPPER($S$3:$U$20&""),"⌢",""),"⌣",""),"⌵",""),"－",""),"-","")," ","")," ","")="TP"&UPPER($E28&"")))*3+SUMPRODUCT(--(SUBSTITUTE(SUBSTITUTE(SUBSTITUTE(SUBSTITUTE(SUBSTITUTE(SUBSTITUTE(SUBSTITUTE(UPPER($W$3:$Y$20&""),"⌢",""),"⌣",""),"⌵",""),"－",""),"-","")," ","")," ","")=UPPER($E28&"")))+SUMPRODUCT(--(SUBSTITUTE(SUBSTITUTE(SUBSTITUTE(SUBSTITUTE(SUBSTITUTE(SUBSTITUTE(SUBSTITUTE(UPPER($W$3:$Y$20&""),"⌢",""),"⌣",""),"⌵",""),"－",""),"-","")," ","")," ","")=UPPER($E28&"")&"DP"))*2+SUMPRODUCT(--(SUBSTITUTE(SUBSTITUTE(SUBSTITUTE(SUBSTITUTE(SUBSTITUTE(SUBSTITUTE(SUBSTITUTE(UPPER($W$3:$Y$20&""),"⌢",""),"⌣",""),"⌵",""),"－",""),"-","")," ","")," ","")="DP"&UPPER($E28&"")))*2+SUMPRODUCT(--(SUBSTITUTE(SUBSTITUTE(SUBSTITUTE(SUBSTITUTE(SUBSTITUTE(SUBSTITUTE(SUBSTITUTE(UPPER($W$3:$Y$20&""),"⌢",""),"⌣",""),"⌵",""),"－",""),"-","")," ","")," ","")=UPPER($E28&"")&"TP"))*3+SUMPRODUCT(--(SUBSTITUTE(SUBSTITUTE(SUBSTITUTE(SUBSTITUTE(SUBSTITUTE(SUBSTITUTE(SUBSTITUTE(UPPER($W$3:$Y$20&""),"⌢",""),"⌣",""),"⌵",""),"－",""),"-","")," ","")," ","")="TP"&UPPER($E28&"")))*3+SUMPRODUCT(--(SUBSTITUTE(SUBSTITUTE(SUBSTITUTE(SUBSTITUTE(SUBSTITUTE(SUBSTITUTE(SUBSTITUTE(UPPER($AA$3:$AC$20&""),"⌢",""),"⌣",""),"⌵",""),"－",""),"-","")," ","")," ","")=UPPER($E28&"")))+SUMPRODUCT(--(SUBSTITUTE(SUBSTITUTE(SUBSTITUTE(SUBSTITUTE(SUBSTITUTE(SUBSTITUTE(SUBSTITUTE(UPPER($AA$3:$AC$20&""),"⌢",""),"⌣",""),"⌵",""),"－",""),"-","")," ","")," ","")=UPPER($E28&"")&"DP"))*2+SUMPRODUCT(--(SUBSTITUTE(SUBSTITUTE(SUBSTITUTE(SUBSTITUTE(SUBSTITUTE(SUBSTITUTE(SUBSTITUTE(UPPER($AA$3:$AC$20&""),"⌢",""),"⌣",""),"⌵",""),"－",""),"-","")," ","")," ","")="DP"&UPPER($E28&"")))*2+SUMPRODUCT(--(SUBSTITUTE(SUBSTITUTE(SUBSTITUTE(SUBSTITUTE(SUBSTITUTE(SUBSTITUTE(SUBSTITUTE(UPPER($AA$3:$AC$20&""),"⌢",""),"⌣",""),"⌵",""),"－",""),"-","")," ","")," ","")=UPPER($E28&"")&"TP"))*3+SUMPRODUCT(--(SUBSTITUTE(SUBSTITUTE(SUBSTITUTE(SUBSTITUTE(SUBSTITUTE(SUBSTITUTE(SUBSTITUTE(UPPER($AA$3:$AC$20&""),"⌢",""),"⌣",""),"⌵",""),"－",""),"-","")," ","")," ","")="TP"&UPPER($E28&"")))*3+SUMPRODUCT(--(SUBSTITUTE(SUBSTITUTE(SUBSTITUTE(SUBSTITUTE(SUBSTITUTE(SUBSTITUTE(SUBSTITUTE(UPPER($AE$3:$AG$20&""),"⌢",""),"⌣",""),"⌵",""),"－",""),"-","")," ","")," ","")=UPPER($E28&"")))+SUMPRODUCT(--(SUBSTITUTE(SUBSTITUTE(SUBSTITUTE(SUBSTITUTE(SUBSTITUTE(SUBSTITUTE(SUBSTITUTE(UPPER($AE$3:$AG$20&""),"⌢",""),"⌣",""),"⌵",""),"－",""),"-","")," ","")," ","")=UPPER($E28&"")&"DP"))*2+SUMPRODUCT(--(SUBSTITUTE(SUBSTITUTE(SUBSTITUTE(SUBSTITUTE(SUBSTITUTE(SUBSTITUTE(SUBSTITUTE(UPPER($AE$3:$AG$20&""),"⌢",""),"⌣",""),"⌵",""),"－",""),"-","")," ","")," ","")="DP"&UPPER($E28&"")))*2+SUMPRODUCT(--(SUBSTITUTE(SUBSTITUTE(SUBSTITUTE(SUBSTITUTE(SUBSTITUTE(SUBSTITUTE(SUBSTITUTE(UPPER($AE$3:$AG$20&""),"⌢",""),"⌣",""),"⌵",""),"－",""),"-","")," ","")," ","")=UPPER($E28&"")&"TP"))*3+SUMPRODUCT(--(SUBSTITUTE(SUBSTITUTE(SUBSTITUTE(SUBSTITUTE(SUBSTITUTE(SUBSTITUTE(SUBSTITUTE(UPPER($AE$3:$AG$20&""),"⌢",""),"⌣",""),"⌵",""),"－",""),"-","")," ","")," ","")="TP"&UPPER($E28&"")))*3) -> 0 | AI28: =COUNTA(G28:I28,K28:M28,O28:Q28,S28:U28,W28:Y28,AA28:AC28,AE28:AG28) -> 0 | AJ28: =SUMPRODUCT(--(SUBSTITUTE(SUBSTITUTE(SUBSTITUTE(SUBSTITUTE(SUBSTITUTE(SUBSTITUTE(SUBSTITUTE(UPPER(G28:AG28&""),"⌢",""),"⌣",""),"⌵",""),"－",""),"-","")," ","")," ","")="R"))+SUMPRODUCT(--(SUBSTITUTE(SUBSTITUTE(SUBSTITUTE(SUBSTITUTE(SUBSTITUTE(SUBSTITUTE(SUBSTITUTE(UPPER(G28:AG28&""),"⌢",""),"⌣",""),"⌵",""),"－",""),"-","")," ","")," ","")="HR"))*2 -> 0 | AK28: =COUNTIF(G28:AG28,"K") -> 0 | AL28: =$A28 -> 0 | AO28: 111 | AP28: 林健彰 | AQ28: =SUMIF($F$23:$F$40,AP28,$AI$23:$AI$40)+SUMIF($F$23:$F$40,AP28&" DF",$AI$23:$AI$40)+SUMIF($F$23:$F$40,AP28&"DF",$AI$23:$AI$40) -> 1 | AR28: =SUMIF($F$23:$F$40,AP28,$AJ$23:$AJ$40)+SUMIF($F$23:$F$40,AP28&" DF",$AJ$23:$AJ$40)+SUMIF($F$23:$F$40,AP28&"DF",$AJ$23:$AJ$40) -> 0 | AS28: =SUMIF($F$23:$F$40,AP28,$AK$23:$AK$40)+SUMIF($F$23:$F$40,AP28&" DF",$AK$23:$AK$40)+SUMIF($F$23:$F$40,AP28&"DF",$AK$23:$AK$40) -> 1 | AT28: =SUMIF($F$23:$F$40,AP28,$AL$23:$AL$40)+SUMIF($F$23:$F$40,AP28&" DF",$AL$23:$AL$40)+SUMIF($F$23:$F$40,AP28&"DF",$AL$23:$AL$40) -> 0
A29: =IF($E29="",0,SUMPRODUCT(--(SUBSTITUTE(SUBSTITUTE(SUBSTITUTE(SUBSTITUTE(SUBSTITUTE(SUBSTITUTE(SUBSTITUTE(UPPER($G$3:$I$20&""),"⌢",""),"⌣",""),"⌵",""),"－",""),"-","")," ","")," ","")=UPPER($E29&"")))+SUMPRODUCT(--(SUBSTITUTE(SUBSTITUTE(SUBSTITUTE(SUBSTITUTE(SUBSTITUTE(SUBSTITUTE(SUBSTITUTE(UPPER($G$3:$I$20&""),"⌢",""),"⌣",""),"⌵",""),"－",""),"-","")," ","")," ","")=UPPER($E29&"")&"DP"))*2+SUMPRODUCT(--(SUBSTITUTE(SUBSTITUTE(SUBSTITUTE(SUBSTITUTE(SUBSTITUTE(SUBSTITUTE(SUBSTITUTE(UPPER($G$3:$I$20&""),"⌢",""),"⌣",""),"⌵",""),"－",""),"-","")," ","")," ","")="DP"&UPPER($E29&"")))*2+SUMPRODUCT(--(SUBSTITUTE(SUBSTITUTE(SUBSTITUTE(SUBSTITUTE(SUBSTITUTE(SUBSTITUTE(SUBSTITUTE(UPPER($G$3:$I$20&""),"⌢",""),"⌣",""),"⌵",""),"－",""),"-","")," ","")," ","")=UPPER($E29&"")&"TP"))*3+SUMPRODUCT(--(SUBSTITUTE(SUBSTITUTE(SUBSTITUTE(SUBSTITUTE(SUBSTITUTE(SUBSTITUTE(SUBSTITUTE(UPPER($G$3:$I$20&""),"⌢",""),"⌣",""),"⌵",""),"－",""),"-","")," ","")," ","")="TP"&UPPER($E29&"")))*3+SUMPRODUCT(--(SUBSTITUTE(SUBSTITUTE(SUBSTITUTE(SUBSTITUTE(SUBSTITUTE(SUBSTITUTE(SUBSTITUTE(UPPER($K$3:$M$20&""),"⌢",""),"⌣",""),"⌵",""),"－",""),"-","")," ","")," ","")=UPPER($E29&"")))+SUMPRODUCT(--(SUBSTITUTE(SUBSTITUTE(SUBSTITUTE(SUBSTITUTE(SUBSTITUTE(SUBSTITUTE(SUBSTITUTE(UPPER($K$3:$M$20&""),"⌢",""),"⌣",""),"⌵",""),"－",""),"-","")," ","")," ","")=UPPER($E29&"")&"DP"))*2+SUMPRODUCT(--(SUBSTITUTE(SUBSTITUTE(SUBSTITUTE(SUBSTITUTE(SUBSTITUTE(SUBSTITUTE(SUBSTITUTE(UPPER($K$3:$M$20&""),"⌢",""),"⌣",""),"⌵",""),"－",""),"-","")," ","")," ","")="DP"&UPPER($E29&"")))*2+SUMPRODUCT(--(SUBSTITUTE(SUBSTITUTE(SUBSTITUTE(SUBSTITUTE(SUBSTITUTE(SUBSTITUTE(SUBSTITUTE(UPPER($K$3:$M$20&""),"⌢",""),"⌣",""),"⌵",""),"－",""),"-","")," ","")," ","")=UPPER($E29&"")&"TP"))*3+SUMPRODUCT(--(SUBSTITUTE(SUBSTITUTE(SUBSTITUTE(SUBSTITUTE(SUBSTITUTE(SUBSTITUTE(SUBSTITUTE(UPPER($K$3:$M$20&""),"⌢",""),"⌣",""),"⌵",""),"－",""),"-","")," ","")," ","")="TP"&UPPER($E29&"")))*3+SUMPRODUCT(--(SUBSTITUTE(SUBSTITUTE(SUBSTITUTE(SUBSTITUTE(SUBSTITUTE(SUBSTITUTE(SUBSTITUTE(UPPER($O$3:$Q$20&""),"⌢",""),"⌣",""),"⌵",""),"－",""),"-","")," ","")," ","")=UPPER($E29&"")))+SUMPRODUCT(--(SUBSTITUTE(SUBSTITUTE(SUBSTITUTE(SUBSTITUTE(SUBSTITUTE(SUBSTITUTE(SUBSTITUTE(UPPER($O$3:$Q$20&""),"⌢",""),"⌣",""),"⌵",""),"－",""),"-","")," ","")," ","")=UPPER($E29&"")&"DP"))*2+SUMPRODUCT(--(SUBSTITUTE(SUBSTITUTE(SUBSTITUTE(SUBSTITUTE(SUBSTITUTE(SUBSTITUTE(SUBSTITUTE(UPPER($O$3:$Q$20&""),"⌢",""),"⌣",""),"⌵",""),"－",""),"-","")," ","")," ","")="DP"&UPPER($E29&"")))*2+SUMPRODUCT(--(SUBSTITUTE(SUBSTITUTE(SUBSTITUTE(SUBSTITUTE(SUBSTITUTE(SUBSTITUTE(SUBSTITUTE(UPPER($O$3:$Q$20&""),"⌢",""),"⌣",""),"⌵",""),"－",""),"-","")," ","")," ","")=UPPER($E29&"")&"TP"))*3+SUMPRODUCT(--(SUBSTITUTE(SUBSTITUTE(SUBSTITUTE(SUBSTITUTE(SUBSTITUTE(SUBSTITUTE(SUBSTITUTE(UPPER($O$3:$Q$20&""),"⌢",""),"⌣",""),"⌵",""),"－",""),"-","")," ","")," ","")="TP"&UPPER($E29&"")))*3+SUMPRODUCT(--(SUBSTITUTE(SUBSTITUTE(SUBSTITUTE(SUBSTITUTE(SUBSTITUTE(SUBSTITUTE(SUBSTITUTE(UPPER($S$3:$U$20&""),"⌢",""),"⌣",""),"⌵",""),"－",""),"-","")," ","")," ","")=UPPER($E29&"")))+SUMPRODUCT(--(SUBSTITUTE(SUBSTITUTE(SUBSTITUTE(SUBSTITUTE(SUBSTITUTE(SUBSTITUTE(SUBSTITUTE(UPPER($S$3:$U$20&""),"⌢",""),"⌣",""),"⌵",""),"－",""),"-","")," ","")," ","")=UPPER($E29&"")&"DP"))*2+SUMPRODUCT(--(SUBSTITUTE(SUBSTITUTE(SUBSTITUTE(SUBSTITUTE(SUBSTITUTE(SUBSTITUTE(SUBSTITUTE(UPPER($S$3:$U$20&""),"⌢",""),"⌣",""),"⌵",""),"－",""),"-","")," ","")," ","")="DP"&UPPER($E29&"")))*2+SUMPRODUCT(--(SUBSTITUTE(SUBSTITUTE(SUBSTITUTE(SUBSTITUTE(SUBSTITUTE(SUBSTITUTE(SUBSTITUTE(UPPER($S$3:$U$20&""),"⌢",""),"⌣",""),"⌵",""),"－",""),"-","")," ","")," ","")=UPPER($E29&"")&"TP"))*3+SUMPRODUCT(--(SUBSTITUTE(SUBSTITUTE(SUBSTITUTE(SUBSTITUTE(SUBSTITUTE(SUBSTITUTE(SUBSTITUTE(UPPER($S$3:$U$20&""),"⌢",""),"⌣",""),"⌵",""),"－",""),"-","")," ","")," ","")="TP"&UPPER($E29&"")))*3+SUMPRODUCT(--(SUBSTITUTE(SUBSTITUTE(SUBSTITUTE(SUBSTITUTE(SUBSTITUTE(SUBSTITUTE(SUBSTITUTE(UPPER($W$3:$Y$20&""),"⌢",""),"⌣",""),"⌵",""),"－",""),"-","")," ","")," ","")=UPPER($E29&"")))+SUMPRODUCT(--(SUBSTITUTE(SUBSTITUTE(SUBSTITUTE(SUBSTITUTE(SUBSTITUTE(SUBSTITUTE(SUBSTITUTE(UPPER($W$3:$Y$20&""),"⌢",""),"⌣",""),"⌵",""),"－",""),"-","")," ","")," ","")=UPPER($E29&"")&"DP"))*2+SUMPRODUCT(--(SUBSTITUTE(SUBSTITUTE(SUBSTITUTE(SUBSTITUTE(SUBSTITUTE(SUBSTITUTE(SUBSTITUTE(UPPER($W$3:$Y$20&""),"⌢",""),"⌣",""),"⌵",""),"－",""),"-","")," ","")," ","")="DP"&UPPER($E29&"")))*2+SUMPRODUCT(--(SUBSTITUTE(SUBSTITUTE(SUBSTITUTE(SUBSTITUTE(SUBSTITUTE(SUBSTITUTE(SUBSTITUTE(UPPER($W$3:$Y$20&""),"⌢",""),"⌣",""),"⌵",""),"－",""),"-","")," ","")," ","")=UPPER($E29&"")&"TP"))*3+SUMPRODUCT(--(SUBSTITUTE(SUBSTITUTE(SUBSTITUTE(SUBSTITUTE(SUBSTITUTE(SUBSTITUTE(SUBSTITUTE(UPPER($W$3:$Y$20&""),"⌢",""),"⌣",""),"⌵",""),"－",""),"-","")," ","")," ","")="TP"&UPPER($E29&"")))*3+SUMPRODUCT(--(SUBSTITUTE(SUBSTITUTE(SUBSTITUTE(SUBSTITUTE(SUBSTITUTE(SUBSTITUTE(SUBSTITUTE(UPPER($AA$3:$AC$20&""),"⌢",""),"⌣",""),"⌵",""),"－",""),"-","")," ","")," ","")=UPPER($E29&"")))+SUMPRODUCT(--(SUBSTITUTE(SUBSTITUTE(SUBSTITUTE(SUBSTITUTE(SUBSTITUTE(SUBSTITUTE(SUBSTITUTE(UPPER($AA$3:$AC$20&""),"⌢",""),"⌣",""),"⌵",""),"－",""),"-","")," ","")," ","")=UPPER($E29&"")&"DP"))*2+SUMPRODUCT(--(SUBSTITUTE(SUBSTITUTE(SUBSTITUTE(SUBSTITUTE(SUBSTITUTE(SUBSTITUTE(SUBSTITUTE(UPPER($AA$3:$AC$20&""),"⌢",""),"⌣",""),"⌵",""),"－",""),"-","")," ","")," ","")="DP"&UPPER($E29&"")))*2+SUMPRODUCT(--(SUBSTITUTE(SUBSTITUTE(SUBSTITUTE(SUBSTITUTE(SUBSTITUTE(SUBSTITUTE(SUBSTITUTE(UPPER($AA$3:$AC$20&""),"⌢",""),"⌣",""),"⌵",""),"－",""),"-","")," ","")," ","")=UPPER($E29&"")&"TP"))*3+SUMPRODUCT(--(SUBSTITUTE(SUBSTITUTE(SUBSTITUTE(SUBSTITUTE(SUBSTITUTE(SUBSTITUTE(SUBSTITUTE(UPPER($AA$3:$AC$20&""),"⌢",""),"⌣",""),"⌵",""),"－",""),"-","")," ","")," ","")="TP"&UPPER($E29&"")))*3+SUMPRODUCT(--(SUBSTITUTE(SUBSTITUTE(SUBSTITUTE(SUBSTITUTE(SUBSTITUTE(SUBSTITUTE(SUBSTITUTE(UPPER($AE$3:$AG$20&""),"⌢",""),"⌣",""),"⌵",""),"－",""),"-","")," ","")," ","")=UPPER($E29&"")))+SUMPRODUCT(--(SUBSTITUTE(SUBSTITUTE(SUBSTITUTE(SUBSTITUTE(SUBSTITUTE(SUBSTITUTE(SUBSTITUTE(UPPER($AE$3:$AG$20&""),"⌢",""),"⌣",""),"⌵",""),"－",""),"-","")," ","")," ","")=UPPER($E29&"")&"DP"))*2+SUMPRODUCT(--(SUBSTITUTE(SUBSTITUTE(SUBSTITUTE(SUBSTITUTE(SUBSTITUTE(SUBSTITUTE(SUBSTITUTE(UPPER($AE$3:$AG$20&""),"⌢",""),"⌣",""),"⌵",""),"－",""),"-","")," ","")," ","")="DP"&UPPER($E29&"")))*2+SUMPRODUCT(--(SUBSTITUTE(SUBSTITUTE(SUBSTITUTE(SUBSTITUTE(SUBSTITUTE(SUBSTITUTE(SUBSTITUTE(UPPER($AE$3:$AG$20&""),"⌢",""),"⌣",""),"⌵",""),"－",""),"-","")," ","")," ","")=UPPER($E29&"")&"TP"))*3+SUMPRODUCT(--(SUBSTITUTE(SUBSTITUTE(SUBSTITUTE(SUBSTITUTE(SUBSTITUTE(SUBSTITUTE(SUBSTITUTE(UPPER($AE$3:$AG$20&""),"⌢",""),"⌣",""),"⌵",""),"－",""),"-","")," ","")," ","")="TP"&UPPER($E29&"")))*3) -> 0 | D29: 3 | E29: 88 | F29: 鄭傳逸 | G29: 17 ⌵ | L29: K | P29: R ⌣ | W29: 1 － | AI29: =COUNTA(G29:I29,K29:M29,O29:Q29,S29:U29,W29:Y29,AA29:AC29,AE29:AG29) -> 4 | AJ29: =SUMPRODUCT(--(SUBSTITUTE(SUBSTITUTE(SUBSTITUTE(SUBSTITUTE(SUBSTITUTE(SUBSTITUTE(SUBSTITUTE(UPPER(G29:AG29&""),"⌢",""),"⌣",""),"⌵",""),"－",""),"-","")," ","")," ","")="R"))+SUMPRODUCT(--(SUBSTITUTE(SUBSTITUTE(SUBSTITUTE(SUBSTITUTE(SUBSTITUTE(SUBSTITUTE(SUBSTITUTE(UPPER(G29:AG29&""),"⌢",""),"⌣",""),"⌵",""),"－",""),"-","")," ","")," ","")="HR"))*2 -> 1 | AK29: =COUNTIF(G29:AG29,"K") -> 1 | AL29: =$A29 -> 0 | AO29: 33 | AP29: 胡文秋 | AQ29: =SUMIF($F$23:$F$40,AP29,$AI$23:$AI$40)+SUMIF($F$23:$F$40,AP29&" DF",$AI$23:$AI$40)+SUMIF($F$23:$F$40,AP29&"DF",$AI$23:$AI$40) -> 4 | AR29: =SUMIF($F$23:$F$40,AP29,$AJ$23:$AJ$40)+SUMIF($F$23:$F$40,AP29&" DF",$AJ$23:$AJ$40)+SUMIF($F$23:$F$40,AP29&"DF",$AJ$23:$AJ$40) -> 2 | AS29: =SUMIF($F$23:$F$40,AP29,$AK$23:$AK$40)+SUMIF($F$23:$F$40,AP29&" DF",$AK$23:$AK$40)+SUMIF($F$23:$F$40,AP29&"DF",$AK$23:$AK$40) -> 1 | AT29: =SUMIF($F$23:$F$40,AP29,$AL$23:$AL$40)+SUMIF($F$23:$F$40,AP29&" DF",$AL$23:$AL$40)+SUMIF($F$23:$F$40,AP29&"DF",$AL$23:$AL$40) -> 1
